{"text_format":"1","workbook":"xlsx","n_sheets":3,"sheets":["Q3.2025 Price File","DFL","June 2025 RISI"],"not_rendered":{"charts":0,"images":0,"macros":0,"external_links":0,"defined_names":2,"comments":0,"pivot_tables":0},"unopened":[],"bounds":{"document_bytes":16777216,"sheet_cells":100000,"rows_first":2000,"rows_last":500,"rows_between":2000,"halvings":0,"cell_chars":16384,"cell_head_chars":4096},"cells_cut":0,"cells_raw":0,"read":"whole","date_system":"1900"}

{"sheet":"Q3.2025 Price File","index":0,"n_rows":30912,"n_cols":16,"rows_kept":4500,"cut":true,"hidden":false,"merged":[[0,15,1,15]],"bounds":{"rows_first":2000,"rows_last":500,"rows_between":2000,"halvings":0}}
[null,null,null,null,null,null,null,null,null,null,null,null,null,null,null,"VA,WY,NV,CA,SD,AR,TX,WV,DE"]
[]
[null,null,null,null,null,"OD Part Number",null,"TYPE","UOM","Description","EPP/ Recycled Category"," Q3.2025 List","RFP Category","Discount %","NASPO Fee","NASPO Discounted Price   Q3 2025"]
[{"$error":"#N/A"},null,null,null,null,7680235,"SPR","SPR","EA","SOAP; CXR REDIFOAM",null,58.11,22,{"$f":"VLOOKUP(M4,DFL!A:H,8,0)","v":0.41},{"$f":"P4-(P4/1.0025)","v":8.5486284289274295E-2},{"$f":"ROUND(L4*(1-N4),2)","v":34.28}]
[{"$error":"#N/A"},null,null,null,null,568194,"BSD","BSD","EA","128GB V3 USB 3.0 FLASH DRIVE"," ",14.99,46,{"$f":"VLOOKUP(M5,DFL!A:E,5,0)","v":0.35},{"$f":"P5-(P5/1.0025)","v":2.4289276807978766E-2},{"$f":"ROUND(L5*(1-N5),2)","v":9.74}]
[{"$error":"#N/A"},null,null,null,null,463733,"BSD","BSD","EA","256GB V3 USB 3.0 FLASH DRIVE",null,29.99,46,{"$f":"VLOOKUP(M6,DFL!A:E,5,0)","v":0.35},{"$f":"P6-(P6/1.0025)","v":4.8603491271819621E-2},19.489999999999998]
[{"$error":"#N/A"},null,null,null,null,4627377,"SPR","SPR","EA","DETECTOR,CRNCY,CNTRFT,QKSCN",null,294.8,48,{"$f":"VLOOKUP(M7,DFL!A:H,8,0)","v":0.3},{"$f":"P7-(P7/1.0025)","v":0.51461346633413996},206.36]
[{"$error":"#N/A"},null,null,null,null,818638,"BSD","BSD","CT","PAPER,THRML,RL,OD,3-1/8\",50 CT"," ",150.5,24,{"$f":"VLOOKUP(M8,DFL!A:E,5,0)","v":0.63},{"$f":"P8-(P8/1.0025)","v":0.13887780548628115},55.69]
[{"$error":"#N/A"},null,null,null,null,8794001,null,"SPR","EA","STAPLER,ELECTRONIC,BATTERY",null,60,37,{"$f":"VLOOKUP(M9,DFL!A:H,8,0)","v":0.5},{"$f":"P9-(P9/1.0025)","v":7.4812967581046053E-2},30]
[{"$error":"#N/A"},null,null,null,null,448933,null,"SPR","EA","CHAIRMAT,HARD FLOOR,36X48"," ",69.989999999999995,15,{"$f":"VLOOKUP(M10,DFL!A:H,8,0)","v":0.5},{"$f":"P10-(P10/1.0025)","v":8.7281795511216842E-2},35]
[{"$error":"#N/A"},null,null,null,null,478196,null,"SPR","EA","CHAIRMAT, L-WKRSTION, 66X60"," ",119.99,15,{"$f":"VLOOKUP(M11,DFL!A:H,8,0)","v":0.5},{"$f":"P11-(P11/1.0025)","v":0.14962593516209211},60]
[{"$error":"#N/A"},null,null,null,null,478518,null,"SPR","EA","CHAIRMAT,HRDFLR,45X53,WIDE LIP"," ",79.989999999999995,15,{"$f":"VLOOKUP(M12,DFL!A:H,8,0)","v":0.5},{"$f":"P12-(P12/1.0025)","v":9.9750623441394737E-2},40]
[{"$error":"#N/A"},null,null,null,null,633410,null,"SPR","EA","CHAIR,FENNINGTON,H-BACK,BLK",null,330.98,48,{"$f":"VLOOKUP(M13,DFL!A:H,8,0)","v":0.3},{"$f":"P13-(P13/1.0025)","v":0.57778054862842509},231.69]
[{"$error":"#N/A"},null,null,null,null,475823,null,"SPR","EA","CHAIRMAT,ECONO,45X53,WIDE LIP"," ",79.989999999999995,48,{"$f":"VLOOKUP(M14,DFL!A:H,8,0)","v":0.3},{"$f":"P14-(P14/1.0025)","v":0.13962593516209409},55.99]
[{"$error":"#N/A"},null,null,null,null,478532,null,"SPR","EA","CHAIRMAT,HRDFLR,46X60,UTILITY"," ",99.99,15,{"$f":"VLOOKUP(M15,DFL!A:H,8,0)","v":0.5},{"$f":"P15-(P15/1.0025)","v":0.12468827930174342},50]
[{"$error":"#N/A"},null,null,null,null,475627,null,"SPR","EA","CHAIRMAT,ADVNTG,36X48,STD LIP"," ",69.989999999999995,15,{"$f":"VLOOKUP(M16,DFL!A:H,8,0)","v":0.5},{"$f":"P16-(P16/1.0025)","v":8.7281795511216842E-2},35]
[{"$error":"#N/A"},null,null,null,null,478427,null,"SPR","EA","CHAIRMAT,ADVNTG,46X60,WIDE LIP"," ",119.99,48,{"$f":"VLOOKUP(M17,DFL!A:H,8,0)","v":0.3},{"$f":"P17-(P17/1.0025)","v":0.20945137157106331},83.99]
[{"$error":"#N/A"},null,null,null,null,478028,null,"SPR","EA",{"$error":"#VALUE!"}," ",99.99,15,{"$f":"VLOOKUP(M18,DFL!A:H,8,0)","v":0.5},{"$f":"P18-(P18/1.0025)","v":0.12468827930174342},50]
[{"$error":"#N/A"},null,null,null,null,448906,null,"SPR","EA","CHAIRMAT,ALL-PILE,36X48"," ",89.99,48,{"$f":"VLOOKUP(M19,DFL!A:H,8,0)","v":0.3},{"$f":"P19-(P19/1.0025)","v":0.15708229426433462},62.99]
[{"$error":"#N/A"},null,null,null,null,767473,"SPR","SPR","EA","EASEL,DISPLAY,3LEG,HW,SV"," ",102.68,10,{"$f":"VLOOKUP(M20,DFL!A:H,8,0)","v":0.36},{"$f":"P20-(P20/1.0025)","v":0.16389027431421255},65.72]
[{"$error":"#N/A"},null,null,null,null,767446,"SPR","SPR","EA","EASEL,DISPLAY,3LEG,HW,BK"," ",102.68,10,{"$f":"VLOOKUP(M21,DFL!A:H,8,0)","v":0.36},{"$f":"P21-(P21/1.0025)","v":0.16389027431421255},65.72]
[{"$error":"#N/A"},null,null,null,null,5209424,"BSD","BSD","EA","KCUP;COFFEE;SUMATRA",null,20.23,48,{"$f":"VLOOKUP(M22,DFL!A:E,5,0)","v":0.42},{"$f":"P22-(P22/1.0025)","v":2.9251870324188189E-2},11.73]
[{"$error":"#N/A"},null,null,null,null,1250416,"SPR","SPR","CT","PLASTIC CONEX CUP 5OZ TRANS",null,170.44,18,{"$f":"VLOOKUP(M23,DFL!A:H,8,0)","v":0.44},{"$f":"P23-(P23/1.0025)","v":0.23802992518702126},95.45]
[{"$error":"#N/A"},null,null,null,null,508646,null,"SPR","EA","CHAIRMAT,BERBER,46X60,UTILITY"," ",119.99,15,{"$f":"VLOOKUP(M24,DFL!A:H,8,0)","v":0.5},{"$f":"P24-(P24/1.0025)","v":0.14962593516209211},60]
[{"$error":"#N/A"},null,null,null,null,475788,null,"SPR","EA","CHAIRMAT,ADVANTAGE,45X53,WIDE"," ",99.99,15,{"$f":"VLOOKUP(M25,DFL!A:H,8,0)","v":0.5},{"$f":"P25-(P25/1.0025)","v":0.12468827930174342},50]
[{"$error":"#N/A"},null,null,null,null,911900,null,"SPR","EA","Realspace‚Ñ¢ Economy Studded Low Pile Chair Mat, 36\" x 48\", Clear",null,49.99,15,{"$f":"VLOOKUP(M26,DFL!A:H,8,0)","v":0.5},{"$f":"P26-(P26/1.0025)","v":6.2344139650871711E-2},25]
[{"$error":"#N/A"},null,null,null,null,6785666,null,"SPR","EA","CHAIR,JAXBY,MESH,BLACK",null,200.59,48,{"$f":"VLOOKUP(M27,DFL!A:H,8,0)","v":0.3},{"$f":"P27-(P27/1.0025)","v":0.35014962593515975},140.41]
[{"$error":"#N/A"},null,null,null,null,911937,null,"SPR","EA","Realspace‚Ñ¢ Hard Chair Mat For Hard Surfaces, Wide Lip, 45\" x 53\", Clear",null,84.99,15,{"$f":"VLOOKUP(M28,DFL!A:H,8,0)","v":0.5},{"$f":"P28-(P28/1.0025)","v":0.10598503740648368},42.5]
[{"$error":"#N/A"},null,null,null,null,974928,"BSD","BSD","EA","64GB STORENGO DUAL USB FLASH",null,20.096898395721919,46,{"$f":"VLOOKUP(M29,DFL!A:E,5,0)","v":0.35},{"$f":"P29-(P29/1.0025)","v":3.2568578553615168E-2},13.06]
[{"$error":"#N/A"},null,null,null,null,978462,"BSD","BSD","EA"," SCISSORS 7  SLV RD",null,5.18,7,{"$f":"VLOOKUP(M30,DFL!A:E,5,0)","v":0.72},{"$f":"P30-(P30/1.0025)","v":3.6159600997505148E-3},1.45]
[{"$error":"#N/A"},null,null,null,null,319404,null,"SPR","EA","CHAIR,BELLANCA,BROWN",null,250.99,48,{"$f":"VLOOKUP(M31,DFL!A:H,8,0)","v":0.3},{"$f":"P31-(P31/1.0025)","v":0.43812967581047246},175.69]
[{"$error":"#N/A"},null,null,null,null,219491,null,"SPR","EA","CHAIR HURSTON EXEC BLACK",null,300.89,48,{"$f":"VLOOKUP(M32,DFL!A:H,8,0)","v":0.3},{"$f":"P32-(P32/1.0025)","v":0.52523690773065823},210.62]
[{"$error":"#N/A"},null,null,null,null,734026,"SPR","SPR","EA","BOARD,IN-OUT,24\"X36\",WH"," ",133.33000000000001,10,{"$f":"VLOOKUP(M33,DFL!A:H,8,0)","v":0.36},{"$f":"P33-(P33/1.0025)","v":0.21279301745634882},85.33]
[{"$error":"#N/A"},null,null,null,null,334679,null,"SPR","EA","CHAIR,BELLANCA,BLACK"," ",250.99,48,{"$f":"VLOOKUP(M34,DFL!A:H,8,0)","v":0.3},{"$f":"P34-(P34/1.0025)","v":0.43812967581047246},175.69]
[{"$error":"#N/A"},null,null,null,null,911919,null,"SPR","EA","Realspace‚Ñ¢ Berber Studded Chair Mat For Low-Pile Carpets, 46\"W x 60\"D, Clear",null,109.99,15,{"$f":"VLOOKUP(M35,DFL!A:H,8,0)","v":0.5},{"$f":"P35-(P35/1.0025)","v":0.13715710723191421},55]
[{"$error":"#N/A"},null,null,null,null,744074,null,"SPR","EA","CHAIR,CRESSFIELD,H-BACK,BLK",null,341.01,48,{"$f":"VLOOKUP(M36,DFL!A:H,8,0)","v":0.3},{"$f":"P36-(P36/1.0025)","v":0.59528678304238269},238.71]
[{"$error":"#N/A"},null,null,null,null,660194,null,"SPR","EA","CHAIR,CRESSFIELD,H-BACK,BRN",null,341.01,48,{"$f":"VLOOKUP(M37,DFL!A:H,8,0)","v":0.3},{"$f":"P37-(P37/1.0025)","v":0.59528678304238269},238.71]
[{"$error":"#N/A"},null,null,null,null,6342267,null,"SPR","EA","CHAIR,JAXBY,MESH,BLK,GRY",null,200.59,48,{"$f":"VLOOKUP(M38,DFL!A:H,8,0)","v":0.3},{"$f":"P38-(P38/1.0025)","v":0.35014962593515975},140.41]
[{"$error":"#N/A"},null,null,null,null,881463,null,"SPR","EA","CHAIR,FENNINGTON,H-BACK,BRN",null,330.98,48,{"$f":"VLOOKUP(M39,DFL!A:H,8,0)","v":0.3},{"$f":"P39-(P39/1.0025)","v":0.57778054862842509},231.69]
[{"$error":"#N/A"},null,null,null,null,217988,null,"SPR","EA","VERISMO,H/BACK,EXEC,CHAIR,BLK",null,480.95,48,{"$f":"VLOOKUP(M40,DFL!A:H,8,0)","v":0.3},{"$f":"P40-(P40/1.0025)","v":0.83957605985034434},336.67]
[{"$error":"#N/A"},null,null,null,null,454141,null,"SPR","PK","TRIMMER;TERRIFIC;SPARKLE;RD",null,3.99,7,{"$f":"VLOOKUP(M41,DFL!A:H,8,0)","v":0.46},{"$f":"P41-(P41/1.0025)","v":5.3615960099748783E-3},2.15]
[{"$error":"#N/A"},null,null,null,null,677198,null,"SPR","PK"," TOWEL SCOTT MEGA 15PK SAS WHT",null,38.619999999999997,40,{"$f":"VLOOKUP(M42,DFL!A:H,8,0)","v":0.44},{"$f":"P42-(P42/1.0025)","v":5.3940149625933742E-2},21.63]
[{"$error":"#N/A"},null,null,null,null,8185855,"SPR","SPR","EA","BOARD,AYDA,STEEL,24X36",null,80.680000000000007,10,{"$f":"VLOOKUP(M43,DFL!A:H,8,0)","v":0.36},{"$f":"P43-(P43/1.0025)","v":0.12877805486284188},51.64]
[{"$error":"#N/A"},null,null,null,null,139430,null,"SPR","CT","TOWEL;ROLL;CORMATIC",null,112.82,40,{"$f":"VLOOKUP(M44,DFL!A:H,8,0)","v":0.44},{"$f":"P44-(P44/1.0025)","v":0.15755610972568235},63.18]
[{"$error":"#N/A"},null,null,null,null,964209,"BSD","BSD","PK","2PK 32GB STORE N GO V3 USB 3.0",null,19.989999999999998,46,{"$f":"VLOOKUP(M45,DFL!A:E,5,0)","v":0.35},{"$f":"P45-(P45/1.0025)","v":3.2394014962592976E-2},12.99]
[{"$error":"#N/A"},null,null,null,null,749969,null,"SPR","EA","CHAIR,RADLEY,TASK",null,200.59,48,{"$f":"VLOOKUP(M46,DFL!A:H,8,0)","v":0.3},{"$f":"P46-(P46/1.0025)","v":0.35014962593515975},140.41]
[{"$error":"#N/A"},null,null,null,null,982554,"BSD","BSD","EA","KOSS UR 10 - HEADSET",null,9.99,48,{"$f":"VLOOKUP(M47,DFL!A:E,5,0)","v":0.42},{"$f":"P47-(P47/1.0025)","v":1.4438902743141746E-2},5.79]
[{"$error":"#N/A"},null,null,null,null,3434195,"BSD","BSD","EA","Epson PowerLite L630U Long Throw 3LCD Projector - FrontWUXGA - 6200 lm - HDMI - USB - Wireless LAN - Network (RJ-45) - Education, Corporate, Digital Signage, Entertainment",null,6135,48,{"$f":"VLOOKUP(M48,DFL!A:E,5,0)","v":0.42},{"$f":"P48-(P48/1.0025)","v":8.8735660847878535},3558.3]
[{"$error":"#N/A"},null,null,null,null,3798978,null,"SPR","EA","CHAIR,TORVAL,BIG&TALL,EXEC,BLK",null,661.97,48,{"$f":"VLOOKUP(M49,DFL!A:H,8,0)","v":0.3},{"$f":"P49-(P49/1.0025)","v":1.1555610972568502},463.38]
[{"$error":"#N/A"},null,null,null,null,493876,null,"SPR","EA","CHAIR,MFTC200,TASK,BLACK"," ",300.89,48,{"$f":"VLOOKUP(M50,DFL!A:H,8,0)","v":0.3},{"$f":"P50-(P50/1.0025)","v":0.52523690773065823},210.62]
[{"$error":"#N/A"},null,null,null,null,7972977,null,"SPR","EA","CHAIR,GAMING",null,601.79,48,{"$f":"VLOOKUP(M51,DFL!A:H,8,0)","v":0.3},{"$f":"P51-(P51/1.0025)","v":1.0504987531172105},421.25]
[{"$error":"#N/A"},null,null,null,null,239306,"BSD","BSD","EA","USB,ELITE,EDGE, 128GB",null,40.54,46,{"$f":"VLOOKUP(M52,DFL!A:E,5,0)","v":0.35},{"$f":"P52-(P52/1.0025)","v":6.5710723192019316E-2},26.35]
[{"$error":"#N/A"},null,null,null,null,122504,"BSD","BSD","EA","USB,ELITE,EDGE, 256GB",null,66.2,46,{"$f":"VLOOKUP(M53,DFL!A:E,5,0)","v":0.35},{"$f":"P53-(P53/1.0025)","v":0.10730673316707851},43.03]
[{"$error":"#N/A"},null,null,null,null,729452,"BSD","BSD","EA","DRIVE,USB 3.0,V3,MAX,128GB"," ",45.635717623498003,46,{"$f":"VLOOKUP(M54,DFL!A:E,5,0)","v":0.35},{"$f":"P54-(P54/1.0025)","v":7.3965087281795405E-2},29.66]
[{"$error":"#N/A"},null,null,null,null,342818,"BSD","BSD","EA","SHREDDER,14SHT,XCUT,WHITE,13G",null,944.99,21,{"$f":"VLOOKUP(M55,DFL!A:E,5,0)","v":0.42},{"$f":"P55-(P55/1.0025)","v":1.3668079800498845},548.09]
[{"$error":"#N/A"},null,null,null,null,702664,null,"SPR","EA","HEADPHONES;CHILDS;YELLOW",null,18.489999999999998,23,{"$f":"VLOOKUP(M56,DFL!A:H,8,0)","v":0.3},{"$f":"P56-(P56/1.0025)","v":3.2269326683291411E-2},12.94]
[{"$error":"#N/A"},null,null,null,null,5984855,"SPR","SPR","PL","TISSUE,FAC,85CT,WH",null,4552.8,40,{"$f":"VLOOKUP(M57,DFL!A:H,8,0)","v":0.44},{"$f":"P57-(P57/1.0025)","v":6.3580299251871111},2549.5700000000002]
[{"$error":"#N/A"},null,null,null,null,792689,"SPR","SPR","CT","TISSUE,FAC,85CT,WH"," ",94.85,40,{"$f":"VLOOKUP(M58,DFL!A:H,8,0)","v":0.44},{"$f":"P58-(P58/1.0025)","v":0.13246882793016823},53.12]
[{"$error":"#N/A"},null,null,null,null,5110841,null,"SPR","EA","Realspace¬Æ Praxley Faux Leather Low-Back Task Chair, Dark Gray",null,170.67,48,{"$f":"VLOOKUP(M59,DFL!A:H,8,0)","v":0.3},{"$f":"P59-(P59/1.0025)","v":0.29793017456358939},119.47]
[{"$error":"#N/A"},null,null,null,null,6742150,null,"SPR","EA","CHAIR,LEVARI,MESH,MB TASK,GRY",null,320.95,48,{"$f":"VLOOKUP(M60,DFL!A:H,8,0)","v":0.3},{"$f":"P60-(P60/1.0025)","v":0.56027431421443907},224.67]
[{"$error":"#N/A"},null,null,null,null,7200026,null,"SPR","EA","CHAIR,LENZER,MESH,HB TASK,BLK",null,320.95,48,{"$f":"VLOOKUP(M61,DFL!A:H,8,0)","v":0.3},{"$f":"P61-(P61/1.0025)","v":0.56027431421443907},224.67]
[{"$error":"#N/A"},null,null,null,null,6217486,null,"SPR","EA","Realspace¬Æ Lenzer Mesh High-Back Task Chair, Gray",null,320.95,48,{"$f":"VLOOKUP(M62,DFL!A:H,8,0)","v":0.3},{"$f":"P62-(P62/1.0025)","v":0.56027431421443907},224.67]
[{"$error":"#N/A"},null,null,null,null,307397,"BSD","BSD","DZ","PAD,PERF,5X8,CAN,LGL,RLD,12PK",null,67.03,30,{"$f":"VLOOKUP(M63,DFL!A:E,5,0)","v":0.73},{"$f":"P63-(P63/1.0025)","v":4.5137157107230763E-2},18.100000000000001]
[{"$error":"#N/A"},null,null,null,null,5287072,null,"SPR","EA","FILTER,PRIV,GD,F/MACBKPRO16",null,78.650000000000006,48,{"$f":"VLOOKUP(M64,DFL!A:H,8,0)","v":0.3},{"$f":"P64-(P64/1.0025)","v":0.13730673316707964},55.06]
[{"$error":"#N/A"},null,null,null,null,4659304,null,"SPR","EA","CHAIR,MAYHART,MB,BROWN",null,240.71,48,{"$f":"VLOOKUP(M65,DFL!A:H,8,0)","v":0.3},{"$f":"P65-(P65/1.0025)","v":0.42019950124688421},168.5]
[{"$error":"#N/A"},null,null,null,null,8638586,null,"SPR","EA","CHAIR,TRESWELL,HB,BLACK",null,351.04,48,{"$f":"VLOOKUP(M66,DFL!A:H,8,0)","v":0.3},{"$f":"P66-(P66/1.0025)","v":0.61279301745634029},245.73]
[{"$error":"#N/A"},null,null,null,null,836787,null,"SPR","EA","CHAIR,EXEC,SERTA,HENSLEY,BLK",null,651.94000000000005,48,{"$f":"VLOOKUP(M67,DFL!A:H,8,0)","v":0.3},{"$f":"P67-(P67/1.0025)","v":1.1380548628428642},456.36]
[{"$error":"#N/A"},null,null,null,null,8186756,"SPR","SPR","EA","BOARD,AYDA,STEEL,36X48",null,151.28,10,{"$f":"VLOOKUP(M68,DFL!A:H,8,0)","v":0.36},{"$f":"P68-(P68/1.0025)","v":0.24144638403988949},96.82]
[{"$error":"#N/A"},null,null,null,null,268444,null,"SPR","EA","SYSTEM,SPEAKER,MMEDIA,Z200",null,39.99,29,{"$f":"VLOOKUP(M69,DFL!A:H,8,0)","v":0.3},{"$f":"P69-(P69/1.0025)","v":6.9800498753114226E-2},{"$f":"ROUND(L69*(1-N69),2)","v":27.99}]
[{"$error":"#N/A"},null,null,null,null,949523,null,"SPR","EA","MODULE,POWER,DATACENTER",null,375,48,{"$f":"VLOOKUP(M70,DFL!A:H,8,0)","v":0.3},{"$f":"P70-(P70/1.0025)","v":0.65461346633412631},262.5]
[{"$error":"#N/A"},null,null,null,null,6994240,null,"SPR","EA","Realspace¬Æ Modern Comfort Verismo Bonded Leather High-Back Executive Chair, Brown/Chrome",null,480.95,48,{"$f":"VLOOKUP(M71,DFL!A:H,8,0)","v":0.3},{"$f":"P71-(P71/1.0025)","v":0.83957605985034434},336.67]
[{"$error":"#N/A"},null,null,null,null,5242953,null,"SPR","EA","CHAIR,MAYHART,MB,BLACK",null,240.71,48,{"$f":"VLOOKUP(M72,DFL!A:H,8,0)","v":0.3},{"$f":"P72-(P72/1.0025)","v":0.42019950124688421},168.5]
[{"$error":"#N/A"},null,null,null,null,257438,null,"SPR","PK"," LEGALPAD ODPRO 5X8 CANARY",null,25.83,30,{"$f":"VLOOKUP(M73,DFL!A:H,8,0)","v":0.57999999999999996},{"$f":"P73-(P73/1.0025)","v":2.7057356608478855E-2},10.85]
[{"$error":"#N/A"},null,null,null,null,915584,null,"SPR","PK","CHARTS;THE HUMAN BODY;7PC",null,17.489999999999998,47,{"$f":"VLOOKUP(M74,DFL!A:H,8,0)","v":0.5},{"$f":"P74-(P74/1.0025)","v":2.182044887780421E-2},8.75]
[{"$error":"#N/A"},null,null,null,null,8063701,null,"SPR","EA","WEBCAM, CONSUMER, C505",null,49.99,21,{"$f":"VLOOKUP(M75,DFL!A:H,8,0)","v":0.28999999999999998},{"$f":"P75-(P75/1.0025)","v":8.8503740648377516E-2},35.49]
[{"$error":"#N/A"},null,null,null,null,625502,"BSD","BSD","PK","PADLEGAL,8.5X11.75,CANARY,50SH"," ",26.78,30,{"$f":"VLOOKUP(M76,DFL!A:E,5,0)","v":0.73},{"$f":"P76-(P76/1.0025)","v":1.802992518703217E-2},7.23]
[{"$error":"#N/A"},null,null,null,null,825587,"SPR","SPR","EA","BOARD,COMBO,4X6,ALUMINUM",null,253.95,10,{"$f":"VLOOKUP(M77,DFL!A:H,8,0)","v":0.36},{"$f":"P77-(P77/1.0025)","v":0.40531172069825061},162.53]
[{"$error":"#N/A"},null,null,null,null,9926827,null,"SPR","EA","Realspace‚Ñ¢ Bretino LED Magnifier Desk Lamp With Mounting Clamp, 22\"H, Black",null,89.99,16,{"$f":"VLOOKUP(M78,DFL!A:H,8,0)","v":0.36},{"$f":"P78-(P78/1.0025)","v":0.1436159600997442},57.59]
[{"$error":"#N/A"},null,null,null,null,532073,"BSD","BSD","EA","KOSS KPH 7 - HEADPHONES",null,5.99,23,{"$f":"VLOOKUP(M79,DFL!A:E,5,0)","v":0.37},{"$f":"P79-(P79/1.0025)","v":9.4014962593513829E-3},3.77]
[{"$error":"#N/A"},null,null,null,null,537045,"BSD","BSD","CT","CUP,8 OZ,FOAM,1M/CTN,WE"," ",110.46,18,{"$f":"VLOOKUP(M80,DFL!A:E,5,0)","v":0.55000000000000004},{"$f":"P80-(P80/1.0025)","v":0.12396508728179612},49.71]
[{"$error":"#N/A"},null,null,null,null,7377876,null,"SPR","EA","CHAIR,TRESWELL,HB,BROWN",null,351.04,48,{"$f":"VLOOKUP(M81,DFL!A:H,8,0)","v":0.3},{"$f":"P81-(P81/1.0025)","v":0.61279301745634029},245.73]
[{"$error":"#N/A"},null,null,null,null,2626508,"BSD","BSD","EA","Dell P2422H 23.8\" Full HD WLED LCD Monitor - 16:9 - 24\" Class - In-plane Switching (IPS) Technology - 1920 x 1080 - 16.7 Million Colors - 250 Nit - 5 ms GTG (Fast) - HDMI - VGA - DisplayPort - USB Hub",null,229.99,48,{"$f":"VLOOKUP(M82,DFL!A:E,5,0)","v":0.42},{"$f":"P82-(P82/1.0025)","v":0.33264339152120215},133.38999999999999]
[{"$error":"#N/A"},null,null,null,null,9702132,null,"SPR","EA","CHAIR,WORKPRO12K,MESH,FABRIC",null,980.97,48,{"$f":"VLOOKUP(M83,DFL!A:H,8,0)","v":0.3},{"$f":"P83-(P83/1.0025)","v":1.7124189526184637},686.68]
[{"$error":"#N/A"},null,null,null,null,223111,null,"SPR","DZ","PAD,PERF,OD,LGL RLD,8.5X14,CAN"," ",128.99,30,{"$f":"VLOOKUP(M84,DFL!A:H,8,0)","v":0.57999999999999996},{"$f":"P84-(P84/1.0025)","v":0.13511221945137208},54.18]
[{"$error":"#N/A"},null,null,null,null,305706,"BSD","BSD","DZ","PAD,PERF,8.5X11,OD,12PK,LGL RL"," ",110.77,30,{"$f":"VLOOKUP(M85,DFL!A:E,5,0)","v":0.73},{"$f":"P85-(P85/1.0025)","v":7.4588528678301458E-2},29.91]
[{"$error":"#N/A"},null,null,null,null,9974996,"BSD","BSD","EA","FAN,TOWER,WHOLE RM,QUIETSET",null,111.79,21,{"$f":"VLOOKUP(M86,DFL!A:E,5,0)","v":0.42},{"$f":"P86-(P86/1.0025)","v":0.16169576059850499},64.84]
[{"$error":"#N/A"},null,null,null,null,1329697,"SPR","SPR","PK","MAGNETS MV PUSH PIN 10 SV",null,14.45,7,{"$f":"VLOOKUP(M87,DFL!A:H,8,0)","v":0.46},{"$f":"P87-(P87/1.0025)","v":1.9451371571071796E-2},7.8]
[{"$error":"#N/A"},null,null,null,null,8183480,"SPR","SPR","EA","BOARD,AYDA,PORC,36X48",null,268.45,10,{"$f":"VLOOKUP(M88,DFL!A:H,8,0)","v":0.36},{"$f":"P88-(P88/1.0025)","v":0.42845386533664964},171.81]
[{"$error":"#N/A"},null,null,null,null,900246,"BSD","BSD","EA","PNY USB 2.0 Flash Drive, 64GB, Assorted",null,20.82,46,{"$f":"VLOOKUP(M89,DFL!A:E,5,0)","v":0.35},{"$f":"P89-(P89/1.0025)","v":3.3740648379051663E-2},13.53]
[{"$error":"#N/A"},null,null,null,null,8681522,"SPR","SPR","PK","NOTEBOOK,1SUB,4PK,8\"X10\"",null,10.08,30,{"$f":"VLOOKUP(M90,DFL!A:H,8,0)","v":0.57999999999999996},{"$f":"P90-(P90/1.0025)","v":1.0548628428927564E-2},4.2300000000000004]
[{"$error":"#N/A"},null,null,null,null,351655,"BSD","BSD","EA","LAMINATOR,THERMAL,VALUEPACK"," ",87.76,21,{"$f":"VLOOKUP(M91,DFL!A:E,5,0)","v":0.42},{"$f":"P91-(P91/1.0025)","v":0.12693266832917516},50.9]
[{"$error":"#N/A"},null,null,null,null,234108,"SPR","SPR","EA","TABLE,FLDNG,30\"X96\",MY"," ",406,48,{"$f":"VLOOKUP(M92,DFL!A:H,8,0)","v":0.3},{"$f":"P92-(P92/1.0025)","v":0.70872817955108758},284.2]
[{"$error":"#N/A"},null,null,null,null,939905,null,"SPR","EA","BELKIN MINI TRAVEL SURGE PROTE"," ",29.99,48,{"$f":"VLOOKUP(M93,DFL!A:H,8,0)","v":0.3},{"$f":"P93-(P93/1.0025)","v":5.2344139650870147E-2},20.99]
[{"$error":"#N/A"},null,null,null,null,9263076,null,"SPR","EA","256GB VI560 SATA III M.2 2280",null,39.99,46,{"$f":"VLOOKUP(M94,DFL!A:H,8,0)","v":0.18},{"$f":"P94-(P94/1.0025)","v":8.1770573566082305E-2},32.79]
[{"$error":"#N/A"},null,null,null,null,432958,null,"SPR","EA","HEADSET;TWO;3.5;MM;PLUGS",null,38.75,23,{"$f":"VLOOKUP(M95,DFL!A:H,8,0)","v":0.3},{"$f":"P95-(P95/1.0025)","v":6.7655860349127295E-2},27.13]
[{"$error":"#N/A"},null,null,null,null,942062,"BSD","BSD","EA","USB,ELITE,EDGE, 64GB",null,30.34,46,{"$f":"VLOOKUP(M96,DFL!A:E,5,0)","v":0.35},{"$f":"P96-(P96/1.0025)","v":4.91770573566086E-2},19.72]
[{"$error":"#N/A"},null,null,null,null,793816,"BSD","BSD","CT","DETERGENT,AB,ULTRA,PLMLV,9CT",null,63.79,19,{"$f":"VLOOKUP(M97,DFL!A:E,5,0)","v":0.5},{"$f":"P97-(P97/1.0025)","v":7.9551122194512658E-2},31.9]
[{"$error":"#N/A"},null,null,null,null,260225,"BSD","BSD","CT","DETERGENT,UTR,ORIG,PLMVE,9CT",null,63.79,19,{"$f":"VLOOKUP(M98,DFL!A:E,5,0)","v":0.5},{"$f":"P98-(P98/1.0025)","v":7.9551122194512658E-2},31.9]
[{"$error":"#N/A"},null,null,null,null,8265729,null,"SPR","EA","FILTER,ANTI-GLARE,NB,13.3\"W",null,38.85,48,{"$f":"VLOOKUP(M99,DFL!A:H,8,0)","v":0.3},{"$f":"P99-(P99/1.0025)","v":6.783042394014771E-2},27.2]
[{"$error":"#N/A"},null,null,null,null,734188,"SPR","SPR","EA","BOARD,PLNR,MNTH,24X36,WH"," ",142.44999999999999,10,{"$f":"VLOOKUP(M100,DFL!A:H,8,0)","v":0.36},{"$f":"P100-(P100/1.0025)","v":0.22735660847880013},91.17]
[{"$error":"#N/A"},null,null,null,null,734089,"SPR","SPR","EA","BOARD,PLNR,4MNTH,24X36,WH"," ",142.47999999999999,10,{"$f":"VLOOKUP(M101,DFL!A:H,8,0)","v":0.36},{"$f":"P101-(P101/1.0025)","v":0.2274064837905172},91.19]
[{"$error":"#N/A"},null,null,null,null,504686,"SPR","SPR","EA","SHELVING,WIRE,INDUS,48X24"," ",341,38,{"$f":"VLOOKUP(M102,DFL!A:H,8,0)","v":0.36},{"$f":"P102-(P102/1.0025)","v":0.54423940149624173},218.24]
[{"$error":"#N/A"},null,null,null,null,388262,null,"SPR","EA","CHAIR,WINSLEY,MIDBACK,BLACK"," ",300.89,48,{"$f":"VLOOKUP(M103,DFL!A:H,8,0)","v":0.3},{"$f":"P103-(P103/1.0025)","v":0.52523690773065823},210.62]
[{"$error":"#N/A"},null,null,null,null,7306638,"BSD","BSD","RM","PAPER,ASTBRT SPRNKL,65#,250PK",null,29.67,32,{"$f":"VLOOKUP(M104,DFL!A:E,5,0)","v":0.75},{"$f":"P104-(P104/1.0025)","v":1.8503740648379008E-2},7.42]
[{"$error":"#N/A"},null,null,null,null,4582120,null,"SPR","EA","SHAQ,ZEPHYRUS,EXE,CHAIR,BL",null,801.59,48,{"$f":"VLOOKUP(M105,DFL!A:H,8,0)","v":0.3},{"$f":"P105-(P105/1.0025)","v":1.3992768079800726},561.11]
[{"$error":"#N/A"},null,null,null,null,628941,"BSD","BSD","RM","PAPER,ASTROBRT,24#,LTR,VINTAGE"," ",46.37,32,{"$f":"VLOOKUP(M106,DFL!A:E,5,0)","v":0.75},{"$f":"P106-(P106/1.0025)","v":2.8902743142143805E-2},11.59]
[{"$error":"#N/A"},null,null,null,null,3537611,null,"SPR","EA","Realspace¬Æ RS Gaming Vertex Faux Leather High-Back Gaming Chair, Black",null,501.49,48,{"$f":"VLOOKUP(M107,DFL!A:H,8,0)","v":0.3},{"$f":"P107-(P107/1.0025)","v":0.87541147132168362},351.04]
[{"$error":"#N/A"},null,null,null,null,8183211,"SPR","SPR","EA","BOARD,AYDA,PORC,24X36",null,146.63,10,{"$f":"VLOOKUP(M108,DFL!A:H,8,0)","v":0.36},{"$f":"P108-(P108/1.0025)","v":0.23401496259350552},93.84]
[{"$error":"#N/A"},null,null,null,null,7792143,"BSD","BSD","CA","DETERGENT;DAWN;PRF;HD;1G",null,122.59,19,{"$f":"VLOOKUP(M109,DFL!A:E,5,0)","v":0.5},{"$f":"P109-(P109/1.0025)","v":0.15286783042393637},61.3]
[{"$error":"#N/A"},null,null,null,null,967383,"SPR","SPR","EA","TABLE,FLDNG,30X72,MY"," ",323,48,{"$f":"VLOOKUP(M110,DFL!A:H,8,0)","v":0.3},{"$f":"P110-(P110/1.0025)","v":0.56384039900248695},226.1]
[{"$error":"#N/A"},null,null,null,null,9063975,"BSD","BSD","CA","DETERGENT;DAWN;PRF;HD;38Z",null,84.09,19,{"$f":"VLOOKUP(M111,DFL!A:E,5,0)","v":0.5},{"$f":"P111-(P111/1.0025)","v":0.10486284289276426},42.05]
[{"$error":"#N/A"},null,null,null,null,253096,"BSD","BSD","EA","V16,HD,EXTERNAL,MYBOOK,4TB",null,134.99,48,{"$f":"VLOOKUP(M112,DFL!A:E,5,0)","v":0.42},{"$f":"P112-(P112/1.0025)","v":0.19523690773067415},78.290000000000006]
[{"$error":"#N/A"},null,null,null,null,7449162,null,"SPR","EA","SNACKS;FRUITLOOPS;JUMBO;12CT",null,7.99,48,{"$f":"VLOOKUP(M113,DFL!A:H,8,0)","v":0.3},{"$f":"P113-(P113/1.0025)","v":1.3940149625934595E-2},5.59]
[{"$error":"#N/A"},null,null,null,null,9281002,null,"SPR","EA","Realspace¬Æ Modern Comfort Winsley Bonded Leather Mid-Back Manager's Chair, Brown/Black",null,300.89,48,{"$f":"VLOOKUP(M114,DFL!A:H,8,0)","v":0.3},{"$f":"P114-(P114/1.0025)","v":0.52523690773065823},210.62]
[{"$error":"#N/A"},null,null,null,null,690690,null,"SPR","EA","CHAIR,9000 SERIES,W/HEAD,BLACK"," ",950.94,48,{"$f":"VLOOKUP(M115,DFL!A:H,8,0)","v":0.3},{"$f":"P115-(P115/1.0025)","v":1.6599999999999682},665.66]
[{"$error":"#N/A"},null,null,null,null,4435197,"BSD","BSD","PK","PNY USB 2.0 Flash Drives, 64GB, Pack Of 2 Flash Drives",null,25.79,46,{"$f":"VLOOKUP(M116,DFL!A:E,5,0)","v":0.35},{"$f":"P116-(P116/1.0025)","v":4.1795511221945247E-2},16.760000000000002]
[{"$error":"#N/A"},null,null,null,null,6211168,null,"SPR","EA","LAMP,DESK,ORGANIZER,BLACK",null,49.99,16,{"$f":"VLOOKUP(M117,DFL!A:H,8,0)","v":0.36},{"$f":"P117-(P117/1.0025)","v":7.97755610972537E-2},31.99]
[{"$error":"#N/A"},null,null,null,null,6105888,null,"SPR","EA","Realspace¬Æ Lusina LED Organizer Desk Lamp With USB, 18\"H, White",null,49.99,16,{"$f":"VLOOKUP(M118,DFL!A:H,8,0)","v":0.36},{"$f":"P118-(P118/1.0025)","v":7.97755610972537E-2},31.99]
[{"$error":"#N/A"},null,null,null,null,326330,null,"SPR","EA","HI-POWER LED BRUSHED NICKEL",null,49.99,16,{"$f":"VLOOKUP(M119,DFL!A:H,8,0)","v":0.36},{"$f":"P119-(P119/1.0025)","v":7.97755610972537E-2},31.99]
[{"$error":"#N/A"},null,null,null,null,287205,"SPR","SPR","EA","BOARD,CRK,STNLS FRM,2X3,ERTHIT"," ",81.75,10,{"$f":"VLOOKUP(M120,DFL!A:H,8,0)","v":0.36},{"$f":"P120-(P120/1.0025)","v":0.13047381546134318},52.32]
[{"$error":"#N/A"},null,null,null,null,148249,"BSD","BSD","EA","32GB STORENGO DUAL USB FLASH",null,18.071036036036034,46,{"$f":"VLOOKUP(M121,DFL!A:E,5,0)","v":0.35},{"$f":"P121-(P121/1.0025)","v":2.9301745635908816E-2},11.75]
[{"$error":"#N/A"},null,null,null,null,857562,null,"SPR","EA","Realspace¬Æ Calusa Mesh Mid-Back Manager's Chair, Black",null,300.89,48,{"$f":"VLOOKUP(M122,DFL!A:H,8,0)","v":0.3},{"$f":"P122-(P122/1.0025)","v":0.52523690773065823},210.62]
[{"$error":"#N/A"},null,null,null,null,734098,"SPR","SPR","EA","BOARD,PLNR,24X36,MNTH,WH",null,145.43,10,{"$f":"VLOOKUP(M123,DFL!A:H,8,0)","v":0.36},{"$f":"P123-(P123/1.0025)","v":0.23211970074812882},93.08]
[{"$error":"#N/A"},null,null,null,null,268671,null,"SPR","DZ","PAD,GUM,8.5X11,OD,CAN,LGL RLD"," ",136.13999999999999,30,{"$f":"VLOOKUP(M124,DFL!A:H,8,0)","v":0.57999999999999996},{"$f":"P124-(P124/1.0025)","v":0.14259351620947314},57.18]
[{"$error":"#N/A"},null,null,null,null,907932,null,"SPR","EA","CHAIR,WINSLEY,MIDBACK,WHITE"," ",300.89,48,{"$f":"VLOOKUP(M125,DFL!A:H,8,0)","v":0.3},{"$f":"P125-(P125/1.0025)","v":0.52523690773065823},210.62]
[{"$error":"#N/A"},null,null,null,null,327614,null,"SPR","EA","LED STRIP CLAMP-ON LAMP",null,59.99,16,{"$f":"VLOOKUP(M126,DFL!A:H,8,0)","v":0.36},{"$f":"P126-(P126/1.0025)","v":9.5735660847878989E-2},38.39]
[{"$error":"#N/A"},null,null,null,null,466979,null,"SPR","EA","WINSLEY GRAY",null,300.89,48,{"$f":"VLOOKUP(M127,DFL!A:H,8,0)","v":0.3},{"$f":"P127-(P127/1.0025)","v":0.52523690773065823},210.62]
[{"$error":"#N/A"},null,null,null,null,582429,"SPR","SPR","EA","EASLE,LIGHTWEIGHT,SILVER"," ",97.43,10,{"$f":"VLOOKUP(M128,DFL!A:H,8,0)","v":0.36},{"$f":"P128-(P128/1.0025)","v":0.15551122194513312},62.36]
[{"$error":"#N/A"},null,null,null,null,502176,"SPR","SPR","EA","EASEL,LIGHTWEIGHT,BLK"," ",97.43,10,{"$f":"VLOOKUP(M129,DFL!A:H,8,0)","v":0.36},{"$f":"P129-(P129/1.0025)","v":0.15551122194513312},62.36]
[{"$error":"#N/A"},null,null,null,null,6459739,"BSD","BSD","RM","PAPER,ASTBRT SPRNKL,24#,500PK",null,29.67,32,{"$f":"VLOOKUP(M130,DFL!A:E,5,0)","v":0.75},{"$f":"P130-(P130/1.0025)","v":1.8503740648379008E-2},7.42]
[{"$error":"#N/A"},null,null,null,null,752523,null,"SPR","EA","KIT,EXTD MAINTENANCE",null,172.19,43,{"$f":"VLOOKUP(M131,DFL!A:H,8,0)","v":0.3},{"$f":"P131-(P131/1.0025)","v":0.30057356608477903},120.53]
[{"$error":"#N/A"},null,null,null,null,603331,null,"SPR","EA"," Single Steel Anchor",null,14.99,48,{"$f":"VLOOKUP(M132,DFL!A:H,8,0)","v":0.3},{"$f":"P132-(P132/1.0025)","v":2.6159600997505805E-2},10.49]
[{"$error":"#N/A"},null,null,null,null,7481227,"SPR","SPR","CA","BOWL;12OZ;SUGARCANE",null,214.55,18,{"$f":"VLOOKUP(M133,DFL!A:H,8,0)","v":0.44},{"$f":"P133-(P133/1.0025)","v":0.29962593516208358},{"$f":"ROUND(L133*(1-N133),2)","v":120.15}]
[{"$error":"#N/A"},null,null,null,null,8118048,null,"SPR","EA","PROTECTOR,SRG,6OTLT,4USB",null,60.574318181818178,6,{"$f":"VLOOKUP(M134,DFL!A:H,8,0)","v":0.47},{"$f":"P134-(P134/1.0025)","v":8.0049875311722474E-2},32.1]
[{"$error":"#N/A"},null,null,null,null,5672257,"SPR","SPR","CA","PLATE;6\";SUGARCANE",null,115.12,18,{"$f":"VLOOKUP(M135,DFL!A:H,8,0)","v":0.44},{"$f":"P135-(P135/1.0025)","v":0.16077306733166097},64.47]
[{"$error":"#N/A"},null,null,null,null,6037892,"SPR","SPR","CA","CONTAINER;9X9;HINGED;WHT",null,127.6,48,{"$f":"VLOOKUP(M136,DFL!A:H,8,0)","v":0.3},{"$f":"P136-(P136/1.0025)","v":0.22274314214463686},89.32]
[{"$error":"#N/A"},null,null,null,null,9958244,null,"SPR","CT","CHAIR,UPHOLSTERED,W/ARMS,OE",null,550,48,{"$f":"VLOOKUP(M137,DFL!A:H,8,0)","v":0.3},{"$f":"P137-(P137/1.0025)","v":0.96009975062344211},385]
[{"$error":"#N/A"},null,null,null,null,304601,null,"SPR","EA","SERTA,SL,HENSLEY,EXEC,B&T"," ",651.94000000000005,48,{"$f":"VLOOKUP(M138,DFL!A:H,8,0)","v":0.3},{"$f":"P138-(P138/1.0025)","v":1.1380548628428642},456.36]
[{"$error":"#N/A"},null,null,null,null,688029,null,"SPR","EA","GREEN BANKER'S"," ",79.989999999999995,16,{"$f":"VLOOKUP(M139,DFL!A:H,8,0)","v":0.36},{"$f":"P139-(P139/1.0025)","v":0.12765586034912246},51.19]
[{"$error":"#N/A"},null,null,null,null,9253654,null,"SPR","EA"," CHAIR BUCKET BROWN",null,170.67,48,{"$f":"VLOOKUP(M140,DFL!A:H,8,0)","v":0.3},{"$f":"P140-(P140/1.0025)","v":0.29793017456358939},119.47]
[{"$error":"#N/A"},null,null,null,null,723730,"SPR","SPR","EA","TABLE,36\" SQIARE.PLATINUM"," ",199,48,{"$f":"VLOOKUP(M141,DFL!A:H,8,0)","v":0.3},{"$f":"P141-(P141/1.0025)","v":0.34738154613464189},139.30000000000001]
[{"$error":"#N/A"},null,null,null,null,664393,"SPR","SPR","CT","COVER,TOLETST,250R,25C/CT"," ",56.86,19,{"$f":"VLOOKUP(M142,DFL!A:H,8,0)","v":0.45},{"$f":"P142-(P142/1.0025)","v":7.7980049875311153E-2},31.27]
[{"$error":"#N/A"},null,null,null,null,5716283,"BSD","BSD","EA","PNY USB 2.0 Flash Drives, 16GB, Assorted Colors, Pack Of 5 Flash Drives",null,35.71,46,{"$f":"VLOOKUP(M143,DFL!A:E,5,0)","v":0.35},{"$f":"P143-(P143/1.0025)","v":5.7880299251870326E-2},23.21]
[{"$error":"#N/A"},null,null,null,null,557724,"BSD","BSD","EA","USB HEADSET H570E STEREO",null,44.99,23,{"$f":"VLOOKUP(M144,DFL!A:E,5,0)","v":0.37},{"$f":"P144-(P144/1.0025)","v":7.0673316708226963E-2},28.34]
[{"$error":"#N/A"},null,null,null,null,967347,"SPR","SPR","EA","TABLE,FLDNG,30\"X60\",MY"," ",282,48,{"$f":"VLOOKUP(M145,DFL!A:H,8,0)","v":0.3},{"$f":"P145-(P145/1.0025)","v":0.49226932668327095},197.4]
[{"$error":"#N/A"},null,null,null,null,223463,null,"SPR","PK","PLATE,HEAVYWEIGHT,5.875\",125PK"," ",14.91,18,{"$f":"VLOOKUP(M146,DFL!A:H,8,0)","v":0.44},{"$f":"P146-(P146/1.0025)","v":2.0822942643391684E-2},8.35]
[{"$error":"#N/A"},null,null,null,null,7013246,null,"SPR","EA"," CHAIR REZZI MIDBACK BLK",null,230.45,48,{"$f":"VLOOKUP(M147,DFL!A:H,8,0)","v":0.3},{"$f":"P147-(P147/1.0025)","v":0.40229426433913318},161.32]
[{"$error":"#N/A"},null,null,null,null,510830,null,"SPR","EA","CHAIR,9000 SERIES,MIDBK,BLACK"," ",900.89,48,{"$f":"VLOOKUP(M148,DFL!A:H,8,0)","v":0.3},{"$f":"P148-(P148/1.0025)","v":1.5726184538652888},630.62]
[{"$error":"#N/A"},null,null,null,null,734737,"SPR","SPR","EA","BOARD,PLNR,36X48 GRID,WH",null,432.48,10,{"$f":"VLOOKUP(M149,DFL!A:H,8,0)","v":0.36},{"$f":"P149-(P149/1.0025)","v":0.69024937655859731},276.79000000000002]
[{"$error":"#N/A"},null,null,null,null,172166,"BSD","BSD","EA","BRIO 4K PRO WEBCAM BROWN BOX",null,169.99,48,{"$f":"VLOOKUP(M150,DFL!A:E,5,0)","v":0.42},{"$f":"P150-(P150/1.0025)","v":0.24586034912717025},98.59]
[{"$error":"#N/A"},null,null,null,null,1285840,"SPR","SPR","EA","MASTERVISION RULED PLANNING BO"," ",396.15,10,{"$f":"VLOOKUP(M151,DFL!A:H,8,0)","v":0.36},{"$f":"P151-(P151/1.0025)","v":0.63226932668328573},253.54]
[{"$error":"#N/A"},null,null,null,null,699808,null,"SPR","BX","EARPLUGS FOAM DISP CORDED"," ",59.172239241429608,48,{"$f":"VLOOKUP(M152,DFL!A:H,8,0)","v":0.3},{"$f":"P152-(P152/1.0025)","v":0.10329177057356276},41.42]
[{"$error":"#N/A"},null,null,null,null,304574,null,"SPR","EA","SERTA,SL,JENNINGS,SUPERTSK,B&T"," ",601.19000000000005,48,{"$f":"VLOOKUP(M153,DFL!A:H,8,0)","v":0.3},{"$f":"P153-(P153/1.0025)","v":1.0494513715710241},420.83]
[{"$error":"#N/A"},null,null,null,null,8085683,null,"SPR","EA","SHAQ,AMPHION,EXE,CHAIR,GRY",null,651.29,48,{"$f":"VLOOKUP(M154,DFL!A:H,8,0)","v":0.3},{"$f":"P154-(P154/1.0025)","v":1.136907730673272},455.9]
[{"$error":"#N/A"},null,null,null,null,7865220,"BSD","BSD","EA","Logitech Zone Wired - Headset - on-ear - wired - USB-C - graphite",null,99.99,23,{"$f":"VLOOKUP(M155,DFL!A:E,5,0)","v":0.37},{"$f":"P155-(P155/1.0025)","v":0.15708229426433462},62.99]
[24.19,null,null,null,null,644250,"BSD","BSD","CT","WIPES,CLEANER,LYSOL,6/CT"," ",51.67,19,{"$f":"VLOOKUP(M156,DFL!A:E,5,0)","v":0.5},{"$f":"P156-(P156/1.0025)","v":6.4438902743141568E-2},25.84]
[{"$error":"#N/A"},null,null,null,null,790683,null,"SPR","DZ","PENCIL;WDCASE;#2;LATEX FREE",null,3.9857446808510639,33,{"$f":"VLOOKUP(M157,DFL!A:H,8,0)","v":0.55000000000000004},{"$f":"P157-(P157/1.0025)","v":4.4638403990024944E-3},1.79]
[{"$error":"#N/A"},null,null,null,null,476279,null,"SPR","EA","AMPRESSO,BIG,&,TALL,CHR,TAUPE",null,501.49,48,{"$f":"VLOOKUP(M158,DFL!A:H,8,0)","v":0.3},{"$f":"P158-(P158/1.0025)","v":0.87541147132168362},351.04]
[{"$error":"#N/A"},null,null,null,null,951962,"BSD","BSD","ST","PAINT,WATERCOLOR,W/BRUSH,8/SET","Less Harsh Chemicals,ACMI certified",4.51,47,{"$f":"VLOOKUP(M159,DFL!A:E,5,0)","v":0.56999999999999995},{"$f":"P159-(P159/1.0025)","v":4.8379052369076359E-3},1.94]
[{"$error":"#N/A"},null,null,null,null,451313,null,"SPR","EA","CHAIR,TASK,FABRIC,BLACK",null,160.47,48,{"$f":"VLOOKUP(M160,DFL!A:H,8,0)","v":0.3},{"$f":"P160-(P160/1.0025)","v":0.28012468827930093},112.33]
[{"$error":"#N/A"},null,null,null,null,735079,"SPR","SPR","EA","BOARD,MV,18X24,COMBO,GY",null,60.88,10,{"$f":"VLOOKUP(M161,DFL!A:H,8,0)","v":0.36},{"$f":"P161-(P161/1.0025)","v":9.7157107231915063E-2},38.96]
[{"$error":"#N/A"},null,null,null,null,1329724,"SPR","SPR","EA","BOARD COMBO 18X24 BK"," ",60.88,10,{"$f":"VLOOKUP(M162,DFL!A:H,8,0)","v":0.36},{"$f":"P162-(P162/1.0025)","v":9.7157107231915063E-2},38.96]
[{"$error":"#N/A"},null,null,null,null,153634,null,"SPR","ST","BOARD;DRYERASE;RULD;WE;10PK",null,39,10,{"$f":"VLOOKUP(M163,DFL!A:H,8,0)","v":0.36},{"$f":"P163-(P163/1.0025)","v":6.2244389027430458E-2},24.96]
[{"$error":"#N/A"},null,null,null,null,9942188,"SPR","SPR","EA","RISER,DLX,LT-TOUCH,3-SCREEN",null,751,48,{"$f":"VLOOKUP(M164,DFL!A:H,8,0)","v":0.3},{"$f":"P164-(P164/1.0025)","v":1.3109725685785634},525.70000000000005]
[{"$error":"#N/A"},null,null,null,null,332272,null,"SPR","EA","CARDS;FLASH;PICTURE WORDS",null,7.99,48,{"$f":"VLOOKUP(M165,DFL!A:H,8,0)","v":0.3},{"$f":"P165-(P165/1.0025)","v":1.3940149625934595E-2},5.59]
[{"$error":"#N/A"},null,null,null,null,9273711,null,"SPR","EA","256GB VX460 EXT SSD USB 3.1",null,47.99,46,{"$f":"VLOOKUP(M166,DFL!A:H,8,0)","v":0.18},{"$f":"P166-(P166/1.0025)","v":9.8129675810469053E-2},39.35]
[{"$error":"#N/A"},null,null,null,null,411716,"BSD","BSD","CT","PLATE,SOLO,BARE,PFTPK,6\",500CT",null,166.26,18,{"$f":"VLOOKUP(M167,DFL!A:E,5,0)","v":0.55000000000000004},{"$f":"P167-(P167/1.0025)","v":0.18658354114712949},74.819999999999993]
[{"$error":"#N/A"},null,null,null,null,9431656,null,"SPR","EA"," CHAIR RADLEY TASK NEW BLUE",null,221.09,48,{"$f":"VLOOKUP(M168,DFL!A:H,8,0)","v":0.3},{"$f":"P168-(P168/1.0025)","v":0.38593516209476775},154.76]
[{"$error":"#N/A"},null,null,null,null,504893,"SPR","SPR","EA","SHELVING,WIRE,INDUS,36X18"," ",241,38,{"$f":"VLOOKUP(M169,DFL!A:H,8,0)","v":0.36},{"$f":"P169-(P169/1.0025)","v":0.38463840399001015},154.24]
[{"$error":"#N/A"},null,null,null,null,382858,null,"SPR","EA","TONER,6700,STD CAP,CN"," ",322.17,43,{"$f":"VLOOKUP(M170,DFL!A:H,8,0)","v":0.3},{"$f":"P170-(P170/1.0025)","v":0.56239401496259234},225.52]
[{"$error":"#N/A"},null,null,null,null,8185229,"SPR","SPR","EA","BOARD,AYDA,STEEL,18X24",null,49.85,10,{"$f":"VLOOKUP(M171,DFL!A:H,8,0)","v":0.36},{"$f":"P171-(P171/1.0025)","v":7.9551122194512658E-2},31.9]
[{"$error":"#N/A"},null,null,null,null,912752,null,"SPR","PK","CARD;IDX;HALF3X2.5200CTAST",null,3.2,35,{"$f":"VLOOKUP(M172,DFL!A:H,8,0)","v":0.6},{"$f":"P172-(P172/1.0025)","v":3.192019950124525E-3},1.28]
[{"$error":"#N/A"},null,null,null,null,5823312,"SPR","SPR","EA","COFFEE;SS;CAN;27OZ",null,37.770000000000003,48,{"$f":"VLOOKUP(M173,DFL!A:H,8,0)","v":0.3},{"$f":"P173-(P173/1.0025)","v":6.5935162094760358E-2},26.44]
[{"$error":"#N/A"},null,null,null,null,677674,"SPR","SPR","EA"," REFILL UND 3.5X6 PLASTICBASE"," ",37.81,11,{"$f":"VLOOKUP(M174,DFL!A:H,8,0)","v":0.46},{"$f":"P174-(P174/1.0025)","v":5.0922693266830521E-2},20.420000000000002]
[{"$error":"#N/A"},null,null,null,null,644982,"SPR","SPR","EA"," ERASABLE UND 24X36 WALLMATE"," ",47.19,11,{"$f":"VLOOKUP(M175,DFL!A:H,8,0)","v":0.46},{"$f":"P175-(P175/1.0025)","v":6.3541147132166742E-2},25.48]
[{"$error":"#N/A"},null,null,null,null,8835375,null,"SPR","EA","Serta¬Æ Smart Layers‚Ñ¢ Hensley Big And Tall Ergonomic Bonded Leather High-Back Chair, Dark Gray/Silver",null,649.99,48,{"$f":"VLOOKUP(M176,DFL!A:H,8,0)","v":0.3},{"$f":"P176-(P176/1.0025)","v":1.1346384039899817},454.99]
[{"$error":"#N/A"},null,null,null,null,1285858,null,"SPR","EA","MASTERVISION ALL-PURPOSE PLANN",null,822.23,48,{"$f":"VLOOKUP(M177,DFL!A:H,8,0)","v":0.3},{"$f":"P177-(P177/1.0025)","v":1.4353117206982233},575.55999999999995]
[{"$error":"#N/A"},null,null,null,null,540046,"SPR","SPR","ST","BRUSH;PAINT;STUBBY;FLT;10CT",null,10.39,47,{"$f":"VLOOKUP(M178,DFL!A:H,8,0)","v":0.5},{"$f":"P178-(P178/1.0025)","v":1.2967581047381493E-2},5.2]
[{"$error":"#N/A"},null,null,null,null,197023,"BSD","BSD","CT","TAPE,PKG,1.88X54.7YD,4/CT"," ",173.71,39,{"$f":"VLOOKUP(M179,DFL!A:E,5,0)","v":0.6},{"$f":"P179-(P179/1.0025)","v":0.17326683291770451},69.48]
[{"$error":"#N/A"},null,null,null,null,311266,null,"SPR","EA","STAMP,DATE,6-YR,SIZE 2"," ",8.9499999999999993,24,{"$f":"VLOOKUP(M180,DFL!A:H,8,0)","v":0.55000000000000004},{"$f":"P180-(P180/1.0025)","v":1.0049875311720413E-2},4.03]
[{"$error":"#N/A"},null,null,null,null,2820705,null,"SPR","PK","SCISSORS,RECYCLED,8\",2PK,BLK",null,17.989999999999998,7,{"$f":"VLOOKUP(M181,DFL!A:H,8,0)","v":0.46},{"$f":"P181-(P181/1.0025)","v":2.4214463840397826E-2},9.7100000000000009]
[{"$error":"#N/A"},null,null,null,null,304556,null,"SPR","EA","SERTA,SL,AIR,ARLINGTON,EXEC,CH"," ",500.99,48,{"$f":"VLOOKUP(M182,DFL!A:H,8,0)","v":0.3},{"$f":"P182-(P182/1.0025)","v":0.87453865336658509},350.69]
[{"$error":"#N/A"},null,null,null,null,7259225,"BSD","BSD","PK","CUP,COLD,PLA,GRNSTRP,12OZ",null,21.272807745504839,18,{"$f":"VLOOKUP(M183,DFL!A:E,5,0)","v":0.55000000000000004},{"$f":"P183-(P183/1.0025)","v":2.3865336658353442E-2},9.57]
[{"$error":"#N/A"},null,null,null,null,1249003,"BSD","BSD","CT","CUP,COLD,PLA,GRNSTRP,12OZ",null,425.72112656563564,18,{"$f":"VLOOKUP(M184,DFL!A:E,5,0)","v":0.55000000000000004},{"$f":"P184-(P184/1.0025)","v":0.47773067331669949},191.57]
[{"$error":"#N/A"},null,null,null,null,662238,"SPR","SPR","CT","CUP,COMPOSTABLE,STBE,1000CA","EPP (eVine),BPI Certified compostable, USDA certified biobased,BPI,USDA BIO",196.48,18,{"$f":"VLOOKUP(M185,DFL!A:H,8,0)","v":0.44},{"$f":"P185-(P185/1.0025)","v":0.27438902743141114},110.03]
[{"$error":"#N/A"},null,null,null,null,1253422,"SPR","SPR","CT","LID,HOT CUP,10-20 OZ,CLR,800CA","EPP (eVine),Made from 100% renewable resources, BPI Certified Compostable, USDA Certified Biobased ,BPI,USDA BIO",214.88,18,{"$f":"VLOOKUP(M186,DFL!A:H,8,0)","v":0.44},{"$f":"P186-(P186/1.0025)","v":0.30007481296757987},120.33]
[{"$error":"#N/A"},null,null,null,null,742020,"SPR","SPR","CA","CUP,COMPOSTABLE HOT,MGN,1000CA"," ",230.45,18,{"$f":"VLOOKUP(M187,DFL!A:H,8,0)","v":0.44},{"$f":"P187-(P187/1.0025)","v":0.32182044887778716},129.05000000000001]
[{"$error":"#N/A"},null,null,null,null,1250533,"SPR","SPR","CT","ECOGRIP HOT CUP SLEEVE 1300CA",null,179.88,18,{"$f":"VLOOKUP(M188,DFL!A:H,8,0)","v":0.44},{"$f":"P188-(P188/1.0025)","v":0.25119700748129503},100.73]
[{"$error":"#N/A"},null,null,null,null,161108,"BSD","BSD","CA","KNIFE;COMPOST;6\";WH",null,178.41,18,{"$f":"VLOOKUP(M189,DFL!A:E,5,0)","v":0.55000000000000004},{"$f":"P189-(P189/1.0025)","v":0.20019950124688535},80.28]
[{"$error":"#N/A"},null,null,null,null,968022,"SPR","SPR","EA","SHELVING,WIRE,48X24X72"," ",305,38,{"$f":"VLOOKUP(M190,DFL!A:H,8,0)","v":0.36},{"$f":"P190-(P190/1.0025)","v":0.48678304239399495},195.2]
[{"$error":"#N/A"},null,null,null,null,9738588,null,"SPR","EA","ROUTER,WIFI6,MESH,AX1800",null,139.99,48,{"$f":"VLOOKUP(M191,DFL!A:H,8,0)","v":0.3},{"$f":"P191-(P191/1.0025)","v":0.24436408977555857},97.99]
[4.3099999999999996,null,null,null,null,760034,"BSD","BSD","EA","WIPES,LYS,DISIN,MRNGBRZ,80CT"," ",9.15,19,{"$f":"VLOOKUP(M192,DFL!A:E,5,0)","v":0.5},{"$f":"P192-(P192/1.0025)","v":1.1421446384039413E-2},4.58]
[4.3099999999999996,null,null,null,null,760043,"BSD","BSD","EA","WIPES,LYSL,CRSPLIN,80CT"," ",9.15,19,{"$f":"VLOOKUP(M193,DFL!A:E,5,0)","v":0.5},{"$f":"P193-(P193/1.0025)","v":1.1421446384039413E-2},4.58]
[4.62,null,null,null,null,9788119,"SPR","SPR","EA","WIPES,BRAND NEW DAY,80CT",null,10.18,19,{"$f":"VLOOKUP(M194,DFL!A:H,8,0)","v":0.45},{"$f":"P194-(P194/1.0025)","v":1.3965087281794908E-2},{"$f":"ROUND(L194*(1-N194),2)","v":5.6}]
[28.55,null,null,null,null,790211,"SPR","SPR","CT","WIPES,DISINF,EARLY MORNING",null,61.08,19,{"$f":"VLOOKUP(M195,DFL!A:H,8,0)","v":0.45},{"$f":"P195-(P195/1.0025)","v":8.3765586034914463E-2},33.590000000000003]
[27.73,null,null,null,null,692789,"SPR","SPR","CT","WIPES,DISINF,CRSPLIN",null,61.08,19,{"$f":"VLOOKUP(M196,DFL!A:H,8,0)","v":0.45},{"$f":"P196-(P196/1.0025)","v":8.3765586034914463E-2},33.590000000000003]
[27.73,null,null,null,null,9028443,"SPR","SPR","CT","WIPES,BRAND NEW DAY,80CT",null,61.08,19,{"$f":"VLOOKUP(M197,DFL!A:H,8,0)","v":0.45},{"$f":"P197-(P197/1.0025)","v":8.3765586034914463E-2},33.590000000000003]
[{"$error":"#N/A"},null,null,null,null,225421,null,"SPR","EA","HL-L6300DW LASER PRINTER"," ",779.99,48,{"$f":"VLOOKUP(M198,DFL!A:H,8,0)","v":0.3},{"$f":"P198-(P198/1.0025)","v":1.3615710723191796},545.99]
[{"$error":"#N/A"},null,null,null,null,8511758,null,"SPR","EA","BILL COUNTER,VALUE COUNTING",null,299.99,48,{"$f":"VLOOKUP(M199,DFL!A:H,8,0)","v":0.3},{"$f":"P199-(P199/1.0025)","v":0.52366583541146383},209.99]
[{"$error":"#N/A"},null,null,null,null,462310,"BSD","BSD","EA"," COFFEE STRBCKS FRNCH RST 24BX",null,44.41,48,{"$f":"VLOOKUP(M200,DFL!A:E,5,0)","v":0.42},{"$f":"P200-(P200/1.0025)","v":6.4239401496259063E-2},25.76]
[{"$error":"#N/A"},null,null,null,null,504758,"SPR","SPR","EA","SHELVING,WIRE,INDUS,48X18"," ",277,38,{"$f":"VLOOKUP(M201,DFL!A:H,8,0)","v":0.36},{"$f":"P201-(P201/1.0025)","v":0.44209476309225693},177.28]
[{"$error":"#N/A"},null,null,null,null,7391635,null,"SPR","EA","SHAQ,ZETHUS,EXE,CHAIR,BRW",null,701.39,48,{"$f":"VLOOKUP(M202,DFL!A:H,8,0)","v":0.3},{"$f":"P202-(P202/1.0025)","v":1.2243640897755199},490.97]
[{"$error":"#N/A"},null,null,null,null,201298,"SPR","SPR","EA","LEVER,STOREROOM,HEAVY DUTY"," ",116.62,22,{"$f":"VLOOKUP(M203,DFL!A:H,8,0)","v":0.41},{"$f":"P203-(P203/1.0025)","v":0.17159600997506175},68.81]
[{"$error":"#N/A"},null,null,null,null,170002,"BSD","BSD","EA","LOGITECH USB HEADSET STEREO H6",null,74.989999999999995,23,{"$f":"VLOOKUP(M204,DFL!A:E,5,0)","v":0.37},{"$f":"P204-(P204/1.0025)","v":0.11780548628428988},47.24]
[{"$error":"#N/A"},null,null,null,null,9780875,null,"SPR","EA","Serta¬Æ Smart Layers‚Ñ¢ Arlington AIR‚Ñ¢ Ergonomic Bonded Leather High-Back Executive Chair, Brown/Silver",null,499.99,48,{"$f":"VLOOKUP(M205,DFL!A:H,8,0)","v":0.3},{"$f":"P205-(P205/1.0025)","v":0.8727930174563312},349.99]
[{"$error":"#N/A"},null,null,null,null,861348,"SPR","SPR","EA","PROCART,SIDE GATES,HINGED"," ",870.13,13,{"$f":"VLOOKUP(M206,DFL!A:H,8,0)","v":0.32},{"$f":"P206-(P206/1.0025)","v":1.4755361596010061},591.69000000000005]
[{"$error":"#N/A"},null,null,null,null,9933361,null,"SPR","EA","STOOL,PLAS BK,UPH SEAT,OE",null,253,48,{"$f":"VLOOKUP(M207,DFL!A:H,8,0)","v":0.3},{"$f":"P207-(P207/1.0025)","v":0.44164588528676063},177.1]
[{"$error":"#N/A"},null,null,null,null,8283461,"BSD","BSD","EA","Poly Sync 20 Portable Speakerphone for Microsoft Teams, USB-A, Bluetooth for Smartphone, Microphone, Battery Black, Silver - USB - Microphone - USB, Battery - Desktop - Black, Silver",null,141.94999999999999,29,{"$f":"VLOOKUP(M208,DFL!A:E,5,0)","v":0.43},{"$f":"P208-(P208/1.0025)","v":0.20177057356607975},80.91]
[{"$error":"#N/A"},null,null,null,null,4804249,"BSD","BSD","EA","Poly Sync 20 Portable Speakerphone for Microsoft Teams, USB-C, Bluetooth for Smartphone, Microphone, Battery Black, Silver - USB - Microphone - USB, Battery - Desktop",null,141.94999999999999,29,{"$f":"VLOOKUP(M209,DFL!A:E,5,0)","v":0.43},{"$f":"P209-(P209/1.0025)","v":0.20177057356607975},80.91]
[{"$error":"#N/A"},null,null,null,null,752342,null,"SPR","EA"," USB 2.0 32GB 2pk",null,33.979999999999997,46,{"$f":"VLOOKUP(M210,DFL!A:H,8,0)","v":0.18},{"$f":"P210-(P210/1.0025)","v":6.9476309226931932E-2},27.86]
[{"$error":"#N/A"},null,null,null,null,6551010,null,"SPR","EA","BRIEFCASE, VOYAGE, GRAY",null,108.75,14,{"$f":"VLOOKUP(M211,DFL!A:H,8,0)","v":0.31},{"$f":"P211-(P211/1.0025)","v":0.18713216957605994},75.040000000000006]
[{"$error":"#N/A"},null,null,null,null,6423234,"BSD","BSD","EA","Poly Sync 20+ for Microsoft Teams Portable Speakerphone, USB-A, Bluetooth for Smartphone , PC Connect via BT600 Bluetooth adapter - USB - Microphone - USB, Battery - Desktop - Black, Silver",null,167.95,29,{"$f":"VLOOKUP(M212,DFL!A:E,5,0)","v":0.43},{"$f":"P212-(P212/1.0025)","v":0.23872817955111714},95.73]
[{"$error":"#N/A"},null,null,null,null,6897254,"BSD","BSD","EA","Poly Sync 20+ for Microsoft Teams Portable Speakerphone, USB-C, Bluetooth for Smartphone , PC Connect via BT600C Bluetooth adapter - USB - Microphone - USB, Battery - Desktop - Black, Silver",null,167.95,29,{"$f":"VLOOKUP(M213,DFL!A:E,5,0)","v":0.43},{"$f":"P213-(P213/1.0025)","v":0.23872817955111714},95.73]
[{"$error":"#N/A"},null,null,null,null,6834937,"BSD","BSD","EA","MY PSSPRT FOR MAC,2019,2TB,BLU",null,83.99,46,{"$f":"VLOOKUP(M214,DFL!A:E,5,0)","v":0.35},{"$f":"P214-(P214/1.0025)","v":0.13613466334164315},54.59]
[{"$error":"#N/A"},null,null,null,null,793397,"SPR","SPR","EA","STAPLER,SPEEDPRO,ELEC,45",null,220.81,37,{"$f":"VLOOKUP(M215,DFL!A:H,8,0)","v":0.5},{"$f":"P215-(P215/1.0025)","v":0.27533665835410659},110.41]
[{"$error":"#N/A"},null,null,null,null,541795,null,"SPR","EA","BOARD,PORCELAIN,4X6,MST VSN",null,965.25,10,{"$f":"VLOOKUP(M216,DFL!A:H,8,0)","v":0.36},{"$f":"P216-(P216/1.0025)","v":1.5405486284289509},617.76]
[{"$error":"#N/A"},null,null,null,null,141667,"SPR","SPR","EA","RECEPTACLE;RECYCLE;BL/BU",null,48,31,{"$f":"VLOOKUP(M217,DFL!A:H,8,0)","v":0.49},{"$f":"P217-(P217/1.0025)","v":6.1047381546131874E-2},24.48]
[{"$error":"#N/A"},null,null,null,null,421485,null,"SPR","CA","KNIFE,6\", MED WEIGHT,CM,1000CA"," ",157.16,18,{"$f":"VLOOKUP(M218,DFL!A:H,8,0)","v":0.44},{"$f":"P218-(P218/1.0025)","v":0.21947630922693406},88.01]
[{"$error":"#N/A"},null,null,null,null,747280,null,"SPR","BX","FOOD,CEREAL,RSN BRAN CORN"," ",14.77,48,{"$f":"VLOOKUP(M219,DFL!A:H,8,0)","v":0.3},{"$f":"P219-(P219/1.0025)","v":2.5785536159601108E-2},10.34]
[{"$error":"#N/A"},null,null,null,null,113048,"SPR","SPR","EA","RACK,WIRE,4-TIER,36X18,BK"," ",209,48,{"$f":"VLOOKUP(M220,DFL!A:H,8,0)","v":0.3},{"$f":"P220-(P220/1.0025)","v":0.36483790523689663},146.30000000000001]
[{"$error":"#N/A"},null,null,null,null,196945,"BSD","BSD","EA","BROTHER\" INTELLIFAX\" 2940 LASE"," ",499.99,48,{"$f":"VLOOKUP(M221,DFL!A:E,5,0)","v":0.42},{"$f":"P221-(P221/1.0025)","v":0.72316708229425331},289.99]
[{"$error":"#N/A"},null,null,null,null,713235,"SPR","SPR","EA","WASTEBASKET,MEDIUM,ROUND,MESH"," ",39,31,{"$f":"VLOOKUP(M222,DFL!A:H,8,0)","v":0.49},{"$f":"P222-(P222/1.0025)","v":4.9600997506232147E-2},19.89]
[{"$error":"#N/A"},null,null,null,null,212363,"SPR","SPR","EA","SUPPORT,CORNER,FOR HUTCH"," ",162,48,{"$f":"VLOOKUP(M223,DFL!A:H,8,0)","v":0.3},{"$f":"P223-(P223/1.0025)","v":0.28279301745635621},113.4]
[{"$error":"#N/A"},null,null,null,null,604275,"SPR","SPR","EA","RECEPTACLE,MESH,LARGE"," ",56,48,{"$f":"VLOOKUP(M224,DFL!A:H,8,0)","v":0.3},{"$f":"P224-(P224/1.0025)","v":9.7755610972569684E-2},39.200000000000003]
[{"$error":"#N/A"},null,null,null,null,395825,"SPR","SPR","EA","BOOKCASE,QUARTER ROUND"," ",321,9,{"$f":"VLOOKUP(M225,DFL!A:H,8,0)","v":0.37},{"$f":"P225-(P225/1.0025)","v":0.50431421446381819},202.23]
[{"$error":"#N/A"},null,null,null,null,907231,"SPR","SPR","EA","SHELVING,48X24,STARTER,BK"," ",530,38,{"$f":"VLOOKUP(M226,DFL!A:H,8,0)","v":0.36},{"$f":"P226-(P226/1.0025)","v":0.845885286783016},339.2]
[{"$error":"#N/A"},null,null,null,null,402711,"SPR","SPR","EA","SHELVING,IND.WIRE,STARTER UNIT"," ",491,38,{"$f":"VLOOKUP(M227,DFL!A:H,8,0)","v":0.36},{"$f":"P227-(P227/1.0025)","v":0.78364089775561752},314.24]
[{"$error":"#N/A"},null,null,null,null,377909,"SPR","SPR","EA","CREDENZA,72\""," ",650,48,{"$f":"VLOOKUP(M228,DFL!A:H,8,0)","v":0.3},{"$f":"P228-(P228/1.0025)","v":1.1346633416458758},455]
[{"$error":"#N/A"},null,null,null,null,141694,"SPR","SPR","EA","RECEPTACLE,RECYCLING,SS"," ",848,48,{"$f":"VLOOKUP(M229,DFL!A:H,8,0)","v":0.3},{"$f":"P229-(P229/1.0025)","v":1.4802992518702922},593.6]
[{"$error":"#N/A"},null,null,null,null,217668,"SPR","SPR","EA","HUTCH,63\""," ",1029,48,{"$f":"VLOOKUP(M230,DFL!A:H,8,0)","v":0.3},{"$f":"P230-(P230/1.0025)","v":1.7962593516209608},720.3]
[{"$error":"#N/A"},null,null,null,null,205493,"SPR","SPR","EA","EXTENSION,DESK,CURVED,RIGHT"," ",605,48,{"$f":"VLOOKUP(M231,DFL!A:H,8,0)","v":0.3},{"$f":"P231-(P231/1.0025)","v":1.0561097256857579},423.5]
[{"$error":"#N/A"},null,null,null,null,398909,"SPR","SPR","EA","EXTENSION,DESK,CURVED,LEFT"," ",605,48,{"$f":"VLOOKUP(M232,DFL!A:H,8,0)","v":0.3},{"$f":"P232-(P232/1.0025)","v":1.0561097256857579},423.5]
[{"$error":"#N/A"},null,null,null,null,804365,"SPR","SPR","EA","PEDESTAL,MOBILE,F/F"," ",605,48,{"$f":"VLOOKUP(M233,DFL!A:H,8,0)","v":0.3},{"$f":"P233-(P233/1.0025)","v":1.0561097256857579},423.5]
[{"$error":"#N/A"},null,null,null,null,971909,"SPR","SPR","EA","PEDESTAL,MOBILE,B/B/F"," ",656,48,{"$f":"VLOOKUP(M234,DFL!A:H,8,0)","v":0.3},{"$f":"P234-(P234/1.0025)","v":1.1451371571072286},459.2]
[{"$error":"#N/A"},null,null,null,null,607987,"SPR","SPR","EA","TABLETOP,CONF,8'"," ",1188,48,{"$f":"VLOOKUP(M235,DFL!A:H,8,0)","v":0.3},{"$f":"P235-(P235/1.0025)","v":2.0738154613466122},831.6]
[{"$error":"#N/A"},null,null,null,null,240423,"SPR","SPR","EA","LOCKER,DOUBLE TIER,3 COLUMN"," ",1330,38,{"$f":"VLOOKUP(M236,DFL!A:H,8,0)","v":0.36},{"$f":"P236-(P236/1.0025)","v":2.1226932668329255},851.2]
[{"$error":"#N/A"},null,null,null,null,393513,null,"SPR","EA","LOCKER,DOUBLE TIER,3 WIDE"," ",1330,38,{"$f":"VLOOKUP(M237,DFL!A:H,8,0)","v":0.36},{"$f":"P237-(P237/1.0025)","v":2.1226932668329255},851.2]
[{"$error":"#N/A"},null,null,null,null,387503,"SPR","SPR","EA","TOP,DESK,CURVED,72\""," ",589,48,{"$f":"VLOOKUP(M238,DFL!A:H,8,0)","v":0.3},{"$f":"P238-(P238/1.0025)","v":1.0281795511221503},412.3]
[{"$error":"#N/A"},null,null,null,null,792511,"SPR","SPR","EA","BOARD,PRESENTATION"," ",1031,10,{"$f":"VLOOKUP(M239,DFL!A:H,8,0)","v":0.36},{"$f":"P239-(P239/1.0025)","v":1.6454862842892908},659.84]
[{"$error":"#N/A"},null,null,null,null,280511,null,"SPR","EA","BOOKCASE,5 SHELF"," ",873,9,{"$f":"VLOOKUP(M240,DFL!A:H,8,0)","v":0.37},{"$f":"P240-(P240/1.0025)","v":1.3715461346632765},549.99]
[{"$error":"#N/A"},null,null,null,null,155747,null,"SPR","EA","BASE,TABLE,CONFERENCE"," ",448,48,{"$f":"VLOOKUP(M241,DFL!A:H,8,0)","v":0.3},{"$f":"P241-(P241/1.0025)","v":0.78204488778055747},313.60000000000002]
[{"$error":"#N/A"},null,null,null,null,240450,"SPR","SPR","EA","LOCKER,BOX,3 COLUMN","EPP (eVine),Greenguard",1447,38,{"$f":"VLOOKUP(M242,DFL!A:H,8,0)","v":0.36},{"$f":"P242-(P242/1.0025)","v":2.3094264339151778},926.08]
[{"$error":"#N/A"},null,null,null,null,393522,null,"SPR","EA","LOCKERS,BOX,BANK OF 3","EPP (eVine),Greenguard",1447,38,{"$f":"VLOOKUP(M243,DFL!A:H,8,0)","v":0.36},{"$f":"P243-(P243/1.0025)","v":2.3094264339151778},926.08]
[{"$error":"#N/A"},null,null,null,null,352213,"SPR","SPR","EA","SCREEN,IMPROMPTU,WHITEBOARD","Greenguard",738,48,{"$f":"VLOOKUP(M244,DFL!A:H,8,0)","v":0.3},{"$f":"P244-(P244/1.0025)","v":1.2882793017456606},516.6]
[{"$error":"#N/A"},null,null,null,null,352222,"SPR","SPR","EA","SCREEN,IMPROMPTU,WHITEBOARD","Greenguard",738,48,{"$f":"VLOOKUP(M245,DFL!A:H,8,0)","v":0.3},{"$f":"P245-(P245/1.0025)","v":1.2882793017456606},516.6]
[{"$error":"#N/A"},null,null,null,null,512587,"SPR","SPR","EA","HUTCH,72\""," ",1198,48,{"$f":"VLOOKUP(M246,DFL!A:H,8,0)","v":0.3},{"$f":"P246-(P246/1.0025)","v":2.0912718204488101},838.6]
[{"$error":"#N/A"},null,null,null,null,364421,"SPR","SPR","EA","BASE,DESK"," ",409,48,{"$f":"VLOOKUP(M247,DFL!A:H,8,0)","v":0.3},{"$f":"P247-(P247/1.0025)","v":0.71396508728179242},286.3]
[{"$error":"#N/A"},null,null,null,null,326946,null,"SPR","EA","LED STRIP"," ",69.989999999999995,16,{"$f":"VLOOKUP(M248,DFL!A:H,8,0)","v":0.36},{"$f":"P248-(P248/1.0025)","v":0.11169576059850073},44.79]
[{"$error":"#N/A"},null,null,null,null,9037093,null,"SPR","EA","Realspace‚Ñ¢ Brevins LED Desk Lamp With Wireless Charger And USB Port, 20-1/2\"H, Black",null,89.99,16,{"$f":"VLOOKUP(M249,DFL!A:H,8,0)","v":0.36},{"$f":"P249-(P249/1.0025)","v":0.1436159600997442},57.59]
[{"$error":"#N/A"},null,null,null,null,9513175,null,"SPR","EA","Realspace¬Æ Pressler LED Desk/Clip Combination Lamp with USB Charging Port, 16-9/16\"H, Black",null,69.989999999999995,16,{"$f":"VLOOKUP(M250,DFL!A:H,8,0)","v":0.36},{"$f":"P250-(P250/1.0025)","v":0.11169576059850073},44.79]
[{"$error":"#N/A"},null,null,null,null,103404,"SPR","SPR","EA","RETURN,PEDESTAL"," ",688,48,{"$f":"VLOOKUP(M251,DFL!A:H,8,0)","v":0.3},{"$f":"P251-(P251/1.0025)","v":1.2009975062343869},481.6]
[{"$error":"#N/A"},null,null,null,null,169525,"SPR","SPR","EA","RECEPTACLE,SIDE-OPEN,AGGR PANL","EPP (eVine),Greenguard",876,31,{"$f":"VLOOKUP(M252,DFL!A:H,8,0)","v":0.49},{"$f":"P252-(P252/1.0025)","v":1.1141147132169067},446.76]
[{"$error":"#N/A"},null,null,null,null,9043329,null,"SPR","EA","Realspace‚Ñ¢ Trazio LED Architect Task Lamp, 20\"H, Black",null,59.99,16,{"$f":"VLOOKUP(M253,DFL!A:H,8,0)","v":0.36},{"$f":"P253-(P253/1.0025)","v":9.5735660847878989E-2},38.39]
[{"$error":"#N/A"},null,null,null,null,8602592,null,"SPR","EA","Realspace‚Ñ¢ Trazio LED Architect Task Lamp, 20\"H, Gray",null,59.99,16,{"$f":"VLOOKUP(M254,DFL!A:H,8,0)","v":0.36},{"$f":"P254-(P254/1.0025)","v":9.5735660847878989E-2},38.39]
[{"$error":"#N/A"},null,null,null,null,240342,"SPR","SPR","EA","LOCKER,STEEL,SIX,TIER,BOX","EPP (eVine),Greenguard",575,38,{"$f":"VLOOKUP(M255,DFL!A:H,8,0)","v":0.36},{"$f":"P255-(P255/1.0025)","v":0.91770573566083158},368]
[{"$error":"#N/A"},null,null,null,null,758092,"SPR","SPR","EA","CHAIR,EXTENDED HT VIN,BK",null,484,48,{"$f":"VLOOKUP(M256,DFL!A:H,8,0)","v":0.3},{"$f":"P256-(P256/1.0025)","v":0.84488778054861768},338.8]
[{"$error":"#N/A"},null,null,null,null,136566,"SPR","SPR","EA","CHAIR,MESH,EXT HEIGHT,VUE,BLK"," ",484,48,{"$f":"VLOOKUP(M257,DFL!A:H,8,0)","v":0.3},{"$f":"P257-(P257/1.0025)","v":0.84488778054861768},338.8]
[{"$error":"#N/A"},null,null,null,null,589442,"SPR","SPR","EA","BRIDGE,LEFT CURVED"," ",502,48,{"$f":"VLOOKUP(M258,DFL!A:H,8,0)","v":0.3},{"$f":"P258-(P258/1.0025)","v":0.87630922693267621},{"$f":"ROUND(L258*(1-N258),2)","v":351.4}]
[{"$error":"#N/A"},null,null,null,null,764337,"SPR","SPR","EA","BRIDGE,RIGHT CURVED"," ",502,48,{"$f":"VLOOKUP(M259,DFL!A:H,8,0)","v":0.3},{"$f":"P259-(P259/1.0025)","v":0.87630922693267621},351.4]
[{"$error":"#N/A"},null,null,null,null,974370,"SPR","SPR","EA","SHELVING,WIRE,4-SHELF"," ",320,48,{"$f":"VLOOKUP(M260,DFL!A:H,8,0)","v":0.3},{"$f":"P260-(P260/1.0025)","v":0.55860349127181053},224]
[{"$error":"#N/A"},null,null,null,null,430002,null,"SPR","EA","ARMS,LOOP,FOR VUE EXTD HT CHR"," ",109,48,{"$f":"VLOOKUP(M261,DFL!A:H,8,0)","v":0.3},{"$f":"P261-(P261/1.0025)","v":0.19027431421446295},76.3]
[{"$error":"#N/A"},null,null,null,null,562305,"SPR","SPR","EA","STAPLER,BUS,747,SWINGLINE,BLK"," ",49.81,37,{"$f":"VLOOKUP(M262,DFL!A:H,8,0)","v":0.5},{"$f":"P262-(P262/1.0025)","v":6.2119700748127116E-2},24.91]
[{"$error":"#N/A"},null,null,null,null,967428,"SPR","SPR","EA","TABLE,FLDNG,24\"X48\",MY"," ",249,48,{"$f":"VLOOKUP(M263,DFL!A:H,8,0)","v":0.3},{"$f":"P263-(P263/1.0025)","v":0.43466334164588716},174.3]
[{"$error":"#N/A"},null,null,null,null,8182384,"SPR","SPR","EA","BOARD,AYDA,PORC,18X24",null,79.150000000000006,10,{"$f":"VLOOKUP(M264,DFL!A:H,8,0)","v":0.36},{"$f":"P264-(P264/1.0025)","v":0.12633416458852764},50.66]
[{"$error":"#N/A"},null,null,null,null,6743659,null,"SPR","EA","512GB VI560 SATA III M.2 2280",null,59.99,46,{"$f":"VLOOKUP(M265,DFL!A:H,8,0)","v":0.18},{"$f":"P265-(P265/1.0025)","v":0.12266832917705273},49.19]
[{"$error":"#N/A"},null,null,null,null,7568392,null,"SPR","EA","Serta¬Æ Smart Layers‚Ñ¢ Jennings Big And Tall Ergonomic Bonded Leather High-Back Executive Chair, Dark Gray/Silver",null,599.99,48,{"$f":"VLOOKUP(M266,DFL!A:H,8,0)","v":0.3},{"$f":"P266-(P266/1.0025)","v":1.0473566084787649},419.99]
[{"$error":"#N/A"},null,null,null,null,457563,"BSD","BSD","EA"," COFFEE STRBCKS BRK BLND 24BX",null,45.88,48,{"$f":"VLOOKUP(M267,DFL!A:E,5,0)","v":0.42},{"$f":"P267-(P267/1.0025)","v":6.6359102244387458E-2},26.61]
[{"$error":"#N/A"},null,null,null,null,204945,null,"SPR","DZ","VEST;HEAVY WT;PINNIE;GD",null,47.44,22,{"$f":"VLOOKUP(M268,DFL!A:H,8,0)","v":0.41},{"$f":"P268-(P268/1.0025)","v":6.9800498753114226E-2},27.99]
[{"$error":"#N/A"},null,null,null,null,990200,null,"SPR","PK","TAB,FOLDER,HANG,PLAS,1/5,GREEN",null,9.4,35,{"$f":"VLOOKUP(M269,DFL!A:H,8,0)","v":0.6},{"$f":"P269-(P269/1.0025)","v":9.3765586034910697E-3},3.76]
[{"$error":"#N/A"},null,null,null,null,7113696,null,"SPR","EA","SIT-STAND RISER 28 INCH MAHGNY",null,139.99,48,{"$f":"VLOOKUP(M270,DFL!A:H,8,0)","v":0.3},{"$f":"P270-(P270/1.0025)","v":0.24436408977555857},97.99]
[{"$error":"#N/A"},null,null,null,null,5508305,"BSD","BSD","EA","POWERLITE 1795F 3LCD PROJ 3200",null,1049.99,48,{"$f":"VLOOKUP(M271,DFL!A:E,5,0)","v":0.42},{"$f":"P271-(P271/1.0025)","v":1.5186783042394154},608.99]
[{"$error":"#N/A"},null,null,null,null,326307,null,"SPR","EA","NAUTILUS BRUSHED STEEL"," ",129.99,16,{"$f":"VLOOKUP(M272,DFL!A:H,8,0)","v":0.36},{"$f":"P272-(P272/1.0025)","v":0.20745635910223825},83.19]
[{"$error":"#N/A"},null,null,null,null,4894666,null,"SPR","EA","WORKFORCE PRO WF-M5799",null,309,48,{"$f":"VLOOKUP(M273,DFL!A:H,8,0)","v":0.3},{"$f":"P273-(P273/1.0025)","v":0.53940149625933032},216.3]
[{"$error":"#N/A"},null,null,null,null,9976852,"SPR","SPR","EA","CHAIR,MIDBACK, SWIVEL TILT"," ",407,48,{"$f":"VLOOKUP(M274,DFL!A:H,8,0)","v":0.3},{"$f":"P274-(P274/1.0025)","v":0.71047381546134147},284.89999999999998]
[{"$error":"#N/A"},null,null,null,null,404365,null,"SPR","EA","STAND,COAT,WOOD,CHERRY",null,95,36,{"$f":"VLOOKUP(M275,DFL!A:H,8,0)","v":0.36},{"$f":"P275-(P275/1.0025)","v":0.15162094763091716},60.8]
[{"$error":"#N/A"},null,null,null,null,237825,null,"SPR","EA","CHAIR,9000,QNTM,MIDBK,MSH,LIME",null,949.99,48,{"$f":"VLOOKUP(M276,DFL!A:H,8,0)","v":0.3},{"$f":"P276-(P276/1.0025)","v":1.6583291770573396},664.99]
[{"$error":"#N/A"},null,null,null,null,386988,"SPR","SPR","EA","STAPLER,OPTIMA,COMPACT"," ",51.13,37,{"$f":"VLOOKUP(M277,DFL!A:H,8,0)","v":0.5},{"$f":"P277-(P277/1.0025)","v":6.3765586034911337E-2},25.57]
[{"$error":"#N/A"},null,null,null,null,641459,null,"SPR","BX","TONER,PH7100,DUAL,YL"," ",519.35,43,{"$f":"VLOOKUP(M278,DFL!A:H,8,0)","v":0.3},{"$f":"P278-(P278/1.0025)","v":0.90660847880297979},363.55]
[{"$error":"#N/A"},null,null,null,null,230029,null,"SPR","EA","BOARD,DRY-ERS,PORCLN,4X8,AL",null,1402.99,10,{"$f":"VLOOKUP(M279,DFL!A:H,8,0)","v":0.36},{"$f":"P279-(P279/1.0025)","v":2.2391770573565282},897.91]
[{"$error":"#N/A"},null,null,null,null,8901452,"SPR","SPR","PK","CUP,COLD,PLA,GRNSTRP,16OZ",null,22.42,18,{"$f":"VLOOKUP(M280,DFL!A:H,8,0)","v":0.44},{"$f":"P280-(P280/1.0025)","v":3.1321695760597734E-2},12.56]
[{"$error":"#N/A"},null,null,null,null,1250749,"SPR","SPR","CT","CUP,COLD,PLA,GRNSTRP,16OZ",null,448.4,18,{"$f":"VLOOKUP(M281,DFL!A:H,8,0)","v":0.44},{"$f":"P281-(P281/1.0025)","v":0.626184538653348},251.1]
[{"$error":"#N/A"},null,null,null,null,9619154,null,"SPR","EA","COUNTER,BILL,BKLD,W/VLUCNT",null,279.99,48,{"$f":"VLOOKUP(M282,DFL!A:H,8,0)","v":0.3},{"$f":"P282-(P282/1.0025)","v":0.48875311720698278},195.99]
[{"$error":"#N/A"},null,null,null,null,5467093,null,"SPR","EA"," CHAIR TASK REALSPACE KIDS BLK",null,170.5,48,{"$f":"VLOOKUP(M283,DFL!A:H,8,0)","v":0.3},{"$f":"P283-(P283/1.0025)","v":0.29763092269325853},119.35]
[{"$error":"#N/A"},null,null,null,null,700556,null,"SPR","EA","BENCH;W/BACK;IN/OUTDR;WE",null,599,48,{"$f":"VLOOKUP(M284,DFL!A:H,8,0)","v":0.3},{"$f":"P284-(P284/1.0025)","v":1.0456359102244051},419.3]
[{"$error":"#N/A"},null,null,null,null,3712615,null,"SPR","EA","CRTDG,LSR,SAS CLTY506L,YW",null,161.29,44,{"$f":"VLOOKUP(M285,DFL!A:H,8,0)","v":0.5},{"$f":"P285-(P285/1.0025)","v":0.20112219451371516},80.650000000000006]
[{"$error":"#N/A"},null,null,null,null,5306484,null,"SPR","EA","CRTDG,LSR,SAS CLTM506L,MA",null,161.29,44,{"$f":"VLOOKUP(M286,DFL!A:H,8,0)","v":0.5},{"$f":"P286-(P286/1.0025)","v":0.20112219451371516},80.650000000000006]
[{"$error":"#N/A"},null,null,null,null,8143433,null,"SPR","EA","CRTDG,LSR,SAS CLTC506L,CYN",null,161.29,43,{"$f":"VLOOKUP(M287,DFL!A:H,8,0)","v":0.3},{"$f":"P287-(P287/1.0025)","v":0.28154613466332989},112.9]
[{"$error":"#N/A"},null,null,null,null,6004382,null,"SPR","EA","CRTDG,LSR,SAS CLTK506L,BK",null,173.02,44,{"$f":"VLOOKUP(M288,DFL!A:H,8,0)","v":0.5},{"$f":"P288-(P288/1.0025)","v":0.21573566084786933},86.51]
[{"$error":"#N/A"},null,null,null,null,352274,null,"SPR","EA","PRINTER,LASER,HL-L2370DW,MONO",null,199.99,48,{"$f":"VLOOKUP(M289,DFL!A:H,8,0)","v":0.3},{"$f":"P289-(P289/1.0025)","v":0.34910224438903015},139.99]
[{"$error":"#N/A"},null,null,null,null,238961,"SPR","SPR","EA","LEG,CENTER,CONF TABLE"," ",275,48,{"$f":"VLOOKUP(M290,DFL!A:H,8,0)","v":0.3},{"$f":"P290-(P290/1.0025)","v":0.48004987531172105},192.5]
[{"$error":"#N/A"},null,null,null,null,8910215,"BSD","BSD","CT","CANDY,JLLYRNCHRS,ASTD,7OZ",null,61.448741258741251,48,{"$f":"VLOOKUP(M291,DFL!A:E,5,0)","v":0.42},{"$f":"P291-(P291/1.0025)","v":8.8877805486283989E-2},35.64]
[{"$error":"#N/A"},null,null,null,null,577187,"SPR","SPR","EA","SHELL,CABINET,LOW WALL"," ",1053,38,{"$f":"VLOOKUP(M292,DFL!A:H,8,0)","v":0.36},{"$f":"P292-(P292/1.0025)","v":1.6805985037406117},673.92]
[{"$error":"#N/A"},null,null,null,null,2372694,"SPR","SPR","EA","ARM;MONITOR;DOUBLE",null,69,48,{"$f":"VLOOKUP(M293,DFL!A:H,8,0)","v":0.3},{"$f":"P293-(P293/1.0025)","v":0.12044887780548663},48.3]
[{"$error":"#N/A"},null,null,null,null,9803195,null,"SPR","EA","CHAIR,UPH,BRTRC,W/ARMS.OE",null,464,48,{"$f":"VLOOKUP(M294,DFL!A:H,8,0)","v":0.3},{"$f":"P294-(P294/1.0025)","v":0.80997506234410821},324.8]
[{"$error":"#N/A"},null,null,null,null,315669,"SPR","SPR","EA","TABLETOP,CONF,14'"," ",1233,48,{"$f":"VLOOKUP(M295,DFL!A:H,8,0)","v":0.3},{"$f":"P295-(P295/1.0025)","v":2.1523690773067301},863.1]
[{"$error":"#N/A"},null,null,null,null,825920,"SPR","SPR","EA","DOORS,CABINET,LOW WALL"," ",439,38,{"$f":"VLOOKUP(M296,DFL!A:H,8,0)","v":0.36},{"$f":"P296-(P296/1.0025)","v":0.70064837905238164},280.95999999999998]
[{"$error":"#N/A"},null,null,null,null,7791478,null,"SPR","EA","SHAQ,ZETHUS,EXE,CHAIR,BL",null,701.39,48,{"$f":"VLOOKUP(M297,DFL!A:H,8,0)","v":0.3},{"$f":"P297-(P297/1.0025)","v":1.2243640897755199},490.97]
[{"$error":"#N/A"},null,null,null,null,380363,"BSD","BSD","EA","PNY USB 2.0 Flash Drive, 32GB, Assorted Colors",null,19.920000000000002,46,{"$f":"VLOOKUP(M298,DFL!A:E,5,0)","v":0.35},{"$f":"P298-(P298/1.0025)","v":3.2294264339151724E-2},12.95]
[{"$error":"#N/A"},null,null,null,null,9736124,"BSD","BSD","EA","CRTDG,INK,BK,200 PG",null,13.99,43,{"$f":"VLOOKUP(M299,DFL!A:E,5,0)","v":0.35},{"$f":"P299-(P299/1.0025)","v":2.2668329177056634E-2},9.09]
[{"$error":"#N/A"},null,null,null,null,3370122,"BSD","BSD","EA","Logitech USB Headset Mono H650e - Mono - USB - Wired - 50 Hz - 10 kHz - Over-the-head - Monaural - Supra-aural - Noise Cancelling Microphone",null,69.989999999999995,23,{"$f":"VLOOKUP(M300,DFL!A:E,5,0)","v":0.37},{"$f":"P300-(P300/1.0025)","v":0.10995012468827525},44.09]
[{"$error":"#N/A"},null,null,null,null,7678230,null,"SPR","BX"," GAMING CHAIR(BLACK/BLUE)",null,351.04,48,{"$f":"VLOOKUP(M301,DFL!A:H,8,0)","v":0.3},{"$f":"P301-(P301/1.0025)","v":0.61279301745634029},245.73]
[{"$error":"#N/A"},null,null,null,null,7679411,null,"SPR","BX"," GAMING CHAIR(BLACK/WHITE)",null,351.04,48,{"$f":"VLOOKUP(M302,DFL!A:H,8,0)","v":0.3},{"$f":"P302-(P302/1.0025)","v":0.61279301745634029},245.73]
[{"$error":"#N/A"},null,null,null,null,7679582,null,"SPR","BX"," GAMING CHAIR(BLACK/RED)",null,351.04,48,{"$f":"VLOOKUP(M303,DFL!A:H,8,0)","v":0.3},{"$f":"P303-(P303/1.0025)","v":0.61279301745634029},245.73]
[{"$error":"#N/A"},null,null,null,null,256971,"SPR","SPR","EA","TABLETOP,CONF,12'"," ",1008,48,{"$f":"VLOOKUP(M304,DFL!A:H,8,0)","v":0.3},{"$f":"P304-(P304/1.0025)","v":1.7596009975061406},705.6]
[{"$error":"#N/A"},null,null,null,null,230687,"SPR","SPR","EA","TOP,RETURN,DESK,LEFT"," ",393,48,{"$f":"VLOOKUP(M305,DFL!A:H,8,0)","v":0.3},{"$f":"P305-(P305/1.0025)","v":0.68603491271818484},275.10000000000002]
[{"$error":"#N/A"},null,null,null,null,923189,"SPR","SPR","EA","TOP,RETURN,DESK,RIGHT"," ",393,48,{"$f":"VLOOKUP(M306,DFL!A:H,8,0)","v":0.3},{"$f":"P306-(P306/1.0025)","v":0.68603491271818484},275.10000000000002]
[{"$error":"#N/A"},null,null,null,null,199187,"SPR","SPR","EA","TABLETOP,CONF,10'"," ",768,48,{"$f":"VLOOKUP(M307,DFL!A:H,8,0)","v":0.3},{"$f":"P307-(P307/1.0025)","v":1.340648379052368},537.6]
[{"$error":"#N/A"},null,null,null,null,7298941,null,"SPR","EA","DESK,SIT-STND,ADJ,MOBILE,BK",null,726,48,{"$f":"VLOOKUP(M308,DFL!A:H,8,0)","v":0.3},{"$f":"P308-(P308/1.0025)","v":1.2673316708228981},508.2]
[{"$error":"#N/A"},null,null,null,null,876174,null,"SPR","BX","EARPLUG,LASERLITE,FOAM100CT",null,58.327852348993282,22,{"$f":"VLOOKUP(M309,DFL!A:H,8,0)","v":0.41},{"$f":"P309-(P309/1.0025)","v":8.5810473815456589E-2},34.409999999999997]
[{"$error":"#N/A"},null,null,null,null,876188,null,"SPR","BX","EARPLUG,LASERLITE,FOAM200CT",null,60.441771602257916,22,{"$f":"VLOOKUP(M310,DFL!A:H,8,0)","v":0.41},{"$f":"P310-(P310/1.0025)","v":8.8927680798001063E-2},35.659999999999997]
[{"$error":"#N/A"},null,null,null,null,9881796,"SPR","SPR","EA","MAT,ENERGIZING,MEDIUM,BK",null,110,15,{"$f":"VLOOKUP(M311,DFL!A:H,8,0)","v":0.5},{"$f":"P311-(P311/1.0025)","v":0.13715710723191421},55]
[{"$error":"#N/A"},null,null,null,null,925310,null,"SPR","EA","SCISSORS,STRAIGHT,8\",BLUE",null,9.99,7,{"$f":"VLOOKUP(M312,DFL!A:H,8,0)","v":0.46},{"$f":"P312-(P312/1.0025)","v":1.3441396508728332E-2},5.39]
[{"$error":"#N/A"},null,null,null,null,5448365,"BSD","BSD","EA","MY PASSPORT,2019,1TB,BLACK",null,65.989999999999995,46,{"$f":"VLOOKUP(M313,DFL!A:E,5,0)","v":0.35},{"$f":"P313-(P313/1.0025)","v":0.10695760598503767},42.89]
[{"$error":"#N/A"},null,null,null,null,385430,null,"SPR","EA","BOARD,WET/ERS,A-FRM,24X48,BLK"," ",464.94,10,{"$f":"VLOOKUP(M314,DFL!A:H,8,0)","v":0.36},{"$f":"P314-(P314/1.0025)","v":0.74204488778053701},297.56]
[{"$error":"#N/A"},null,null,null,null,372536,"BSD","BSD","CT","CLEANER,SOFTSCRUB W/BLCH"," ",58.52495295445992,19,{"$f":"VLOOKUP(M315,DFL!A:E,5,0)","v":0.5},{"$f":"P315-(P315/1.0025)","v":7.2967581047379326E-2},29.26]
[{"$error":"#N/A"},null,null,null,null,999662,"BSD","BSD","PK","POUCHS,LAMATING,SCOTCH,100SHTS",null,62.98,45,{"$f":"VLOOKUP(M316,DFL!A:E,5,0)","v":0.63},{"$f":"P316-(P316/1.0025)","v":5.8104738154611368E-2},23.3]
[{"$error":"#N/A"},null,null,null,null,999050,"SPR","SPR","EA","TABLE,60\",ROUND,PLATINUM"," ",504,48,{"$f":"VLOOKUP(M317,DFL!A:H,8,0)","v":0.3},{"$f":"P317-(P317/1.0025)","v":0.87980049875307031},352.8]
[{"$error":"#N/A"},null,null,null,null,928061,"SPR","SPR","EA","EASEL,EARTH,47X70",null,1192.3,10,{"$f":"VLOOKUP(M318,DFL!A:H,8,0)","v":0.36},{"$f":"P318-(P318/1.0025)","v":1.9029177057356037},763.07]
[{"$error":"#N/A"},null,null,null,null,300375,null,"SPR","PK","REFILL,BLADES,F/10-189C,5/PK"," ",2.69,25,{"$f":"VLOOKUP(M319,DFL!A:H,8,0)","v":0.49},{"$f":"P319-(P319/1.0025)","v":3.4164588528677875E-3},1.37]
[{"$error":"#N/A"},null,null,null,null,9854073,"BSD","BSD","EA","MY PSSPRT FOR MAC,2019,5TB,BLU",null,141.99,46,{"$f":"VLOOKUP(M320,DFL!A:E,5,0)","v":0.35},{"$f":"P320-(P320/1.0025)","v":0.2301496259351552},92.29]
[{"$error":"#N/A"},null,null,null,null,8680022,null,"SPR","BX","CAMERA,SECURTY,DOM,5MP,HD,2",null,89.99,21,{"$f":"VLOOKUP(M321,DFL!A:H,8,0)","v":0.28999999999999998},{"$f":"P321-(P321/1.0025)","v":0.15932668329176636},63.89]
[{"$error":"#N/A"},null,null,null,null,8185521,"SPR","SPR","EA","BOARD,AYDA,MELAMINE,24X36",null,69.83,10,{"$f":"VLOOKUP(M322,DFL!A:H,8,0)","v":0.36},{"$f":"P322-(P322/1.0025)","v":0.11144638403990115},{"$f":"ROUND(L322*(1-N322),2)","v":44.69}]
[{"$error":"#N/A"},null,null,null,null,635242,null,"SPR","EA","SCISSORS,8\" ALLPUR,BCA,PK"," ",15.64,7,{"$f":"VLOOKUP(M323,DFL!A:H,8,0)","v":0.46},{"$f":"P323-(P323/1.0025)","v":2.1072319201994816E-2},8.4499999999999993]
[{"$error":"#N/A"},null,null,null,null,8185047,"SPR","SPR","EA","BOARD,AYDA,MELAMINE,18X24",null,43.83,10,{"$f":"VLOOKUP(M324,DFL!A:H,8,0)","v":0.36},{"$f":"P324-(P324/1.0025)","v":6.9950124688276105E-2},28.05]
[{"$error":"#N/A"},null,null,null,null,901952,"BSD","BSD","BX","SCREEN;URINAL;SPCDAPL;RD",null,46.005887640449437,19,{"$f":"VLOOKUP(M325,DFL!A:E,5,0)","v":0.5},{"$f":"P325-(P325/1.0025)","v":5.7356608478801974E-2},23]
[{"$error":"#N/A"},null,null,null,null,734197,"SPR","SPR","EA","BOARD,PLNR,4MNTH,36X48,WH",null,290.05,10,{"$f":"VLOOKUP(M326,DFL!A:H,8,0)","v":0.36},{"$f":"P326-(P326/1.0025)","v":0.46291770573566282},185.63]
[{"$error":"#N/A"},null,null,null,null,113056,"SPR","SPR","EA","RACK,WIRE,4-TIER,48X18,BK"," ",245,36,{"$f":"VLOOKUP(M327,DFL!A:H,8,0)","v":0.36},{"$f":"P327-(P327/1.0025)","v":0.39102244389027874},156.80000000000001]
[{"$error":"#N/A"},null,null,null,null,5759400,null,"SPR","EA","COFFEE,LITRST,12OZ,LANTGLOW",null,13.4,48,{"$f":"VLOOKUP(M328,DFL!A:H,8,0)","v":0.3},{"$f":"P328-(P328/1.0025)","v":2.3391521197007492E-2},9.3800000000000008]
[{"$error":"#N/A"},null,null,null,null,8657894,null,"SPR","EA","COFFEE,MEDRST,12OZ,PIONEER",null,13.21,48,{"$f":"VLOOKUP(M329,DFL!A:H,8,0)","v":0.3},{"$f":"P329-(P329/1.0025)","v":2.3067331670821645E-2},9.25]
[{"$error":"#N/A"},null,null,null,null,5780517,"SPR","SPR","EA","COFFEE,DKRST,12OZ,BKGOLD",null,13.21,48,{"$f":"VLOOKUP(M330,DFL!A:H,8,0)","v":0.3},{"$f":"P330-(P330/1.0025)","v":2.3067331670821645E-2},9.25]
[{"$error":"#N/A"},null,null,null,null,604924,null,"SPR","EA","CHAIR,TASK COMMERCIAL,BLACK"," ",400.79,48,{"$f":"VLOOKUP(M331,DFL!A:H,8,0)","v":0.3},{"$f":"P331-(P331/1.0025)","v":0.69962593516208926},280.55]
[{"$error":"#N/A"},null,null,null,null,922968,"SPR","SPR","EA","STAPLER,747 CLASSIC,RBL",null,44.35,37,{"$f":"VLOOKUP(M332,DFL!A:H,8,0)","v":0.5},{"$f":"P332-(P332/1.0025)","v":5.5311720698252742E-2},22.18]
[{"$error":"#N/A"},null,null,null,null,908293,"SPR","SPR","EA","STAPLER,DESK,STD,FULL,BURGUNDY"," ",44.35,37,{"$f":"VLOOKUP(M333,DFL!A:H,8,0)","v":0.5},{"$f":"P333-(P333/1.0025)","v":5.5311720698252742E-2},22.18]
[{"$error":"#N/A"},null,null,null,null,8182169,"SPR","SPR","EA","BOARD,AYDA,CORK,36X48",null,86.9,10,{"$f":"VLOOKUP(M334,DFL!A:H,8,0)","v":0.36},{"$f":"P334-(P334/1.0025)","v":0.13870324189525718},55.62]
[{"$error":"#N/A"},null,null,null,null,453221,null,"SPR","EA","LETTERS;CASUAL;2\";RED",null,4.49,36,{"$f":"VLOOKUP(M335,DFL!A:H,8,0)","v":0.36},{"$f":"P335-(P335/1.0025)","v":7.1571072319200901E-3},2.87]
[{"$error":"#N/A"},null,null,null,null,383002,null,"SPR","EA","CRTDG;PHASER7800;6K;MA",null,399.99,43,{"$f":"VLOOKUP(M336,DFL!A:H,8,0)","v":0.3},{"$f":"P336-(P336/1.0025)","v":0.69822942643389752},279.99]
[{"$error":"#N/A"},null,null,null,null,508450,"BSD","BSD","PK","SPOON,PLASTIC,100CT,WHITE"," ",9.9700000000000006,18,{"$f":"VLOOKUP(M337,DFL!A:E,5,0)","v":0.55000000000000004},{"$f":"P337-(P337/1.0025)","v":1.1197007481296595E-2},4.49]
[{"$error":"#N/A"},null,null,null,null,508506,"BSD","BSD","PK","FORK,PLASTIC,100CT,WHITE"," ",9.9700000000000006,18,{"$f":"VLOOKUP(M338,DFL!A:E,5,0)","v":0.55000000000000004},{"$f":"P338-(P338/1.0025)","v":1.1197007481296595E-2},4.49]
[{"$error":"#N/A"},null,null,null,null,695686,"BSD","BSD","PK","CUTLERY,PLAS,KNIFE,100CT,WHT"," ",12.96,48,{"$f":"VLOOKUP(M339,DFL!A:E,5,0)","v":0.42},{"$f":"P339-(P339/1.0025)","v":1.8753117206982139E-2},7.52]
[{"$error":"#N/A"},null,null,null,null,908269,"SPR","SPR","EA","STAPLER,DESK,STD,FULL,BLACK.",null,41.43,37,{"$f":"VLOOKUP(M340,DFL!A:H,8,0)","v":0.5},{"$f":"P340-(P340/1.0025)","v":5.1670822942643468E-2},20.72]
[{"$error":"#N/A"},null,null,null,null,9620625,"SPR","SPR","EA","TRIMMER,ROTARY,1208P",null,36.58,7,{"$f":"VLOOKUP(M341,DFL!A:H,8,0)","v":0.46},{"$f":"P341-(P341/1.0025)","v":4.9251870324187763E-2},19.75]
[{"$error":"#N/A"},null,null,null,null,9812720,"SPR","SPR","CT","CAN,TRASH,6 GAL,METAL",null,161.76,48,{"$f":"VLOOKUP(M342,DFL!A:H,8,0)","v":0.3},{"$f":"P342-(P342/1.0025)","v":0.28236907730672556},113.23]
[{"$error":"#N/A"},null,null,null,null,321379,null,"SPR","CA","SPOON,FULLSERVICE,1000CT,BLACK"," ",198.97,18,{"$f":"VLOOKUP(M343,DFL!A:H,8,0)","v":0.44},{"$f":"P343-(P343/1.0025)","v":0.27785536159601065},111.42]
[{"$error":"#N/A"},null,null,null,null,321388,null,"SPR","CA","KNIFE,OD,1000CT,BLACK"," ",198.97,48,{"$f":"VLOOKUP(M344,DFL!A:H,8,0)","v":0.3},{"$f":"P344-(P344/1.0025)","v":0.34733167082293903},139.28]
[{"$error":"#N/A"},null,null,null,null,321262,"BSD","BSD","EA","CADDY,CUTLERY,PLASTIC,CLEAR"," ",23.65,48,{"$f":"VLOOKUP(M345,DFL!A:E,5,0)","v":0.42},{"$f":"P345-(P345/1.0025)","v":3.4214463840397613E-2},13.72]
[{"$error":"#N/A"},null,null,null,null,198859,"SPR","SPR","EA","TOP,DOMED,15 GAL,BK/SS"," ",218.9,48,{"$f":"VLOOKUP(M346,DFL!A:H,8,0)","v":0.3},{"$f":"P346-(P346/1.0025)","v":0.38211970074812029},153.22999999999999]
[{"$error":"#N/A"},null,null,null,null,198850,"SPR","SPR","EA","RECEPTACLE,30 GAL,STNLS STL"," ",304.23,48,{"$f":"VLOOKUP(M347,DFL!A:H,8,0)","v":0.3},{"$f":"P347-(P347/1.0025)","v":0.53107231920199638},212.96]
[{"$error":"#N/A"},null,null,null,null,733081,null,"SPR","EA","BROTHER,MONO,HL-L2320DW",null,179.99,48,{"$f":"VLOOKUP(M348,DFL!A:H,8,0)","v":0.3},{"$f":"P348-(P348/1.0025)","v":0.31418952618453488},125.99]
[{"$error":"#N/A"},null,null,null,null,7282132,null,"SPR","EA","CHAIR,SHAQ,NER,XXL,BOND,BLACK",null,899.99,48,{"$f":"VLOOKUP(M349,DFL!A:H,8,0)","v":0.3},{"$f":"P349-(P349/1.0025)","v":1.5710473815461228},629.99]
[{"$error":"#N/A"},null,null,null,null,7664550,null,"SPR","EA","CHAIR,SHAQ,NER,XXL,BOND,BLUE",null,899.99,48,{"$f":"VLOOKUP(M350,DFL!A:H,8,0)","v":0.3},{"$f":"P350-(P350/1.0025)","v":1.5710473815461228},629.99]
[{"$error":"#N/A"},null,null,null,null,407240,"BSD","BSD","EA","REFILL,CUCUMBER MELON,TCELL",null,22.018000000000001,19,{"$f":"VLOOKUP(M351,DFL!A:E,5,0)","v":0.5},{"$f":"P351-(P351/1.0025)","v":2.7456359102243866E-2},11.01]
[{"$error":"#N/A"},null,null,null,null,7459177,"SPR","SPR","EA","TRIMMER,ROTARY,1215P",null,116.59,7,{"$f":"VLOOKUP(M352,DFL!A:H,8,0)","v":0.46},{"$f":"P352-(P352/1.0025)","v":0.15700748129675191},62.96]
[{"$error":"#N/A"},null,null,null,null,7208689,"SPR","SPR","EA","TRIMMER,GUILLOTINE,1225G",null,199.11,7,{"$f":"VLOOKUP(M353,DFL!A:H,8,0)","v":0.46},{"$f":"P353-(P353/1.0025)","v":0.26812967581047076},107.52]
[{"$error":"#N/A"},null,null,null,null,321154,"BSD","BSD","CA","FORK,PLASTIC,1000CT,WHITE"," ",72.790000000000006,18,{"$f":"VLOOKUP(M354,DFL!A:E,5,0)","v":0.55000000000000004},{"$f":"P354-(P354/1.0025)","v":8.1695760598499589E-2},32.76]
[{"$error":"#N/A"},null,null,null,null,321163,null,"SPR","CA","SPOON,PLASTIC,1000CT,WHITE"," ",72.790000000000006,18,{"$f":"VLOOKUP(M355,DFL!A:H,8,0)","v":0.44},{"$f":"P355-(P355/1.0025)","v":0.10164588528677854},40.76]
[{"$error":"#N/A"},null,null,null,null,321289,null,"SPR","CA","FORK,FULLSERVICE,1000CT,BLACK"," ",198.97,18,{"$f":"VLOOKUP(M356,DFL!A:H,8,0)","v":0.44},{"$f":"P356-(P356/1.0025)","v":0.27785536159601065},111.42]
[{"$error":"#N/A"},null,null,null,null,321199,null,"SPR","CA","KNIFE,PLASTIC,1000CT,WHITE"," ",77.599999999999994,48,{"$f":"VLOOKUP(M357,DFL!A:H,8,0)","v":0.3},{"$f":"P357-(P357/1.0025)","v":0.13546134663341292},54.32]
[{"$error":"#N/A"},null,null,null,null,186334,"SPR","SPR","EA","LAMINATOR,FUSIONTM,1100L,9\""," ",185.46,21,{"$f":"VLOOKUP(M358,DFL!A:H,8,0)","v":0.28999999999999998},{"$f":"P358-(P358/1.0025)","v":0.3283790523690584},131.68]
[{"$error":"#N/A"},null,null,null,null,6586631,"SPR","SPR","EA","TRIMMER,25SHT",null,220.82,7,{"$f":"VLOOKUP(M359,DFL!A:H,8,0)","v":0.46},{"$f":"P359-(P359/1.0025)","v":0.29735660847879331},119.24]
[{"$error":"#N/A"},null,null,null,null,695679,"BSD","BSD","PK","CUTLERY,PLAS,150CT,CLEAR"," ",25.55,48,{"$f":"VLOOKUP(M360,DFL!A:E,5,0)","v":0.42},{"$f":"P360-(P360/1.0025)","v":3.6957605985037389E-2},14.82]
[{"$error":"#N/A"},null,null,null,null,9240074,"SPR","SPR","EA","TRIMMER,10SHT",null,83.69,7,{"$f":"VLOOKUP(M361,DFL!A:H,8,0)","v":0.46},{"$f":"P361-(P361/1.0025)","v":0.11269326683291325},45.19]
[{"$error":"#N/A"},null,null,null,null,533400,"BSD","BSD","DZ","STENO, 70CT., GREGG RULE, WHI"," ",54.48,30,{"$f":"VLOOKUP(M362,DFL!A:E,5,0)","v":0.73},{"$f":"P362-(P362/1.0025)","v":3.6683291770572168E-2},14.71]
[{"$error":"#N/A"},null,null,null,null,562088,"SPR","SPR","EA","STAPLER,DESKTOP,OPTIMA,BLACK"," ",55.57,37,{"$f":"VLOOKUP(M363,DFL!A:H,8,0)","v":0.5},{"$f":"P363-(P363/1.0025)","v":6.9301745635907963E-2},27.79]
[{"$error":"#N/A"},null,null,null,null,913403,"SPR","SPR","EA","STAPLER,FULL,747,BUS,SKY BLUE"," ",59.32,37,{"$f":"VLOOKUP(M364,DFL!A:H,8,0)","v":0.5},{"$f":"P364-(P364/1.0025)","v":7.3965087281795405E-2},29.66]
[{"$error":"#N/A"},null,null,null,null,819162,"SPR","SPR","EA","STAPLER,BUSINESS,RBE"," ",57.4,37,{"$f":"VLOOKUP(M365,DFL!A:H,8,0)","v":0.5},{"$f":"P365-(P365/1.0025)","v":7.1571072319201789E-2},28.7]
[{"$error":"#N/A"},null,null,null,null,562432,"SPR","SPR","EA","STAPLER,OPTIMA GRIP,BLACK"," ",54.16,37,{"$f":"VLOOKUP(M366,DFL!A:H,8,0)","v":0.5},{"$f":"P366-(P366/1.0025)","v":6.7531172069823953E-2},27.08]
[{"$error":"#N/A"},null,null,null,null,562448,"SPR","SPR","EA","STAPLER,OPTIMA GRIP,SILVER"," ",54.16,37,{"$f":"VLOOKUP(M367,DFL!A:H,8,0)","v":0.5},{"$f":"P367-(P367/1.0025)","v":6.7531172069823953E-2},27.08]
[{"$error":"#N/A"},null,null,null,null,876195,null,"SPR","BX","EARPLUG,MAKLITE,W/CORD",null,58.761904761904759,22,{"$f":"VLOOKUP(M368,DFL!A:H,8,0)","v":0.41},{"$f":"P368-(P368/1.0025)","v":8.6458852867828284E-2},34.67]
[{"$error":"#N/A"},null,null,null,null,907183,"SPR","SPR","EA","STAPLER,747 COLLECTORS ED,RED"," ",52.74,37,{"$f":"VLOOKUP(M369,DFL!A:H,8,0)","v":0.5},{"$f":"P369-(P369/1.0025)","v":6.5760598503739942E-2},26.37]
[{"$error":"#N/A"},null,null,null,null,712802,"BSD","BSD","CA","SOAP,FOAM,GNT,CITRUS,4CA",null,87.64,19,{"$f":"VLOOKUP(M370,DFL!A:E,5,0)","v":0.5},{"$f":"P370-(P370/1.0025)","v":0.10927680798004502},43.82]
[{"$error":"#N/A"},null,null,null,null,765737,"BSD","BSD","EA","COFFEE,GR,CL RS 30.5OZ"," ",34.487149758454102,48,{"$f":"VLOOKUP(M371,DFL!A:E,5,0)","v":0.42},{"$f":"P371-(P371/1.0025)","v":4.9875311720697368E-2},20]
[{"$error":"#N/A"},null,null,null,null,7622519,"BSD","BSD","EA","Dell C2422HE 23.8\" LED LCD Monitor - 24\" Class - Thin Film Transistor (TFT) - 16.7 Million Colors",null,469.99,48,{"$f":"VLOOKUP(M372,DFL!A:E,5,0)","v":0.42},{"$f":"P372-(P372/1.0025)","v":0.67977556109724446},272.58999999999997]
[{"$error":"#N/A"},null,null,null,null,8187135,"SPR","SPR","EA","EASEL,MRKBD,REVL,MEL,70X47",null,819.97,10,{"$f":"VLOOKUP(M373,DFL!A:H,8,0)","v":0.36},{"$f":"P373-(P373/1.0025)","v":1.308678304239379},524.78]
[{"$error":"#N/A"},null,null,null,null,3850459,"BSD","BSD","EA","Viewsonic VG2440V 23.8\" Full HD LED LCD Monitor - 16:9 - Black - 24\" Class - SuperClear IPS - 1920 x 1080 - 16.7 Million Colors - 250 Nit - 5 ms - 75 Hz Refresh Rate - HDMI - VGA - DisplayPort - USB Hub",null,199.99,48,{"$f":"VLOOKUP(M374,DFL!A:E,5,0)","v":0.42},{"$f":"P374-(P374/1.0025)","v":0.28925187032417909},115.99]
[{"$error":"#N/A"},null,null,null,null,835568,null,"SPR","EA","TABLETOP;24X48;ESPRESSO",null,292,48,{"$f":"VLOOKUP(M375,DFL!A:H,8,0)","v":0.3},{"$f":"P375-(P375/1.0025)","v":0.50972568578552568},204.4]
[{"$error":"#N/A"},null,null,null,null,6066628,"BSD","BSD","EA","Viewsonic VG2456 23.8\" Full HD WLED LCD Monitor - 16:9 - Black - 24\" Class - In-plane Switching (IPS) Technology - 1920 x 1080 - 16.7 Million Colors - 250 Nit - 5 ms - 75 Hz Refresh Rate - HDMI - DisplayPort",null,259.99,48,{"$f":"VLOOKUP(M376,DFL!A:E,5,0)","v":0.42},{"$f":"P376-(P376/1.0025)","v":0.37603491271818257},150.79]
[{"$error":"#N/A"},null,null,null,null,8068768,null,"SPR","EA","BASE,2-TIER,ELECTRIC,MCSR",null,1097,48,{"$f":"VLOOKUP(M377,DFL!A:H,8,0)","v":0.3},{"$f":"P377-(P377/1.0025)","v":1.9149625935161794},767.9]
[{"$error":"#N/A"},null,null,null,null,951103,null,"SPR","EA","RIBBON,CORR,F/AX10,12,15,20"," ",9.99,17,{"$f":"VLOOKUP(M378,DFL!A:H,8,0)","v":0.48},{"$f":"P378-(P378/1.0025)","v":1.294264339152118E-2},5.19]
[{"$error":"#N/A"},null,null,null,null,5907676,null,"SPR","CT","GLOVE,LINED,LNG-SLEEVE,M",null,522.9,22,{"$f":"VLOOKUP(M379,DFL!A:H,8,0)","v":0.41},{"$f":"P379-(P379/1.0025)","v":0.7693516209475888},308.51]
[{"$error":"#N/A"},null,null,null,null,8679812,null,"SPR","BX","CAMERA,SECURTY,BULLET,5MP,2",null,109.99,21,{"$f":"VLOOKUP(M380,DFL!A:H,8,0)","v":0.28999999999999998},{"$f":"P380-(P380/1.0025)","v":0.19473815461346078},78.09]
[{"$error":"#N/A"},null,null,null,null,9025355,"SPR","SPR","CT","WIPES,DISNFCTNT,160 SHT,TUB",null,57.36,19,{"$f":"VLOOKUP(M381,DFL!A:H,8,0)","v":0.45},{"$f":"P381-(P381/1.0025)","v":7.8678304239399921E-2},31.55]
[{"$error":"#N/A"},null,null,null,null,602486,"SPR","SPR","PK","WIPES,DISNFCTNT,160 SHT,TUB",null,19.12,19,{"$f":"VLOOKUP(M382,DFL!A:H,8,0)","v":0.45},{"$f":"P382-(P382/1.0025)","v":2.6234413965086745E-2},10.52]
[{"$error":"#N/A"},null,null,null,null,7741114,null,"SPR","EA","WORKPRO,4000.MIDBACK,CHAIR",null,680.67,48,{"$f":"VLOOKUP(M383,DFL!A:H,8,0)","v":0.3},{"$f":"P383-(P383/1.0025)","v":1.1882044887780125},476.47]
[{"$error":"#N/A"},null,null,null,null,546943,"SPR","SPR","BX","FILE;PKT;EXP;5.25\"-LGL",null,64.95,35,{"$f":"VLOOKUP(M384,DFL!A:H,8,0)","v":0.6},{"$f":"P384-(P384/1.0025)","v":6.4788029925185953E-2},25.98]
[{"$error":"#N/A"},null,null,null,null,6792415,"SPR","SPR","EA","GLASS BOARD,MAG,36X48,WH",null,330.75,10,{"$f":"VLOOKUP(M385,DFL!A:H,8,0)","v":0.36},{"$f":"P385-(P385/1.0025)","v":0.52788029925184787},{"$f":"ROUND(L385*(1-N385),2)","v":211.68}]
[{"$error":"#N/A"},null,null,null,null,9704760,null,"SPR","EA","KIT;ACCESSORY;PANEL;WE",null,31,48,{"$f":"VLOOKUP(M386,DFL!A:H,8,0)","v":0.3},{"$f":"P386-(P386/1.0025)","v":5.4114713216957711E-2},21.7]
[{"$error":"#N/A"},null,null,null,null,8184415,"SPR","SPR","EA","BOARD,AYDA,FAB,GRY,36X48",null,94.65,10,{"$f":"VLOOKUP(M387,DFL!A:H,8,0)","v":0.36},{"$f":"P387-(P387/1.0025)","v":0.15107231920199382},60.58]
[{"$error":"#N/A"},null,null,null,null,8184759,"SPR","SPR","EA","BOARD,AYDA,FAB,BE,36X48",null,94.65,10,{"$f":"VLOOKUP(M388,DFL!A:H,8,0)","v":0.36},{"$f":"P388-(P388/1.0025)","v":0.15107231920199382},60.58]
[{"$error":"#N/A"},null,null,null,null,9579648,null,"SPR","EA","WorkPro¬Æ Sentrix Ergonomic Mesh Mid-Back Manager Chair, Black",null,716.42,48,{"$f":"VLOOKUP(M389,DFL!A:H,8,0)","v":0.3},{"$f":"P389-(P389/1.0025)","v":1.2505985037406049},501.49]
[{"$error":"#N/A"},null,null,null,null,4764107,"BSD","BSD","EA","GLASS BD,NON-MAG,36X48,WH",null,294.68892863226023,10,{"$f":"VLOOKUP(M390,DFL!A:E,5,0)","v":0.55000000000000004},{"$f":"P390-(P390/1.0025)","v":0.33069825436407996},132.61000000000001]
[{"$error":"#N/A"},null,null,null,null,700418,null,"SPR","CT","DUSTPAN;LOBBY;LOBBYMASTER",null,82.2,19,{"$f":"VLOOKUP(M391,DFL!A:H,8,0)","v":0.45},{"$f":"P391-(P391/1.0025)","v":0.11274314214463743},45.21]
[{"$error":"#N/A"},null,null,null,null,9257817,"SPR","SPR","EA","GLASS BD,NON-MAG,24X36,WH",null,151.18,10,{"$f":"VLOOKUP(M392,DFL!A:H,8,0)","v":0.36},{"$f":"P392-(P392/1.0025)","v":0.24129675810473827},96.76]
[{"$error":"#N/A"},null,null,null,null,337878,null,"SPR","EA","XEROX TONER CARTRIDGE"," ",594.67999999999995,43,{"$f":"VLOOKUP(M393,DFL!A:H,8,0)","v":0.3},{"$f":"P393-(P393/1.0025)","v":1.0381047381545727},416.28]
[{"$error":"#N/A"},null,null,null,null,9860066,"BSD","BSD","CT","DETERGENT,DSH,LQD,AJAX",null,48.68,19,{"$f":"VLOOKUP(M394,DFL!A:E,5,0)","v":0.5},{"$f":"P394-(P394/1.0025)","v":6.0698254364087489E-2},24.34]
[{"$error":"#N/A"},null,null,null,null,8517865,null,"SPR","EA","WorkPro¬Æ Momentum Ergonomic Mesh Active High-Back Chair, Black",null,771.53,48,{"$f":"VLOOKUP(M395,DFL!A:H,8,0)","v":0.3},{"$f":"P395-(P395/1.0025)","v":1.3468079800499027},540.07000000000005]
[{"$error":"#N/A"},null,null,null,null,993562,"BSD","BSD","EA","COFFEE,FOLGRS,CLASSIC,CAN,48OZ",null,48.553954983922829,48,{"$f":"VLOOKUP(M396,DFL!A:E,5,0)","v":0.42},{"$f":"P396-(P396/1.0025)","v":7.0224438902741326E-2},28.16]
[{"$error":"#N/A"},null,null,null,null,9735748,"SPR","SPR","EA","CHAIR,MIDBK,PADDED SEAT",null,502,48,{"$f":"VLOOKUP(M397,DFL!A:H,8,0)","v":0.3},{"$f":"P397-(P397/1.0025)","v":0.87630922693267621},351.4]
[{"$error":"#N/A"},null,null,null,null,9705125,null,"SPR","EA","PANEL;PLUS;PRIVACY;TN",null,239,48,{"$f":"VLOOKUP(M398,DFL!A:H,8,0)","v":0.3},{"$f":"P398-(P398/1.0025)","v":0.41720698254363242},167.3]
[4.04,null,null,null,null,512112,"BSD","BSD","EA","WIPES,CLEANER,LYSOL,EA"," ",8.61,19,{"$f":"VLOOKUP(M399,DFL!A:E,5,0)","v":0.5},{"$f":"P399-(P399/1.0025)","v":1.074812967581007E-2},4.3099999999999996]
[6.55,null,null,null,null,565074,"BSD","BSD","EA","LYSOL DISIN WIPES DUAL ACTN"," ",13.64,19,{"$f":"VLOOKUP(M400,DFL!A:E,5,0)","v":0.5},{"$f":"P400-(P400/1.0025)","v":1.7007481296757554E-2},6.82]
[41.613340999999998,null,null,null,null,131842,"SPR","SPR","CT","LYSOL DISIN WIPES DUAL ACTN",null,81.84,19,{"$f":"VLOOKUP(M401,DFL!A:H,8,0)","v":0.45},{"$f":"P401-(P401/1.0025)","v":0.11224438902743117},45.01]
[{"$error":"#N/A"},null,null,null,null,2731064,null,"SPR","PK","Avery¬Æ TouchGuard 73606 Protective Film Sheets, 9‚ÄùH x 12‚ÄùW, Pack Of 10 Sheets",null,23.6,45,{"$f":"VLOOKUP(M402,DFL!A:H,8,0)","v":0.35},{"$f":"P402-(P402/1.0025)","v":3.825436408977545E-2},15.34]
[{"$error":"#N/A"},null,null,null,null,7585325,"BSD","BSD","CT","SOFTSOAP,CRISP CLN,11.25OZ",null,34.270000000000003,19,{"$f":"VLOOKUP(M403,DFL!A:E,5,0)","v":0.5},{"$f":"P403-(P403/1.0025)","v":4.2743142144637147E-2},17.14]
[{"$error":"#N/A"},null,null,null,null,7996038,"BSD","BSD","CA"," COLD CUPS GRNSTRPE 10OZ 1000CT",null,178.85,48,{"$f":"VLOOKUP(M404,DFL!A:E,5,0)","v":0.42},{"$f":"P404-(P404/1.0025)","v":0.25867830423939608},103.73]
[{"$error":"#N/A"},null,null,null,null,909060,null,"SPR","CT","CUP,PLASTIC,CLEAR,WISE,10OZ"," ",222.69,18,{"$f":"VLOOKUP(M405,DFL!A:H,8,0)","v":0.44},{"$f":"P405-(P405/1.0025)","v":0.31099750623440059},124.71]
[{"$error":"#N/A"},null,null,null,null,9001319,"SPR","SPR","CT","DETERGENT,OXY,ULTRA,PLMLV",null,87.03,19,{"$f":"VLOOKUP(M406,DFL!A:H,8,0)","v":0.45},{"$f":"P406-(P406/1.0025)","v":0.11937655860349139},47.87]
[{"$error":"#N/A"},null,null,null,null,668954,"SPR","SPR","EA","DETERGENT,OXY,ULTRA,PLMLV",null,9.67,19,{"$f":"VLOOKUP(M407,DFL!A:H,8,0)","v":0.45},{"$f":"P407-(P407/1.0025)","v":1.3266832917705251E-2},5.32]
[{"$error":"#N/A"},null,null,null,null,320297,"BSD","BSD","EA","RECEPTACLE,SIDE OPEN,ASH URN"," ",337.39805002119539,31,{"$f":"VLOOKUP(M408,DFL!A:E,5,0)","v":0.64},{"$f":"P408-(P408/1.0025)","v":0.30289276807980059},121.46]
[{"$error":"#N/A"},null,null,null,null,8182130,"SPR","SPR","EA","BOARD,AYDA,CORK,24X36",null,56.63,10,{"$f":"VLOOKUP(M409,DFL!A:H,8,0)","v":0.36},{"$f":"P409-(P409/1.0025)","v":9.0374064837902779E-2},36.24]
[{"$error":"#N/A"},null,null,null,null,801826,"BSD","BSD","PK","POUCHES,THERMAL,LAMINAT,LETTER"," ",36.97,45,{"$f":"VLOOKUP(M410,DFL!A:E,5,0)","v":0.63},{"$f":"P410-(P410/1.0025)","v":3.411471321695636E-2},13.68]
[{"$error":"#N/A"},null,null,null,null,783467,"BSD","BSD","EA","DETERGENT,ULTRA,ORIG,PLMVE",null,7.09,19,{"$f":"VLOOKUP(M411,DFL!A:E,5,0)","v":0.5},{"$f":"P411-(P411/1.0025)","v":8.8528678304236053E-3},3.55]
[{"$error":"#N/A"},null,null,null,null,430035,"BSD","BSD","EA","DETERGENT,AB,OE,ULTRA,PLMLV",null,7.09,19,{"$f":"VLOOKUP(M412,DFL!A:E,5,0)","v":0.5},{"$f":"P412-(P412/1.0025)","v":8.8528678304236053E-3},3.55]
[{"$error":"#N/A"},null,null,null,null,6688559,null,"SPR","EA","Poly Blackwire 8225-M - Headset - on-ear - wired - active noise canceling - USB-A",null,192.95,23,{"$f":"VLOOKUP(M413,DFL!A:H,8,0)","v":0.3},{"$f":"P413-(P413/1.0025)","v":0.33683291770572055},135.07]
[{"$error":"#N/A"},null,null,null,null,647907,"SPR","SPR","CA","LID,CUP,HOT,10-20OZ,1000CA",null,195.54,18,{"$f":"VLOOKUP(M414,DFL!A:H,8,0)","v":0.44},{"$f":"P414-(P414/1.0025)","v":0.27306733167081632},109.5]
[{"$error":"#N/A"},null,null,null,null,725345,null,"SPR","EA","TNR,WC3655,BLK,25,900"," ",690.77,43,{"$f":"VLOOKUP(M415,DFL!A:H,8,0)","v":0.3},{"$f":"P415-(P415/1.0025)","v":1.2058354114712984},483.54]
[{"$error":"#N/A"},null,null,null,null,355986,"SPR","SPR","EA","TABLE,FOLDING,60X18"," ",284,48,{"$f":"VLOOKUP(M416,DFL!A:H,8,0)","v":0.3},{"$f":"P416-(P416/1.0025)","v":0.49576059850372189},198.8]
[{"$error":"#N/A"},null,null,null,null,456699,null,"SPR","EA","MFCL5850DW",null,719.99,48,{"$f":"VLOOKUP(M417,DFL!A:H,8,0)","v":0.3},{"$f":"P417-(P417/1.0025)","v":1.256832917705708},503.99]
[{"$error":"#N/A"},null,null,null,null,660362,null,"SPR","PR","GLOVE,M,HIGHABRSN,820",null,30.35,22,{"$f":"VLOOKUP(M418,DFL!A:H,8,0)","v":0.41},{"$f":"P418-(P418/1.0025)","v":4.4663341645883037E-2},17.91]
[{"$error":"#N/A"},null,null,null,null,686102,null,"SPR","PR","GLOVE,2XL,HIGHABRSN,820",null,30.35,22,{"$f":"VLOOKUP(M419,DFL!A:H,8,0)","v":0.41},{"$f":"P419-(P419/1.0025)","v":4.4663341645883037E-2},17.91]
[{"$error":"#N/A"},null,null,null,null,8450747,"SPR","SPR","BX","REFILL;AIRFRESH;MELON;GR",null,51.85,19,{"$f":"VLOOKUP(M420,DFL!A:H,8,0)","v":0.45},{"$f":"P420-(P420/1.0025)","v":7.11221945137126E-2},28.52]
[{"$error":"#N/A"},null,null,null,null,8450292,"SPR","SPR","BX","REFILL;AIRFRESH;CTNBLSM;BL",null,51.85,19,{"$f":"VLOOKUP(M421,DFL!A:H,8,0)","v":0.45},{"$f":"P421-(P421/1.0025)","v":7.11221945137126E-2},28.52]
[{"$error":"#N/A"},null,null,null,null,9925892,"BSD","BSD","BX","SNACKS;OFFICE;VARIETY;30CT",null,29.73,48,{"$f":"VLOOKUP(M422,DFL!A:E,5,0)","v":0.42},{"$f":"P422-(P422/1.0025)","v":4.2992518703240279E-2},17.239999999999998]
[{"$error":"#N/A"},null,null,null,null,263501,"SPR","SPR","EA","FILTER,GOLD,WDSCRN",null,264.47000000000003,48,{"$f":"VLOOKUP(M423,DFL!A:H,8,0)","v":0.3},{"$f":"P423-(P423/1.0025)","v":0.46167082294263651},185.13]
[{"$error":"#N/A"},null,null,null,null,8183921,"SPR","SPR","EA","BOARD,AYDA,GRY FAB 24X36",null,59.75,10,{"$f":"VLOOKUP(M424,DFL!A:H,8,0)","v":0.36},{"$f":"P424-(P424/1.0025)","v":9.5361596009972516E-2},38.24]
[{"$error":"#N/A"},null,null,null,null,8183999,"SPR","SPR","EA","BOARD,AYDA,FAB,BE,24X36",null,59.75,10,{"$f":"VLOOKUP(M425,DFL!A:H,8,0)","v":0.36},{"$f":"P425-(P425/1.0025)","v":9.5361596009972516E-2},38.24]
[{"$error":"#N/A"},null,null,null,null,6571773,"SPR","SPR","EA","RISER;DESK;46\";AC/USB;DELUXE;B",null,389,48,{"$f":"VLOOKUP(M426,DFL!A:H,8,0)","v":0.3},{"$f":"P426-(P426/1.0025)","v":0.67905236907728295},272.3]
[{"$error":"#N/A"},null,null,null,null,694349,"SPR","SPR","CT","PAPER,ROLL,2.25X85,50CTN",null,75.62,24,{"$f":"VLOOKUP(M427,DFL!A:H,8,0)","v":0.55000000000000004},{"$f":"P427-(P427/1.0025)","v":8.4862842892768242E-2},34.03]
[{"$error":"#N/A"},null,null,null,null,995261,"BSD","BSD","EA","CRTDG,INK,XXL,C,M,Y",null,100.98131843740751,43,{"$f":"VLOOKUP(M428,DFL!A:E,5,0)","v":0.35},{"$f":"P428-(P428/1.0025)","v":0.16369077306733004},65.64]
[{"$error":"#N/A"},null,null,null,null,8541147,"SPR","SPR","PK","PAPER,MED/LAB,2.25\"X80,12PK",null,37.68,24,{"$f":"VLOOKUP(M429,DFL!A:H,8,0)","v":0.55000000000000004},{"$f":"P429-(P429/1.0025)","v":4.2294264339151511E-2},16.96]
[{"$error":"#N/A"},null,null,null,null,9764071,"SPR","SPR","CT","PAPER,MED/LAB,2.25\"X80,12PK",null,150.72,24,{"$f":"VLOOKUP(M430,DFL!A:H,8,0)","v":0.55000000000000004},{"$f":"P430-(P430/1.0025)","v":0.16912718204488897},67.819999999999993]
[{"$error":"#N/A"},null,null,null,null,484254,"SPR","SPR","CT","COFFEE,FOLGERS,DECAF",null,261.42,48,{"$f":"VLOOKUP(M431,DFL!A:H,8,0)","v":0.3},{"$f":"P431-(P431/1.0025)","v":0.45633416458852594},182.99]
[{"$error":"#N/A"},null,null,null,null,785005,"SPR","SPR","EA","COFFEE,DECAF,FOLGERS,22.6OZ"," ",43.57,48,{"$f":"VLOOKUP(M432,DFL!A:H,8,0)","v":0.3},{"$f":"P432-(P432/1.0025)","v":7.605985037406171E-2},30.5]
[{"$error":"#N/A"},null,null,null,null,329234,"SPR","SPR","EA","MOUSE,WIRELESS,TRACKBALL",null,134.99,29,{"$f":"VLOOKUP(M433,DFL!A:H,8,0)","v":0.3},{"$f":"P433-(P433/1.0025)","v":0.2356359102244312},94.49]
[{"$error":"#N/A"},null,null,null,null,8556583,null,"SPR","EA","BOX,BOOK,FOR LLR00076",null,139,9,{"$f":"VLOOKUP(M434,DFL!A:H,8,0)","v":0.37},{"$f":"P434-(P434/1.0025)","v":0.21837905236907318},87.57]
[{"$error":"#N/A"},null,null,null,null,356288,"SPR","SPR","EA","TABLE,FOLDING,72X18,MAH"," ",316,48,{"$f":"VLOOKUP(M435,DFL!A:H,8,0)","v":0.3},{"$f":"P435-(P435/1.0025)","v":0.55162094763090863},221.2]
[{"$error":"#N/A"},null,null,null,null,1397809,"BSD","BSD","PK","INDEX CARD 3X5 BLNK WHT 300CT"," ",6.42,35,{"$f":"VLOOKUP(M436,DFL!A:E,5,0)","v":0.7},{"$f":"P436-(P436/1.0025)","v":4.8129675810473227E-3},1.93]
[{"$error":"#N/A"},null,null,null,null,4201878,"BSD","BSD","EA","MY PASSPORT,2019,2TB,BLUE",null,83.99,46,{"$f":"VLOOKUP(M437,DFL!A:E,5,0)","v":0.35},{"$f":"P437-(P437/1.0025)","v":0.13613466334164315},54.59]
[{"$error":"#N/A"},null,null,null,null,5491163,"BSD","BSD","EA","MY PASSPORT,2019,2TB,RED",null,83.99,46,{"$f":"VLOOKUP(M438,DFL!A:E,5,0)","v":0.35},{"$f":"P438-(P438/1.0025)","v":0.13613466334164315},54.59]
[{"$error":"#N/A"},null,null,null,null,8030711,"BSD","BSD","EA","MY PASSPORT,2019,2TB,BLACK",null,83.99,46,{"$f":"VLOOKUP(M439,DFL!A:E,5,0)","v":0.35},{"$f":"P439-(P439/1.0025)","v":0.13613466334164315},54.59]
[{"$error":"#N/A"},null,null,null,null,7185816,"SPR","SPR","EA","RISER;DESK;46\";DELUXE;TK",null,354,48,{"$f":"VLOOKUP(M440,DFL!A:H,8,0)","v":0.3},{"$f":"P440-(P440/1.0025)","v":0.61795511221944821},247.8]
[{"$error":"#N/A"},null,null,null,null,274623,"SPR","SPR","EA","TIMER,DIGITAL"," ",18.260000000000002,48,{"$f":"VLOOKUP(M441,DFL!A:H,8,0)","v":0.3},{"$f":"P441-(P441/1.0025)","v":3.1870324189524624E-2},12.78]
[{"$error":"#N/A"},null,null,null,null,4981958,null,"SPR","EA","PRINTER,BRTHER,LSR,HL,L3270CDW",null,429.99,48,{"$f":"VLOOKUP(M442,DFL!A:H,8,0)","v":0.3},{"$f":"P442-(P442/1.0025)","v":0.75059850374060488},300.99]
[{"$error":"#N/A"},null,null,null,null,723725,"SPR","SPR","EA","TABLE,72\",ROUND,PLATINUM"," ",749,48,{"$f":"VLOOKUP(M443,DFL!A:H,8,0)","v":0.3},{"$f":"P443-(P443/1.0025)","v":1.3074812967580556},524.29999999999995]
[{"$error":"#N/A"},null,null,null,null,8183471,"SPR","SPR","EA","BOARD,EARTH,PORC,3X4",null,525.04999999999995,10,{"$f":"VLOOKUP(M444,DFL!A:H,8,0)","v":0.36},{"$f":"P444-(P444/1.0025)","v":0.83798004987528429},336.03]
[{"$error":"#N/A"},null,null,null,null,8168088,"SPR","SPR","EA","EASEL,PRE,4-LEG,MEL,SLV",null,396.55,10,{"$f":"VLOOKUP(M445,DFL!A:H,8,0)","v":0.36},{"$f":"P445-(P445/1.0025)","v":0.63289276807978467},253.79]
[{"$error":"#N/A"},null,null,null,null,837304,"SPR","SPR","EA","FILE;LTR/LGL;INSUL;22\"D;2DR",null,2110,38,{"$f":"VLOOKUP(M446,DFL!A:H,8,0)","v":0.36},{"$f":"P446-(P446/1.0025)","v":3.3675810473814636},1350.4]
[{"$error":"#N/A"},null,null,null,null,837493,"SPR","SPR","EA","FILE,LTR/LGL,4DRW,22\"D,INSU",null,3580,38,{"$f":"VLOOKUP(M447,DFL!A:H,8,0)","v":0.36},{"$f":"P447-(P447/1.0025)","v":5.713715710723136},2291.1999999999998]
[{"$error":"#N/A"},null,null,null,null,736726,"SPR","SPR","EA","FILE,4DRWR,LGL,INSLTD,BK",null,5830,38,{"$f":"VLOOKUP(M448,DFL!A:H,8,0)","v":0.36},{"$f":"P448-(P448/1.0025)","v":9.3047381546134602},3731.2]
[{"$error":"#N/A"},null,null,null,null,736753,"SPR","SPR","EA","FILE,4DRW,LGL,INSLTD,PARC",null,5830,38,{"$f":"VLOOKUP(M449,DFL!A:H,8,0)","v":0.36},{"$f":"P449-(P449/1.0025)","v":9.3047381546134602},{"$f":"ROUND(L449*(1-N449),2)","v":3731.2}]
[{"$error":"#N/A"},null,null,null,null,736582,"SPR","SPR","EA","FILE,4DRW,LT/LG,INSL,PARC",null,4810,38,{"$f":"VLOOKUP(M450,DFL!A:H,8,0)","v":0.36},{"$f":"P450-(P450/1.0025)","v":7.6768079800494888},3078.4]
[{"$error":"#N/A"},null,null,null,null,736564,"SPR","SPR","EA","FILE,4DRW,LT/LG,INSLTD,BK",null,4810,38,{"$f":"VLOOKUP(M451,DFL!A:H,8,0)","v":0.36},{"$f":"P451-(P451/1.0025)","v":7.6768079800494888},3078.4]
[{"$error":"#N/A"},null,null,null,null,736717,"SPR","SPR","EA","FILE,4DRW,LTR,INSLTD,PARC",null,5525,38,{"$f":"VLOOKUP(M452,DFL!A:H,8,0)","v":0.36},{"$f":"P452-(P452/1.0025)","v":8.8179551122193516},3536]
[{"$error":"#N/A"},null,null,null,null,736708,"SPR","SPR","EA","FILE,4DRWR,LTR,INSLTD,BK",null,5525,38,{"$f":"VLOOKUP(M453,DFL!A:H,8,0)","v":0.36},{"$f":"P453-(P453/1.0025)","v":8.8179551122193516},3536]
[{"$error":"#N/A"},null,null,null,null,397728,"BSD","BSD","EA","DISPENSER;CORELESS;JRT",null,54,48,{"$f":"VLOOKUP(M454,DFL!A:E,5,0)","v":0.42},{"$f":"P454-(P454/1.0025)","v":7.8104738154610942E-2},31.32]
[{"$error":"#N/A"},null,null,null,null,129833,null,"SPR","EA","GAME;MATH SLAM;ELECTRONIC",null,44.89,48,{"$f":"VLOOKUP(M455,DFL!A:H,8,0)","v":0.3},{"$f":"P455-(P455/1.0025)","v":7.8354114713214074E-2},31.42]
[{"$error":"#N/A"},null,null,null,null,7789783,"SPR","SPR","EA","RISER,CRNR,ADJ,46\"",null,773,48,{"$f":"VLOOKUP(M456,DFL!A:H,8,0)","v":0.3},{"$f":"P456-(P456/1.0025)","v":1.3493765586034669},541.1]
[{"$error":"#N/A"},null,null,null,null,584677,"SPR","SPR","EA"," ERASABLE 30"," ",47.3,11,{"$f":"VLOOKUP(M457,DFL!A:H,8,0)","v":0.46},{"$f":"P457-(P457/1.0025)","v":6.3690773067328621E-2},25.54]
[{"$error":"#N/A"},null,null,null,null,9567660,"SPR","SPR","EA","DESK,SITSTND,ADJ,46\"",null,776,48,{"$f":"VLOOKUP(M458,DFL!A:H,8,0)","v":0.3},{"$f":"P458-(P458/1.0025)","v":1.3546134663341718},543.20000000000005]
[{"$error":"#N/A"},null,null,null,null,187514,"BSD","BSD","PK","CARD,INDEX,300CT,NEON ASSORTED",null,22.86,35,{"$f":"VLOOKUP(M459,DFL!A:E,5,0)","v":0.7},{"$f":"P459-(P459/1.0025)","v":1.7107231920198807E-2},6.86]
[{"$error":"#N/A"},null,null,null,null,821157,null,"SPR","PK","TAGGER TAILS,REFILL,2\""," ",12.49,26,{"$f":"VLOOKUP(M460,DFL!A:H,8,0)","v":0.44},{"$f":"P460-(P460/1.0025)","v":1.7431421446383766E-2},6.99]
[{"$error":"#N/A"},null,null,null,null,4973795,null,"SPR","CT","SOAP,LIQ HAND,12OZ,SEA MINE",null,99,19,{"$f":"VLOOKUP(M461,DFL!A:H,8,0)","v":0.45},{"$f":"P461-(P461/1.0025)","v":0.13578553615959521},54.45]
[{"$error":"#N/A"},null,null,null,null,8610376,null,"SPR","EA","TONER,VLNK C9000,BK,18.9K",null,366.92,43,{"$f":"VLOOKUP(M462,DFL!A:H,8,0)","v":0.3},{"$f":"P462-(P462/1.0025)","v":0.64049875311718552},256.83999999999997]
[{"$error":"#N/A"},null,null,null,null,208274,null,"SPR","RM","PAPER;NEWSPRNT;RULD;1\";GR 1",null,9.39,30,{"$f":"VLOOKUP(M463,DFL!A:H,8,0)","v":0.57999999999999996},{"$f":"P463-(P463/1.0025)","v":9.8254364089771506E-3},3.94]
[{"$error":"#N/A"},null,null,null,null,264430,"SPR","SPR","CT","ROLL,CALC,THER,3 1/8\"X230'",null,277.38,24,{"$f":"VLOOKUP(M464,DFL!A:H,8,0)","v":0.55000000000000004},{"$f":"P464-(P464/1.0025)","v":0.31127182044886581},124.82]
[{"$error":"#N/A"},null,null,null,null,8541103,"SPR","SPR","CT","PAPER,ROLL,3.11\"X230,50PK",null,282.82,24,{"$f":"VLOOKUP(M465,DFL!A:H,8,0)","v":0.55000000000000004},{"$f":"P465-(P465/1.0025)","v":0.31738154613465497},127.27]
[{"$error":"#N/A"},null,null,null,null,193622,"SPR","SPR","EA","STAPLER,ELECTRIC,PORTABLE"," ",147.44,37,{"$f":"VLOOKUP(M466,DFL!A:H,8,0)","v":0.5},{"$f":"P466-(P466/1.0025)","v":0.18384039900249149},73.72]
[{"$error":"#N/A"},null,null,null,null,8239369,"SPR","SPR","CT","PAPER,ROLL,2.25\"X230,50RL",null,266.63,24,{"$f":"VLOOKUP(M467,DFL!A:H,8,0)","v":0.55000000000000004},{"$f":"P467-(P467/1.0025)","v":0.29920199501246714},119.98]
[{"$error":"#N/A"},null,null,null,null,908558,"SPR","SPR","EA","STAPLER,ELEC,AUTOMATIC,#67,BLK"," ",419.6,37,{"$f":"VLOOKUP(M468,DFL!A:H,8,0)","v":0.5},{"$f":"P468-(P468/1.0025)","v":0.52319201995010189},209.8]
[{"$error":"#N/A"},null,null,null,null,743762,"SPR","SPR","BX","PEN,SOFTFEEL,BP,MED,BE,36CT",null,33.71,33,{"$f":"VLOOKUP(M469,DFL!A:H,8,0)","v":0.55000000000000004},{"$f":"P469-(P469/1.0025)","v":3.783042394014835E-2},15.17]
[{"$error":"#N/A"},null,null,null,null,809870,"SPR","SPR","BX","PEN,SOFTFEEL,BP,MED,BK,36CT",null,33.71,33,{"$f":"VLOOKUP(M470,DFL!A:H,8,0)","v":0.55000000000000004},{"$f":"P470-(P470/1.0025)","v":3.783042394014835E-2},15.17]
[{"$error":"#N/A"},null,null,null,null,1397800,"BSD","BSD","PK","INDEX CARD 4X6 RULD WHT 300CT"," ",8.99,35,{"$f":"VLOOKUP(M471,DFL!A:E,5,0)","v":0.7},{"$f":"P471-(P471/1.0025)","v":6.7331670822943224E-3},2.7]
[{"$error":"#N/A"},null,null,null,null,8651922,null,"SPR","EA","SORTER,COIN,ONE ROW",null,124.95,48,{"$f":"VLOOKUP(M472,DFL!A:H,8,0)","v":0.3},{"$f":"P472-(P472/1.0025)","v":0.2181296758104736},87.47]
[{"$error":"#N/A"},null,null,null,null,1397827,"BSD","BSD","PK","INDEX CARD 4X6 BLANK 300PK"," ",7.52,35,{"$f":"VLOOKUP(M473,DFL!A:E,5,0)","v":0.7},{"$f":"P473-(P473/1.0025)","v":5.6359102244387671E-3},2.2599999999999998]
[{"$error":"#N/A"},null,null,null,null,187478,"BSD","BSD","PK","CARD,INDEX,RLD,300PK,5X8,WHI"," ",21.71,35,{"$f":"VLOOKUP(M474,DFL!A:E,5,0)","v":0.7},{"$f":"P474-(P474/1.0025)","v":1.6234413965086958E-2},6.51]
[{"$error":"#N/A"},null,null,null,null,193539,"BSD","BSD","PK","CARD,INDEX,BLNK,300PK,5X8,WHT"," ",21.71,35,{"$f":"VLOOKUP(M475,DFL!A:E,5,0)","v":0.7},{"$f":"P475-(P475/1.0025)","v":1.6234413965086958E-2},6.51]
[{"$error":"#N/A"},null,null,null,null,9228445,"BSD","BSD","CT","SOAP,SOF,ALOE,7.5OZ",null,19.28,19,{"$f":"VLOOKUP(M476,DFL!A:E,5,0)","v":0.5},{"$f":"P476-(P476/1.0025)","v":2.4039900249375634E-2},9.64]
[{"$error":"#N/A"},null,null,null,null,345806,"SPR","SPR","EA","GAME;MONEY BAGS;COIN VALUE",null,19.989999999999998,48,{"$f":"VLOOKUP(M477,DFL!A:H,8,0)","v":0.3},{"$f":"P477-(P477/1.0025)","v":3.4887780548627845E-2},13.99]
[{"$error":"#N/A"},null,null,null,null,1395064,"BSD","BSD","PK","INDEX CARD 3X5 RULD RNBW 100CT"," ",6.76,35,{"$f":"VLOOKUP(M478,DFL!A:E,5,0)","v":0.7},{"$f":"P478-(P478/1.0025)","v":5.0623441396506763E-3},2.0299999999999998]
[{"$error":"#N/A"},null,null,null,null,1850887,null,"SPR","EA"," Serta AIR Mid",null,534.29,48,{"$f":"VLOOKUP(M479,DFL!A:H,8,0)","v":0.3},{"$f":"P479-(P479/1.0025)","v":0.93266832917703368},374]
[{"$error":"#N/A"},null,null,null,null,302224,"SPR","SPR","PK","PAPER,THERM,2.25X85,3PK,WHT",null,6.64,24,{"$f":"VLOOKUP(M480,DFL!A:H,8,0)","v":0.55000000000000004},{"$f":"P480-(P480/1.0025)","v":7.4563591022442921E-3},2.99]
[{"$error":"#N/A"},null,null,null,null,353095,"SPR","SPR","EA","RISER,DESK,ADJ,SIT TO STAND"," ",562,48,{"$f":"VLOOKUP(M481,DFL!A:H,8,0)","v":0.3},{"$f":"P481-(P481/1.0025)","v":0.98104738154609095},393.4]
[{"$error":"#N/A"},null,null,null,null,204276,null,"SPR","EA","HLL6200DW"," ",529.99,48,{"$f":"VLOOKUP(M482,DFL!A:H,8,0)","v":0.3},{"$f":"P482-(P482/1.0025)","v":0.92516209476309541},370.99]
[{"$error":"#N/A"},null,null,null,null,5144484,"SPR","SPR","EA","COFFEE;BB;CAN;22.6OZ",null,38.07,48,{"$f":"VLOOKUP(M483,DFL!A:H,8,0)","v":0.3},{"$f":"P483-(P483/1.0025)","v":6.645885286782871E-2},26.65]
[{"$error":"#N/A"},null,null,null,null,3562927,"SPR","SPR","EA","DESK;W/MDPNL;72X36;SDD",null,780,48,{"$f":"VLOOKUP(M484,DFL!A:H,8,0)","v":0.3},{"$f":"P484-(P484/1.0025)","v":1.3615960099750737},546]
[{"$error":"#N/A"},null,null,null,null,388067,"SPR","SPR","EA","COFFEE,BLACK SILK,CAF,24.2OZ"," ",41.95,48,{"$f":"VLOOKUP(M485,DFL!A:H,8,0)","v":0.3},{"$f":"P485-(P485/1.0025)","v":7.3241895261844547E-2},29.37]
[{"$error":"#N/A"},null,null,null,null,9825588,null,"SPR","EA","COFFEE;HALFCAFF;CAN;22.6OZ",null,36.080726698262232,48,{"$f":"VLOOKUP(M486,DFL!A:H,8,0)","v":0.3},{"$f":"P486-(P486/1.0025)","v":6.2992518703239853E-2},25.26]
[{"$error":"#N/A"},null,null,null,null,8138829,"SPR","SPR","CT","COFFEE, BLACK SILK, 24.2OZ",null,251.7,48,{"$f":"VLOOKUP(M487,DFL!A:H,8,0)","v":0.3},{"$f":"P487-(P487/1.0025)","v":0.43937655860347036},176.19]
[{"$error":"#N/A"},null,null,null,null,9863457,null,"SPR","EA","COFFEE;BLSILK;22.6OZ;GD",null,17.170000000000002,48,{"$f":"VLOOKUP(M488,DFL!A:H,8,0)","v":0.3},{"$f":"P488-(P488/1.0025)","v":2.9975062344139047E-2},12.02]
[{"$error":"#N/A"},null,null,null,null,939080,"BSD","BSD","CA","WIPE,DISINFCTNT,LYSOL",null,71.31,19,{"$f":"VLOOKUP(M489,DFL!A:E,5,0)","v":0.5},{"$f":"P489-(P489/1.0025)","v":8.8927680798001063E-2},35.659999999999997]
[{"$error":"#N/A"},null,null,null,null,791227,null,"SPR","EA","CASE,NOTEBOOK,BK"," ",256.47000000000003,14,{"$f":"VLOOKUP(M490,DFL!A:H,8,0)","v":0.31},{"$f":"P490-(P490/1.0025)","v":0.44129675810472691},176.96]
[{"$error":"#N/A"},null,null,null,null,104218,"SPR","SPR","EA","PUNCH,1-HOLE,LOW FORCE,ACCO",null,12.08,7,{"$f":"VLOOKUP(M491,DFL!A:H,8,0)","v":0.46},{"$f":"P491-(P491/1.0025)","v":1.6259351620947271E-2},6.52]
[{"$error":"#N/A"},null,null,null,null,371641,"SPR","SPR","BX","STAPLES,3/8\",25-60SHT,5M/BX"," ",21.79,37,{"$f":"VLOOKUP(M492,DFL!A:H,8,0)","v":0.5},{"$f":"P492-(P492/1.0025)","v":2.7182044887780421E-2},10.9]
[{"$error":"#N/A"},null,null,null,null,203542,"SPR","SPR","EA","HOLEPUNCH,LOWFORCE,2HOLE,20SHT"," ",34.590000000000003,7,{"$f":"VLOOKUP(M493,DFL!A:H,8,0)","v":0.46},{"$f":"P493-(P493/1.0025)","v":4.6583541147132479E-2},18.68]
[{"$error":"#N/A"},null,null,null,null,953259,"SPR","SPR","PK","POUCH,LAMINATE,LTR,3MIL,50",null,59.19,45,{"$f":"VLOOKUP(M494,DFL!A:H,8,0)","v":0.35},{"$f":"P494-(P494/1.0025)","v":9.5935162094761495E-2},38.47]
[{"$error":"#N/A"},null,null,null,null,432971,"SPR","SPR","PK","POUCH;BUSINESS;CARD",null,41.18,35,{"$f":"VLOOKUP(M495,DFL!A:H,8,0)","v":0.6},{"$f":"P495-(P495/1.0025)","v":4.1072319201994389E-2},16.47]
[{"$error":"#N/A"},null,null,null,null,136705,null,"SPR","PK","POUCH;LAMINATE;LETTER;3MIL",null,18.190000000000001,45,{"$f":"VLOOKUP(M496,DFL!A:H,8,0)","v":0.35},{"$f":"P496-(P496/1.0025)","v":2.9476309226932784E-2},11.82]
[{"$error":"#N/A"},null,null,null,null,984625,"SPR","SPR","PK","POUCH;LAM;11X17",null,51.1,45,{"$f":"VLOOKUP(M497,DFL!A:H,8,0)","v":0.35},{"$f":"P497-(P497/1.0025)","v":8.2842892768077547E-2},33.22]
[{"$error":"#N/A"},null,null,null,null,479673,"SPR","SPR","PK","POUCH,LETTER,3 MIL"," ",78.02,45,{"$f":"VLOOKUP(M498,DFL!A:H,8,0)","v":0.35},{"$f":"P498-(P498/1.0025)","v":0.12645885286782743},50.71]
[{"$error":"#N/A"},null,null,null,null,458245,"SPR","SPR","BX","CVR,OVRSZ,11.25X8.2,200PK,NVY","040/040,EPP (eVine),CPG,40% post-consumer content (paper)",244.43,8,{"$f":"VLOOKUP(M499,DFL!A:H,8,0)","v":0.55000000000000004},{"$f":"P499-(P499/1.0025)","v":0.27428927680797699},109.99]
[{"$error":"#N/A"},null,null,null,null,436003,"SPR","SPR","EA","LAMINATOR,FUSIONTM,3000L,12\""," ",341.24,21,{"$f":"VLOOKUP(M500,DFL!A:H,8,0)","v":0.28999999999999998},{"$f":"P500-(P500/1.0025)","v":0.60418952618451272},242.28]
[{"$error":"#N/A"},null,null,null,null,767031,"SPR","SPR","BX","COVER,BNDNG,SQUARE,LTR,CR"," ",114.56,8,{"$f":"VLOOKUP(M501,DFL!A:H,8,0)","v":0.55000000000000004},{"$f":"P501-(P501/1.0025)","v":0.12855361596009374},51.55]
[{"$error":"#N/A"},null,null,null,null,780967,null,"SPR","BX","REGENCY COVER - 8.5 X 11","040/040,EPP (eVine),CPG,40% post-consumer content (paper)",261.02999999999997,8,{"$f":"VLOOKUP(M502,DFL!A:H,8,0)","v":0.55000000000000004},{"$f":"P502-(P502/1.0025)","v":0.29291770573566112},117.46]
[{"$error":"#N/A"},null,null,null,null,595310,"SPR","SPR","BX","NAP II ROLL FILM,25X500,1.7",null,318.79000000000002,48,{"$f":"VLOOKUP(M503,DFL!A:H,8,0)","v":0.3},{"$f":"P503-(P503/1.0025)","v":0.55648379052368568},223.15]
[{"$error":"#N/A"},null,null,null,null,863483,"SPR","SPR","BX","SPINES;PROCLICK;5/8\";BK",null,137.66,8,{"$f":"VLOOKUP(M504,DFL!A:H,8,0)","v":0.55000000000000004},{"$f":"P504-(P504/1.0025)","v":0.15448877805486205},61.95]
[{"$error":"#N/A"},null,null,null,null,7909439,"SPR","SPR","EA","LAMINATOR,ROLL,ULTIMA 55 EZ",null,2947.11,21,{"$f":"VLOOKUP(M505,DFL!A:H,8,0)","v":0.28999999999999998},{"$f":"P505-(P505/1.0025)","v":5.2180798004987992},2092.4499999999998]
[{"$error":"#N/A"},null,null,null,null,753750,"SPR","SPR","BX","POUCH,LAM,LTR,10ML,CR"," ",137.02000000000001,45,{"$f":"VLOOKUP(M506,DFL!A:H,8,0)","v":0.35},{"$f":"P506-(P506/1.0025)","v":0.22209476309225806},89.06]
[{"$error":"#N/A"},null,null,null,null,344769,"SPR","SPR","EA","MACHINE;BINDING;MANUAL;P110",null,665.98,48,{"$f":"VLOOKUP(M507,DFL!A:H,8,0)","v":0.3},{"$f":"P507-(P507/1.0025)","v":1.1625685785535893},466.19]
[{"$error":"#N/A"},null,null,null,null,425262,"SPR","SPR","EA","COMB BINDING MACHINE,C450E"," ",1338.39,48,{"$f":"VLOOKUP(M508,DFL!A:H,8,0)","v":0.3},{"$f":"P508-(P508/1.0025)","v":2.336334164588493},936.87]
[{"$error":"#N/A"},null,null,null,null,248959,"BSD","BSD","EA","TRIMMER,INGENTO,HARDWOOD,24IN",null,608.28497985433137,7,{"$f":"VLOOKUP(M509,DFL!A:E,5,0)","v":0.72},{"$f":"P509-(P509/1.0025)","v":0.42473815461346476},170.32]
[{"$error":"#N/A"},null,null,null,null,241794,"SPR","SPR","BX","COVER,STDWEIGHT,100/BX,CLEAR"," ",104.73,8,{"$f":"VLOOKUP(M510,DFL!A:H,8,0)","v":0.55000000000000004},{"$f":"P510-(P510/1.0025)","v":0.11753117206982466},47.13]
[{"$error":"#N/A"},null,null,null,null,840187,"SPR","SPR","EA","PUNCH,SWNGLNE,3-HOLE,LTDTY,BLK"," ",36.299999999999997,7,{"$f":"VLOOKUP(M511,DFL!A:H,8,0)","v":0.46},{"$f":"P511-(P511/1.0025)","v":4.8877805486284842E-2},19.600000000000001]
[{"$error":"#N/A"},null,null,null,null,659335,"SPR","SPR","EA","PUNCH,ELECTRIC ADJUST,GY"," ",783.52,7,{"$f":"VLOOKUP(M512,DFL!A:H,8,0)","v":0.46},{"$f":"P512-(P512/1.0025)","v":1.0551122194513596},{"$f":"ROUND(L512*(1-N512),2)","v":423.1}]
[{"$error":"#N/A"},null,null,null,null,354786,"SPR","SPR","BX","FILM,LAMINATE,1.5MIL,EZLD,2/BX"," ",259.62,45,{"$f":"VLOOKUP(M513,DFL!A:H,8,0)","v":0.35},{"$f":"P513-(P513/1.0025)","v":0.42082294264338316},168.75]
[{"$error":"#N/A"},null,null,null,null,583666,"SPR","SPR","EA","PUNCH,3HOLE,40SHT/CAP,BLACK"," ",199.63,7,{"$f":"VLOOKUP(M514,DFL!A:H,8,0)","v":0.46},{"$f":"P514-(P514/1.0025)","v":0.26882793017455242},107.8]
[{"$error":"#N/A"},null,null,null,null,436012,"SPR","SPR","EA","LAMINATOR,FUSIONTM,3100L,12\""," ",478.92,21,{"$f":"VLOOKUP(M515,DFL!A:H,8,0)","v":0.28999999999999998},{"$f":"P515-(P515/1.0025)","v":0.84795511221943798},340.03]
[{"$error":"#N/A"},null,null,null,null,8731274,"SPR","SPR","EA","SHREDDER,AUTO,CRSSCUT,300",null,1232.6199999999999,21,{"$f":"VLOOKUP(M516,DFL!A:H,8,0)","v":0.28999999999999998},{"$f":"P516-(P516/1.0025)","v":2.1824438902742713},875.16]
[{"$error":"#N/A"},null,null,null,null,191309,"SPR","SPR","EA","LAMINATOR SW 7000L 12\" BLACK",null,671.72,21,{"$f":"VLOOKUP(M517,DFL!A:H,8,0)","v":0.28999999999999998},{"$f":"P517-(P517/1.0025)","v":1.1893266832917675},476.92]
[{"$error":"#N/A"},null,null,null,null,145661,"SPR","SPR","PK"," COVER BNDG PLSTC 50PK BK",null,79.27,35,{"$f":"VLOOKUP(M518,DFL!A:H,8,0)","v":0.6},{"$f":"P518-(P518/1.0025)","v":7.9077306733164932E-2},31.71]
[{"$error":"#N/A"},null,null,null,null,9005308,"SPR","SPR","EA","SHREDDER,CROSSCUT,SX20-08",null,764.9,48,{"$f":"VLOOKUP(M519,DFL!A:H,8,0)","v":0.3},{"$f":"P519-(P519/1.0025)","v":1.3352369077306321},535.42999999999995]
[{"$error":"#N/A"},null,null,null,null,387024,"SPR","SPR","EA","PUNCH,3-HOLE,HIGH-CAPACITY,300"," ",664.16,7,{"$f":"VLOOKUP(M520,DFL!A:H,8,0)","v":0.46},{"$f":"P520-(P520/1.0025)","v":0.89438902743142989},358.65]
[{"$error":"#N/A"},null,null,null,null,479548,"SPR","SPR","BX","POUCH,LAM,MENU SZ,5ML,CR"," ",236.33,45,{"$f":"VLOOKUP(M521,DFL!A:H,8,0)","v":0.35},{"$f":"P521-(P521/1.0025)","v":0.38306733167081575},153.61000000000001]
[{"$error":"#N/A"},null,null,null,null,968455,"SPR","SPR","BX","POUCH,LAM,LTR SZ,5ML,CL"," ",127.44,45,{"$f":"VLOOKUP(M522,DFL!A:H,8,0)","v":0.35},{"$f":"P522-(P522/1.0025)","v":0.20658354114712552},82.84]
[{"$error":"#N/A"},null,null,null,null,588790,"SPR","SPR","EA","PUNCH,1-3HOLE,11/32\",BL/WT",null,181.47,7,{"$f":"VLOOKUP(M523,DFL!A:H,8,0)","v":0.46},{"$f":"P523-(P523/1.0025)","v":0.24436408977555857},97.99]
[{"$error":"#N/A"},null,null,null,null,649950,"SPR","SPR","EA","PUNCH,3-HOLE,MAXI-DUTY,LT GRAY",null,296.63,7,{"$f":"VLOOKUP(M524,DFL!A:H,8,0)","v":0.46},{"$f":"P524-(P524/1.0025)","v":0.39945137157107524},160.18]
[{"$error":"#N/A"},null,null,null,null,479094,"SPR","SPR","BX","POUCH;LAMINATE;LETTER;7MIL",null,198.1,45,{"$f":"VLOOKUP(M525,DFL!A:H,8,0)","v":0.35},{"$f":"P525-(P525/1.0025)","v":0.32112219451371971},128.77000000000001]
[{"$error":"#N/A"},null,null,null,null,479129,"SPR","SPR","BX","POUCH,LAM,MENU SZ,3ML,CR"," ",221.17,45,{"$f":"VLOOKUP(M526,DFL!A:H,8,0)","v":0.35},{"$f":"P526-(P526/1.0025)","v":0.35850374064835933},143.76]
[{"$error":"#N/A"},null,null,null,null,590938,"SPR","SPR","BX","U35EZ 3MILNAPII ROLL FILM,2BX"," ",173.71,45,{"$f":"VLOOKUP(M527,DFL!A:H,8,0)","v":0.35},{"$f":"P527-(P527/1.0025)","v":0.28157107231919554},112.91]
[{"$error":"#N/A"},null,null,null,null,777401,"SPR","SPR","EA","PAPERPUNCH,HEAVY DUTY,LVR HNDL",null,199.45,7,{"$f":"VLOOKUP(M528,DFL!A:H,8,0)","v":0.46},{"$f":"P528-(P528/1.0025)","v":0.26857855361595284},107.7]
[{"$error":"#N/A"},null,null,null,null,265971,"SPR","SPR","CT","ROLL;FILM;EZ;27X500;1.5MIL",null,209.61,45,{"$f":"VLOOKUP(M529,DFL!A:H,8,0)","v":0.35},{"$f":"P529-(P529/1.0025)","v":0.33977556109724105},136.25]
[{"$error":"#N/A"},null,null,null,null,514608,"SPR","SPR","PK","LMNTNG ROLL,1.5MIL,27X500,2PK"," ",280.73,14,{"$f":"VLOOKUP(M530,DFL!A:H,8,0)","v":0.31},{"$f":"P530-(P530/1.0025)","v":0.48304239401494442},193.7]
[{"$error":"#N/A"},null,null,null,null,186316,"SPR","SPR","EA","LAMINATOR,FUSION 1000L,12\"\"",null,148.65,21,{"$f":"VLOOKUP(M531,DFL!A:H,8,0)","v":0.28999999999999998},{"$f":"P531-(P531/1.0025)","v":0.2631920199501252},105.54]
[{"$error":"#N/A"},null,null,null,null,973019,"SPR","SPR","BX","POUCH,ULTRA LAMIN,100,CLR",null,117.63,45,{"$f":"VLOOKUP(M532,DFL!A:H,8,0)","v":0.35},{"$f":"P532-(P532/1.0025)","v":0.19067331670822796},76.459999999999994]
[{"$error":"#N/A"},null,null,null,null,9997161,"SPR","SPR","EA","CARTRIDGE,REFILL,3MIL",null,89.89,45,{"$f":"VLOOKUP(M533,DFL!A:H,8,0)","v":0.35},{"$f":"P533-(P533/1.0025)","v":0.14571072319201761},58.43]
[{"$error":"#N/A"},null,null,null,null,479272,"SPR","SPR","BX","POUCH;LAMINATE;ID BADGE;10M",null,91.62,45,{"$f":"VLOOKUP(M534,DFL!A:H,8,0)","v":0.35},{"$f":"P534-(P534/1.0025)","v":0.14850374064837268},59.55]
[{"$error":"#N/A"},null,null,null,null,479076,"SPR","SPR","BX","POUCH,LAM,LTR SZ 3ML,CR"," ",104.13,45,{"$f":"VLOOKUP(M535,DFL!A:H,8,0)","v":0.35},{"$f":"P535-(P535/1.0025)","v":0.16877805486284103},67.680000000000007]
[{"$error":"#N/A"},null,null,null,null,711044,"SPR","SPR","EA","PUNCH,LEVER,HANDLE,BLK"," ",87.85,7,{"$f":"VLOOKUP(M536,DFL!A:H,8,0)","v":0.46},{"$f":"P536-(P536/1.0025)","v":0.11830423940149615},47.44]
[{"$error":"#N/A"},null,null,null,null,823429,"SPR","SPR","EA","STAPLER,LONG REACH,SWNGLNE,BLK"," ",103.19,37,{"$f":"VLOOKUP(M537,DFL!A:H,8,0)","v":0.5},{"$f":"P537-(P537/1.0025)","v":0.12867830423940063},51.6]
[{"$error":"#N/A"},null,null,null,null,8714778,null,"SPR","EA","TOP;TBL;CONF;STDG;MIRELLA",null,1145,48,{"$f":"VLOOKUP(M538,DFL!A:H,8,0)","v":0.3},{"$f":"P538-(P538/1.0025)","v":1.9987531172068884},801.5]
[{"$error":"#N/A"},null,null,null,null,968383,"SPR","SPR","EA","OIL,F/SHREDDER"," ",41.46,48,{"$f":"VLOOKUP(M539,DFL!A:H,8,0)","v":0.3},{"$f":"P539-(P539/1.0025)","v":7.236907730673181E-2},29.02]
[{"$error":"#N/A"},null,null,null,null,433250,null,"SPR","BX","BINDING,PLAST,5/8\",BLK,25/PK"," ",42.14,8,{"$f":"VLOOKUP(M540,DFL!A:H,8,0)","v":0.55000000000000004},{"$f":"P540-(P540/1.0025)","v":4.7281795511221247E-2},18.96]
[{"$error":"#N/A"},null,null,null,null,710659,"SPR","SPR","EA","PUNCH,2HOLE,1/4\"-2.75\"CC,BLK"," ",45.07,7,{"$f":"VLOOKUP(M541,DFL!A:H,8,0)","v":0.46},{"$f":"P541-(P541/1.0025)","v":6.0698254364087489E-2},24.34]
[{"$error":"#N/A"},null,null,null,null,710614,"SPR","SPR","EA","PUNCH,3-HOLE,9/32\",10SHT,BLK"," ",37.130000000000003,7,{"$f":"VLOOKUP(M542,DFL!A:H,8,0)","v":0.46},{"$f":"P542-(P542/1.0025)","v":5.0000000000000711E-2},20.05]
[{"$error":"#N/A"},null,null,null,null,535872,"SPR","SPR","BX","STAPLES,HD,3/4\",90-160,1000BX"," ",16.850000000000001,37,{"$f":"VLOOKUP(M543,DFL!A:H,8,0)","v":0.5},{"$f":"P543-(P543/1.0025)","v":2.1022443890274189E-2},8.43]
[{"$error":"#N/A"},null,null,null,null,765040,"SPR","SPR","EA","PUNCH,2-3-HOLE,11 SHT,9/32,ADJ"," ",44.19,7,{"$f":"VLOOKUP(M544,DFL!A:H,8,0)","v":0.46},{"$f":"P544-(P544/1.0025)","v":5.9501246882792458E-2},23.86]
[{"$error":"#N/A"},null,null,null,null,305262,"BSD","BSD","CT","FOLGERS 100% COLUMB 1.75OZ"," ",131.45981686046511,48,{"$f":"VLOOKUP(M545,DFL!A:E,5,0)","v":0.42},{"$f":"P545-(P545/1.0025)","v":0.19014962593516316},76.25]
[{"$error":"#N/A"},null,null,null,null,727188,"BSD","BSD","CA","COFFEE,DECAF,FLGERS,1.5OZ,42CA"," ",90.390296105568083,48,{"$f":"VLOOKUP(M546,DFL!A:E,5,0)","v":0.42},{"$f":"P546-(P546/1.0025)","v":0.1307481296758084},52.43]
[{"$error":"#N/A"},null,null,null,null,117871,"BSD","BSD","PK","POUCH,LAM,BUSN CD,CL"," ",29.665535714285713,35,{"$f":"VLOOKUP(M547,DFL!A:E,5,0)","v":0.7},{"$f":"P547-(P547/1.0025)","v":2.2194513715710684E-2},8.9]
[{"$error":"#N/A"},null,null,null,null,461944,null,"SPR","DZ","BRUSH;PAINT;CAMELHAIR;#7",null,12.3,47,{"$f":"VLOOKUP(M548,DFL!A:H,8,0)","v":0.5},{"$f":"P548-(P548/1.0025)","v":1.5336658354114796E-2},6.15]
[{"$error":"#N/A"},null,null,null,null,667169,"BSD","BSD","EA","DISPENSER,SOAP,TCHFR,GRAPH",null,116.74,48,{"$f":"VLOOKUP(M549,DFL!A:E,5,0)","v":0.42},{"$f":"P549-(P549/1.0025)","v":0.16885286783042375},67.709999999999994]
[{"$error":"#N/A"},null,null,null,null,6198311,null,"SPR","EA","LAMP,DSK,WORKPRO,W/WRLSS,CHR",null,132.13,16,{"$f":"VLOOKUP(M550,DFL!A:H,8,0)","v":0.36},{"$f":"P550-(P550/1.0025)","v":0.21087281795510648},84.56]
[{"$error":"#N/A"},null,null,null,null,104138,null,"SPR","EA","CRTDG,LSR,SAS CLP775M,MA",null,215.42,44,{"$f":"VLOOKUP(M551,DFL!A:H,8,0)","v":0.5},{"$f":"P551-(P551/1.0025)","v":0.26860349127181848},107.71]
[{"$error":"#N/A"},null,null,null,null,129567,null,"SPR","EA","CRTDG,LSR,SAS CLP775C,CYN",null,215.42,44,{"$f":"VLOOKUP(M552,DFL!A:H,8,0)","v":0.5},{"$f":"P552-(P552/1.0025)","v":0.26860349127181848},107.71]
[{"$error":"#N/A"},null,null,null,null,418706,null,"SPR","EA","CRTDG;LSR;SAS CLP775Y;YW",null,205.19,44,{"$f":"VLOOKUP(M553,DFL!A:H,8,0)","v":0.5},{"$f":"P553-(P553/1.0025)","v":0.25586034912717537},102.6]
[{"$error":"#N/A"},null,null,null,null,8249817,null,"SPR","EA","DESK,SCHOOL,SIT-STAND,28\"",null,784,48,{"$f":"VLOOKUP(M554,DFL!A:H,8,0)","v":0.3},{"$f":"P554-(P554/1.0025)","v":1.3685785536159756},548.79999999999995]
[{"$error":"#N/A"},null,null,null,null,540055,null,"SPR","DZ","BRUSH;EASEL;FLAT;1/2\"",null,18.57,47,{"$f":"VLOOKUP(M555,DFL!A:H,8,0)","v":0.5},{"$f":"P555-(P555/1.0025)","v":2.3167082294264674E-2},9.2899999999999991]
[{"$error":"#N/A"},null,null,null,null,5275890,"SPR","SPR","BX","ABACUS;FRAME;WIRE;BEAD",null,6.99,48,{"$f":"VLOOKUP(M556,DFL!A:H,8,0)","v":0.3},{"$f":"P556-(P556/1.0025)","v":1.2194513715710897E-2},4.8899999999999997]
[{"$error":"#N/A"},null,null,null,null,291087,null,"SPR","EA","EXECUTIVE SERVICE CART"," ",496.84,13,{"$f":"VLOOKUP(M557,DFL!A:H,8,0)","v":0.32},{"$f":"P557-(P557/1.0025)","v":0.84251870324186484},337.85]
[{"$error":"#N/A"},null,null,null,null,6379488,"SPR","SPR","CT","COFFEE,24-2.5OZ,BLD,DECAF",null,101.03,48,{"$f":"VLOOKUP(M558,DFL!A:H,8,0)","v":0.3},{"$f":"P558-(P558/1.0025)","v":0.17635910224439044},70.72]
[{"$error":"#N/A"},null,null,null,null,3594480,null,"SPR","EA","PRINTER,BRTHER,LSER,MF,L3710CW",null,659.99,48,{"$f":"VLOOKUP(M559,DFL!A:H,8,0)","v":0.3},{"$f":"P559-(P559/1.0025)","v":1.1520947630922365},461.99]
[{"$error":"#N/A"},null,null,null,null,698772,"SPR","SPR","EA","RISER, DESK,SIT STAND DLX",null,729,48,{"$f":"VLOOKUP(M560,DFL!A:H,8,0)","v":0.3},{"$f":"P560-(P560/1.0025)","v":1.2725685785536029},510.3]
[{"$error":"#N/A"},null,null,null,null,592194,"SPR","SPR","CT","SNACKMIX,SAHALE,ALMHNEY,1.5OZ",null,47.42,48,{"$f":"VLOOKUP(M561,DFL!A:H,8,0)","v":0.3},{"$f":"P561-(P561/1.0025)","v":8.2768079800494831E-2},33.19]
[{"$error":"#N/A"},null,null,null,null,271843,"SPR","SPR","CT","SNACKMIX,SAHALE,CSHWPOMG,1.5OZ",null,52.67,48,{"$f":"VLOOKUP(M562,DFL!A:H,8,0)","v":0.3},{"$f":"P562-(P562/1.0025)","v":9.1945137157104284E-2},36.869999999999997]
[{"$error":"#N/A"},null,null,null,null,8527432,"SPR","SPR","CT","PECANS,MAPLE,1.5OZ",null,52.67,48,{"$f":"VLOOKUP(M563,DFL!A:H,8,0)","v":0.3},{"$f":"P563-(P563/1.0025)","v":9.1945137157104284E-2},36.869999999999997]
[{"$error":"#N/A"},null,null,null,null,947878,null,"SPR","PK","PEN;GEL;B2P;FINE;AST;5COLOR",null,11.63,33,{"$f":"VLOOKUP(M564,DFL!A:H,8,0)","v":0.55000000000000004},{"$f":"P564-(P564/1.0025)","v":1.3042394014962433E-2},5.23]
[{"$error":"#N/A"},null,null,null,null,608465,"SPR","SPR","CT","SNACKMIX,SAHALE,CALIALMD,1.5OZ",null,53.43,48,{"$f":"VLOOKUP(M565,DFL!A:H,8,0)","v":0.3},{"$f":"P565-(P565/1.0025)","v":9.3266832917706211E-2},37.4]
[{"$error":"#N/A"},null,null,null,null,741587,"SPR","SPR","EA","GLASS,SAFETY,PRIVO,3M"," ",15.98,22,{"$f":"VLOOKUP(M566,DFL!A:H,8,0)","v":0.41},{"$f":"P566-(P566/1.0025)","v":2.3516209476309058E-2},9.43]
[{"$error":"#N/A"},null,null,null,null,983351,"SPR","SPR","DZ","PAD,LGL,RLD,3HP,8.5X11,CT",null,137,30,{"$f":"VLOOKUP(M567,DFL!A:H,8,0)","v":0.57999999999999996},{"$f":"P567-(P567/1.0025)","v":0.14349127182044441},57.54]
[{"$error":"#N/A"},null,null,null,null,726230,"SPR","SPR","CT","PLATE,PPR,9\",GRNLBL,UNCOAT",null,65.73,18,{"$f":"VLOOKUP(M568,DFL!A:H,8,0)","v":0.44},{"$f":"P568-(P568/1.0025)","v":9.1795511221945958E-2},36.81]
[{"$error":"#N/A"},null,null,null,null,354065,"SPR","SPR","CT","PLATE,9\" PAPER,WE",null,56.19,18,{"$f":"VLOOKUP(M569,DFL!A:H,8,0)","v":0.44},{"$f":"P569-(P569/1.0025)","v":7.8478802992517416E-2},31.47]
[{"$error":"#N/A"},null,null,null,null,811296,"BSD","BSD","EA","LOTION,DLY,MOISTUR,AVEENO,12OZ"," ",24.01,22,{"$f":"VLOOKUP(M570,DFL!A:E,5,0)","v":0.52},{"$f":"P570-(P570/1.0025)","v":2.8728179551121613E-2},11.52]
[{"$error":"#N/A"},null,null,null,null,9874718,"SPR","SPR","EA","RISER,DESK,ERGO,ADJUS,BL",null,681,48,{"$f":"VLOOKUP(M571,DFL!A:H,8,0)","v":0.3},{"$f":"P571-(P571/1.0025)","v":1.1887780548628371},476.7]
[{"$error":"#N/A"},null,null,null,null,140686,"BSD","BSD","PK","WIPES,DISINF,LL,80CT-3PK"," ",35.659999999999997,19,{"$f":"VLOOKUP(M572,DFL!A:E,5,0)","v":0.5},{"$f":"P572-(P572/1.0025)","v":4.4463840399000532E-2},17.829999999999998]
[{"$error":"#N/A"},null,null,null,null,8181899,"SPR","SPR","EA","BOARD,AYDA,CORK,18X24",null,36.479999999999997,10,{"$f":"VLOOKUP(M573,DFL!A:H,8,0)","v":0.36},{"$f":"P573-(P573/1.0025)","v":5.8229426433914711E-2},23.35]
[{"$error":"#N/A"},null,null,null,null,181285,"SPR","SPR","PK","TABS,DURABLE TABS,50/PK,WHITE"," ",10.8,30,{"$f":"VLOOKUP(M574,DFL!A:H,8,0)","v":0.57999999999999996},{"$f":"P574-(P574/1.0025)","v":1.1321695760598161E-2},4.54]
[{"$error":"#N/A"},null,null,null,null,348950,"BSD","BSD","PK","TAPE,HD,CLEAR1.88X54.6YD8PK"," ",67.69,39,{"$f":"VLOOKUP(M575,DFL!A:E,5,0)","v":0.6},{"$f":"P575-(P575/1.0025)","v":6.7531172069823953E-2},27.08]
[{"$error":"#N/A"},null,null,null,null,996444,"SPR","SPR","EA","3M PRIVACY FILTER PF14.0W - NO"," ",92.84,48,{"$f":"VLOOKUP(M576,DFL!A:H,8,0)","v":0.3},{"$f":"P576-(P576/1.0025)","v":0.16206982543640436},{"$f":"ROUND(L576*(1-N576),2)","v":64.989999999999995}]
[{"$error":"#N/A"},null,null,null,null,5669141,"SPR","SPR","EA","GAME;WORD;POSITION",null,36.99,48,{"$f":"VLOOKUP(M577,DFL!A:H,8,0)","v":0.3},{"$f":"P577-(P577/1.0025)","v":6.4563591022441358E-2},25.89]
[{"$error":"#N/A"},null,null,null,null,5833901,"SPR","SPR","EA","GLASS BD,MAG,24X36,WH",null,172.13,10,{"$f":"VLOOKUP(M578,DFL!A:H,8,0)","v":0.36},{"$f":"P578-(P578/1.0025)","v":0.27471321695759343},110.16]
[{"$error":"#N/A"},null,null,null,null,279673,"BSD","BSD","EA"," COFFEE STRBKS PIKEPLC KCUP 24",null,51.7,48,{"$f":"VLOOKUP(M579,DFL!A:E,5,0)","v":0.42},{"$f":"P579-(P579/1.0025)","v":7.4788029925183963E-2},29.99]
[{"$error":"#N/A"},null,null,null,null,979693,"BSD","BSD","BX"," COFFEE STRBKS VERANDA KCUP 24",null,51.7,48,{"$f":"VLOOKUP(M580,DFL!A:E,5,0)","v":0.42},{"$f":"P580-(P580/1.0025)","v":7.4788029925183963E-2},29.99]
[{"$error":"#N/A"},null,null,null,null,979684,"BSD","BSD","EA"," COFFEE STRBKS VERONA KCUP 24",null,51.7,48,{"$f":"VLOOKUP(M581,DFL!A:E,5,0)","v":0.42},{"$f":"P581-(P581/1.0025)","v":7.4788029925183963E-2},29.99]
[{"$error":"#N/A"},null,null,null,null,979702,"BSD","BSD","EA"," COFFEE STRBKS PIKEDCAF KCUP 24",null,51.7,48,{"$f":"VLOOKUP(M582,DFL!A:E,5,0)","v":0.42},{"$f":"P582-(P582/1.0025)","v":7.4788029925183963E-2},29.99]
[{"$error":"#N/A"},null,null,null,null,740468,"BSD","BSD","EA","BOARD,DRIERSE,4X6,GU,AL"," ",921.4,10,{"$f":"VLOOKUP(M583,DFL!A:E,5,0)","v":0.55000000000000004},{"$f":"P583-(P583/1.0025)","v":1.0339900249376228},414.63]
[{"$error":"#N/A"},null,null,null,null,911865,"SPR","SPR","EA","BOARD,3N1,CALENDER,PLANNER,2X3",null,85.58,10,{"$f":"VLOOKUP(M584,DFL!A:H,8,0)","v":0.36},{"$f":"P584-(P584/1.0025)","v":0.13658354114713234},54.77]
[{"$error":"#N/A"},null,null,null,null,929364,"BSD","BSD","TB","LEAD,HBM,SUPERFINE,.5MM,12/TB"," ",1.26,33,{"$f":"VLOOKUP(M585,DFL!A:E,5,0)","v":0.65},{"$f":"P585-(P585/1.0025)","v":1.0972568578553332E-3},0.44]
[{"$error":"#N/A"},null,null,null,null,8716551,null,"SPR","EA","HUTCH WALL MIRELLA GLS DRS",null,694,48,{"$f":"VLOOKUP(M586,DFL!A:H,8,0)","v":0.3},{"$f":"P586-(P586/1.0025)","v":1.2114713216957398},485.8]
[{"$error":"#N/A"},null,null,null,null,8716801,null,"SPR","EA","HUTCH WALL MIRELLA WOOD DRS",null,544,48,{"$f":"VLOOKUP(M587,DFL!A:H,8,0)","v":0.3},{"$f":"P587-(P587/1.0025)","v":0.94962593516208926},380.8]
[{"$error":"#N/A"},null,null,null,null,1697833,"SPR","SPR","CT","1/6 BBL 57# NATURAL 500",null,122.9,19,{"$f":"VLOOKUP(M588,DFL!A:H,8,0)","v":0.45},{"$f":"P588-(P588/1.0025)","v":0.16857855361595853},67.599999999999994]
[{"$error":"#N/A"},null,null,null,null,8715802,null,"SPR","EA","TOP;TBL;CONF;MIRELLA;SDD",null,1228,48,{"$f":"VLOOKUP(M589,DFL!A:H,8,0)","v":0.3},{"$f":"P589-(P589/1.0025)","v":2.1436408977555175},859.6]
[{"$error":"#N/A"},null,null,null,null,726225,"SPR","SPR","CT","PLATE,PPR,6\",GRNLBL,UNCOAT",null,53.52,48,{"$f":"VLOOKUP(M590,DFL!A:H,8,0)","v":0.3},{"$f":"P590-(P590/1.0025)","v":9.3416458852864537E-2},37.46]
[{"$error":"#N/A"},null,null,null,null,6079580,"SPR","SPR","EA","CHAIR,MIDBACK,PADDED SEAT,WHT",null,444,48,{"$f":"VLOOKUP(M591,DFL!A:H,8,0)","v":0.3},{"$f":"P591-(P591/1.0025)","v":0.77506234413965558},310.8]
[{"$error":"#N/A"},null,null,null,null,403196,"SPR","SPR","CT","PAPER,COPY,DOUBLE-A",null,289.63,32,{"$f":"VLOOKUP(M592,DFL!A:H,8,0)","v":0.65},{"$f":"P592-(P592/1.0025)","v":0.25279301745635507},101.37]
[{"$error":"#N/A"},null,null,null,null,1392508,"SPR","SPR","PK","PPR PLATE,9IN,WHT,100/PK",null,11.99,18,{"$f":"VLOOKUP(M593,DFL!A:H,8,0)","v":0.44},{"$f":"P593-(P593/1.0025)","v":1.6733167082294109E-2},6.71]
[{"$error":"#N/A"},null,null,null,null,9964556,"SPR","SPR","CT","PLATE,PAPER,COATED,9\",WE",null,119.9,18,{"$f":"VLOOKUP(M594,DFL!A:H,8,0)","v":0.44},{"$f":"P594-(P594/1.0025)","v":0.16743142144638057},67.14]
[{"$error":"#N/A"},null,null,null,null,800640,"SPR","SPR","EA"," POUCH PENCIL 5STAR STAND ASTD",null,10.26,33,{"$f":"VLOOKUP(M595,DFL!A:H,8,0)","v":0.55000000000000004},{"$f":"P595-(P595/1.0025)","v":1.1521197007480666E-2},4.62]
[{"$error":"#N/A"},null,null,null,null,751231,"SPR","SPR","EA","POUCH;ZIPPER;XPANZ",null,13.6,47,{"$f":"VLOOKUP(M596,DFL!A:H,8,0)","v":0.5},{"$f":"P596-(P596/1.0025)","v":1.6957605985036928E-2},6.8]
[{"$error":"#N/A"},null,null,null,null,873632,"SPR","SPR","EA","BOOK;MEMO;SIDE;4X6;AST",null,2.44,30,{"$f":"VLOOKUP(M597,DFL!A:H,8,0)","v":0.57999999999999996},{"$f":"P597-(P597/1.0025)","v":2.5436408977554947E-3},1.02]
[{"$error":"#N/A"},null,null,null,null,8228030,"SPR","SPR","EA","BOARD,CORK,3X4,BLK",null,126.88,10,{"$f":"VLOOKUP(M598,DFL!A:H,8,0)","v":0.36},{"$f":"P598-(P598/1.0025)","v":0.20249376558602705},81.2]
[{"$error":"#N/A"},null,null,null,null,5929783,"SPR","SPR","BX","SAMPLER;VARIETY;DECAF;KEURIG",null,39.08,48,{"$f":"VLOOKUP(M599,DFL!A:H,8,0)","v":0.3},{"$f":"P599-(P599/1.0025)","v":6.8229426433912721E-2},27.36]
[{"$error":"#N/A"},null,null,null,null,742751,"SPR","SPR","EA","EARMUFF,PELTOR,HEADBAND"," ",74.67,22,{"$f":"VLOOKUP(M600,DFL!A:H,8,0)","v":0.41},{"$f":"P600-(P600/1.0025)","v":0.10987531172069254},44.06]
[{"$error":"#N/A"},null,null,null,null,119750,"BSD","BSD","CA","SOAP,FOAM,FRAGFREE,4CA",null,85.3,19,{"$f":"VLOOKUP(M601,DFL!A:E,5,0)","v":0.5},{"$f":"P601-(P601/1.0025)","v":0.10635910224439016},42.65]
[{"$error":"#N/A"},null,null,null,null,4410229,null,"SPR","EA","GLASS BOARD, MAG,18X24,WH",null,117.48,10,{"$f":"VLOOKUP(M602,DFL!A:H,8,0)","v":0.36},{"$f":"P602-(P602/1.0025)","v":0.18750623441395931},75.19]
[{"$error":"#N/A"},null,null,null,null,803078,"SPR","SPR","ST","SET;SUPER;GEARS!157PC",null,64.97,48,{"$f":"VLOOKUP(M603,DFL!A:H,8,0)","v":0.3},{"$f":"P603-(P603/1.0025)","v":0.11341645885286766},45.48]
[{"$error":"#N/A"},null,null,null,null,768332,null,"SPR","PK","NOTES,4X6,SS,LINED,3PK,ASSTD","030/030,EPP (eVine),CPG,30% post-consumer,SFI Certified Product",19.64,30,{"$f":"VLOOKUP(M604,DFL!A:H,8,0)","v":0.57999999999999996},{"$f":"P604-(P604/1.0025)","v":2.0573566084786776E-2},8.25]
[{"$error":"#N/A"},null,null,null,null,9796118,null,"SPR","EA","TOP;ROUND;KNIFE;42;MAH",null,204,25,{"$f":"VLOOKUP(M605,DFL!A:H,8,0)","v":0.49},{"$f":"P605-(P605/1.0025)","v":0.25945137157106046},104.04]
[{"$error":"#N/A"},null,null,null,null,520824,"SPR","SPR","BX","BAG,STORAGE,1 GAL,ZIPLOC"," ",12.53,48,{"$f":"VLOOKUP(M606,DFL!A:H,8,0)","v":0.3},{"$f":"P606-(P606/1.0025)","v":2.1870324189524837E-2},8.77]
[{"$error":"#N/A"},null,null,null,null,7812482,"SPR","SPR","CT","BAG,ZIPLOC,EZ OPN TB,GAL,38",null,112.77,48,{"$f":"VLOOKUP(M607,DFL!A:H,8,0)","v":0.3},{"$f":"P607-(P607/1.0025)","v":0.19685785536158562},78.94]
[{"$error":"#N/A"},null,null,null,null,8661002,null,"SPR","EA"," SITTRUE RIDGEFIELD MESH CHAIR",null,474.41,48,{"$f":"VLOOKUP(M608,DFL!A:H,8,0)","v":0.3},{"$f":"P608-(P608/1.0025)","v":0.82815461346632446},332.09]
[{"$error":"#N/A"},null,null,null,null,9563981,null,"SPR","ST","SYSTEM,SECURITY,2TB,8CH,5MP",null,449.99,21,{"$f":"VLOOKUP(M609,DFL!A:H,8,0)","v":0.28999999999999998},{"$f":"P609-(P609/1.0025)","v":0.79673316708226594},319.49]
[{"$error":"#N/A"},null,null,null,null,8186146,"SPR","SPR","EA","BOARD,AYDA,MELAMINE,36X48",null,130.35,10,{"$f":"VLOOKUP(M610,DFL!A:H,8,0)","v":0.36},{"$f":"P610-(P610/1.0025)","v":0.20802992518703434},83.42]
[{"$error":"#N/A"},null,null,null,null,6009153,"SPR","SPR","EA","CHAIR,HIBACK,MESH,HEADREST",null,655,48,{"$f":"VLOOKUP(M611,DFL!A:H,8,0)","v":0.3},{"$f":"P611-(P611/1.0025)","v":1.1433915211969747},458.5]
[{"$error":"#N/A"},null,null,null,null,787679,"SPR","SPR","EA","GAME;CARDS;MINUTEMATH;FLSH",null,30.42,48,{"$f":"VLOOKUP(M612,DFL!A:H,8,0)","v":0.3},{"$f":"P612-(P612/1.0025)","v":5.3092269326683095E-2},21.29]
[{"$error":"#N/A"},null,null,null,null,8238004,"SPR","SPR","CT","PAPER,ROLL,3.11X220,50PK",null,323.06,24,{"$f":"VLOOKUP(M613,DFL!A:H,8,0)","v":0.55000000000000004},{"$f":"P613-(P613/1.0025)","v":0.36254364089774072},145.38]
[{"$error":"#N/A"},null,null,null,null,2975173,"SPR","SPR","EA","CHAIR,EXECUTIVE,SOFT",null,629,48,{"$f":"VLOOKUP(M614,DFL!A:H,8,0)","v":0.3},{"$f":"P614-(P614/1.0025)","v":1.0980049875311693},440.3]
[{"$error":"#N/A"},null,null,null,null,9947898,"SPR","SPR","EA","MONEY;PLAY;PRTND;BILLS;COIN",null,12.99,48,{"$f":"VLOOKUP(M615,DFL!A:H,8,0)","v":0.3},{"$f":"P615-(P615/1.0025)","v":2.2668329177056634E-2},9.09]
[{"$error":"#N/A"},null,null,null,null,439394,"SPR","SPR","ST","SET;1-10 COUNTNG OWL",null,22.99,48,{"$f":"VLOOKUP(M616,DFL!A:H,8,0)","v":0.3},{"$f":"P616-(P616/1.0025)","v":4.0124688279302489E-2},16.09]
[{"$error":"#N/A"},null,null,null,null,781864,"SPR","SPR","EA","REGISTER;CASH;CALC;REG",null,50.99,21,{"$f":"VLOOKUP(M617,DFL!A:H,8,0)","v":0.28999999999999998},{"$f":"P617-(P617/1.0025)","v":9.0274314214461526E-2},36.200000000000003]
[{"$error":"#N/A"},null,null,null,null,8324576,null,"SPR","EA","CHAIR;MESH/FABRIC;HEADREST",null,619,48,{"$f":"VLOOKUP(M618,DFL!A:H,8,0)","v":0.3},{"$f":"P618-(P618/1.0025)","v":1.0805486284289145},433.3]
[{"$error":"#N/A"},null,null,null,null,9851953,"SPR","SPR","EA","EARMUFF,OVER-THE-HEAD,BK/GN",null,33.49,22,{"$f":"VLOOKUP(M619,DFL!A:H,8,0)","v":0.41},{"$f":"P619-(P619/1.0025)","v":4.9276807980049853E-2},19.760000000000002]
[{"$error":"#N/A"},null,null,null,null,5139652,"BSD","BSD","CA","CLEANER,MULTI-PURP,WETJET",null,48.16,19,{"$f":"VLOOKUP(M620,DFL!A:E,5,0)","v":0.5},{"$f":"P620-(P620/1.0025)","v":6.0049875311719347E-2},24.08]
[{"$error":"#N/A"},null,null,null,null,732987,null,"SPR","PK","NOTES,3X3,RECYCLE,24PK,TROPIC","030/030,EPP (eVine),CPG,30% post-consumer, cabinet box made with 100% recycled material,SFI Certified Product",52.32,30,{"$f":"VLOOKUP(M621,DFL!A:H,8,0)","v":0.57999999999999996},{"$f":"P621-(P621/1.0025)","v":5.4788029925184389E-2},21.97]
[{"$error":"#N/A"},null,null,null,null,319264,"SPR","SPR","EA","GAME;SNEAKY;SNACKY;SQUIRREL",null,24.99,48,{"$f":"VLOOKUP(M622,DFL!A:H,8,0)","v":0.3},{"$f":"P622-(P622/1.0025)","v":4.3615960099749884E-2},17.489999999999998]
[{"$error":"#N/A"},null,null,null,null,6859444,"BSD","BSD","CT","ERASER,MRCLEAN,MAGIC,CT",null,68.48,19,{"$f":"VLOOKUP(M623,DFL!A:E,5,0)","v":0.5},{"$f":"P623-(P623/1.0025)","v":8.5386533665833042E-2},34.24]
[{"$error":"#N/A"},null,null,null,null,669990,null,"SPR","EA","MARKER, SHARPIE PAINT MED WHT"," ",4.5199999999999996,28,{"$f":"VLOOKUP(M624,DFL!A:H,8,0)","v":0.48},{"$f":"P624-(P624/1.0025)","v":5.8603491271820296E-3},2.35]
[{"$error":"#N/A"},null,null,null,null,176928,"BSD","BSD","EA","CALCULATOR,SCNTFC,TI30XII,BLK"," ",17,21,{"$f":"VLOOKUP(M625,DFL!A:E,5,0)","v":0.42},{"$f":"P625-(P625/1.0025)","v":2.45885286783043E-2},9.86]
[{"$error":"#N/A"},null,null,null,null,474700,"BSD","BSD","EA","CALCULATOR,FINANCL,TI-BAII PLS"," ",45,21,{"$f":"VLOOKUP(M626,DFL!A:E,5,0)","v":0.42},{"$f":"P626-(P626/1.0025)","v":6.508728179550971E-2},26.1]
[{"$error":"#N/A"},null,null,null,null,618033,"BSD","BSD","EA","CALCULATOR,SCIENTIFIC,TI-30XA"," ",15,21,{"$f":"VLOOKUP(M627,DFL!A:E,5,0)","v":0.42},{"$f":"P627-(P627/1.0025)","v":2.1695760598502645E-2},8.6999999999999993]
[{"$error":"#N/A"},null,null,null,null,222059,"BSD","BSD","EA","CALCULATOR,DESKTOP,TI-1795SV"," ",15,21,{"$f":"VLOOKUP(M628,DFL!A:E,5,0)","v":0.42},{"$f":"P628-(P628/1.0025)","v":2.1695760598502645E-2},8.6999999999999993]
[{"$error":"#N/A"},null,null,null,null,617135,"BSD","BSD","EA","CALCULATOR,SCNTFC,MLTVW,TI-30X"," ",20,21,{"$f":"VLOOKUP(M629,DFL!A:E,5,0)","v":0.42},{"$f":"P629-(P629/1.0025)","v":2.8927680798004118E-2},11.6]
[{"$error":"#N/A"},null,null,null,null,234300,"SPR","SPR","EA","SET;HOTDOTS;PREK;READING",null,29.99,48,{"$f":"VLOOKUP(M630,DFL!A:H,8,0)","v":0.3},{"$f":"P630-(P630/1.0025)","v":5.2344139650870147E-2},20.99]
[{"$error":"#N/A"},null,null,null,null,9998297,"SPR","SPR","EA","MODEL;MTRZD;SOLARSYST;LED",null,57.99,48,{"$f":"VLOOKUP(M631,DFL!A:H,8,0)","v":0.3},{"$f":"P631-(P631/1.0025)","v":0.10122194513715499},40.590000000000003]
[{"$error":"#N/A"},null,null,null,null,146237,"SPR","SPR","ST","BOARD;MAGNTC;WRITE&WIPE;2SD",null,34.99,10,{"$f":"VLOOKUP(M632,DFL!A:H,8,0)","v":0.36},{"$f":"P632-(P632/1.0025)","v":5.5835411471321095E-2},22.39]
[{"$error":"#N/A"},null,null,null,null,929505,"BSD","BSD","TB","LEAD,MECH PCL,.7MM,HARD,TUBE"," ",1.29,33,{"$f":"VLOOKUP(M633,DFL!A:E,5,0)","v":0.65},{"$f":"P633-(P633/1.0025)","v":1.1221945137157019E-3},0.45]
[{"$error":"#N/A"},null,null,null,null,983606,null,"SPR","ST","SCOOPER;TOOLS;ACTVTY;SKILL",null,16.989999999999998,48,{"$f":"VLOOKUP(M634,DFL!A:H,8,0)","v":0.3},{"$f":"P634-(P634/1.0025)","v":2.9650872817954976E-2},11.89]
[{"$error":"#N/A"},null,null,null,null,9942600,"SPR","SPR","ST","COUNTERS;DINO;MTH;55PC",null,37.07,48,{"$f":"VLOOKUP(M635,DFL!A:H,8,0)","v":0.3},{"$f":"P635-(P635/1.0025)","v":6.4713216957603237E-2},25.95]
[{"$error":"#N/A"},null,null,null,null,8914219,"BSD","BSD","EA","MY PSSPRT FOR MAC,2019,4TB,BLU",null,133.99,46,{"$f":"VLOOKUP(M636,DFL!A:E,5,0)","v":0.35},{"$f":"P636-(P636/1.0025)","v":0.21718204488777815},87.09]
[{"$error":"#N/A"},null,null,null,null,979348,"SPR","SPR","EA","BOARD,BASIC,PORCELAIN,4X6"," ",549.98,10,{"$f":"VLOOKUP(M637,DFL!A:H,8,0)","v":0.36},{"$f":"P637-(P637/1.0025)","v":0.87778054862843646},351.99]
[{"$error":"#N/A"},null,null,null,null,632199,"BSD","BSD","CT","REFILL,DUSTER,SWF,YLW,6BX,4CT",null,82.81,19,{"$f":"VLOOKUP(M638,DFL!A:E,5,0)","v":0.5},{"$f":"P638-(P638/1.0025)","v":0.10326683291770422},41.41]
[{"$error":"#N/A"},null,null,null,null,335524,"BSD","BSD","EA","LID,BRUTE,32 GAL,GRAY"," ",31.676557863501486,31,{"$f":"VLOOKUP(M639,DFL!A:E,5,0)","v":0.64},{"$f":"P639-(P639/1.0025)","v":2.8428927680797855E-2},11.4]
[{"$error":"#N/A"},null,null,null,null,922021,"BSD","BSD","EA","BUCKET,BRUTE,10QT."," ",23.25,19,{"$f":"VLOOKUP(M640,DFL!A:E,5,0)","v":0.5},{"$f":"P640-(P640/1.0025)","v":2.9002493765585058E-2},{"$f":"ROUND(L640*(1-N640),2)","v":11.63}]
[{"$error":"#N/A"},null,null,null,null,421092,"BSD","BSD","EA","PUNCH,ONE HOLE,10 SHEET,SILVER"," ",8.4700000000000006,7,{"$f":"VLOOKUP(M641,DFL!A:E,5,0)","v":0.72},{"$f":"P641-(P641/1.0025)","v":5.9102244389026559E-3},2.37]
[{"$error":"#N/A"},null,null,null,null,372296,"BSD","BSD","CT","CLENER,TOILET BWL,BLCH 12EA/CA"," ",82.51,19,{"$f":"VLOOKUP(M642,DFL!A:E,5,0)","v":0.5},{"$f":"P642-(P642/1.0025)","v":0.10289276807979775},41.26]
[{"$error":"#N/A"},null,null,null,null,9895012,null,"SPR","EA","DISINFECTANT,STN,LAV 14OZ",null,10.17,19,{"$f":"VLOOKUP(M643,DFL!A:H,8,0)","v":0.45},{"$f":"P643-(P643/1.0025)","v":1.3940149625934595E-2},5.59]
[{"$error":"#N/A"},null,null,null,null,8493720,"BSD","BSD","PK","LABEL,SHIP,WHT,2-5/16\"300CT6PK",null,115.05,26,{"$f":"VLOOKUP(M644,DFL!A:E,5,0)","v":0.56000000000000005},{"$f":"P644-(P644/1.0025)","v":0.12623441396508639},50.62]
[{"$error":"#N/A"},null,null,null,null,292787,"SPR","SPR","EA","CLEANER,COMET,BATHROOM,GAL"," ",40.81,19,{"$f":"VLOOKUP(M645,DFL!A:H,8,0)","v":0.45},{"$f":"P645-(P645/1.0025)","v":5.5985037406482974E-2},22.45]
[{"$error":"#N/A"},null,null,null,null,6189557,"SPR","SPR","EA","SET;ACTVTY;ROBOT;CDNG",null,23.41,48,{"$f":"VLOOKUP(M646,DFL!A:H,8,0)","v":0.3},{"$f":"P646-(P646/1.0025)","v":4.0872817955111884E-2},16.39]
[{"$error":"#N/A"},null,null,null,null,3512582,"SPR","SPR","EA","GLASS BOARD,MAG,48X96,WH",null,983.45,10,{"$f":"VLOOKUP(M647,DFL!A:H,8,0)","v":0.36},{"$f":"P647-(P647/1.0025)","v":1.5696009975061997},629.41]
[{"$error":"#N/A"},null,null,null,null,4434876,"BSD","BSD","EA","APC by Schneider Electric Back UPS PRO 1500VA Line Interactive Tower UPS - Tower - AVR - 16 Hour Recharge - 4.10 Minute Stand-by - 120 V AC Input - 120 V AC Output - 10 x NEMA 5-15R, 2 x USB",null,319.99,6,{"$f":"VLOOKUP(M648,DFL!A:E,5,0)","v":0.56999999999999995},{"$f":"P648-(P648/1.0025)","v":0.34314214463839221},137.6]
[{"$error":"#N/A"},null,null,null,null,596874,null,"SPR","PK","REFILLS,CLOTH,SWIFFER,37CT",null,22.49,40,{"$f":"VLOOKUP(M649,DFL!A:H,8,0)","v":0.44},{"$f":"P649-(P649/1.0025)","v":3.1396508728178674E-2},12.59]
[{"$error":"#N/A"},null,null,null,null,372512,"BSD","BSD","CT","CLEANER,W/BLEACH,128OZ"," ",111.74,19,{"$f":"VLOOKUP(M650,DFL!A:E,5,0)","v":0.5},{"$f":"P650-(P650/1.0025)","v":0.13932668329177034},55.87]
[{"$error":"#N/A"},null,null,null,null,196357,"BSD","BSD","EA","CLEANER,PINE-SOL,LAV EA",null,26.4,19,{"$f":"VLOOKUP(M651,DFL!A:E,5,0)","v":0.5},{"$f":"P651-(P651/1.0025)","v":3.2917705735659553E-2},13.2]
[{"$error":"#N/A"},null,null,null,null,336882,null,"SPR","EA","GOLD PRIVACY FILTER 21.5IN WS",null,493.80380952380949,48,{"$f":"VLOOKUP(M652,DFL!A:H,8,0)","v":0.3},{"$f":"P652-(P652/1.0025)","v":0.86199501246881027},345.66]
[{"$error":"#N/A"},null,null,null,null,733753,"BSD","BSD","CT","CLNR,WIPE,DSINFT,CTRS, 12EA/CA",null,74.78,19,{"$f":"VLOOKUP(M653,DFL!A:E,5,0)","v":0.5},{"$f":"P653-(P653/1.0025)","v":9.3241895261840568E-2},37.39]
[{"$error":"#N/A"},null,null,null,null,604416,"SPR","SPR","ST","SET;COMBO;HOT DOTS;81PC",null,46.2,48,{"$f":"VLOOKUP(M654,DFL!A:H,8,0)","v":0.3},{"$f":"P654-(P654/1.0025)","v":8.0648379052369989E-2},32.340000000000003]
[{"$error":"#N/A"},null,null,null,null,7432413,"BSD","BSD","EA","WORKFORCE EC-C110 WIRELESS MOB",null,339,48,{"$f":"VLOOKUP(M655,DFL!A:E,5,0)","v":0.42},{"$f":"P655-(P655/1.0025)","v":0.49032418952617718},196.62]
[{"$error":"#N/A"},null,null,null,null,536387,"BSD","BSD","CT","CLEANER,LEMN PNE SOL,3/CT"," ",79.209999999999994,19,{"$f":"VLOOKUP(M656,DFL!A:E,5,0)","v":0.5},{"$f":"P656-(P656/1.0025)","v":9.8778054862840747E-2},39.61]
[{"$error":"#N/A"},null,null,null,null,196330,"BSD","BSD","CT","CLEANER,PINE-SOL,LAV 3EA/CA"," ",79.209999999999994,19,{"$f":"VLOOKUP(M657,DFL!A:E,5,0)","v":0.5},{"$f":"P657-(P657/1.0025)","v":9.8778054862840747E-2},39.61]
[{"$error":"#N/A"},null,null,null,null,933291,null,"SPR","ST","INDEX,11X8.5,JAN-DEC"," ",7.24,35,{"$f":"VLOOKUP(M658,DFL!A:H,8,0)","v":0.6},{"$f":"P658-(P658/1.0025)","v":7.2319201995010296E-3},2.9]
[{"$error":"#N/A"},null,null,null,null,8010413,null,"SPR","EA","PLUG,FEBREZE,L&S,0.87OZ",null,10.96,19,{"$f":"VLOOKUP(M659,DFL!A:H,8,0)","v":0.45},{"$f":"P659-(P659/1.0025)","v":1.503740648379015E-2},6.03]
[{"$error":"#N/A"},null,null,null,null,7689131,"SPR","SPR","EA","GLASS BOARD,MAG,48X72,WH",null,757.1,10,{"$f":"VLOOKUP(M660,DFL!A:H,8,0)","v":0.36},{"$f":"P660-(P660/1.0025)","v":1.208329177057351},484.54]
[{"$error":"#N/A"},null,null,null,null,819863,null,"SPR","ST","SET;FOOD;MUNCHIT;20PC",null,31.932977142857144,48,{"$f":"VLOOKUP(M661,DFL!A:H,8,0)","v":0.3},{"$f":"P661-(P661/1.0025)","v":5.5735660847879842E-2},22.35]
[{"$error":"#N/A"},null,null,null,null,913026,null,"SPR","ST","SET;BASKET;BREAKFAST;17PC",null,30.99,48,{"$f":"VLOOKUP(M662,DFL!A:H,8,0)","v":0.3},{"$f":"P662-(P662/1.0025)","v":5.4089775561095621E-2},21.69]
[{"$error":"#N/A"},null,null,null,null,597263,"SPR","SPR","ST","JARS;SET;BUG;BIG;VIEW;6PCS",null,53.99,48,{"$f":"VLOOKUP(M663,DFL!A:H,8,0)","v":0.3},{"$f":"P663-(P663/1.0025)","v":9.42394014962602E-2},37.79]
[{"$error":"#N/A"},null,null,null,null,7518044,"SPR","SPR","ST","SET;ACTIVITY;ENGINEER;112PC",null,58.79,48,{"$f":"VLOOKUP(M664,DFL!A:H,8,0)","v":0.3},{"$f":"P664-(P664/1.0025)","v":0.10261845386533253},41.15]
[{"$error":"#N/A"},null,null,null,null,372440,"BSD","BSD","CT","CLEANER,409 FORMULA,32OZ,12/CT"," ",135.09,19,{"$f":"VLOOKUP(M665,DFL!A:E,5,0)","v":0.5},{"$f":"P665-(P665/1.0025)","v":0.16845386533665874},67.55]
[{"$error":"#N/A"},null,null,null,null,886913,null,"SPR","EA","CLEANER,SPRY,SCTV,TSCLAJAS",null,9.91,19,{"$f":"VLOOKUP(M666,DFL!A:H,8,0)","v":0.45},{"$f":"P666-(P666/1.0025)","v":1.3591022443890211E-2},5.45]
[{"$error":"#N/A"},null,null,null,null,131078,"BSD","BSD","PK","TAG,KEY,ROUND,1.25\",50/PK"," ",10.28,26,{"$f":"VLOOKUP(M667,DFL!A:E,5,0)","v":0.56000000000000005},{"$f":"P667-(P667/1.0025)","v":1.1271820448877534E-2},4.5199999999999996]
[{"$error":"#N/A"},null,null,null,null,124284,"BSD","BSD","EA","Ativa¬Æ DisplayPort to HDMI Cable, 6', Black, 36546",null,60.25,48,{"$f":"VLOOKUP(M668,DFL!A:E,5,0)","v":0.42},{"$f":"P668-(P668/1.0025)","v":8.7157107231917053E-2},34.950000000000003]
[{"$error":"#N/A"},null,null,null,null,305087,null,"SPR","PK","HOLDER,DCMNT,8.5X11,3PK,CLR"," ",43.36,4,{"$f":"VLOOKUP(M669,DFL!A:H,8,0)","v":0.39},{"$f":"P669-(P669/1.0025)","v":6.5960099750622447E-2},26.45]
[{"$error":"#N/A"},null,null,null,null,372432,"BSD","BSD","CT","CLEANER,FORMULA 409,1GAL"," ",113.59,19,{"$f":"VLOOKUP(M670,DFL!A:E,5,0)","v":0.5},{"$f":"P670-(P670/1.0025)","v":0.14164588528677768},56.8]
[{"$error":"#N/A"},null,null,null,null,672975,"BSD","BSD","CT","WIP,DISINFTING,CLOROX 12EA/CA",null,79.5,19,{"$f":"VLOOKUP(M671,DFL!A:E,5,0)","v":0.5},{"$f":"P671-(P671/1.0025)","v":9.9127182044888684E-2},39.75]
[{"$error":"#N/A"},null,null,null,null,8726673,"BSD","BSD","CA","SANITIZER, FOAM HC ADV",null,87.94,22,{"$f":"VLOOKUP(M672,DFL!A:E,5,0)","v":0.52},{"$f":"P672-(P672/1.0025)","v":0.10526184538652927},42.21]
[{"$error":"#N/A"},null,null,null,null,269817,null,"SPR","RL","LABEL,POSTAGE CONFIRMATION"," ",32.67,26,{"$f":"VLOOKUP(M673,DFL!A:H,8,0)","v":0.44},{"$f":"P673-(P673/1.0025)","v":4.5635910224437026E-2},18.3]
[{"$error":"#N/A"},null,null,null,null,149452,"BSD","BSD","PK","WIPES,DISINFECTING,CLOROX,3PK",null,18.37,19,{"$f":"VLOOKUP(M674,DFL!A:E,5,0)","v":0.5},{"$f":"P674-(P674/1.0025)","v":2.2917705735659766E-2},9.19]
[{"$error":"#N/A"},null,null,null,null,3753819,"SPR","SPR","EA","BARRIER,GLASS,3SD,36X24X17,ALM",null,565.04999999999995,48,{"$f":"VLOOKUP(M675,DFL!A:H,8,0)","v":0.3},{"$f":"P675-(P675/1.0025)","v":0.98638403990020151},395.54]
[{"$error":"#N/A"},null,null,null,null,601507,null,"SPR","EA","COPY HOLDER,IN-LINE,LIGHT GREY"," ",108.28,29,{"$f":"VLOOKUP(M676,DFL!A:H,8,0)","v":0.3},{"$f":"P676-(P676/1.0025)","v":0.18902743142143663},75.8]
[{"$error":"#N/A"},null,null,null,null,473411,null,"SPR","PK","COMMAND,HOOKS,SM,WHT,24 PK",null,32.1,16,{"$f":"VLOOKUP(M677,DFL!A:H,8,0)","v":0.36},{"$f":"P677-(P677/1.0025)","v":5.1221945137154279E-2},20.54]
[{"$error":"#N/A"},null,null,null,null,810448,"BSD","BSD","PK","PAD,EASEL,WHITE,4 PACK"," ",194.62,30,{"$f":"VLOOKUP(M678,DFL!A:E,5,0)","v":0.73},{"$f":"P678-(P678/1.0025)","v":0.13104738154613216},52.55]
[{"$error":"#N/A"},null,null,null,null,804171,"BSD","BSD","EA","TRAY,KEYBOARD,ADJ,BK","025/000,EPP (eVine),25% pre-consumer recycled content",502.34391304347827,29,{"$f":"VLOOKUP(M679,DFL!A:E,5,0)","v":0.43},{"$f":"P679-(P679/1.0025)","v":0.71406483790519815},286.33999999999997]
[{"$error":"#N/A"},null,null,null,null,450226,null,"SPR","EA","SIGN,STAND,DESIGNER"," ",542.05999999999995,36,{"$f":"VLOOKUP(M680,DFL!A:H,8,0)","v":0.36},{"$f":"P680-(P680/1.0025)","v":0.86513715710719907},346.92]
[{"$error":"#N/A"},null,null,null,null,351525,"BSD","BSD","EA","32GB ISTORENGO DUAL FLASH DRIV",null,49.99,46,{"$f":"VLOOKUP(M681,DFL!A:E,5,0)","v":0.35},{"$f":"P681-(P681/1.0025)","v":8.1022443890269358E-2},32.49]
[{"$error":"#N/A"},null,null,null,null,394929,"SPR","SPR","BX","HANGING FOLDER, 1/5 CUT, LT","010/010,EPP (eVine),10% post-consumer (paper stock),SFI Certified Sourcing (Black)",63.53,35,{"$f":"VLOOKUP(M682,DFL!A:H,8,0)","v":0.6},{"$f":"P682-(P682/1.0025)","v":6.3366583541146326E-2},25.41]
[{"$error":"#N/A"},null,null,null,null,372488,"BSD","BSD","CT","CLEANER,PINESL,144FL.OZ 3EA/CT"," ",79.13,19,{"$f":"VLOOKUP(M683,DFL!A:E,5,0)","v":0.5},{"$f":"P683-(P683/1.0025)","v":9.8678304239399495E-2},39.57]
[{"$error":"#N/A"},null,null,null,null,9069387,"BSD","BSD","PK","LABEL,LW,1-1/8\"\"X3.5\"\",12X3",null,134.63,26,{"$f":"VLOOKUP(M684,DFL!A:E,5,0)","v":0.56000000000000005},{"$f":"P684-(P684/1.0025)","v":0.14773067331670831},59.24]
[{"$error":"#N/A"},null,null,null,null,425900,null,"SPR","EA","STAPLER,ELECT,690E,GRY/GRY"," ",450.51,37,{"$f":"VLOOKUP(M685,DFL!A:H,8,0)","v":0.5},{"$f":"P685-(P685/1.0025)","v":0.56174563591019933},225.26]
[{"$error":"#N/A"},null,null,null,null,183236,null,"SPR","EA","LABEL,WRITER,WIRELESS,BLACK",null,323.77999999999997,26,{"$f":"VLOOKUP(M686,DFL!A:H,8,0)","v":0.44},{"$f":"P686-(P686/1.0025)","v":0.45216957605984476},181.32]
[{"$error":"#N/A"},null,null,null,null,7911599,"SPR","SPR","EA","PANEL,GLASS,MOBLE,47X71,ALUM",null,1127.73,48,{"$f":"VLOOKUP(M687,DFL!A:H,8,0)","v":0.3},{"$f":"P687-(P687/1.0025)","v":1.9686034912717787},789.41]
[{"$error":"#N/A"},null,null,null,null,4804985,null,"SPR","EA","BARRIER,GLASS,3SD,48X36X24,ALM",null,819.17,48,{"$f":"VLOOKUP(M688,DFL!A:H,8,0)","v":0.3},{"$f":"P688-(P688/1.0025)","v":1.4299750623440559},573.41999999999996]
[{"$error":"#N/A"},null,null,null,null,6594952,null,"SPR","EA","BARRIER,GLS,FRMLS,55X36,TRNSL",null,1009.94,48,{"$f":"VLOOKUP(M689,DFL!A:H,8,0)","v":0.3},{"$f":"P689-(P689/1.0025)","v":1.7629925187031859},706.96]
[{"$error":"#N/A"},null,null,null,null,6280137,"SPR","SPR","EA","RULER,PLASTIC,12\",WE",null,0.83,34,{"$f":"VLOOKUP(M690,DFL!A:H,8,0)","v":0.55000000000000004},{"$f":"P690-(P690/1.0025)","v":9.2269326683291908E-4},0.37]
[{"$error":"#N/A"},null,null,null,null,949339,"SPR","SPR","BX","CHALK,LOW DUST,3.25\",WHT,12/BX","Less Harsh Chemicals,ACMI certified",0.98,47,{"$f":"VLOOKUP(M691,DFL!A:H,8,0)","v":0.5},{"$f":"P691-(P691/1.0025)","v":1.2219451371570655E-3},0.49]
[{"$error":"#N/A"},null,null,null,null,946343,"SPR","SPR","EA","CORE F/C-38 DISPENSER,1\"",null,0.99,39,{"$f":"VLOOKUP(M692,DFL!A:H,8,0)","v":0.5},{"$f":"P692-(P692/1.0025)","v":1.2468827930174342E-3},0.5]
[{"$error":"#N/A"},null,null,null,null,279588,"SPR","SPR","EA","BOOK;EXAM;BLUE;8.5X7;8PG",null,1.24,30,{"$f":"VLOOKUP(M693,DFL!A:H,8,0)","v":0.57999999999999996},{"$f":"P693-(P693/1.0025)","v":1.2967581047381715E-3},0.52]
[{"$error":"#N/A"},null,null,null,null,448216,"SPR","SPR","ST","INDEX;INSERT;ECON;5TAB",null,1.26,35,{"$f":"VLOOKUP(M694,DFL!A:H,8,0)","v":0.6},{"$f":"P694-(P694/1.0025)","v":1.2468827930174342E-3},0.5]
[{"$error":"#N/A"},null,null,null,null,760061,"SPR","SPR","ST","INDEX;INSERT;ECON;5TAB;CL",null,1.26,35,{"$f":"VLOOKUP(M695,DFL!A:H,8,0)","v":0.6},{"$f":"P695-(P695/1.0025)","v":1.2468827930174342E-3},0.5]
[{"$error":"#N/A"},null,null,null,null,729060,"SPR","SPR","TB","LEAD,.7HB,12/TB"," ",1.17,33,{"$f":"VLOOKUP(M696,DFL!A:H,8,0)","v":0.55000000000000004},{"$f":"P696-(P696/1.0025)","v":1.3216957605984847E-3},0.53]
[{"$error":"#N/A"},null,null,null,null,729050,null,"SPR","TB","LEAD,.5HB,12/TB"," ",1.1399999999999999,33,{"$f":"VLOOKUP(M697,DFL!A:H,8,0)","v":0.55000000000000004},{"$f":"P697-(P697/1.0025)","v":1.2718204488777474E-3},0.51]
[{"$error":"#N/A"},null,null,null,null,111931,"SPR","SPR","EA","LANYARD;NYLON;RD",null,1.1100000000000001,5,{"$f":"VLOOKUP(M698,DFL!A:H,8,0)","v":0.45},{"$f":"P698-(P698/1.0025)","v":1.521197007481212E-3},0.61]
[{"$error":"#N/A"},null,null,null,null,279744,"SPR","SPR","EA","RULER, WOOD 12\"",null,1.27,34,{"$f":"VLOOKUP(M699,DFL!A:H,8,0)","v":0.55000000000000004},{"$f":"P699-(P699/1.0025)","v":1.4214463840398484E-3},0.56999999999999995]
[{"$error":"#N/A"},null,null,null,null,655439,"SPR","SPR","EA","BOTTLE,TRANSLUCENT,32 OZ",null,1.01,19,{"$f":"VLOOKUP(M700,DFL!A:H,8,0)","v":0.45},{"$f":"P700-(P700/1.0025)","v":1.3965087281795352E-3},0.56000000000000005]
[{"$error":"#N/A"},null,null,null,null,255403,"SPR","SPR","EA","SHARPENER;PENCIL;PLASTIC",null,0.8,21,{"$f":"VLOOKUP(M701,DFL!A:H,8,0)","v":0.28999999999999998},{"$f":"P701-(P701/1.0025)","v":1.4214463840398484E-3},0.56999999999999995]
[{"$error":"#N/A"},null,null,null,null,707289,"SPR","SPR","EA","REFILL,BG,VBOARD,MSTR,BK",null,1.1000000000000001,28,{"$f":"VLOOKUP(M702,DFL!A:H,8,0)","v":0.48},{"$f":"P702-(P702/1.0025)","v":1.4214463840398484E-3},0.56999999999999995]
[{"$error":"#N/A"},null,null,null,null,589569,"SPR","SPR","EA","REFILL,BG,VBOARD,MSTR,BE",null,1.1000000000000001,28,{"$f":"VLOOKUP(M703,DFL!A:H,8,0)","v":0.48},{"$f":"P703-(P703/1.0025)","v":1.4214463840398484E-3},0.56999999999999995]
[{"$error":"#N/A"},null,null,null,null,589596,"SPR","SPR","EA","REFILL,BG,VBOARD,MSTR,RD",null,1.1000000000000001,28,{"$f":"VLOOKUP(M704,DFL!A:H,8,0)","v":0.48},{"$f":"P704-(P704/1.0025)","v":1.4214463840398484E-3},{"$f":"ROUND(L704*(1-N704),2)","v":0.56999999999999995}]
[{"$error":"#N/A"},null,null,null,null,877334,"BSD","BSD","EA","Office Depot¬Æ Brand 2-Pocket Poly Folder with Prongs, Letter Size, Blue",null,2.13,35,{"$f":"VLOOKUP(M705,DFL!A:E,5,0)","v":0.7},{"$f":"P705-(P705/1.0025)","v":1.5960099750622625E-3},0.64]
[{"$error":"#N/A"},null,null,null,null,549964,"SPR","SPR","EA","RULER,STD,W/METRIC,STR02133"," ",1.26,7,{"$f":"VLOOKUP(M706,DFL!A:H,8,0)","v":0.46},{"$f":"P706-(P706/1.0025)","v":1.6957605985037372E-3},0.68]
[{"$error":"#N/A"},null,null,null,null,929489,"SPR","SPR","TB","LEAD,7MM,B,BLK,12/TB"," ",1.3,33,{"$f":"VLOOKUP(M707,DFL!A:H,8,0)","v":0.55000000000000004},{"$f":"P707-(P707/1.0025)","v":1.4713216957605857E-3},0.59]
[{"$error":"#N/A"},null,null,null,null,929513,"SPR","SPR","TB","LEAD,7MM,EXTRAFINE,BLK,12/TB"," ",1.3,33,{"$f":"VLOOKUP(M708,DFL!A:H,8,0)","v":0.55000000000000004},{"$f":"P708-(P708/1.0025)","v":1.4713216957605857E-3},0.59]
[{"$error":"#N/A"},null,null,null,null,929539,"SPR","SPR","TB","LEAD,.9MM,FINE,BLK,15/TB"," ",1.3,33,{"$f":"VLOOKUP(M709,DFL!A:H,8,0)","v":0.55000000000000004},{"$f":"P709-(P709/1.0025)","v":1.4713216957605857E-3},0.59]
[{"$error":"#N/A"},null,null,null,null,929380,"SPR","SPR","TB","LEAD,2HH,SUPERFINE,.5MM,12/TB"," ",1.3,33,{"$f":"VLOOKUP(M710,DFL!A:H,8,0)","v":0.55000000000000004},{"$f":"P710-(P710/1.0025)","v":1.4713216957605857E-3},0.59]
[{"$error":"#N/A"},null,null,null,null,929497,"SPR","SPR","TB","LEAD,0.7MM,H/BLACK,12CT",null,1.3,33,{"$f":"VLOOKUP(M711,DFL!A:H,8,0)","v":0.55000000000000004},{"$f":"P711-(P711/1.0025)","v":1.4713216957605857E-3},0.59]
[{"$error":"#N/A"},null,null,null,null,273945,"BSD","BSD","EA","Office Depot¬Æ Brand 2-Pocket Poly Folder with Prongs, Letter Size, Purple",null,2.15,35,{"$f":"VLOOKUP(M712,DFL!A:E,5,0)","v":0.7},{"$f":"P712-(P712/1.0025)","v":1.6209476309226867E-3},0.65]
[{"$error":"#N/A"},null,null,null,null,233348,"BSD","BSD","EA","Office Depot¬Æ Brand 2-Pocket Poly Folder with Prongs, Letter Size, Black",null,2.16,35,{"$f":"VLOOKUP(M713,DFL!A:E,5,0)","v":0.7},{"$f":"P713-(P713/1.0025)","v":1.6209476309226867E-3},0.65]
[{"$error":"#N/A"},null,null,null,null,991502,"BSD","BSD","EA","Office Depot¬Æ Brand School-Grade 2-Pocket Poly Folder, Letter Size, Red",null,2.19,35,{"$f":"VLOOKUP(M714,DFL!A:E,5,0)","v":0.7},{"$f":"P714-(P714/1.0025)","v":1.6458852867829998E-3},0.66]
[{"$error":"#N/A"},null,null,null,null,909309,"BSD","BSD","BX","CLIP,BINDER,MINI,1/4IN,12BOX"," ",3.99,7,{"$f":"VLOOKUP(M715,DFL!A:E,5,0)","v":0.72},{"$f":"P715-(P715/1.0025)","v":2.7930174563590704E-3},1.1200000000000001]
[{"$error":"#N/A"},null,null,null,null,756989,"BSD","BSD","EA","Office Depot¬Æ Brand 2-Pocket Poly Folder with Prongs, Letter Size, Yellow",null,2.2200000000000002,35,{"$f":"VLOOKUP(M716,DFL!A:E,5,0)","v":0.7},{"$f":"P716-(P716/1.0025)","v":1.670822942643313E-3},0.67]
[{"$error":"#N/A"},null,null,null,null,700259,"BSD","BSD","EA","Office Depot¬Æ Brand 2-Pocket Poly Folder, Letter Size, Orange",null,2.25,35,{"$f":"VLOOKUP(M717,DFL!A:E,5,0)","v":0.7},{"$f":"P717-(P717/1.0025)","v":1.6957605985037372E-3},0.68]
[{"$error":"#N/A"},null,null,null,null,491309,"BSD","BSD","EA","Office Depot¬Æ Brand 2-Pocket Poly Folder with Prongs, Letter Size, Orange",null,2.2599999999999998,35,{"$f":"VLOOKUP(M718,DFL!A:E,5,0)","v":0.7},{"$f":"P718-(P718/1.0025)","v":1.6957605985037372E-3},0.68]
[{"$error":"#N/A"},null,null,null,null,468581,"BSD","BSD","EA","Office Depot¬Æ Brand 2-Pocket Poly Folder with Prongs, Letter Size, Red",null,2.2799999999999998,35,{"$f":"VLOOKUP(M719,DFL!A:E,5,0)","v":0.7},{"$f":"P719-(P719/1.0025)","v":1.6957605985037372E-3},0.68]
[{"$error":"#N/A"},null,null,null,null,835937,"BSD","BSD","EA","Office Depot¬Æ Brand 2-Pocket Poly Folder, Letter Size, Black",null,2.2999999999999998,35,{"$f":"VLOOKUP(M720,DFL!A:E,5,0)","v":0.7},{"$f":"P720-(P720/1.0025)","v":1.7206982543640503E-3},0.69]
[{"$error":"#N/A"},null,null,null,null,910208,"SPR","SPR","EA","GLUE STICK,.26OZ"," ",1.21,1,{"$f":"VLOOKUP(M721,DFL!A:H,8,0)","v":0.48},{"$f":"P721-(P721/1.0025)","v":1.5710723192019493E-3},0.63]
[{"$error":"#N/A"},null,null,null,null,759826,"SPR","SPR","EA","REFILL,ENRGL,NDL,.7MM,BE"," ",1.4,33,{"$f":"VLOOKUP(M722,DFL!A:H,8,0)","v":0.55000000000000004},{"$f":"P722-(P722/1.0025)","v":1.5710723192019493E-3},0.63]
[{"$error":"#N/A"},null,null,null,null,759673,"SPR","SPR","EA","REFILL,ENRGL,NDL,.5MM,BK"," ",1.4,33,{"$f":"VLOOKUP(M723,DFL!A:H,8,0)","v":0.55000000000000004},{"$f":"P723-(P723/1.0025)","v":1.5710723192019493E-3},0.63]
[{"$error":"#N/A"},null,null,null,null,759799,"SPR","SPR","EA","REFILL,ENRGL,NDL,.5MM,BE"," ",1.4,33,{"$f":"VLOOKUP(M724,DFL!A:H,8,0)","v":0.55000000000000004},{"$f":"P724-(P724/1.0025)","v":1.5710723192019493E-3},0.63]
[{"$error":"#N/A"},null,null,null,null,759835,"SPR","SPR","EA","REFILL,GEL,ENERGEL,1.0MM,BK",null,1.4,33,{"$f":"VLOOKUP(M725,DFL!A:H,8,0)","v":0.55000000000000004},{"$f":"P725-(P725/1.0025)","v":1.5710723192019493E-3},0.63]
[{"$error":"#N/A"},null,null,null,null,759853,"SPR","SPR","EA","REFILL,GEL,ENERGEL,1.0MM,BE",null,1.4,33,{"$f":"VLOOKUP(M726,DFL!A:H,8,0)","v":0.55000000000000004},{"$f":"P726-(P726/1.0025)","v":1.5710723192019493E-3},0.63]
[{"$error":"#N/A"},null,null,null,null,759808,"SPR","SPR","EA","REFILL,ENERGEL,NEEDLE,.7,BK",null,1.4,33,{"$f":"VLOOKUP(M727,DFL!A:H,8,0)","v":0.55000000000000004},{"$f":"P727-(P727/1.0025)","v":1.5710723192019493E-3},0.63]
[{"$error":"#N/A"},null,null,null,null,770061,"BSD","BSD","EA","Office Depot¬Æ Brand School-Grade 2-Pocket Poly Folder, Letter Size, Blue",null,2.34,35,{"$f":"VLOOKUP(M728,DFL!A:E,5,0)","v":0.7},{"$f":"P728-(P728/1.0025)","v":1.7456359102243635E-3},0.7]
[{"$error":"#N/A"},null,null,null,null,680529,"BSD","BSD","EA","Office Depot¬Æ Brand 2-Pocket Poly Folder, Letter Size, Green",null,2.35,35,{"$f":"VLOOKUP(M729,DFL!A:E,5,0)","v":0.7},{"$f":"P729-(P729/1.0025)","v":1.7705735660847877E-3},0.71]
[{"$error":"#N/A"},null,null,null,null,952959,"BSD","BSD","EA","Office Depot¬Æ Brand 2-Pocket Poly Folder with Prongs, Letter Size, Green",null,2.33,35,{"$f":"VLOOKUP(M730,DFL!A:E,5,0)","v":0.7},{"$f":"P730-(P730/1.0025)","v":1.7456359102243635E-3},0.7]
[{"$error":"#N/A"},null,null,null,null,663267,"BSD","BSD","EA","Office Depot¬Æ Brand School-Grade 2-Pocket Poly Folder, Letter Size, Purple",null,2.4,35,{"$f":"VLOOKUP(M731,DFL!A:E,5,0)","v":0.7},{"$f":"P731-(P731/1.0025)","v":1.7955112219451008E-3},0.72]
[{"$error":"#N/A"},null,null,null,null,653428,"SPR","SPR","ST","INDEX,RG BK,5TAB,11X8.5,CLEAR","030/030,EPP (eVine),CPG,30% post-consumer (paper)",1.65,35,{"$f":"VLOOKUP(M732,DFL!A:H,8,0)","v":0.6},{"$f":"P732-(P732/1.0025)","v":1.6458852867829998E-3},0.66]
[{"$error":"#N/A"},null,null,null,null,653436,"SPR","SPR","ST","INDEX,RG BK 5TAB,11X8.5,AST","030/030,EPP (eVine),CPG,30% post-consumer (paper)",1.65,35,{"$f":"VLOOKUP(M733,DFL!A:H,8,0)","v":0.6},{"$f":"P733-(P733/1.0025)","v":1.6458852867829998E-3},0.66]
[{"$error":"#N/A"},null,null,null,null,750690,"SPR","SPR","BX","CHALK,DUSTLESS,12/BOX,WHITE","Less Harsh Chemicals,ACMI certified",1.38,47,{"$f":"VLOOKUP(M734,DFL!A:H,8,0)","v":0.5},{"$f":"P734-(P734/1.0025)","v":1.7206982543640503E-3},0.69]
[{"$error":"#N/A"},null,null,null,null,570556,"SPR","SPR","PK","REFILL,F/RETRAC,BRFS2F,BLK,2PK"," ",1.54,33,{"$f":"VLOOKUP(M735,DFL!A:H,8,0)","v":0.55000000000000004},{"$f":"P735-(P735/1.0025)","v":1.7206982543640503E-3},0.69]
[{"$error":"#N/A"},null,null,null,null,772114,"SPR","SPR","PK","REFILL,F/RETRACTABLE,FN,BL"," ",1.54,33,{"$f":"VLOOKUP(M736,DFL!A:H,8,0)","v":0.55000000000000004},{"$f":"P736-(P736/1.0025)","v":1.7206982543640503E-3},0.69]
[{"$error":"#N/A"},null,null,null,null,864066,"SPR","SPR","PK","PEN,REFILL,MED,BRFS2M,BLU,2/PK"," ",1.54,33,{"$f":"VLOOKUP(M737,DFL!A:H,8,0)","v":0.55000000000000004},{"$f":"P737-(P737/1.0025)","v":1.7206982543640503E-3},0.69]
[{"$error":"#N/A"},null,null,null,null,863860,"SPR","SPR","PK","PEN,REFILL,MED,BRFS2M,BLK,2/PK"," ",1.54,33,{"$f":"VLOOKUP(M738,DFL!A:H,8,0)","v":0.55000000000000004},{"$f":"P738-(P738/1.0025)","v":1.7206982543640503E-3},0.69]
[{"$error":"#N/A"},null,null,null,null,870411,"BSD","BSD","EA","Office Depot¬Æ Brand School-Grade 2-Pocket Poly Folder, Letter Size, Yellow",null,2.58,35,{"$f":"VLOOKUP(M739,DFL!A:E,5,0)","v":0.7},{"$f":"P739-(P739/1.0025)","v":1.9201995012468887E-3},0.77]
[{"$error":"#N/A"},null,null,null,null,6821200,"SPR","SPR","EA","RULERPLAS12\"ASST"," ",1.71,34,{"$f":"VLOOKUP(M740,DFL!A:H,8,0)","v":0.55000000000000004},{"$f":"P740-(P740/1.0025)","v":1.9201995012468887E-3},0.77]
[{"$error":"#N/A"},null,null,null,null,960155,"BSD","BSD","BX","PENCIL,#2 HB,RALLY,12/BX"," ",2.4,34,{"$f":"VLOOKUP(M741,DFL!A:E,5,0)","v":0.7},{"$f":"P741-(P741/1.0025)","v":1.7955112219451008E-3},0.72]
[{"$error":"#N/A"},null,null,null,null,808857,"BSD","BSD","BX","CLIP,BINDER,SMALL,12/BX"," ",4.99,7,{"$f":"VLOOKUP(M742,DFL!A:E,5,0)","v":0.72},{"$f":"P742-(P742/1.0025)","v":3.491271820448727E-3},1.4]
[{"$error":"#N/A"},null,null,null,null,1400157,"SPR","SPR","EA","FLUID;CORRECTION;MULTIPURP",null,1.44,17,{"$f":"VLOOKUP(M743,DFL!A:H,8,0)","v":0.48},{"$f":"P743-(P743/1.0025)","v":1.8703241895261513E-3},0.75]
[{"$error":"#N/A"},null,null,null,null,339762,"SPR","SPR","BX","CRAYONS;WAX;8CT",null,1.5,47,{"$f":"VLOOKUP(M744,DFL!A:H,8,0)","v":0.5},{"$f":"P744-(P744/1.0025)","v":1.8703241895261513E-3},0.75]
[{"$error":"#N/A"},null,null,null,null,511763,"BSD","BSD","EA","PORTFOLIO,PAPER,2POCKET,BLUE",null,2.58,35,{"$f":"VLOOKUP(M745,DFL!A:E,5,0)","v":0.7},{"$f":"P745-(P745/1.0025)","v":1.9201995012468887E-3},0.77]
[{"$error":"#N/A"},null,null,null,null,8659658,"SPR","SPR","EA","FOLDER,2-POCKET,POLY,RED",null,2.04,35,{"$f":"VLOOKUP(M746,DFL!A:H,8,0)","v":0.6},{"$f":"P746-(P746/1.0025)","v":2.0448877805485655E-3},0.82]
[{"$error":"#N/A"},null,null,null,null,9748651,"SPR","SPR","EA","FOLDER,2-POCKET,POLY,YELLOW",null,2.04,35,{"$f":"VLOOKUP(M747,DFL!A:H,8,0)","v":0.6},{"$f":"P747-(P747/1.0025)","v":2.0448877805485655E-3},0.82]
[{"$error":"#N/A"},null,null,null,null,9781009,"SPR","SPR","EA","FOLDER,2-POCKET,POLY,ORANGE",null,2.04,35,{"$f":"VLOOKUP(M748,DFL!A:H,8,0)","v":0.6},{"$f":"P748-(P748/1.0025)","v":2.0448877805485655E-3},0.82]
[{"$error":"#N/A"},null,null,null,null,9983774,"SPR","SPR","EA","FOLDER,2-POCKET,POLY,GREEN",null,2.04,35,{"$f":"VLOOKUP(M749,DFL!A:H,8,0)","v":0.6},{"$f":"P749-(P749/1.0025)","v":2.0448877805485655E-3},0.82]
[{"$error":"#N/A"},null,null,null,null,7130533,"SPR","SPR","EA","FOLDER,2-POCKET,POLY,PURPLE",null,2.04,35,{"$f":"VLOOKUP(M750,DFL!A:H,8,0)","v":0.6},{"$f":"P750-(P750/1.0025)","v":2.0448877805485655E-3},0.82]
[{"$error":"#N/A"},null,null,null,null,8808312,"SPR","SPR","EA","FOLDER,2-POCKET,POLY,BLUE",null,2.04,35,{"$f":"VLOOKUP(M751,DFL!A:H,8,0)","v":0.6},{"$f":"P751-(P751/1.0025)","v":2.0448877805485655E-3},0.82]
[{"$error":"#N/A"},null,null,null,null,406773,"BSD","BSD","EA","PORTFOLIO,PAPER,2POCKET,YELLOW",null,2.59,35,{"$f":"VLOOKUP(M752,DFL!A:E,5,0)","v":0.7},{"$f":"P752-(P752/1.0025)","v":1.9451371571072018E-3},0.78]
[{"$error":"#N/A"},null,null,null,null,2128881,"SPR","SPR","EA","WIPES;DSNFCT;9CT;WHT",null,1.5,19,{"$f":"VLOOKUP(M753,DFL!A:H,8,0)","v":0.45},{"$f":"P753-(P753/1.0025)","v":2.0698254364088786E-3},0.83]
[{"$error":"#N/A"},null,null,null,null,772089,"SPR","SPR","EA","ERASER,HI-POLYMER,LARGE,WE",null,1.85,33,{"$f":"VLOOKUP(M754,DFL!A:H,8,0)","v":0.55000000000000004},{"$f":"P754-(P754/1.0025)","v":2.0698254364088786E-3},0.83]
[{"$error":"#N/A"},null,null,null,null,933515,"SPR","SPR","ST","INDEX,INSERT,11X8.5,CLEAR,5/ST","030/030,EPP (eVine),CPG,30% post-consumer (paper)",2.0699999999999998,35,{"$f":"VLOOKUP(M755,DFL!A:H,8,0)","v":0.6},{"$f":"P755-(P755/1.0025)","v":2.0698254364088786E-3},0.83]
[{"$error":"#N/A"},null,null,null,null,272498,"BSD","BSD","EA","PORTFOLIO,PAPER,2POCKET,RED",null,2.76,35,{"$f":"VLOOKUP(M756,DFL!A:E,5,0)","v":0.7},{"$f":"P756-(P756/1.0025)","v":2.0698254364088786E-3},0.83]
[{"$error":"#N/A"},null,null,null,null,552799,"SPR","SPR","EA","ENVLP,STRNG&BTN,PLY,LTR,CLR",null,1.39,27,{"$f":"VLOOKUP(M757,DFL!A:H,8,0)","v":0.57999999999999996},{"$f":"P757-(P757/1.0025)","v":1.4463840399002725E-3},0.57999999999999996]
[{"$error":"#N/A"},null,null,null,null,492106,"SPR","SPR","EA","HOLDER,RECYC,BUS CARD,BK"," ",2.12,35,{"$f":"VLOOKUP(M758,DFL!A:H,8,0)","v":0.6},{"$f":"P758-(P758/1.0025)","v":2.119700748129616E-3},0.85]
[{"$error":"#N/A"},null,null,null,null,321929,"BSD","BSD","EA","PORTFOLIO,PAPER,2POCKET,GREEN",null,2.84,35,{"$f":"VLOOKUP(M759,DFL!A:E,5,0)","v":0.7},{"$f":"P759-(P759/1.0025)","v":2.119700748129616E-3},0.85]
[{"$error":"#N/A"},null,null,null,null,686329,"SPR","SPR","TB","ERASER,REFILL,PENCIL,5PC",null,1.9,33,{"$f":"VLOOKUP(M760,DFL!A:H,8,0)","v":0.55000000000000004},{"$f":"P760-(P760/1.0025)","v":2.1446384039899291E-3},0.86]
[{"$error":"#N/A"},null,null,null,null,776435,"BSD","BSD","EA","PORTFOLIO,PPR,2PKT,3PRG,PURPLE",null,3.22,30,{"$f":"VLOOKUP(M761,DFL!A:E,5,0)","v":0.73},{"$f":"P761-(P761/1.0025)","v":2.1695760598503533E-3},0.87]
[{"$error":"#N/A"},null,null,null,null,486083,null,"SPR","EA","BOTTLE,SPRAY, 32OZ"," ",1.58,19,{"$f":"VLOOKUP(M762,DFL!A:H,8,0)","v":0.45},{"$f":"P762-(P762/1.0025)","v":2.1695760598503533E-3},0.87]
[{"$error":"#N/A"},null,null,null,null,479360,"BSD","BSD","EA","PORTFOLIO,PAPER,2POCKET,PURPLE",null,2.9,35,{"$f":"VLOOKUP(M763,DFL!A:E,5,0)","v":0.7},{"$f":"P763-(P763/1.0025)","v":2.1695760598503533E-3},0.87]
[{"$error":"#N/A"},null,null,null,null,856198,"BSD","BSD","BG","RUBBERBANDS,#16,1/4#"," ",3.27,7,{"$f":"VLOOKUP(M764,DFL!A:E,5,0)","v":0.72},{"$f":"P764-(P764/1.0025)","v":2.2942643391520301E-3},0.92]
[{"$error":"#N/A"},null,null,null,null,856225,"BSD","BSD","BG","RUBBERBANDS,#19,1/4#"," ",3.27,7,{"$f":"VLOOKUP(M765,DFL!A:E,5,0)","v":0.72},{"$f":"P765-(P765/1.0025)","v":2.2942643391520301E-3},0.92]
[{"$error":"#N/A"},null,null,null,null,856297,"BSD","BSD","BG","RUBBERBANDS,#32,1/4#"," ",3.27,7,{"$f":"VLOOKUP(M766,DFL!A:E,5,0)","v":0.72},{"$f":"P766-(P766/1.0025)","v":2.2942643391520301E-3},0.92]
[{"$error":"#N/A"},null,null,null,null,856333,"BSD","BSD","BG","RUBBERBANDS,SZ33,1/4#"," ",3.27,7,{"$f":"VLOOKUP(M767,DFL!A:E,5,0)","v":0.72},{"$f":"P767-(P767/1.0025)","v":2.2942643391520301E-3},{"$f":"ROUND(L767*(1-N767),2)","v":0.92}]
[{"$error":"#N/A"},null,null,null,null,856585,"BSD","BSD","BG","RUBBERBANDS,SZ54,1/4#"," ",3.27,7,{"$f":"VLOOKUP(M768,DFL!A:E,5,0)","v":0.72},{"$f":"P768-(P768/1.0025)","v":2.2942643391520301E-3},0.92]
[{"$error":"#N/A"},null,null,null,null,856657,"BSD","BSD","BG","RUBBERBANDS,#64,1/4#"," ",3.27,7,{"$f":"VLOOKUP(M769,DFL!A:E,5,0)","v":0.72},{"$f":"P769-(P769/1.0025)","v":2.2942643391520301E-3},0.92]
[{"$error":"#N/A"},null,null,null,null,550372,"SPR","SPR","EA","MOISTENER,FINGERTIP,SORTKWI"," ",2.14,27,{"$f":"VLOOKUP(M770,DFL!A:H,8,0)","v":0.57999999999999996},{"$f":"P770-(P770/1.0025)","v":2.2443890274314038E-3},0.9]
[{"$error":"#N/A"},null,null,null,null,448243,"SPR","SPR","ST","INDEX;INSERT;ECON;8TAB;CL",null,2.25,35,{"$f":"VLOOKUP(M771,DFL!A:H,8,0)","v":0.6},{"$f":"P771-(P771/1.0025)","v":2.2443890274314038E-3},0.9]
[{"$error":"#N/A"},null,null,null,null,993238,"SPR","SPR","ST","TABS,INDEX,PREMIUM,5/ST,WHITE","030/030,EPP (eVine),CPG,30% post-consumer (paper)",2.2599999999999998,35,{"$f":"VLOOKUP(M772,DFL!A:H,8,0)","v":0.6},{"$f":"P772-(P772/1.0025)","v":2.2443890274314038E-3},0.9]
[{"$error":"#N/A"},null,null,null,null,592012,"BSD","BSD","ST","DIVIDER,INSERTABLE,5TAB,PLAS"," ",4.45,35,{"$f":"VLOOKUP(M773,DFL!A:E,5,0)","v":0.7},{"$f":"P773-(P773/1.0025)","v":3.341645885286626E-3},1.34]
[{"$error":"#N/A"},null,null,null,null,687228,"SPR","SPR","EA","MARKER,PERM,XFINE,BLACK"," ",1.75,28,{"$f":"VLOOKUP(M774,DFL!A:H,8,0)","v":0.48},{"$f":"P774-(P774/1.0025)","v":2.2693266832917169E-3},0.91]
[{"$error":"#N/A"},null,null,null,null,324730,"SPR","SPR","EA","GLUE,SCHOOL,1-1/4 OZ,WE"," ",1.76,1,{"$f":"VLOOKUP(M775,DFL!A:H,8,0)","v":0.48},{"$f":"P775-(P775/1.0025)","v":2.2942643391520301E-3},0.92]
[{"$error":"#N/A"},null,null,null,null,4676524,"SPR","SPR","EA","DISPENSER,TAPE,HAND,SMOKE",null,2.16,39,{"$f":"VLOOKUP(M776,DFL!A:H,8,0)","v":0.5},{"$f":"P776-(P776/1.0025)","v":2.6932668329175957E-3},1.08]
[{"$error":"#N/A"},null,null,null,null,602891,"BSD","BSD","EA","PORTFOLIO,PAPER,2PKT,3PRG,BLUE",null,3.13,35,{"$f":"VLOOKUP(M777,DFL!A:E,5,0)","v":0.7},{"$f":"P777-(P777/1.0025)","v":2.3441396508727674E-3},0.94]
[{"$error":"#N/A"},null,null,null,null,991580,"BSD","BSD","EA","PORTFOLIO,PAPER,2PKT,3PRG,RED",null,3.17,35,{"$f":"VLOOKUP(M778,DFL!A:E,5,0)","v":0.7},{"$f":"P778-(P778/1.0025)","v":2.3690773067330806E-3},0.95]
[{"$error":"#N/A"},null,null,null,null,518855,null,"SPR","EA","PEN,MARKER,FINELINER,0.7,BE"," ",1.83,28,{"$f":"VLOOKUP(M779,DFL!A:H,8,0)","v":0.48},{"$f":"P779-(P779/1.0025)","v":2.3690773067330806E-3},0.95]
[{"$error":"#N/A"},null,null,null,null,687129,"SPR","SPR","EA","PEN,MARKER,FINELINER,0.7,BK",null,1.83,28,{"$f":"VLOOKUP(M780,DFL!A:H,8,0)","v":0.48},{"$f":"P780-(P780/1.0025)","v":2.3690773067330806E-3},0.95]
[{"$error":"#N/A"},null,null,null,null,695651,null,"SPR","EA","PEN,MARKER,FINELINER,0.7,RD",null,1.83,28,{"$f":"VLOOKUP(M781,DFL!A:H,8,0)","v":0.48},{"$f":"P781-(P781/1.0025)","v":2.3690773067330806E-3},0.95]
[{"$error":"#N/A"},null,null,null,null,453803,"SPR","SPR","PK","REFILL,CLIC,ERASER,2/PK",null,2.1,33,{"$f":"VLOOKUP(M782,DFL!A:H,8,0)","v":0.55000000000000004},{"$f":"P782-(P782/1.0025)","v":2.3690773067330806E-3},0.95]
[{"$error":"#N/A"},null,null,null,null,365825,"SPR","SPR","PK","ERASER,REFILL,F/QE405,QE500,3P"," ",2.1,33,{"$f":"VLOOKUP(M783,DFL!A:H,8,0)","v":0.55000000000000004},{"$f":"P783-(P783/1.0025)","v":2.3690773067330806E-3},0.95]
[{"$error":"#N/A"},null,null,null,null,803451,"SPR","SPR","EA","ENVELOPE,POLY,VELC,9X13,CL",null,2.25,27,{"$f":"VLOOKUP(M784,DFL!A:H,8,0)","v":0.57999999999999996},{"$f":"P784-(P784/1.0025)","v":2.3690773067330806E-3},0.95]
[{"$error":"#N/A"},null,null,null,null,549955,"SPR","SPR","PK","BLADE,SINGLE EDGE"," ",1.89,25,{"$f":"VLOOKUP(M785,DFL!A:H,8,0)","v":0.49},{"$f":"P785-(P785/1.0025)","v":2.3940149625935048E-3},0.96]
[{"$error":"#N/A"},null,null,null,null,653444,"SPR","SPR","ST","INDEX,RG BK 8TAB,11X8.5,AST","030/030,EPP (eVine),CPG,30% post-consumer (paper)",2.39,35,{"$f":"VLOOKUP(M786,DFL!A:H,8,0)","v":0.6},{"$f":"P786-(P786/1.0025)","v":2.3940149625935048E-3},0.96]
[{"$error":"#N/A"},null,null,null,null,653451,"SPR","SPR","ST","INDEX,RG BK 8TAB,11X8.5,CLEAR","030/030,EPP (eVine),CPG,30% post-consumer (paper)",2.39,35,{"$f":"VLOOKUP(M787,DFL!A:H,8,0)","v":0.6},{"$f":"P787-(P787/1.0025)","v":2.3940149625935048E-3},0.96]
[{"$error":"#N/A"},null,null,null,null,450152,"SPR","SPR","PK","REFILL,UNI-BALL,207,BLK,2/CD"," ",3.07,33,{"$f":"VLOOKUP(M788,DFL!A:H,8,0)","v":0.55000000000000004},{"$f":"P788-(P788/1.0025)","v":3.4413965087281007E-3},1.38]
[{"$error":"#N/A"},null,null,null,null,554144,"BSD","BSD","EA","REPORT COVER,W/CLIP ,CLR/BLK"," ",3.23,35,{"$f":"VLOOKUP(M789,DFL!A:E,5,0)","v":0.7},{"$f":"P789-(P789/1.0025)","v":2.4189526184538179E-3},0.97]
[{"$error":"#N/A"},null,null,null,null,290741,"BSD","BSD","EA","PORTFOLIO,PPR,2PKT,3PRG,YELLOW",null,3.24,35,{"$f":"VLOOKUP(M790,DFL!A:E,5,0)","v":0.7},{"$f":"P790-(P790/1.0025)","v":2.4189526184538179E-3},0.97]
[{"$error":"#N/A"},null,null,null,null,283762,null,"SPR","EA","SCISSORS;SAFETY;PLASTIC",null,1.8,7,{"$f":"VLOOKUP(M791,DFL!A:H,8,0)","v":0.46},{"$f":"P791-(P791/1.0025)","v":2.4189526184538179E-3},0.97]
[{"$error":"#N/A"},null,null,null,null,502807,"BSD","BSD","EA","GLUE,SCHOOL,4OZ"," ",2.65,1,{"$f":"VLOOKUP(M792,DFL!A:E,5,0)","v":0.63},{"$f":"P792-(P792/1.0025)","v":2.4438902743141311E-3},0.98]
[{"$error":"#N/A"},null,null,null,null,390368,"BSD","BSD","EA","PORTFOLIO,PPR,2PKT,3PRG,BLACK",null,3.29,35,{"$f":"VLOOKUP(M793,DFL!A:E,5,0)","v":0.7},{"$f":"P793-(P793/1.0025)","v":2.4688279301745553E-3},0.99]
[{"$error":"#N/A"},null,null,null,null,465506,"BSD","BSD","EA","PORTFOLIO,PPR,2PKT,3PRG,GREEN",null,3.3,35,{"$f":"VLOOKUP(M794,DFL!A:E,5,0)","v":0.7},{"$f":"P794-(P794/1.0025)","v":2.4688279301745553E-3},0.99]
[{"$error":"#N/A"},null,null,null,null,584296,"BSD","BSD","EA","PUTTY,SCOTCH(R),ADHESIVE,2OZ"," ",2.76,1,{"$f":"VLOOKUP(M795,DFL!A:E,5,0)","v":0.63},{"$f":"P795-(P795/1.0025)","v":2.5436408977554947E-3},1.02]
[{"$error":"#N/A"},null,null,null,null,873608,"SPR","SPR","EA","BOOK;MEMO;SIDE;3X5AST",null,2.4,30,{"$f":"VLOOKUP(M796,DFL!A:H,8,0)","v":0.57999999999999996},{"$f":"P796-(P796/1.0025)","v":2.5187032418951816E-3},1.01]
[{"$error":"#N/A"},null,null,null,null,517029,"SPR","SPR","EA","BOOK;MEMO WIREBOUND;ASST",null,2.4,30,{"$f":"VLOOKUP(M797,DFL!A:H,8,0)","v":0.57999999999999996},{"$f":"P797-(P797/1.0025)","v":2.5187032418951816E-3},1.01]
[{"$error":"#N/A"},null,null,null,null,188375,"SPR","SPR","EA","FOLDER,PKT,1\" EXP,2/5 CUT TAB,"," ",2.81,35,{"$f":"VLOOKUP(M798,DFL!A:H,8,0)","v":0.6},{"$f":"P798-(P798/1.0025)","v":2.7930174563590704E-3},1.1200000000000001]
[{"$error":"#N/A"},null,null,null,null,992743,"SPR","SPR","EA","R330-YW NOTES POP-UP YEL.",null,2.42,30,{"$f":"VLOOKUP(M799,DFL!A:H,8,0)","v":0.57999999999999996},{"$f":"P799-(P799/1.0025)","v":2.5436408977554947E-3},1.02]
[{"$error":"#N/A"},null,null,null,null,4184069,"SPR","SPR","EA","FOLDER,2PCKT,POLY,FASTNR,OE",null,2.87,35,{"$f":"VLOOKUP(M800,DFL!A:H,8,0)","v":0.6},{"$f":"P800-(P800/1.0025)","v":2.8678304239400099E-3},1.1499999999999999]
[{"$error":"#N/A"},null,null,null,null,6261574,"SPR","SPR","EA","FOLDER,2PCKT,POLY,FASTNR,PE",null,2.87,35,{"$f":"VLOOKUP(M801,DFL!A:H,8,0)","v":0.6},{"$f":"P801-(P801/1.0025)","v":2.8678304239400099E-3},1.1499999999999999]
[{"$error":"#N/A"},null,null,null,null,6312314,"SPR","SPR","EA","FOLDER,2PCKT,POLY,FASTNR,BE",null,2.87,35,{"$f":"VLOOKUP(M802,DFL!A:H,8,0)","v":0.6},{"$f":"P802-(P802/1.0025)","v":2.8678304239400099E-3},1.1499999999999999]
[{"$error":"#N/A"},null,null,null,null,7895787,"SPR","SPR","EA","FOLDER,2PCKT,POLY,FASTNR,RD",null,2.87,35,{"$f":"VLOOKUP(M803,DFL!A:H,8,0)","v":0.6},{"$f":"P803-(P803/1.0025)","v":2.8678304239400099E-3},1.1499999999999999]
[{"$error":"#N/A"},null,null,null,null,8170018,"SPR","SPR","EA","FOLDER,2PCKT,POLY,FASTNR,GN",null,2.87,35,{"$f":"VLOOKUP(M804,DFL!A:H,8,0)","v":0.6},{"$f":"P804-(P804/1.0025)","v":2.8678304239400099E-3},1.1499999999999999]
[{"$error":"#N/A"},null,null,null,null,8370340,"SPR","SPR","EA","FOLDER,2PCKT,POLY,FASTNR,YW",null,2.87,35,{"$f":"VLOOKUP(M805,DFL!A:H,8,0)","v":0.6},{"$f":"P805-(P805/1.0025)","v":2.8678304239400099E-3},1.1499999999999999]
[{"$error":"#N/A"},null,null,null,null,500603,null,"SPR","TB","LEAD,PREM,HIPOLY,.5MM-HB,12TB",null,2.2999999999999998,33,{"$f":"VLOOKUP(M806,DFL!A:H,8,0)","v":0.55000000000000004},{"$f":"P806-(P806/1.0025)","v":2.5935162094763431E-3},1.04]
[{"$error":"#N/A"},null,null,null,null,9564866,"SPR","SPR","EA","KEYRING;WRIST;COIL",null,1.5,48,{"$f":"VLOOKUP(M807,DFL!A:H,8,0)","v":0.3},{"$f":"P807-(P807/1.0025)","v":2.6184538653366562E-3},1.05]
[{"$error":"#N/A"},null,null,null,null,319509,"SPR","SPR","RL","TAPE,TRANSPARENT,1/2\"X500\""," ",2.1,39,{"$f":"VLOOKUP(M808,DFL!A:H,8,0)","v":0.5},{"$f":"P808-(P808/1.0025)","v":2.6184538653366562E-3},1.05]
[{"$error":"#N/A"},null,null,null,null,956112,"BSD","BSD","PK","PAPER,FLR,11X8.5,CR,150CT,3HP"," ",3.9,30,{"$f":"VLOOKUP(M809,DFL!A:E,5,0)","v":0.73},{"$f":"P809-(P809/1.0025)","v":2.6184538653366562E-3},1.05]
[{"$error":"#N/A"},null,null,null,null,927004,"SPR","SPR","EA","MARKER;PERM;CHSLTP;LRG;RD",null,2.06,28,{"$f":"VLOOKUP(M810,DFL!A:H,8,0)","v":0.48},{"$f":"P810-(P810/1.0025)","v":2.6683291770572826E-3},1.07]
[{"$error":"#N/A"},null,null,null,null,515408,"SPR","SPR","EA","FIRST AID TO GO MINI KIT"," ",1.99,22,{"$f":"VLOOKUP(M811,DFL!A:H,8,0)","v":0.41},{"$f":"P811-(P811/1.0025)","v":2.9177057356608582E-3},1.17]
[{"$error":"#N/A"},null,null,null,null,583864,"SPR","SPR","PK","RUBBERBAND,BIG BAND PACK"," ",2.12,7,{"$f":"VLOOKUP(M812,DFL!A:H,8,0)","v":0.46},{"$f":"P812-(P812/1.0025)","v":2.8428927680796967E-3},1.1399999999999999]
[{"$error":"#N/A"},null,null,null,null,721827,"SPR","SPR","EA","PEN,207,GEL,PINKRIBBON,BK",null,2.57,33,{"$f":"VLOOKUP(M813,DFL!A:H,8,0)","v":0.55000000000000004},{"$f":"P813-(P813/1.0025)","v":2.8927680798005451E-3},1.1599999999999999]
[{"$error":"#N/A"},null,null,null,null,642703,"SPR","SPR","EA","ERASER,CLIC,W/GRIP,BLACK",null,2.4500000000000002,33,{"$f":"VLOOKUP(M814,DFL!A:H,8,0)","v":0.55000000000000004},{"$f":"P814-(P814/1.0025)","v":2.7431421446384441E-3},1.1000000000000001]
[{"$error":"#N/A"},null,null,null,null,406752,"SPR","SPR","EA","ERASER,CLIC,W/GRIP,RED",null,2.4500000000000002,33,{"$f":"VLOOKUP(M815,DFL!A:H,8,0)","v":0.55000000000000004},{"$f":"P815-(P815/1.0025)","v":2.7431421446384441E-3},1.1000000000000001]
[{"$error":"#N/A"},null,null,null,null,406768,"SPR","SPR","EA","ERASER,CLIC,W/GRIP,BLUE",null,2.4500000000000002,33,{"$f":"VLOOKUP(M816,DFL!A:H,8,0)","v":0.55000000000000004},{"$f":"P816-(P816/1.0025)","v":2.7431421446384441E-3},1.1000000000000001]
[{"$error":"#N/A"},null,null,null,null,6647272,"SPR","SPR","PK","CARD,INDEX,PLAIN,3X5,WE",null,2.85,35,{"$f":"VLOOKUP(M817,DFL!A:H,8,0)","v":0.6},{"$f":"P817-(P817/1.0025)","v":2.8428927680796967E-3},1.1399999999999999]
[{"$error":"#N/A"},null,null,null,null,9206589,"SPR","SPR","PK","CARD,INDEX,RULED,3X5,WE",null,2.85,35,{"$f":"VLOOKUP(M818,DFL!A:H,8,0)","v":0.6},{"$f":"P818-(P818/1.0025)","v":2.8428927680796967E-3},1.1399999999999999]
[{"$error":"#N/A"},null,null,null,null,910422,"SPR","SPR","RL","TAPE;INVISBL;ECON;.5X1296",null,2.2200000000000002,39,{"$f":"VLOOKUP(M819,DFL!A:H,8,0)","v":0.5},{"$f":"P819-(P819/1.0025)","v":2.7680798004987572E-3},1.1100000000000001]
[{"$error":"#N/A"},null,null,null,null,188383,"SPR","SPR","EA","POCKET,FILE,LGL,DROP FRONT"," ",2.88,35,{"$f":"VLOOKUP(M820,DFL!A:H,8,0)","v":0.6},{"$f":"P820-(P820/1.0025)","v":2.8678304239400099E-3},1.1499999999999999]
[{"$error":"#N/A"},null,null,null,null,592057,"BSD","BSD","ST","DIVIDER,INSERTABLE,8TAB,PLAS"," ",5.52,35,{"$f":"VLOOKUP(M821,DFL!A:E,5,0)","v":0.7},{"$f":"P821-(P821/1.0025)","v":4.1396508728177572E-3},1.66]
[{"$error":"#N/A"},null,null,null,null,525704,"SPR","SPR","PK","REFILL,DR.GRIP COG,BLPT,BLK"," ",2.5,33,{"$f":"VLOOKUP(M822,DFL!A:H,8,0)","v":0.55000000000000004},{"$f":"P822-(P822/1.0025)","v":2.8179551122193836E-3},1.1299999999999999]
[{"$error":"#N/A"},null,null,null,null,565680,"SPR","SPR","ST","PENCILS;COLOR;SHORT;12CT",null,2.52,33,{"$f":"VLOOKUP(M823,DFL!A:H,8,0)","v":0.55000000000000004},{"$f":"P823-(P823/1.0025)","v":2.8179551122193836E-3},1.1299999999999999]
[{"$error":"#N/A"},null,null,null,null,932749,"BSD","BSD","PK","PAPER,FLR,11X8.5,CR.100CT.RECY"," ",4.18,30,{"$f":"VLOOKUP(M824,DFL!A:E,5,0)","v":0.73},{"$f":"P824-(P824/1.0025)","v":2.8179551122193836E-3},1.1299999999999999]
[{"$error":"#N/A"},null,null,null,null,582062,"SPR","SPR","ST","PENCIL;COLORED;AST",null,2.54,33,{"$f":"VLOOKUP(M825,DFL!A:H,8,0)","v":0.55000000000000004},{"$f":"P825-(P825/1.0025)","v":2.8428927680796967E-3},1.1399999999999999]
[{"$error":"#N/A"},null,null,null,null,779444,"BSD","BSD","EA","Just Basics¬Æ Poly Spiral Notebook, 8 1/2\" x 10 1/2\", College Ruled, 140 Pages (70 Sheets), Black",null,4.22,30,{"$f":"VLOOKUP(M826,DFL!A:E,5,0)","v":0.73},{"$f":"P826-(P826/1.0025)","v":2.8428927680796967E-3},1.1399999999999999]
[{"$error":"#N/A"},null,null,null,null,942235,"SPR","SPR","EA","BOOK,NOTE,MEMO,WIREBND,NAR,WHT"," ",2.33,47,{"$f":"VLOOKUP(M827,DFL!A:H,8,0)","v":0.5},{"$f":"P827-(P827/1.0025)","v":2.9177057356608582E-3},1.17]
[{"$error":"#N/A"},null,null,null,null,275659,"SPR","SPR","EA","BOX, CRAYON, SPERSTACKER,CL"," ",2.65,47,{"$f":"VLOOKUP(M828,DFL!A:H,8,0)","v":0.5},{"$f":"P828-(P828/1.0025)","v":3.3167082294263128E-3},1.33]
[{"$error":"#N/A"},null,null,null,null,696401,"SPR","SPR","TB","LEAD,0.5MM,HB/BLACK,30CT",null,2.5499999999999998,33,{"$f":"VLOOKUP(M829,DFL!A:H,8,0)","v":0.55000000000000004},{"$f":"P829-(P829/1.0025)","v":2.8678304239400099E-3},1.1499999999999999]
[{"$error":"#N/A"},null,null,null,null,525506,"SPR","SPR","TB","LEAD,0.7MM,HB/BLACK,30CT",null,2.5499999999999998,33,{"$f":"VLOOKUP(M830,DFL!A:H,8,0)","v":0.55000000000000004},{"$f":"P830-(P830/1.0025)","v":2.8678304239400099E-3},{"$f":"ROUND(L830*(1-N830),2)","v":1.1499999999999999}]
[{"$error":"#N/A"},null,null,null,null,666529,"BSD","BSD","RL","TAPE,MASKING,3/4X60YD,HLND"," ",2.9,39,{"$f":"VLOOKUP(M831,DFL!A:E,5,0)","v":0.6},{"$f":"P831-(P831/1.0025)","v":2.8927680798005451E-3},1.1599999999999999]
[{"$error":"#N/A"},null,null,null,null,434252,"BSD","BSD","PK","CRAYONS,CRAYOLA,24PK","Less Harsh Chemicals,ACMI certified",2.71,47,{"$f":"VLOOKUP(M832,DFL!A:E,5,0)","v":0.56999999999999995},{"$f":"P832-(P832/1.0025)","v":2.9177057356608582E-3},1.17]
[{"$error":"#N/A"},null,null,null,null,552824,"SPR","SPR","EA","ENV,INTER-DEPT,PLY,10X13,CL",null,3.21,27,{"$f":"VLOOKUP(M833,DFL!A:H,8,0)","v":0.57999999999999996},{"$f":"P833-(P833/1.0025)","v":3.3665835411471612E-3},1.35]
[{"$error":"#N/A"},null,null,null,null,293046,"SPR","SPR","PK","CARD,INDX,WHT,BLANK,3X5,100PK"," ",3.01,35,{"$f":"VLOOKUP(M834,DFL!A:H,8,0)","v":0.6},{"$f":"P834-(P834/1.0025)","v":2.9925187032417977E-3},1.2]
[{"$error":"#N/A"},null,null,null,null,293102,"SPR","SPR","PK","CARD,INDX,WHITE,RULD,3X5,100PK",null,3.01,35,{"$f":"VLOOKUP(M835,DFL!A:H,8,0)","v":0.6},{"$f":"P835-(P835/1.0025)","v":2.9925187032417977E-3},1.2]
[{"$error":"#N/A"},null,null,null,null,910406,"SPR","SPR","RL"," TAPE TRANSPARENT 3/4 X36YD",null,2.39,39,{"$f":"VLOOKUP(M836,DFL!A:H,8,0)","v":0.5},{"$f":"P836-(P836/1.0025)","v":2.9925187032417977E-3},1.2]
[{"$error":"#N/A"},null,null,null,null,993220,"SPR","SPR","ST","TABS,INDEX,PREMIUM,5/ST,MULTI","030/030,EPP (eVine),CPG,30% post-consumer (paper)",3.03,35,{"$f":"VLOOKUP(M837,DFL!A:H,8,0)","v":0.6},{"$f":"P837-(P837/1.0025)","v":3.0174563591021109E-3},1.21]
[{"$error":"#N/A"},null,null,null,null,189628,"BSD","BSD","EA","HOLDER,CARD,BUSINESS,RECYCLED"," ",6.04,35,{"$f":"VLOOKUP(M838,DFL!A:E,5,0)","v":0.7},{"$f":"P838-(P838/1.0025)","v":4.5137157107231207E-3},1.81]
[{"$error":"#N/A"},null,null,null,null,759639,"BSD","BSD","EA","Just Basics¬Æ Poly Spiral Notebook, 8 1/2\" x 10 1/2\", Wide Ruled, 140 Pages (70 Sheets), Blue",null,4.51,30,{"$f":"VLOOKUP(M839,DFL!A:E,5,0)","v":0.73},{"$f":"P839-(P839/1.0025)","v":3.042394014962424E-3},1.22]
[{"$error":"#N/A"},null,null,null,null,125311,"SPR","SPR","EA","MARKER,PEN,LIQINK,BRVO,BK"," ",2.38,28,{"$f":"VLOOKUP(M840,DFL!A:H,8,0)","v":0.48},{"$f":"P840-(P840/1.0025)","v":3.0922693266832724E-3},1.24]
[{"$error":"#N/A"},null,null,null,null,8823769,"SPR","SPR","EA","COVER,REPORT,SLIDECLIP,BLK",null,2.48,35,{"$f":"VLOOKUP(M841,DFL!A:H,8,0)","v":0.6},{"$f":"P841-(P841/1.0025)","v":2.4688279301745553E-3},0.99]
[{"$error":"#N/A"},null,null,null,null,7752773,"SPR","SPR","EA","STICK,GLUE,0.74OZ,CLR",null,2.94,1,{"$f":"VLOOKUP(M842,DFL!A:H,8,0)","v":0.48},{"$f":"P842-(P842/1.0025)","v":3.8154613466332421E-3},1.53]
[{"$error":"#N/A"},null,null,null,null,853372,null,"SPR","PK","REFILL,GEL,RT,0.7MM,BK,2PK",null,2.78,33,{"$f":"VLOOKUP(M843,DFL!A:H,8,0)","v":0.55000000000000004},{"$f":"P843-(P843/1.0025)","v":3.1172069825435855E-3},1.25]
[{"$error":"#N/A"},null,null,null,null,332302,"SPR","SPR","PK","REFILL,GEL,G-301,0.7,BK,2PK",null,2.78,33,{"$f":"VLOOKUP(M844,DFL!A:H,8,0)","v":0.55000000000000004},{"$f":"P844-(P844/1.0025)","v":3.1172069825435855E-3},1.25]
[{"$error":"#N/A"},null,null,null,null,550666,"SPR","SPR","EA","POCKET,RING BNDR,VNYL,9.56X"," ",3.85,35,{"$f":"VLOOKUP(M845,DFL!A:H,8,0)","v":0.6},{"$f":"P845-(P845/1.0025)","v":3.8403990024937773E-3},1.54]
[{"$error":"#N/A"},null,null,null,null,129461,"SPR","SPR","ST","INDEX,TBL'CONT,1-5,AST",null,3.35,35,{"$f":"VLOOKUP(M846,DFL!A:H,8,0)","v":0.6},{"$f":"P846-(P846/1.0025)","v":3.341645885286626E-3},1.34]
[{"$error":"#N/A"},null,null,null,null,171553,"SPR","SPR","RL","TAPE,MAGIC,3/4\"X300\",REFILL"," ",2.5299999999999998,39,{"$f":"VLOOKUP(M847,DFL!A:H,8,0)","v":0.5},{"$f":"P847-(P847/1.0025)","v":3.1670822942642118E-3},1.27]
[{"$error":"#N/A"},null,null,null,null,557063,"SPR","SPR","EA","MARKER,RFL,XY FR,PERM BK"," ",2.82,33,{"$f":"VLOOKUP(M848,DFL!A:H,8,0)","v":0.55000000000000004},{"$f":"P848-(P848/1.0025)","v":3.1670822942642118E-3},1.27]
[{"$error":"#N/A"},null,null,null,null,825232,"BSD","BSD","EA","PUNCH,1-HOLE,1/4\",HANDHELD,CHM"," ",5.01,7,{"$f":"VLOOKUP(M849,DFL!A:E,5,0)","v":0.72},{"$f":"P849-(P849/1.0025)","v":3.491271820448727E-3},1.4]
[{"$error":"#N/A"},null,null,null,null,2475684,"SPR","SPR","EA","PEN,PRECISE,V5,RT,0.5MM,GN",null,2.87,33,{"$f":"VLOOKUP(M850,DFL!A:H,8,0)","v":0.55000000000000004},{"$f":"P850-(P850/1.0025)","v":3.2169576059850602E-3},1.29]
[{"$error":"#N/A"},null,null,null,null,6792472,"BSD","BSD","BX","Crayola¬Æ Colors Of The World Crayons, Assorted Colors, Pack Of 24 Crayons",null,3.39,47,{"$f":"VLOOKUP(M851,DFL!A:E,5,0)","v":0.56999999999999995},{"$f":"P851-(P851/1.0025)","v":3.640897755610828E-3},1.46]
[{"$error":"#N/A"},null,null,null,null,565528,"BSD","BSD","BX","CRAYOLA 16CT CRAYON"," ",3.75,47,{"$f":"VLOOKUP(M852,DFL!A:E,5,0)","v":0.56999999999999995},{"$f":"P852-(P852/1.0025)","v":4.0149625935161914E-3},1.61]
[{"$error":"#N/A"},null,null,null,null,310060,"SPR","SPR","EA","BOOK;MEMRF;6X4;6HK;80CT",null,3.08,30,{"$f":"VLOOKUP(M853,DFL!A:H,8,0)","v":0.57999999999999996},{"$f":"P853-(P853/1.0025)","v":3.2169576059850602E-3},1.29]
[{"$error":"#N/A"},null,null,null,null,8267724,"SPR","SPR","RL","TAPE,MASKING,3/4\"X60YD,KRFT",null,3.18,39,{"$f":"VLOOKUP(M854,DFL!A:H,8,0)","v":0.5},{"$f":"P854-(P854/1.0025)","v":3.9650872817953431E-3},1.59]
[{"$error":"#N/A"},null,null,null,null,222851,"SPR","SPR","ST","PASTEL;OIL;AST;12CT",null,2.6,47,{"$f":"VLOOKUP(M855,DFL!A:H,8,0)","v":0.5},{"$f":"P855-(P855/1.0025)","v":3.2418952618453734E-3},1.3]
[{"$error":"#N/A"},null,null,null,null,146856,"SPR","SPR","PK","REFILL,GEL,UB207,0.7,BE,2PK",null,2.89,33,{"$f":"VLOOKUP(M856,DFL!A:H,8,0)","v":0.55000000000000004},{"$f":"P856-(P856/1.0025)","v":3.2418952618453734E-3},1.3]
[{"$error":"#N/A"},null,null,null,null,257293,"SPR","SPR","EA","NOTEBOOK;COMP;SQCR80CTAST",null,3.09,30,{"$f":"VLOOKUP(M857,DFL!A:H,8,0)","v":0.57999999999999996},{"$f":"P857-(P857/1.0025)","v":3.2418952618453734E-3},1.3]
[{"$error":"#N/A"},null,null,null,null,9942929,"BSD","BSD","EA","Just Basics¬Æ Poly Spiral Notebook, 8 1/2\" x 10 1/2\", College Ruled, 140 Pages (70 Sheets), Blue",null,4.8,30,{"$f":"VLOOKUP(M858,DFL!A:E,5,0)","v":0.73},{"$f":"P858-(P858/1.0025)","v":3.2418952618453734E-3},1.3]
[{"$error":"#N/A"},null,null,null,null,154623,null,"SPR","EA","Just Basics¬Æ Poly Spiral Notebook, 8 1/2\" x 10 1/2\", College Ruled, 70 Sheets, White",null,4.8,30,{"$f":"VLOOKUP(M859,DFL!A:H,8,0)","v":0.57999999999999996},{"$f":"P859-(P859/1.0025)","v":5.0374064837903632E-3},2.02]
[{"$error":"#N/A"},null,null,null,null,130551,"SPR","SPR","EA","TAPE,CORRECTION,WE"," ",2.84,17,{"$f":"VLOOKUP(M860,DFL!A:H,8,0)","v":0.48},{"$f":"P860-(P860/1.0025)","v":3.6907730673316763E-3},1.48]
[{"$error":"#N/A"},null,null,null,null,952873,"SPR","SPR","PK","REFILL,PEN,V7,XFINE,2PK,BLUE"," ",2.9,33,{"$f":"VLOOKUP(M861,DFL!A:H,8,0)","v":0.55000000000000004},{"$f":"P861-(P861/1.0025)","v":3.2668329177056865E-3},1.31]
[{"$error":"#N/A"},null,null,null,null,952845,"SPR","SPR","PK","REFILL,PEN,V5,XFINE,2PK,BLACK"," ",2.9,33,{"$f":"VLOOKUP(M862,DFL!A:H,8,0)","v":0.55000000000000004},{"$f":"P862-(P862/1.0025)","v":3.2668329177056865E-3},1.31]
[{"$error":"#N/A"},null,null,null,null,952859,"SPR","SPR","PK","REFILL,PEN,V7,XFINE,2PK,BLACK"," ",2.9,33,{"$f":"VLOOKUP(M863,DFL!A:H,8,0)","v":0.55000000000000004},{"$f":"P863-(P863/1.0025)","v":3.2668329177056865E-3},1.31]
[{"$error":"#N/A"},null,null,null,null,952852,"SPR","SPR","PK","REFILL,PRECISEV5,0.5,BE,2PK",null,2.9,33,{"$f":"VLOOKUP(M864,DFL!A:H,8,0)","v":0.55000000000000004},{"$f":"P864-(P864/1.0025)","v":3.2668329177056865E-3},1.31]
[{"$error":"#N/A"},null,null,null,null,724548,"BSD","BSD","EA","Just Basics¬Æ Poly Spiral Notebook, 8 1/2\" x 10 1/2\", Wide Ruled, 140 Pages (70 Sheets), Green",null,4.88,30,{"$f":"VLOOKUP(M865,DFL!A:E,5,0)","v":0.73},{"$f":"P865-(P865/1.0025)","v":3.2917705735659997E-3},1.32]
[{"$error":"#N/A"},null,null,null,null,998013,"SPR","SPR","EA","RULER,BEVELED,WOOD,12\",WESTCOT"," ",3.22,34,{"$f":"VLOOKUP(M866,DFL!A:H,8,0)","v":0.55000000000000004},{"$f":"P866-(P866/1.0025)","v":3.6159600997505148E-3},1.45]
[{"$error":"#N/A"},null,null,null,null,904551,"SPR","SPR","PK","REFILL,RBALL,G2,FN,PE,2PK"," ",2.94,33,{"$f":"VLOOKUP(M867,DFL!A:H,8,0)","v":0.55000000000000004},{"$f":"P867-(P867/1.0025)","v":3.2917705735659997E-3},1.32]
[{"$error":"#N/A"},null,null,null,null,1749547,"SPR","SPR","PK","G2 GEL INK REFILL BLU BOLD 2PK"," ",2.94,33,{"$f":"VLOOKUP(M868,DFL!A:H,8,0)","v":0.55000000000000004},{"$f":"P868-(P868/1.0025)","v":3.2917705735659997E-3},1.32]
[{"$error":"#N/A"},null,null,null,null,526596,"SPR","SPR","EA","REFILL,PEN,G-2,FN,RED"," ",2.94,33,{"$f":"VLOOKUP(M869,DFL!A:H,8,0)","v":0.55000000000000004},{"$f":"P869-(P869/1.0025)","v":3.2917705735659997E-3},1.32]
[{"$error":"#N/A"},null,null,null,null,526569,"SPR","SPR","EA","REFILL,PEN,G-2,X-FN,BE"," ",2.94,33,{"$f":"VLOOKUP(M870,DFL!A:H,8,0)","v":0.55000000000000004},{"$f":"P870-(P870/1.0025)","v":3.2917705735659997E-3},1.32]
[{"$error":"#N/A"},null,null,null,null,526550,"SPR","SPR","PK","REFILL,GEL,RT,XFN,2PK,BLACK"," ",2.94,33,{"$f":"VLOOKUP(M871,DFL!A:H,8,0)","v":0.55000000000000004},{"$f":"P871-(P871/1.0025)","v":3.2917705735659997E-3},1.32]
[{"$error":"#N/A"},null,null,null,null,687557,"SPR","SPR","PK","REFILL,PEN,G-2,BOLD,2PK,BLACK"," ",2.94,33,{"$f":"VLOOKUP(M872,DFL!A:H,8,0)","v":0.55000000000000004},{"$f":"P872-(P872/1.0025)","v":3.2917705735659997E-3},1.32]
[{"$error":"#N/A"},null,null,null,null,772141,"SPR","SPR","PK","REFILL,PEN,G-2,FN,2/PK,BLACK"," ",2.94,33,{"$f":"VLOOKUP(M873,DFL!A:H,8,0)","v":0.55000000000000004},{"$f":"P873-(P873/1.0025)","v":3.2917705735659997E-3},1.32]
[{"$error":"#N/A"},null,null,null,null,526587,"SPR","SPR","PK","REFILL,GEL,RT,FN,2PK,BLUE"," ",2.94,33,{"$f":"VLOOKUP(M874,DFL!A:H,8,0)","v":0.55000000000000004},{"$f":"P874-(P874/1.0025)","v":3.2917705735659997E-3},1.32]
[{"$error":"#N/A"},null,null,null,null,349029,"SPR","SPR","ST","INDEX,8 TAB,WRITE-ON,WHITE","030/030,EPP (eVine),CPG,30% post-consumer (paper)",3.31,35,{"$f":"VLOOKUP(M875,DFL!A:H,8,0)","v":0.6},{"$f":"P875-(P875/1.0025)","v":3.2917705735659997E-3},1.32]
[{"$error":"#N/A"},null,null,null,null,119677,"BSD","BSD","EA","GLUE,ALL PURPOSE,4OZ"," ",3.5891803278688523,1,{"$f":"VLOOKUP(M876,DFL!A:E,5,0)","v":0.63},{"$f":"P876-(P876/1.0025)","v":3.3167082294263128E-3},1.33]
[{"$error":"#N/A"},null,null,null,null,261183,null,"SPR","EA","Just Basics¬Æ Poly Spiral Notebook, 8 1/2\" x 10 1/2\", College Ruled, 70 Sheets, Red",null,4.91,30,{"$f":"VLOOKUP(M877,DFL!A:H,8,0)","v":0.57999999999999996},{"$f":"P877-(P877/1.0025)","v":5.1371571072316158E-3},2.06]
[{"$error":"#N/A"},null,null,null,null,500231,"SPR","SPR","EA","BOOK,AUTO MILEAGE LOG"," ",2.4700000000000002,11,{"$f":"VLOOKUP(M878,DFL!A:H,8,0)","v":0.46},{"$f":"P878-(P878/1.0025)","v":3.3167082294263128E-3},1.33]
[{"$error":"#N/A"},null,null,null,null,4901431,"SPR","SPR","EA","PEN,ROLL,RT,VBALL,EX FN,BK",null,2.95,33,{"$f":"VLOOKUP(M879,DFL!A:H,8,0)","v":0.55000000000000004},{"$f":"P879-(P879/1.0025)","v":3.3167082294263128E-3},1.33]
[{"$error":"#N/A"},null,null,null,null,242745,"SPR","SPR","EA"," RULER 12  NONSHATTER CLR",null,3.22,34,{"$f":"VLOOKUP(M880,DFL!A:H,8,0)","v":0.55000000000000004},{"$f":"P880-(P880/1.0025)","v":3.6159600997505148E-3},1.45]
[{"$error":"#N/A"},null,null,null,null,375627,"BSD","BSD","EA","Just Basics¬Æ Poly Spiral Notebook, 8 1/2\" x 10 1/2\", College Ruled, 140 Pages (70 Sheets), Teal",null,4.92,30,{"$f":"VLOOKUP(M881,DFL!A:E,5,0)","v":0.73},{"$f":"P881-(P881/1.0025)","v":3.3167082294263128E-3},1.33]
[{"$error":"#N/A"},null,null,null,null,474922,"BSD","BSD","EA","Just Basics¬Æ Poly Spiral Notebook, 8 1/2\" x 10 1/2\", Wide Ruled, 140 Pages (70 Sheets), Red",null,4.92,30,{"$f":"VLOOKUP(M882,DFL!A:E,5,0)","v":0.73},{"$f":"P882-(P882/1.0025)","v":3.3167082294263128E-3},1.33]
[{"$error":"#N/A"},null,null,null,null,985378,"SPR","SPR","EA","EYEWEAR;SCRATCH RESISTANT",null,2.27,22,{"$f":"VLOOKUP(M883,DFL!A:H,8,0)","v":0.41},{"$f":"P883-(P883/1.0025)","v":3.341645885286626E-3},1.34]
[{"$error":"#N/A"},null,null,null,null,509601,"SPR","SPR","BX","TISSUE,FACIAL,FLATBX,WHT"," ",2.52,40,{"$f":"VLOOKUP(M884,DFL!A:H,8,0)","v":0.44},{"$f":"P884-(P884/1.0025)","v":3.5162094763092622E-3},1.41]
[{"$error":"#N/A"},null,null,null,null,590668,"SPR","SPR","EA","RULER,PLASTIC,SHATTRPRF6\""," ",2.92,47,{"$f":"VLOOKUP(M885,DFL!A:H,8,0)","v":0.5},{"$f":"P885-(P885/1.0025)","v":3.640897755610828E-3},1.46]
[{"$error":"#N/A"},null,null,null,null,550381,"SPR","SPR","EA","MOISTENER,FINGERTIP,SORTKWI"," ",3.19,27,{"$f":"VLOOKUP(M886,DFL!A:H,8,0)","v":0.57999999999999996},{"$f":"P886-(P886/1.0025)","v":3.341645885286626E-3},1.34]
[{"$error":"#N/A"},null,null,null,null,912271,"BSD","BSD","EA","Office Depot¬Æ Brand Poly Composition Book, 7 1/2\" x 9 3/4\", Wide Ruled, 160 Pages (80 Sheets), Green",null,4.96,30,{"$f":"VLOOKUP(M887,DFL!A:E,5,0)","v":0.73},{"$f":"P887-(P887/1.0025)","v":3.341645885286626E-3},1.34]
[{"$error":"#N/A"},null,null,null,null,933531,"SPR","SPR","ST","INDEX,INSERT,11X8.5,CLEAR,8/ST","030/030,EPP (eVine),CPG,30% post-consumer (paper)",3.37,35,{"$f":"VLOOKUP(M888,DFL!A:H,8,0)","v":0.6},{"$f":"P888-(P888/1.0025)","v":3.3665835411471612E-3},1.35]
[{"$error":"#N/A"},null,null,null,null,469734,"BSD","BSD","EA","PENCIL POUCH,FRONT MESH"," ",4.03,45,{"$f":"VLOOKUP(M889,DFL!A:E,5,0)","v":0.63},{"$f":"P889-(P889/1.0025)","v":3.7157107231919895E-3},1.49]
[{"$error":"#N/A"},null,null,null,null,535104,"SPR","SPR","BX","CRAYONS;BULK;BK;12 CT",null,2.71,47,{"$f":"VLOOKUP(M890,DFL!A:H,8,0)","v":0.5},{"$f":"P890-(P890/1.0025)","v":3.3915211970074743E-3},1.36]
[{"$error":"#N/A"},null,null,null,null,455480,"BSD","BSD","EA","Office Depot¬Æ Brand Poly Composition Book, 7 1/2\" x 9 3/4\", College Ruled, 80 Sheets, Blue",null,5.05,30,{"$f":"VLOOKUP(M891,DFL!A:E,5,0)","v":0.73},{"$f":"P891-(P891/1.0025)","v":3.3915211970074743E-3},1.36]
[{"$error":"#N/A"},null,null,null,null,8215526,"SPR","SPR","EA","DISPENSER,FIT,MAN,1.2L,SLT",null,2.5,19,{"$f":"VLOOKUP(M892,DFL!A:H,8,0)","v":0.45},{"$f":"P892-(P892/1.0025)","v":3.4413965087281007E-3},1.38]
[{"$error":"#N/A"},null,null,null,null,8374939,"SPR","SPR","EA","DISPENSER,FIT,MAN,1.2L,IVOR",null,2.5,19,{"$f":"VLOOKUP(M893,DFL!A:H,8,0)","v":0.45},{"$f":"P893-(P893/1.0025)","v":3.4413965087281007E-3},{"$f":"ROUND(L893*(1-N893),2)","v":1.38}]
[{"$error":"#N/A"},null,null,null,null,4705312,"SPR","SPR","EA","ASHTRAY;DESK;ROUND;BLACK",null,4.1100000000000003,19,{"$f":"VLOOKUP(M894,DFL!A:H,8,0)","v":0.45},{"$f":"P894-(P894/1.0025)","v":5.6359102244387671E-3},2.2599999999999998]
[{"$error":"#N/A"},null,null,null,null,682614,"SPR","SPR","EA","RING;KEY;CARRYBINER",null,3.22,47,{"$f":"VLOOKUP(M895,DFL!A:H,8,0)","v":0.5},{"$f":"P895-(P895/1.0025)","v":4.0149625935161914E-3},1.61]
[{"$error":"#N/A"},null,null,null,null,504928,"BSD","BSD","BX","PENCILS,COLORED,CRAYOLA,12PK","Less Harsh Chemicals,ACMI certified",3.2,47,{"$f":"VLOOKUP(M896,DFL!A:E,5,0)","v":0.56999999999999995},{"$f":"P896-(P896/1.0025)","v":3.4413965087281007E-3},1.38]
[{"$error":"#N/A"},null,null,null,null,598166,"BSD","BSD","EA","Office Depot¬Æ Brand Poly Composition Book, 7 1/2\" x 9 3/4\", College Ruled, 80 Sheets, Black",null,5.1100000000000003,30,{"$f":"VLOOKUP(M897,DFL!A:E,5,0)","v":0.73},{"$f":"P897-(P897/1.0025)","v":3.4413965087281007E-3},1.38]
[{"$error":"#N/A"},null,null,null,null,196550,"SPR","SPR","EA","FILE,CARD,3X5,BLACK"," ",4.59,35,{"$f":"VLOOKUP(M898,DFL!A:H,8,0)","v":0.6},{"$f":"P898-(P898/1.0025)","v":4.5885286783040602E-3},1.84]
[{"$error":"#N/A"},null,null,null,null,151693,null,"SPR","EA","FRESHENER,AIR,LAVDR&CHAMILE"," ",2.54,19,{"$f":"VLOOKUP(M899,DFL!A:H,8,0)","v":0.45},{"$f":"P899-(P899/1.0025)","v":3.491271820448727E-3},1.4]
[{"$error":"#N/A"},null,null,null,null,172056,"SPR","SPR","RL","TAPE,SEALING,BOX,2\"X55 YDS",null,2.79,39,{"$f":"VLOOKUP(M900,DFL!A:H,8,0)","v":0.5},{"$f":"P900-(P900/1.0025)","v":3.491271820448727E-3},1.4]
[{"$error":"#N/A"},null,null,null,null,589510,"BSD","BSD","PK","PAPER,FILLER,CR,10.5X8,150CT"," ",5.17,30,{"$f":"VLOOKUP(M901,DFL!A:E,5,0)","v":0.73},{"$f":"P901-(P901/1.0025)","v":3.491271820448727E-3},1.4]
[{"$error":"#N/A"},null,null,null,null,969327,"SPR","SPR","BX","MEDLINE NON-WOVEN GAUZE",null,2.39,22,{"$f":"VLOOKUP(M902,DFL!A:H,8,0)","v":0.41},{"$f":"P902-(P902/1.0025)","v":3.5162094763092622E-3},1.41]
[{"$error":"#N/A"},null,null,null,null,764810,"SPR","SPR","EA","RULER,SHATTERPROOF,12",null,3.43,34,{"$f":"VLOOKUP(M903,DFL!A:H,8,0)","v":0.55000000000000004},{"$f":"P903-(P903/1.0025)","v":3.8403990024937773E-3},1.54]
[{"$error":"#N/A"},null,null,null,null,511772,"SPR","SPR","DZ","PENCIL,PRESHRPND,#2HB,12CT"," ",3.55,33,{"$f":"VLOOKUP(M904,DFL!A:H,8,0)","v":0.55000000000000004},{"$f":"P904-(P904/1.0025)","v":3.9900249376558783E-3},1.6]
[{"$error":"#N/A"},null,null,null,null,991992,null,"SPR","EA","CLIPBOARD,LTR,9X12-1/2"," ",6.5,35,{"$f":"VLOOKUP(M905,DFL!A:H,8,0)","v":0.6},{"$f":"P905-(P905/1.0025)","v":6.4837905236907467E-3},2.6]
[{"$error":"#N/A"},null,null,null,null,1760068,"SPR","SPR","EA","PEROXIDE HYDROGEN 1PINT"," ",2.42,22,{"$f":"VLOOKUP(M906,DFL!A:H,8,0)","v":0.41},{"$f":"P906-(P906/1.0025)","v":3.5660847880298885E-3},1.43]
[{"$error":"#N/A"},null,null,null,null,230329,"BSD","BSD","PK","RUBBERBANDS,FILE,BRITES,50PK"," ",5.3,7,{"$f":"VLOOKUP(M907,DFL!A:E,5,0)","v":0.72},{"$f":"P907-(P907/1.0025)","v":3.6907730673316763E-3},1.48]
[{"$error":"#N/A"},null,null,null,null,9464260,"BSD","BSD","PK","SLEEVE,CD/DVD,PAPER,50 PK",null,2.6804615384615387,14,{"$f":"VLOOKUP(M908,DFL!A:E,5,0)","v":0.46},{"$f":"P908-(P908/1.0025)","v":3.6159600997505148E-3},1.45]
[{"$error":"#N/A"},null,null,null,null,588593,"BSD","BSD","ST","DIVIDERS,TRANS,WRITEON,5TAB"," ",7.09,35,{"$f":"VLOOKUP(M909,DFL!A:E,5,0)","v":0.7},{"$f":"P909-(P909/1.0025)","v":5.311720698254252E-3},2.13]
[{"$error":"#N/A"},null,null,null,null,910430,"SPR","SPR","RL"," TAPE INVISIBLE 3/4 X36YD",null,2.9,39,{"$f":"VLOOKUP(M910,DFL!A:H,8,0)","v":0.5},{"$f":"P910-(P910/1.0025)","v":3.6159600997505148E-3},1.45]
[{"$error":"#N/A"},null,null,null,null,549946,"SPR","SPR","EA","MOISTENER,BOTTLE,  IDL28025"," ",3.54,27,{"$f":"VLOOKUP(M911,DFL!A:H,8,0)","v":0.57999999999999996},{"$f":"P911-(P911/1.0025)","v":3.7157107231919895E-3},1.49]
[{"$error":"#N/A"},null,null,null,null,554520,"BSD","BSD","PK","BINDER,POCKET,POLY,CLEAR,5PK"," ",7.15,35,{"$f":"VLOOKUP(M912,DFL!A:E,5,0)","v":0.7},{"$f":"P912-(P912/1.0025)","v":5.3615960099748783E-3},2.15]
[{"$error":"#N/A"},null,null,null,null,735871,"BSD","BSD","PK","BINDER,POCKET,POLY,5PK"," ",7.15,35,{"$f":"VLOOKUP(M913,DFL!A:E,5,0)","v":0.7},{"$f":"P913-(P913/1.0025)","v":5.3615960099748783E-3},2.15]
[{"$error":"#N/A"},null,null,null,null,244751,"BSD","BSD","EA","Office Depot¬Æ Brand Poly Composition Book, 7 1/2\" x 9 3/4\", Wide Ruled, 80 Sheets, Black",null,5.38,30,{"$f":"VLOOKUP(M914,DFL!A:E,5,0)","v":0.73},{"$f":"P914-(P914/1.0025)","v":3.6159600997505148E-3},1.45]
[{"$error":"#N/A"},null,null,null,null,486993,"SPR","SPR","PK","REFILL,BLK,F/F-301,750,605,2PK"," ",3.24,33,{"$f":"VLOOKUP(M915,DFL!A:H,8,0)","v":0.55000000000000004},{"$f":"P915-(P915/1.0025)","v":3.640897755610828E-3},1.46]
[{"$error":"#N/A"},null,null,null,null,770086,null,"SPR","PK","REFILL,F-SERIES,1.0,BK,2PK",null,3.24,33,{"$f":"VLOOKUP(M916,DFL!A:H,8,0)","v":0.55000000000000004},{"$f":"P916-(P916/1.0025)","v":3.640897755610828E-3},1.46]
[{"$error":"#N/A"},null,null,null,null,770095,null,"SPR","PK","REFILL,F-SERIES,1.0,BE,2PK",null,3.24,33,{"$f":"VLOOKUP(M917,DFL!A:H,8,0)","v":0.55000000000000004},{"$f":"P917-(P917/1.0025)","v":3.640897755610828E-3},1.46]
[{"$error":"#N/A"},null,null,null,null,487009,"SPR","SPR","PK","REFILL,F-SERIES,0.7,BE,2PK",null,3.24,33,{"$f":"VLOOKUP(M918,DFL!A:H,8,0)","v":0.55000000000000004},{"$f":"P918-(P918/1.0025)","v":3.640897755610828E-3},1.46]
[{"$error":"#N/A"},null,null,null,null,731765,"SPR","SPR","EA","PENCIL,TWIST,CLICK,0.5MM,BK",null,3.25,33,{"$f":"VLOOKUP(M919,DFL!A:H,8,0)","v":0.55000000000000004},{"$f":"P919-(P919/1.0025)","v":3.640897755610828E-3},1.46]
[{"$error":"#N/A"},null,null,null,null,731770,"SPR","SPR","EA","PENCIL,TWIST,CLICK,0.7MM,BE",null,3.25,33,{"$f":"VLOOKUP(M920,DFL!A:H,8,0)","v":0.55000000000000004},{"$f":"P920-(P920/1.0025)","v":3.640897755610828E-3},1.46]
[{"$error":"#N/A"},null,null,null,null,731780,"SPR","SPR","EA","PENCIL,TWIST,CLICK,0.9MM,BK",null,3.25,33,{"$f":"VLOOKUP(M921,DFL!A:H,8,0)","v":0.55000000000000004},{"$f":"P921-(P921/1.0025)","v":3.640897755610828E-3},1.46]
[{"$error":"#N/A"},null,null,null,null,550675,"SPR","SPR","EA","POCKET,RING BNDR,VNYL,10X8"," ",4.37,35,{"$f":"VLOOKUP(M922,DFL!A:H,8,0)","v":0.6},{"$f":"P922-(P922/1.0025)","v":4.3640897755610197E-3},1.75]
[{"$error":"#N/A"},null,null,null,null,943829,null,"SPR","EA","MOP;TOILET;VALUE PLUS",null,2.68,19,{"$f":"VLOOKUP(M923,DFL!A:H,8,0)","v":0.45},{"$f":"P923-(P923/1.0025)","v":3.6658354114711411E-3},1.47]
[{"$error":"#N/A"},null,null,null,null,899763,"SPR","SPR","EA","SCISSORS,KIDS,WSTCTT TN 5\"BLNT"," ",3.21,37,{"$f":"VLOOKUP(M924,DFL!A:H,8,0)","v":0.5},{"$f":"P924-(P924/1.0025)","v":4.0149625935161914E-3},1.61]
[{"$error":"#N/A"},null,null,null,null,922173,"SPR","SPR","EA","SCISSORS,SCHLKDS,PNT,5\"ASTDCLR"," ",3.21,37,{"$f":"VLOOKUP(M925,DFL!A:H,8,0)","v":0.5},{"$f":"P925-(P925/1.0025)","v":4.0149625935161914E-3},1.61]
[{"$error":"#N/A"},null,null,null,null,973239,"SPR","SPR","PK","REFILL,F301,1.6M,2PK,BK"," ",3.26,33,{"$f":"VLOOKUP(M926,DFL!A:H,8,0)","v":0.55000000000000004},{"$f":"P926-(P926/1.0025)","v":3.6658354114711411E-3},1.47]
[{"$error":"#N/A"},null,null,null,null,973233,"SPR","SPR","EA","PENCIL;MECH;PENCIL;0.7;BK",null,3.26,33,{"$f":"VLOOKUP(M927,DFL!A:H,8,0)","v":0.55000000000000004},{"$f":"P927-(P927/1.0025)","v":3.6658354114711411E-3},1.47]
[{"$error":"#N/A"},null,null,null,null,760843,null,"SPR","PK","ERASER,CLIC,REFILL,4PK,WHITE",null,4.2,33,{"$f":"VLOOKUP(M928,DFL!A:H,8,0)","v":0.55000000000000004},{"$f":"P928-(P928/1.0025)","v":4.713216957605848E-3},1.89]
[{"$error":"#N/A"},null,null,null,null,447938,"BSD","BSD","EA","Just Basics¬Æ Poly Spiral Notebook, 8 1/2\" x 10 1/2\", Wide Ruled, 140 Pages (70 Sheets), Black",null,5.47,30,{"$f":"VLOOKUP(M929,DFL!A:E,5,0)","v":0.73},{"$f":"P929-(P929/1.0025)","v":3.6907730673316763E-3},1.48]
[{"$error":"#N/A"},null,null,null,null,485597,null,"SPR","EA"," TRIGGER SPRAY MULTI",null,2.69,19,{"$f":"VLOOKUP(M930,DFL!A:H,8,0)","v":0.45},{"$f":"P930-(P930/1.0025)","v":3.6907730673316763E-3},1.48]
[{"$error":"#N/A"},null,null,null,null,801160,"SPR","SPR","EA","HOLDER,CRD,BSNS,1PKT,CLEAR"," ",2.14,14,{"$f":"VLOOKUP(M931,DFL!A:H,8,0)","v":0.31},{"$f":"P931-(P931/1.0025)","v":3.6907730673316763E-3},1.48]
[{"$error":"#N/A"},null,null,null,null,527021,"SPR","SPR","EA","SIGN,NO SMOKING,RD/WE"," ",2.31,36,{"$f":"VLOOKUP(M932,DFL!A:H,8,0)","v":0.36},{"$f":"P932-(P932/1.0025)","v":3.6907730673316763E-3},1.48]
[{"$error":"#N/A"},null,null,null,null,554654,"SPR","SPR","EA","BOX;PENCIL;SPERSTACKER;CL",null,3.34,31,{"$f":"VLOOKUP(M933,DFL!A:H,8,0)","v":0.49},{"$f":"P933-(P933/1.0025)","v":4.2394014962592319E-3},1.7]
[{"$error":"#N/A"},null,null,null,null,219568,"SPR","SPR","EA","PUMP;DISPENSING;PAINT",null,2.95,47,{"$f":"VLOOKUP(M934,DFL!A:H,8,0)","v":0.5},{"$f":"P934-(P934/1.0025)","v":3.6907730673316763E-3},1.48]
[{"$error":"#N/A"},null,null,null,null,200020,"SPR","SPR","EA","SHARPENER,STEEL/SLVR"," ",2.41,21,{"$f":"VLOOKUP(M935,DFL!A:H,8,0)","v":0.28999999999999998},{"$f":"P935-(P935/1.0025)","v":4.2643391521195451E-3},1.71]
[{"$error":"#N/A"},null,null,null,null,757620,"SPR","SPR","EA","CLIP,BULLDG,MAG,#1,1.25\"\"1C"," ",3.16,7,{"$f":"VLOOKUP(M936,DFL!A:H,8,0)","v":0.46},{"$f":"P936-(P936/1.0025)","v":4.2643391521195451E-3},1.71]
[{"$error":"#N/A"},null,null,null,null,108108,"BSD","BSD","ST","POCKET,5TAB,PLASTIC"," ",7.34,35,{"$f":"VLOOKUP(M937,DFL!A:E,5,0)","v":0.7},{"$f":"P937-(P937/1.0025)","v":5.4862842892768882E-3},2.2000000000000002]
[{"$error":"#N/A"},null,null,null,null,722770,"SPR","SPR","BX","CRAYON;TRIANGULAR;AST;8/BX",null,3.03,47,{"$f":"VLOOKUP(M938,DFL!A:H,8,0)","v":0.5},{"$f":"P938-(P938/1.0025)","v":3.7905236907729289E-3},1.52]
[{"$error":"#N/A"},null,null,null,null,533767,"SPR","SPR","ST","PEN,INKJOY,100ST,1.0MM,8PK",null,3.41,33,{"$f":"VLOOKUP(M939,DFL!A:H,8,0)","v":0.55000000000000004},{"$f":"P939-(P939/1.0025)","v":3.8154613466332421E-3},1.53]
[{"$error":"#N/A"},null,null,null,null,666537,"BSD","BSD","RL","TAPE,MASKING,HIGHLAND,1\"X60YD"," ",3.82,39,{"$f":"VLOOKUP(M940,DFL!A:E,5,0)","v":0.6},{"$f":"P940-(P940/1.0025)","v":3.8154613466332421E-3},1.53]
[{"$error":"#N/A"},null,null,null,null,366490,"SPR","SPR","EA","KRAZY GLUE,ALL PURP,BRUSH-ON"," ",4.16,1,{"$f":"VLOOKUP(M941,DFL!A:H,8,0)","v":0.48},{"$f":"P941-(P941/1.0025)","v":5.3865336658351914E-3},2.16]
[{"$error":"#N/A"},null,null,null,null,950188,"SPR","SPR","BX","CRAYONS,LARGE,8 TUCK BOX","Less Harsh Chemicals,ACMI certified",3.08,47,{"$f":"VLOOKUP(M942,DFL!A:H,8,0)","v":0.5},{"$f":"P942-(P942/1.0025)","v":3.8403990024937773E-3},1.54]
[{"$error":"#N/A"},null,null,null,null,474176,"SPR","SPR","ST","DIVIDER,INDEX,5TAB,MUTLI-COLOR"," ",6.09,35,{"$f":"VLOOKUP(M943,DFL!A:H,8,0)","v":0.6},{"$f":"P943-(P943/1.0025)","v":6.084788029924848E-3},2.44]
[{"$error":"#N/A"},null,null,null,null,5219631,"SPR","SPR","PK","PENS,REVOLUTION,10PKBL",null,3.45,33,{"$f":"VLOOKUP(M944,DFL!A:H,8,0)","v":0.55000000000000004},{"$f":"P944-(P944/1.0025)","v":3.8653366583540905E-3},1.55]
[{"$error":"#N/A"},null,null,null,null,9986669,null,"SPR","EA","SOFTSOAP AQUARIUM 7.5 FLIP",null,2.65,22,{"$f":"VLOOKUP(M945,DFL!A:H,8,0)","v":0.41},{"$f":"P945-(P945/1.0025)","v":3.8902743142144036E-3},1.56]
[{"$error":"#N/A"},null,null,null,null,947242,"BSD","BSD","PK","Crayola¬Æ Modeling Clay, Assorted Colors",null,4.1100000000000003,47,{"$f":"VLOOKUP(M946,DFL!A:E,5,0)","v":0.56999999999999995},{"$f":"P946-(P946/1.0025)","v":4.413965087281646E-3},1.77]
[{"$error":"#N/A"},null,null,null,null,9565656,"SPR","SPR","EA","HOLDER,CARD,FUSION,GRY,BLK",null,3.6,31,{"$f":"VLOOKUP(M947,DFL!A:H,8,0)","v":0.49},{"$f":"P947-(P947/1.0025)","v":4.5885286783040602E-3},1.84]
[{"$error":"#N/A"},null,null,null,null,913819,"BSD","BSD","BX","MARKERS,CRAYOLA,FINE,10PK",null,4.24,28,{"$f":"VLOOKUP(M948,DFL!A:E,5,0)","v":0.63},{"$f":"P948-(P948/1.0025)","v":3.9152119700747168E-3},1.57]
[{"$error":"#N/A"},null,null,null,null,808865,"BSD","BSD","BX","CLIP,BINDER,MED,12 CLIPS/BX"," ",8.99,7,{"$f":"VLOOKUP(M949,DFL!A:E,5,0)","v":0.72},{"$f":"P949-(P949/1.0025)","v":6.2842892768077974E-3},2.52]
[{"$error":"#N/A"},null,null,null,null,347648,"SPR","SPR","EA","BOOK,WRBND,70CT,CLG,ASST"," ",3.23,47,{"$f":"VLOOKUP(M950,DFL!A:H,8,0)","v":0.5},{"$f":"P950-(P950/1.0025)","v":4.0399002493765046E-3},1.62]
[{"$error":"#N/A"},null,null,null,null,950709,"SPR","SPR","EA","PEN,FOUNTAIN,VARSITY,MED,BK",null,3.5,33,{"$f":"VLOOKUP(M951,DFL!A:H,8,0)","v":0.55000000000000004},{"$f":"P951-(P951/1.0025)","v":3.9401496259350299E-3},1.58]
[{"$error":"#N/A"},null,null,null,null,840746,"SPR","SPR","EA","PEN,FOUNTAIN,VARSITY,MED,BE",null,3.5,33,{"$f":"VLOOKUP(M952,DFL!A:H,8,0)","v":0.55000000000000004},{"$f":"P952-(P952/1.0025)","v":3.9401496259350299E-3},1.58]
[{"$error":"#N/A"},null,null,null,null,573583,null,"SPR","EA","TAPE,ART, 1/4\" GLOSS,RD"," ",6.44,36,{"$f":"VLOOKUP(M953,DFL!A:H,8,0)","v":0.36},{"$f":"P953-(P953/1.0025)","v":1.0274314214463232E-2},4.12]
[{"$error":"#N/A"},null,null,null,null,993246,"SPR","SPR","EA","MOISTENER,FINGERTIP,3/8 OZ"," ",2.2799999999999998,48,{"$f":"VLOOKUP(M954,DFL!A:H,8,0)","v":0.3},{"$f":"P954-(P954/1.0025)","v":3.9900249376558783E-3},1.6]
[{"$error":"#N/A"},null,null,null,null,308488,"SPR","SPR","EA","PEN,ENERGEL,LIQUID,0.7MM,BK",null,3.55,33,{"$f":"VLOOKUP(M955,DFL!A:H,8,0)","v":0.55000000000000004},{"$f":"P955-(P955/1.0025)","v":3.9900249376558783E-3},1.6]
[{"$error":"#N/A"},null,null,null,null,308496,"SPR","SPR","EA","PEN,ENERGEL,LIQUID,0.7MM,RD",null,3.55,33,{"$f":"VLOOKUP(M956,DFL!A:H,8,0)","v":0.55000000000000004},{"$f":"P956-(P956/1.0025)","v":3.9900249376558783E-3},{"$f":"ROUND(L956*(1-N956),2)","v":1.6}]
[{"$error":"#N/A"},null,null,null,null,308504,"SPR","SPR","EA","PEN,ENERGEL,LIQUID,0.7MM,BE",null,3.55,33,{"$f":"VLOOKUP(M957,DFL!A:H,8,0)","v":0.55000000000000004},{"$f":"P957-(P957/1.0025)","v":3.9900249376558783E-3},1.6]
[{"$error":"#N/A"},null,null,null,null,308520,"SPR","SPR","EA","PEN,ENERGEL,LIQUID,1.0MM,BK",null,3.55,33,{"$f":"VLOOKUP(M958,DFL!A:H,8,0)","v":0.55000000000000004},{"$f":"P958-(P958/1.0025)","v":3.9900249376558783E-3},1.6]
[{"$error":"#N/A"},null,null,null,null,308560,"SPR","SPR","EA","PEN,ENERGEL,LIQUID,1.0MM,BE",null,3.55,33,{"$f":"VLOOKUP(M959,DFL!A:H,8,0)","v":0.55000000000000004},{"$f":"P959-(P959/1.0025)","v":3.9900249376558783E-3},1.6]
[{"$error":"#N/A"},null,null,null,null,349341,"SPR","SPR","ST","INDEX,8 TAB,X-WIDE,MULTI COLOR"," ",4.01,35,{"$f":"VLOOKUP(M960,DFL!A:H,8,0)","v":0.6},{"$f":"P960-(P960/1.0025)","v":3.9900249376558783E-3},1.6]
[{"$error":"#N/A"},null,null,null,null,340182,null,"SPR","RL","BORDETTE,BRBLU,2.25X50"," ",5.34,34,{"$f":"VLOOKUP(M961,DFL!A:H,8,0)","v":0.55000000000000004},{"$f":"P961-(P961/1.0025)","v":5.9850374064835954E-3},2.4]
[{"$error":"#N/A"},null,null,null,null,113167,"SPR","SPR","PK","REINFORCEMENT,P/S,1/4\"HOLE,WHT"," ",2.87,26,{"$f":"VLOOKUP(M962,DFL!A:H,8,0)","v":0.44},{"$f":"P962-(P962/1.0025)","v":4.0149625935161914E-3},1.61]
[{"$error":"#N/A"},null,null,null,null,795666,"SPR","SPR","EA","BOTTLE,SPRAY,CLNR,GLASS",null,2.92,19,{"$f":"VLOOKUP(M963,DFL!A:H,8,0)","v":0.45},{"$f":"P963-(P963/1.0025)","v":4.0149625935161914E-3},1.61]
[{"$error":"#N/A"},null,null,null,null,382330,"SPR","SPR","PK","ERASER,MAGIC RUB,3/CD",null,3.58,33,{"$f":"VLOOKUP(M964,DFL!A:H,8,0)","v":0.55000000000000004},{"$f":"P964-(P964/1.0025)","v":4.0149625935161914E-3},1.61]
[{"$error":"#N/A"},null,null,null,null,810360,"BSD","BSD","PK","TABS,INDEX,PST-IT(R),DRBL,PK24"," ",5.36,35,{"$f":"VLOOKUP(M965,DFL!A:E,5,0)","v":0.7},{"$f":"P965-(P965/1.0025)","v":4.0149625935161914E-3},1.61]
[{"$error":"#N/A"},null,null,null,null,265567,"BSD","BSD","PK","TABS,POST-IT,2\",24PK,4 COLORS"," ",5.36,35,{"$f":"VLOOKUP(M966,DFL!A:E,5,0)","v":0.7},{"$f":"P966-(P966/1.0025)","v":4.0149625935161914E-3},1.61]
[{"$error":"#N/A"},null,null,null,null,828342,"BSD","BSD","PK","TABS,DURABLE,2\",24PK,ASTD"," ",5.36,35,{"$f":"VLOOKUP(M967,DFL!A:E,5,0)","v":0.7},{"$f":"P967-(P967/1.0025)","v":4.0149625935161914E-3},1.61]
[{"$error":"#N/A"},null,null,null,null,174151,"SPR","SPR","BG","RUBBER BANDS,SUPERSIZE,12\"RED"," ",7.25,7,{"$f":"VLOOKUP(M968,DFL!A:H,8,0)","v":0.46},{"$f":"P968-(P968/1.0025)","v":9.7755610972565243E-3},3.92]
[{"$error":"#N/A"},null,null,null,null,865082,"BSD","BSD","EA","Just Basics¬Æ Poly Spiral Notebook, 8 1/2\" x 10 1/2\", Wide Ruled, 140 Pages (70 Sheets), White",null,5.97,30,{"$f":"VLOOKUP(M969,DFL!A:E,5,0)","v":0.73},{"$f":"P969-(P969/1.0025)","v":4.0149625935161914E-3},1.61]
[{"$error":"#N/A"},null,null,null,null,274278,"SPR","SPR","EA","PEN,SECURITY,REPLACEMENT"," ",4.49,33,{"$f":"VLOOKUP(M970,DFL!A:H,8,0)","v":0.55000000000000004},{"$f":"P970-(P970/1.0025)","v":5.0374064837903632E-3},2.02]
[{"$error":"#N/A"},null,null,null,null,6015359,"SPR","SPR","EA","REPORTER NOTE, 80 SHEETS",null,3.96,30,{"$f":"VLOOKUP(M971,DFL!A:H,8,0)","v":0.57999999999999996},{"$f":"P971-(P971/1.0025)","v":4.1396508728177572E-3},1.66]
[{"$error":"#N/A"},null,null,null,null,204271,"SPR","SPR","EA","PAD,STAMP,#1,FMRUB,BLK"," ",3.62,24,{"$f":"VLOOKUP(M972,DFL!A:H,8,0)","v":0.55000000000000004},{"$f":"P972-(P972/1.0025)","v":4.0648379052368178E-3},1.63]
[{"$error":"#N/A"},null,null,null,null,950063,"BSD","BSD","ST","MARKER,FINE,CLASSIC,8/BX","Less Harsh Chemicals,ACMI certified",4.9800000000000004,28,{"$f":"VLOOKUP(M973,DFL!A:E,5,0)","v":0.63},{"$f":"P973-(P973/1.0025)","v":4.5885286783040602E-3},1.84]
[{"$error":"#N/A"},null,null,null,null,950055,"BSD","BSD","PK","MARKER,CLSC,CRAYOLA,8PK,ASTD","Less Harsh Chemicals,ACMI certified",4.9800000000000004,28,{"$f":"VLOOKUP(M974,DFL!A:E,5,0)","v":0.63},{"$f":"P974-(P974/1.0025)","v":4.5885286783040602E-3},1.84]
[{"$error":"#N/A"},null,null,null,null,8423364,"SPR","SPR","EA","STICK,GLUE,1.26OZ,CLR",null,3.87,1,{"$f":"VLOOKUP(M975,DFL!A:H,8,0)","v":0.48},{"$f":"P975-(P975/1.0025)","v":5.01246882793005E-3},2.0099999999999998]
[{"$error":"#N/A"},null,null,null,null,362545,"SPR","SPR","EA","ENERGEL RTRC 0.5MM NEEDLE BLUE"," ",3.65,33,{"$f":"VLOOKUP(M976,DFL!A:H,8,0)","v":0.55000000000000004},{"$f":"P976-(P976/1.0025)","v":4.0897755610971309E-3},1.64]
[{"$error":"#N/A"},null,null,null,null,188483,"SPR","SPR","EA","PEN,GEL,RTX,NEEDLE,0.7MM,BE",null,3.65,33,{"$f":"VLOOKUP(M977,DFL!A:H,8,0)","v":0.55000000000000004},{"$f":"P977-(P977/1.0025)","v":4.0897755610971309E-3},1.64]
[{"$error":"#N/A"},null,null,null,null,362515,"SPR","SPR","EA","ENERGEL RTRC 0.5MM NEEDLE BLK",null,3.65,33,{"$f":"VLOOKUP(M978,DFL!A:H,8,0)","v":0.55000000000000004},{"$f":"P978-(P978/1.0025)","v":4.0897755610971309E-3},1.64]
[{"$error":"#N/A"},null,null,null,null,429438,"SPR","SPR","EA","PEN,GEL,RTX,NEEDLE,0.7MM,BK",null,3.65,33,{"$f":"VLOOKUP(M979,DFL!A:H,8,0)","v":0.55000000000000004},{"$f":"P979-(P979/1.0025)","v":4.0897755610971309E-3},1.64]
[{"$error":"#N/A"},null,null,null,null,180566,"SPR","SPR","EA","PEN,GEL,RTX,MTLTIP,0.7MM,BK",null,3.65,33,{"$f":"VLOOKUP(M980,DFL!A:H,8,0)","v":0.55000000000000004},{"$f":"P980-(P980/1.0025)","v":4.0897755610971309E-3},1.64]
[{"$error":"#N/A"},null,null,null,null,478874,"SPR","SPR","EA","PEN,GEL,RTX,MTLTIP,0.7MM,BE",null,3.65,33,{"$f":"VLOOKUP(M981,DFL!A:H,8,0)","v":0.55000000000000004},{"$f":"P981-(P981/1.0025)","v":4.0897755610971309E-3},1.64]
[{"$error":"#N/A"},null,null,null,null,275461,"SPR","SPR","EA","PEN,GEL,RTX,MTLTIP,0.7MM,VT",null,3.65,33,{"$f":"VLOOKUP(M982,DFL!A:H,8,0)","v":0.55000000000000004},{"$f":"P982-(P982/1.0025)","v":4.0897755610971309E-3},1.64]
[{"$error":"#N/A"},null,null,null,null,174341,"SPR","SPR","EA","PEN,GEL,RTX,MTLTIP,0.7MM,RD",null,3.65,33,{"$f":"VLOOKUP(M983,DFL!A:H,8,0)","v":0.55000000000000004},{"$f":"P983-(P983/1.0025)","v":4.0897755610971309E-3},1.64]
[{"$error":"#N/A"},null,null,null,null,400075,"SPR","SPR","EA","PEN,ENERGEL RTX, MED",null,3.65,33,{"$f":"VLOOKUP(M984,DFL!A:H,8,0)","v":0.55000000000000004},{"$f":"P984-(P984/1.0025)","v":4.0897755610971309E-3},1.64]
[{"$error":"#N/A"},null,null,null,null,300503,"SPR","SPR","EA","PEN,GEL,RTX,MTLTIP,0.7MM,BK",null,3.65,33,{"$f":"VLOOKUP(M985,DFL!A:H,8,0)","v":0.55000000000000004},{"$f":"P985-(P985/1.0025)","v":4.0897755610971309E-3},1.64]
[{"$error":"#N/A"},null,null,null,null,300539,"SPR","SPR","EA","PEN,GEL,RTX,MTLTIP,0.7MM,BE",null,3.65,33,{"$f":"VLOOKUP(M986,DFL!A:H,8,0)","v":0.55000000000000004},{"$f":"P986-(P986/1.0025)","v":4.0897755610971309E-3},1.64]
[{"$error":"#N/A"},null,null,null,null,1358929,"SPR","SPR","EA","PEN,GEL,RTX,MTLTIP,0.7MM,PK",null,3.65,33,{"$f":"VLOOKUP(M987,DFL!A:H,8,0)","v":0.55000000000000004},{"$f":"P987-(P987/1.0025)","v":4.0897755610971309E-3},1.64]
[{"$error":"#N/A"},null,null,null,null,8051803,"SPR","SPR","EA","PEN,ENERGEL RTX,BOLD,BK",null,3.65,33,{"$f":"VLOOKUP(M988,DFL!A:H,8,0)","v":0.55000000000000004},{"$f":"P988-(P988/1.0025)","v":4.0897755610971309E-3},1.64]
[{"$error":"#N/A"},null,null,null,null,9871671,"SPR","SPR","EA","PEN,ENERGEL RTX,BOLD,BE",null,3.65,33,{"$f":"VLOOKUP(M989,DFL!A:H,8,0)","v":0.55000000000000004},{"$f":"P989-(P989/1.0025)","v":4.0897755610971309E-3},1.64]
[{"$error":"#N/A"},null,null,null,null,9809141,"SPR","SPR","EA","PEN,ENERGEL RTX,X-FINE,BK",null,3.65,33,{"$f":"VLOOKUP(M990,DFL!A:H,8,0)","v":0.55000000000000004},{"$f":"P990-(P990/1.0025)","v":4.0897755610971309E-3},1.64]
[{"$error":"#N/A"},null,null,null,null,9956014,"SPR","SPR","EA","PEN,ENERGEL RTX,X-FINE,BE",null,3.65,33,{"$f":"VLOOKUP(M991,DFL!A:H,8,0)","v":0.55000000000000004},{"$f":"P991-(P991/1.0025)","v":4.0897755610971309E-3},1.64]
[{"$error":"#N/A"},null,null,null,null,362540,"SPR","SPR","EA","PEN,GEL,RTX,NEEDLE,0.5MM,RD",null,3.65,33,{"$f":"VLOOKUP(M992,DFL!A:H,8,0)","v":0.55000000000000004},{"$f":"P992-(P992/1.0025)","v":4.0897755610971309E-3},1.64]
[{"$error":"#N/A"},null,null,null,null,300602,"SPR","SPR","EA","PEN,GEL,RTX,NEEDLE,0.5MM,BK",null,3.65,33,{"$f":"VLOOKUP(M993,DFL!A:H,8,0)","v":0.55000000000000004},{"$f":"P993-(P993/1.0025)","v":4.0897755610971309E-3},1.64]
[{"$error":"#N/A"},null,null,null,null,300629,"SPR","SPR","EA","PEN,GEL,RTX,NEEDLE,0.5MM,BE",null,3.65,33,{"$f":"VLOOKUP(M994,DFL!A:H,8,0)","v":0.55000000000000004},{"$f":"P994-(P994/1.0025)","v":4.0897755610971309E-3},1.64]
[{"$error":"#N/A"},null,null,null,null,277484,"SPR","SPR","EA","PEN,GEL,RTX,NEEDLE,0.5MM,VT",null,3.65,33,{"$f":"VLOOKUP(M995,DFL!A:H,8,0)","v":0.55000000000000004},{"$f":"P995-(P995/1.0025)","v":4.0897755610971309E-3},1.64]
[{"$error":"#N/A"},null,null,null,null,952551,"SPR","SPR","EA","PEN,GEL,RTX,NEEDLE,0.7MM,RD",null,3.65,33,{"$f":"VLOOKUP(M996,DFL!A:H,8,0)","v":0.55000000000000004},{"$f":"P996-(P996/1.0025)","v":4.0897755610971309E-3},1.64]
[{"$error":"#N/A"},null,null,null,null,8841701,"SPR","SPR","EA","PEN,GEL,RTX,PEARL,0.7MM,BK",null,3.65,33,{"$f":"VLOOKUP(M997,DFL!A:H,8,0)","v":0.55000000000000004},{"$f":"P997-(P997/1.0025)","v":4.0897755610971309E-3},1.64]
[{"$error":"#N/A"},null,null,null,null,6858813,"SPR","SPR","EA","PEN,GEL,RTX,PEARL,0.7MM,BE",null,3.65,33,{"$f":"VLOOKUP(M998,DFL!A:H,8,0)","v":0.55000000000000004},{"$f":"P998-(P998/1.0025)","v":4.0897755610971309E-3},1.64]
[{"$error":"#N/A"},null,null,null,null,952565,"SPR","SPR","EA","PEN,GEL,RTX,NEEDLE,0.7MM,VT",null,3.65,33,{"$f":"VLOOKUP(M999,DFL!A:H,8,0)","v":0.55000000000000004},{"$f":"P999-(P999/1.0025)","v":4.0897755610971309E-3},1.64]
[{"$error":"#N/A"},null,null,null,null,295982,null,"SPR","PK","STEMS;CHENLLE;4MM;100PK;WE",null,2.4500000000000002,48,{"$f":"VLOOKUP(M1000,DFL!A:H,8,0)","v":0.3},{"$f":"P1000-(P1000/1.0025)","v":4.2892768079798582E-3},1.72]
[{"$error":"#N/A"},null,null,null,null,973587,"SPR","SPR","PK","STEMS;CHENLLE;4MM;100PK;BK",null,2.4500000000000002,48,{"$f":"VLOOKUP(M1001,DFL!A:H,8,0)","v":0.3},{"$f":"P1001-(P1001/1.0025)","v":4.2892768079798582E-3},1.72]
[{"$error":"#N/A"},null,null,null,null,9865160,null,"SPR","PK","REFILL;MARKER;PM701;BK",null,3.17,28,{"$f":"VLOOKUP(M1002,DFL!A:H,8,0)","v":0.48},{"$f":"P1002-(P1002/1.0025)","v":4.1147132169574441E-3},1.65]
[{"$error":"#N/A"},null,null,null,null,521868,"SPR","SPR","EA","OPENER;LTR;DELUXE;BE",null,3.54,31,{"$f":"VLOOKUP(M1003,DFL!A:H,8,0)","v":0.49},{"$f":"P1003-(P1003/1.0025)","v":4.5137157107231207E-3},1.81]
[{"$error":"#N/A"},null,null,null,null,882896,"SPR","SPR","PK","PAPER;CONSTRC;9X12;BK;50SH",null,3.29,47,{"$f":"VLOOKUP(M1004,DFL!A:H,8,0)","v":0.5},{"$f":"P1004-(P1004/1.0025)","v":4.1147132169574441E-3},1.65]
[{"$error":"#N/A"},null,null,null,null,307664,"SPR","SPR","PK","PAPER;CONSTR;9X12;AST;50SH",null,3.29,47,{"$f":"VLOOKUP(M1005,DFL!A:H,8,0)","v":0.5},{"$f":"P1005-(P1005/1.0025)","v":4.1147132169574441E-3},1.65]
[{"$error":"#N/A"},null,null,null,null,882920,"SPR","SPR","PK","PAPER;CONSTRC;9X12;OE;50SH",null,3.29,47,{"$f":"VLOOKUP(M1006,DFL!A:H,8,0)","v":0.5},{"$f":"P1006-(P1006/1.0025)","v":4.1147132169574441E-3},1.65]
[{"$error":"#N/A"},null,null,null,null,882952,"SPR","SPR","PK","PAPER;CONSTRC;9X12;BN;50SH",null,3.29,47,{"$f":"VLOOKUP(M1007,DFL!A:H,8,0)","v":0.5},{"$f":"P1007-(P1007/1.0025)","v":4.1147132169574441E-3},1.65]
[{"$error":"#N/A"},null,null,null,null,307704,"SPR","SPR","PK","PAPER;CONSTRC;9X12;BE;50SH",null,3.29,47,{"$f":"VLOOKUP(M1008,DFL!A:H,8,0)","v":0.5},{"$f":"P1008-(P1008/1.0025)","v":4.1147132169574441E-3},1.65]
[{"$error":"#N/A"},null,null,null,null,882984,"SPR","SPR","PK","PAPER;CONSTR;9X12;HGN;50SH",null,3.29,47,{"$f":"VLOOKUP(M1009,DFL!A:H,8,0)","v":0.5},{"$f":"P1009-(P1009/1.0025)","v":4.1147132169574441E-3},1.65]
[{"$error":"#N/A"},null,null,null,null,883008,"SPR","SPR","PK","PAPER;CONSTRC;9X12;YW;50SH",null,3.29,47,{"$f":"VLOOKUP(M1010,DFL!A:H,8,0)","v":0.5},{"$f":"P1010-(P1010/1.0025)","v":4.1147132169574441E-3},1.65]
[{"$error":"#N/A"},null,null,null,null,368009,"SPR","SPR","PK","PAPER;CONSTR;9X12;DBN;50SH",null,3.29,47,{"$f":"VLOOKUP(M1011,DFL!A:H,8,0)","v":0.5},{"$f":"P1011-(P1011/1.0025)","v":4.1147132169574441E-3},1.65]
[{"$error":"#N/A"},null,null,null,null,368037,"SPR","SPR","PK","PAPER;CONSTR;9X12;LBN;50SH",null,3.29,47,{"$f":"VLOOKUP(M1012,DFL!A:H,8,0)","v":0.5},{"$f":"P1012-(P1012/1.0025)","v":4.1147132169574441E-3},1.65]
[{"$error":"#N/A"},null,null,null,null,368177,"SPR","SPR","PK","PAPER;CONSTRC;9X12;VT;50SH",null,3.29,47,{"$f":"VLOOKUP(M1013,DFL!A:H,8,0)","v":0.5},{"$f":"P1013-(P1013/1.0025)","v":4.1147132169574441E-3},1.65]
[{"$error":"#N/A"},null,null,null,null,368527,"SPR","SPR","PK","PAPER;CONSTR;9X12;SBE;50SH",null,3.29,47,{"$f":"VLOOKUP(M1014,DFL!A:H,8,0)","v":0.5},{"$f":"P1014-(P1014/1.0025)","v":4.1147132169574441E-3},1.65]
[{"$error":"#N/A"},null,null,null,null,883016,"SPR","SPR","PK","PAPER;CONSTRC;9X12;WE;50SH",null,3.29,47,{"$f":"VLOOKUP(M1015,DFL!A:H,8,0)","v":0.5},{"$f":"P1015-(P1015/1.0025)","v":4.1147132169574441E-3},1.65]
[{"$error":"#N/A"},null,null,null,null,883024,"SPR","SPR","PK","PAPER;CONSTR;9X12;HRD;50SH",null,3.29,47,{"$f":"VLOOKUP(M1016,DFL!A:H,8,0)","v":0.5},{"$f":"P1016-(P1016/1.0025)","v":4.1147132169574441E-3},1.65]
[{"$error":"#N/A"},null,null,null,null,367645,"SPR","SPR","PK","PAPER;CONSTRC;9X12;RD;50SH",null,3.29,47,{"$f":"VLOOKUP(M1017,DFL!A:H,8,0)","v":0.5},{"$f":"P1017-(P1017/1.0025)","v":4.1147132169574441E-3},1.65]
[{"$error":"#N/A"},null,null,null,null,368107,"SPR","SPR","PK","PAPER;CONSTRC;9X12;PK;50SH",null,3.29,47,{"$f":"VLOOKUP(M1018,DFL!A:H,8,0)","v":0.5},{"$f":"P1018-(P1018/1.0025)","v":4.1147132169574441E-3},1.65]
[{"$error":"#N/A"},null,null,null,null,368562,"SPR","SPR","PK","PAPER;CONSTR;9X12;TURQ;50SH",null,3.29,47,{"$f":"VLOOKUP(M1019,DFL!A:H,8,0)","v":0.5},{"$f":"P1019-(P1019/1.0025)","v":4.1147132169574441E-3},1.65]
[{"$error":"#N/A"},null,null,null,null,368849,"SPR","SPR","PK","PAPER;CONSTR;9X12;BWE;50SH",null,3.29,47,{"$f":"VLOOKUP(M1020,DFL!A:H,8,0)","v":0.5},{"$f":"P1020-(P1020/1.0025)","v":4.1147132169574441E-3},{"$f":"ROUND(L1020*(1-N1020),2)","v":1.65}]
[{"$error":"#N/A"},null,null,null,null,368954,"SPR","SPR","PK","PAPER;CONST;9X12;HTPK;50SH",null,3.29,47,{"$f":"VLOOKUP(M1021,DFL!A:H,8,0)","v":0.5},{"$f":"P1021-(P1021/1.0025)","v":4.1147132169574441E-3},1.65]
[{"$error":"#N/A"},null,null,null,null,7758863,null,"SPR","PK","FLAGS;PGMRK;1/2\";160CT;NEON",null,4.13,35,{"$f":"VLOOKUP(M1022,DFL!A:H,8,0)","v":0.6},{"$f":"P1022-(P1022/1.0025)","v":4.1147132169574441E-3},1.65]
[{"$error":"#N/A"},null,null,null,null,290439,"SPR","SPR","ST","PAINT;WTRCLR;8ST;OVAL;AST",null,3.33,47,{"$f":"VLOOKUP(M1023,DFL!A:H,8,0)","v":0.5},{"$f":"P1023-(P1023/1.0025)","v":4.1645885286782924E-3},1.67]
[{"$error":"#N/A"},null,null,null,null,381279,"SPR","SPR","PK","CARD,ROLODEX,2.25X4,100/PK,WHT"," ",4.17,35,{"$f":"VLOOKUP(M1024,DFL!A:H,8,0)","v":0.6},{"$f":"P1024-(P1024/1.0025)","v":4.1645885286782924E-3},1.67]
[{"$error":"#N/A"},null,null,null,null,349010,"SPR","SPR","ST","INDEX,8 TAB,WRITE-ON,MULTI CLR","030/030,EPP (eVine),CPG,30% post-consumer (paper)",4.17,35,{"$f":"VLOOKUP(M1025,DFL!A:H,8,0)","v":0.6},{"$f":"P1025-(P1025/1.0025)","v":4.1645885286782924E-3},1.67]
[{"$error":"#N/A"},null,null,null,null,568184,"SPR","SPR","PK","FOIL STARS,440/PK"," ",3,26,{"$f":"VLOOKUP(M1026,DFL!A:H,8,0)","v":0.44},{"$f":"P1026-(P1026/1.0025)","v":4.1895261845386056E-3},1.68]
[{"$error":"#N/A"},null,null,null,null,4547148,"SPR","SPR","EA"," KLEENEX WALLET  ONTHEGO",null,3,40,{"$f":"VLOOKUP(M1027,DFL!A:H,8,0)","v":0.44},{"$f":"P1027-(P1027/1.0025)","v":4.1895261845386056E-3},1.68]
[{"$error":"#N/A"},null,null,null,null,9611572,null,"SPR","EA","PAD,UTILITY,FLOOR//WALL",null,3.06,19,{"$f":"VLOOKUP(M1028,DFL!A:H,8,0)","v":0.45},{"$f":"P1028-(P1028/1.0025)","v":4.1895261845386056E-3},1.68]
[{"$error":"#N/A"},null,null,null,null,738517,"SPR","SPR","EA","ROLLER,ADHESIVE,DBL SIDED"," ",3.24,1,{"$f":"VLOOKUP(M1029,DFL!A:H,8,0)","v":0.48},{"$f":"P1029-(P1029/1.0025)","v":4.1895261845386056E-3},1.68]
[{"$error":"#N/A"},null,null,null,null,929695,"SPR","SPR","BX","MARKER;STAONAL;8/BX;RD",null,3.24,28,{"$f":"VLOOKUP(M1030,DFL!A:H,8,0)","v":0.48},{"$f":"P1030-(P1030/1.0025)","v":4.1895261845386056E-3},1.68]
[{"$error":"#N/A"},null,null,null,null,929687,"SPR","SPR","BX","MARKER;STAONAL;8/BX;BK",null,3.24,28,{"$f":"VLOOKUP(M1031,DFL!A:H,8,0)","v":0.48},{"$f":"P1031-(P1031/1.0025)","v":4.1895261845386056E-3},1.68]
[{"$error":"#N/A"},null,null,null,null,155130,"BSD","BSD","EA","SOFTSOAP,AQUARIUM,ANTBAC,7.5OZ"," ",3.51,22,{"$f":"VLOOKUP(M1032,DFL!A:E,5,0)","v":0.52},{"$f":"P1032-(P1032/1.0025)","v":4.1895261845386056E-3},1.68]
[{"$error":"#N/A"},null,null,null,null,573619,null,"SPR","EA","TAPE,ART, 1/4\" GLOSS,BK",null,6.33,47,{"$f":"VLOOKUP(M1033,DFL!A:H,8,0)","v":0.5},{"$f":"P1033-(P1033/1.0025)","v":7.905236907730373E-3},3.17]
[{"$error":"#N/A"},null,null,null,null,573637,null,"SPR","EA","TAPE,ART, 1/4\" GLOSS,BE",null,6.33,47,{"$f":"VLOOKUP(M1034,DFL!A:H,8,0)","v":0.5},{"$f":"P1034-(P1034/1.0025)","v":7.905236907730373E-3},3.17]
[{"$error":"#N/A"},null,null,null,null,910216,"SPR","SPR","EA","GLUE STICK,PERMANENT,1.27OZ"," ",3.44,1,{"$f":"VLOOKUP(M1035,DFL!A:H,8,0)","v":0.48},{"$f":"P1035-(P1035/1.0025)","v":4.4638403990024944E-3},1.79]
[{"$error":"#N/A"},null,null,null,null,834974,null,"SPR","PK","REFILL,FILE,CARD,ROTARY,100"," ",4.25,35,{"$f":"VLOOKUP(M1036,DFL!A:H,8,0)","v":0.6},{"$f":"P1036-(P1036/1.0025)","v":4.2394014962592319E-3},1.7]
[{"$error":"#N/A"},null,null,null,null,538543,"SPR","SPR","PK","GLUE;STICK;4\";CLEAR;12PK",null,3.29,1,{"$f":"VLOOKUP(M1037,DFL!A:H,8,0)","v":0.48},{"$f":"P1037-(P1037/1.0025)","v":4.2643391521195451E-3},1.71]
[{"$error":"#N/A"},null,null,null,null,631097,"SPR","SPR","EA","PEN,GEL,G-301,RT,0.7MM,BK",null,3.8,33,{"$f":"VLOOKUP(M1038,DFL!A:H,8,0)","v":0.55000000000000004},{"$f":"P1038-(P1038/1.0025)","v":4.2643391521195451E-3},1.71]
[{"$error":"#N/A"},null,null,null,null,573646,null,"SPR","EA","TAPE,ART ,1/8\" GLOSS,BK",null,6.44,47,{"$f":"VLOOKUP(M1039,DFL!A:H,8,0)","v":0.5},{"$f":"P1039-(P1039/1.0025)","v":8.0299251870323829E-3},3.22]
[{"$error":"#N/A"},null,null,null,null,258331,"BSD","BSD","EA","GLUE,SCHOOL,ELMERS,7.625 OZ"," ",4.63,1,{"$f":"VLOOKUP(M1040,DFL!A:E,5,0)","v":0.63},{"$f":"P1040-(P1040/1.0025)","v":4.2643391521195451E-3},1.71]
[{"$error":"#N/A"},null,null,null,null,8296653,"SPR","SPR","ST","CRAYON;TWISBE;MINI;10CT",null,3.43,47,{"$f":"VLOOKUP(M1041,DFL!A:H,8,0)","v":0.5},{"$f":"P1041-(P1041/1.0025)","v":4.2892768079798582E-3},1.72]
[{"$error":"#N/A"},null,null,null,null,548743,"BSD","BSD","ST","PAINT,WATERCOLOR,W/BRUSH,SET",null,3.99,47,{"$f":"VLOOKUP(M1042,DFL!A:E,5,0)","v":0.56999999999999995},{"$f":"P1042-(P1042/1.0025)","v":4.2892768079798582E-3},1.72]
[{"$error":"#N/A"},null,null,null,null,423574,"BSD","BSD","DZ","PEN,ROUNDSTIC,BIC,MED,BLUE"," ",4.9000000000000004,33,{"$f":"VLOOKUP(M1043,DFL!A:E,5,0)","v":0.65},{"$f":"P1043-(P1043/1.0025)","v":4.2892768079798582E-3},1.72]
[{"$error":"#N/A"},null,null,null,null,423582,"BSD","BSD","DZ","PEN,ROUNDSTIC,BIC,MED,BLACK"," ",4.9000000000000004,33,{"$f":"VLOOKUP(M1044,DFL!A:E,5,0)","v":0.65},{"$f":"P1044-(P1044/1.0025)","v":4.2892768079798582E-3},1.72]
[{"$error":"#N/A"},null,null,null,null,423590,"BSD","BSD","DZ","PEN,ROUNDSTIC,BIC,MEDIUM,RED"," ",4.9000000000000004,33,{"$f":"VLOOKUP(M1045,DFL!A:E,5,0)","v":0.65},{"$f":"P1045-(P1045/1.0025)","v":4.2892768079798582E-3},1.72]
[{"$error":"#N/A"},null,null,null,null,423608,"BSD","BSD","DZ","PEN,ROUNDSTIC,BIC,12-PK,BLUE"," ",4.9000000000000004,33,{"$f":"VLOOKUP(M1046,DFL!A:E,5,0)","v":0.65},{"$f":"P1046-(P1046/1.0025)","v":4.2892768079798582E-3},1.72]
[{"$error":"#N/A"},null,null,null,null,423616,"BSD","BSD","DZ","PEN,ROUNDSTIC,BIC,12-PK,BLACK"," ",4.9000000000000004,33,{"$f":"VLOOKUP(M1047,DFL!A:E,5,0)","v":0.65},{"$f":"P1047-(P1047/1.0025)","v":4.2892768079798582E-3},1.72]
[{"$error":"#N/A"},null,null,null,null,724522,"BSD","BSD","EA","RULER,OD, 6\",PLASTIC,ASTD CLRS"," ",6.3,34,{"$f":"VLOOKUP(M1048,DFL!A:E,5,0)","v":0.7},{"$f":"P1048-(P1048/1.0025)","v":4.713216957605848E-3},1.89]
[{"$error":"#N/A"},null,null,null,null,252710,"SPR","SPR","ST","PASTEL;OIL;AST;16CT",null,3.45,47,{"$f":"VLOOKUP(M1049,DFL!A:H,8,0)","v":0.5},{"$f":"P1049-(P1049/1.0025)","v":4.3142144638403934E-3},1.73]
[{"$error":"#N/A"},null,null,null,null,267216,null,"SPR","BX","CRAYONS;WAX;24CT;HNGTAB",null,2.93,47,{"$f":"VLOOKUP(M1050,DFL!A:H,8,0)","v":0.5},{"$f":"P1050-(P1050/1.0025)","v":3.6658354114711411E-3},1.47]
[{"$error":"#N/A"},null,null,null,null,8676293,"SPR","SPR","PK","PEN,BP,IJ50ST,12CT,1MM,BLK",null,3.84,33,{"$f":"VLOOKUP(M1051,DFL!A:H,8,0)","v":0.55000000000000004},{"$f":"P1051-(P1051/1.0025)","v":4.3142144638403934E-3},1.73]
[{"$error":"#N/A"},null,null,null,null,9846215,"SPR","SPR","PK","PEN,STK,INKJOY,MED,BE,DZ",null,3.84,33,{"$f":"VLOOKUP(M1052,DFL!A:H,8,0)","v":0.55000000000000004},{"$f":"P1052-(P1052/1.0025)","v":4.3142144638403934E-3},1.73]
[{"$error":"#N/A"},null,null,null,null,9245816,"SPR","SPR","EA","PEN,ENERGELPRO,MED,BK",null,3.85,33,{"$f":"VLOOKUP(M1053,DFL!A:H,8,0)","v":0.55000000000000004},{"$f":"P1053-(P1053/1.0025)","v":4.3142144638403934E-3},1.73]
[{"$error":"#N/A"},null,null,null,null,9246293,"SPR","SPR","EA","PEN,ENERGELPRO,MED,BE",null,3.85,33,{"$f":"VLOOKUP(M1054,DFL!A:H,8,0)","v":0.55000000000000004},{"$f":"P1054-(P1054/1.0025)","v":4.3142144638403934E-3},1.73]
[{"$error":"#N/A"},null,null,null,null,882158,"BSD","BSD","EA","Office Depot¬Æ Brand Poly Composition Book, 7 1/2\" x 9 3/4\", College Ruled, 80 Sheets, Green",null,6.42,30,{"$f":"VLOOKUP(M1055,DFL!A:E,5,0)","v":0.73},{"$f":"P1055-(P1055/1.0025)","v":4.3142144638403934E-3},1.73]
[{"$error":"#N/A"},null,null,null,null,1488718,null,"SPR","BX","CHALK;SIDEWLK;WASHABLE;12CT",null,3.29,20,{"$f":"VLOOKUP(M1056,DFL!A:H,8,0)","v":0.47},{"$f":"P1056-(P1056/1.0025)","v":4.3391521197007066E-3},1.74]
[{"$error":"#N/A"},null,null,null,null,407191,"SPR","SPR","BX","CRAYON;OIL;16/PK;PS",null,3.47,47,{"$f":"VLOOKUP(M1057,DFL!A:H,8,0)","v":0.5},{"$f":"P1057-(P1057/1.0025)","v":4.3391521197007066E-3},1.74]
[{"$error":"#N/A"},null,null,null,null,801039,"BSD","BSD","EA","Office Depot¬Æ Brand Poly Composition Book, 7 1/2\" x 9 3/4\", Wide Ruled, 80 Sheets, Blue",null,6.45,30,{"$f":"VLOOKUP(M1058,DFL!A:E,5,0)","v":0.73},{"$f":"P1058-(P1058/1.0025)","v":4.3391521197007066E-3},1.74]
[{"$error":"#N/A"},null,null,null,null,7356023,"SPR","SPR","RL","TAPE,MASKING,1\"X60YD,OFWE",null,4.21,39,{"$f":"VLOOKUP(M1059,DFL!A:H,8,0)","v":0.5},{"$f":"P1059-(P1059/1.0025)","v":5.2618453865336257E-3},2.11]
[{"$error":"#N/A"},null,null,null,null,443650,"BSD","BSD","EA","CEMENT,RUBBER,ELMER'S,4 OZ."," ",4.74,1,{"$f":"VLOOKUP(M1060,DFL!A:E,5,0)","v":0.63},{"$f":"P1060-(P1060/1.0025)","v":4.3640897755610197E-3},1.75]
[{"$error":"#N/A"},null,null,null,null,315236,"BSD","BSD","BX","STAPLES,STND,FULL STRIP"," ",5.89,37,{"$f":"VLOOKUP(M1061,DFL!A:E,5,0)","v":0.65},{"$f":"P1061-(P1061/1.0025)","v":5.1371571072316158E-3},2.06]
[{"$error":"#N/A"},null,null,null,null,7274888,null,"SPR","PK","NOTEPAD,TO DO,TUL,SPRING,MINT",null,6.49,30,{"$f":"VLOOKUP(M1062,DFL!A:H,8,0)","v":0.57999999999999996},{"$f":"P1062-(P1062/1.0025)","v":6.8079800498752618E-3},2.73]
[{"$error":"#N/A"},null,null,null,null,909291,"BSD","BSD","EA","PEN,CORRECTION,FINE PT,WHITE"," ",4.51,17,{"$f":"VLOOKUP(M1063,DFL!A:E,5,0)","v":0.61},{"$f":"P1063-(P1063/1.0025)","v":4.3890274314213329E-3},1.76]
[{"$error":"#N/A"},null,null,null,null,548715,"BSD","BSD","EA","Office Depot¬Æ Brand Poly Composition Book, 7 1/2\" x 9 3/4\", Wide Ruled, 80 Sheets, Red",null,6.53,30,{"$f":"VLOOKUP(M1064,DFL!A:E,5,0)","v":0.73},{"$f":"P1064-(P1064/1.0025)","v":4.3890274314213329E-3},1.76]
[{"$error":"#N/A"},null,null,null,null,181586,"BSD","BSD","DZ","PEN,BALL PT,MEDIUM,STICK,RED"," ",5.07,33,{"$f":"VLOOKUP(M1065,DFL!A:E,5,0)","v":0.65},{"$f":"P1065-(P1065/1.0025)","v":4.413965087281646E-3},1.77]
[{"$error":"#N/A"},null,null,null,null,181578,"BSD","BSD","DZ","PEN,BALL PT,MEDIUM,STICK,BLUE"," ",5.07,33,{"$f":"VLOOKUP(M1066,DFL!A:E,5,0)","v":0.65},{"$f":"P1066-(P1066/1.0025)","v":4.413965087281646E-3},1.77]
[{"$error":"#N/A"},null,null,null,null,181594,"BSD","BSD","DZ","PEN,BALL PT,MEDIUM,STICK,BLK"," ",5.07,33,{"$f":"VLOOKUP(M1067,DFL!A:E,5,0)","v":0.65},{"$f":"P1067-(P1067/1.0025)","v":4.413965087281646E-3},1.77]
[{"$error":"#N/A"},null,null,null,null,9622780,"SPR","SPR","PK","KEYTAG,REPLACEMENT",null,3.87,35,{"$f":"VLOOKUP(M1068,DFL!A:H,8,0)","v":0.6},{"$f":"P1068-(P1068/1.0025)","v":3.8653366583540905E-3},1.55]
[{"$error":"#N/A"},null,null,null,null,641895,"SPR","SPR","PK","GLUE,LOCTITE,2GM TUBE,2PK"," ",4.82,1,{"$f":"VLOOKUP(M1069,DFL!A:H,8,0)","v":0.48},{"$f":"P1069-(P1069/1.0025)","v":6.2593516209474842E-3},2.5099999999999998]
[{"$error":"#N/A"},null,null,null,null,673900,"SPR","SPR","PK","BOARD;POSTER;11X14;WE;5PK",null,2.91,10,{"$f":"VLOOKUP(M1070,DFL!A:H,8,0)","v":0.36},{"$f":"P1070-(P1070/1.0025)","v":4.6384039900249086E-3},1.86]
[{"$error":"#N/A"},null,null,null,null,381326,"SPR","SPR","EA","BOOK,NOTE,7.75X5,1SUB,ASST",null,4.37,30,{"$f":"VLOOKUP(M1071,DFL!A:H,8,0)","v":0.57999999999999996},{"$f":"P1071-(P1071/1.0025)","v":4.5885286783040602E-3},1.84]
[{"$error":"#N/A"},null,null,null,null,109025,"BSD","BSD","PK","TAPE,MOUNTING,SQ,REMOVABLE,CLR"," ",4.4800000000000004,39,{"$f":"VLOOKUP(M1072,DFL!A:E,5,0)","v":0.6},{"$f":"P1072-(P1072/1.0025)","v":4.4638403990024944E-3},1.79]
[{"$error":"#N/A"},null,null,null,null,732993,"SPR","SPR","PK","MINI PLASTIC DRBL WRITE-ON 5TB"," ",5.29,35,{"$f":"VLOOKUP(M1073,DFL!A:H,8,0)","v":0.6},{"$f":"P1073-(P1073/1.0025)","v":5.2867830423939388E-3},2.12]
[{"$error":"#N/A"},null,null,null,null,108152,"BSD","BSD","ST","POCKET,DOUBLE,5TAB,PLASTIC,SET"," ",8.81,35,{"$f":"VLOOKUP(M1074,DFL!A:E,5,0)","v":0.7},{"$f":"P1074-(P1074/1.0025)","v":6.5835411471319993E-3},2.64]
[{"$error":"#N/A"},null,null,null,null,6220841,null,"SPR","BX","TISSUE;PUFFS;CUBE;64SH",null,3.22,40,{"$f":"VLOOKUP(M1075,DFL!A:H,8,0)","v":0.44},{"$f":"P1075-(P1075/1.0025)","v":4.4887780548628076E-3},1.8]
[{"$error":"#N/A"},null,null,null,null,172353,"SPR","SPR","RL","TAPE,TRANSPARENT,3M,1/2X1296"," ",3.59,39,{"$f":"VLOOKUP(M1076,DFL!A:H,8,0)","v":0.5},{"$f":"P1076-(P1076/1.0025)","v":4.4887780548628076E-3},1.8]
[{"$error":"#N/A"},null,null,null,null,674131,"SPR","SPR","RL","TAPE,ELECTRICAL,1/2X200"," ",3.59,39,{"$f":"VLOOKUP(M1077,DFL!A:H,8,0)","v":0.5},{"$f":"P1077-(P1077/1.0025)","v":4.4887780548628076E-3},1.8]
[{"$error":"#N/A"},null,null,null,null,614263,"BSD","BSD","DZ","PENCIL,WARRIOR,BEROL,MED SOFT"," ",5.13,33,{"$f":"VLOOKUP(M1078,DFL!A:E,5,0)","v":0.65},{"$f":"P1078-(P1078/1.0025)","v":4.4887780548628076E-3},1.8]
[{"$error":"#N/A"},null,null,null,null,691743,"BSD","BSD","EA","Office Depot¬Æ Brand Poly Composition Book, 7 1/2\" x 9 3/4\", College Ruled, 80 Sheets, Red",null,6.66,30,{"$f":"VLOOKUP(M1079,DFL!A:E,5,0)","v":0.73},{"$f":"P1079-(P1079/1.0025)","v":4.4887780548628076E-3},1.8]
[{"$error":"#N/A"},null,null,null,null,673935,"SPR","SPR","RL","TAPE,DBL STICK,1/2X250",null,3.62,39,{"$f":"VLOOKUP(M1080,DFL!A:H,8,0)","v":0.5},{"$f":"P1080-(P1080/1.0025)","v":4.5137157107231207E-3},1.81]
[{"$error":"#N/A"},null,null,null,null,332013,"BSD","BSD","EA","MOISTENER,ENVELOPE"," ",5.49,27,{"$f":"VLOOKUP(M1081,DFL!A:E,5,0)","v":0.67},{"$f":"P1081-(P1081/1.0025)","v":4.5137157107231207E-3},1.81]
[{"$error":"#N/A"},null,null,null,null,670304,"SPR","SPR","EA","BOOK,THEME,10.5X8,70CT",null,4.3499999999999996,30,{"$f":"VLOOKUP(M1082,DFL!A:H,8,0)","v":0.57999999999999996},{"$f":"P1082-(P1082/1.0025)","v":4.563591022443747E-3},1.83]
[{"$error":"#N/A"},null,null,null,null,139435,"SPR","SPR","BX","TISSUE,FACIAL,2PLY"," ",3.28,40,{"$f":"VLOOKUP(M1083,DFL!A:H,8,0)","v":0.44},{"$f":"P1083-(P1083/1.0025)","v":4.5885286783040602E-3},1.84]
[{"$error":"#N/A"},null,null,null,null,694530,"BSD","BSD","EA"," WRIST COIL KEYCHAIN",null,3.35,5,{"$f":"VLOOKUP(M1084,DFL!A:E,5,0)","v":0.6},{"$f":"P1084-(P1084/1.0025)","v":3.341645885286626E-3},{"$f":"ROUND(L1084*(1-N1084),2)","v":1.34}]
[{"$error":"#N/A"},null,null,null,null,949651,"BSD","BSD","BX","CRAYONS,WASHABLE,MY FIRST,8PK",null,4.88,47,{"$f":"VLOOKUP(M1085,DFL!A:E,5,0)","v":0.56999999999999995},{"$f":"P1085-(P1085/1.0025)","v":5.2369077306733125E-3},2.1]
[{"$error":"#N/A"},null,null,null,null,347780,"SPR","SPR","PK","PAPER,CONST,9X12,HYGN,50SH",null,5.25,32,{"$f":"VLOOKUP(M1086,DFL!A:H,8,0)","v":0.65},{"$f":"P1086-(P1086/1.0025)","v":4.5885286783040602E-3},1.84]
[{"$error":"#N/A"},null,null,null,null,772557,"BSD","BSD","EA","POUCH,PENCIL,CLEAR",null,5.81,8,{"$f":"VLOOKUP(M1087,DFL!A:E,5,0)","v":0.65},{"$f":"P1087-(P1087/1.0025)","v":5.0623441396506763E-3},2.0299999999999998]
[{"$error":"#N/A"},null,null,null,null,565263,"BSD","BSD","PK","THUMB-TACK,100PK,13MMX8MM,SLVR",null,7.26,7,{"$f":"VLOOKUP(M1088,DFL!A:E,5,0)","v":0.72},{"$f":"P1088-(P1088/1.0025)","v":5.0623441396506763E-3},2.0299999999999998]
[{"$error":"#N/A"},null,null,null,null,7441674,"BSD","BSD","EA","BOOK,COMP,GREEN,100S,WR",null,6.84,30,{"$f":"VLOOKUP(M1089,DFL!A:E,5,0)","v":0.73},{"$f":"P1089-(P1089/1.0025)","v":4.6134663341645954E-3},1.85]
[{"$error":"#N/A"},null,null,null,null,424922,"SPR","SPR","EA","BOOK,COMP,QUAD,MARBLE,100SH",null,4.43,30,{"$f":"VLOOKUP(M1090,DFL!A:H,8,0)","v":0.57999999999999996},{"$f":"P1090-(P1090/1.0025)","v":4.6384039900249086E-3},1.86]
[{"$error":"#N/A"},null,null,null,null,634015,"SPR","SPR","EA","BOOK,COMP,MARBLE,COL,100SH",null,4.43,30,{"$f":"VLOOKUP(M1091,DFL!A:H,8,0)","v":0.57999999999999996},{"$f":"P1091-(P1091/1.0025)","v":4.6384039900249086E-3},1.86]
[{"$error":"#N/A"},null,null,null,null,9802723,"SPR","SPR","EA","BOOK;COMP;WIDE;MARBLE;100SH",null,4.43,30,{"$f":"VLOOKUP(M1092,DFL!A:H,8,0)","v":0.57999999999999996},{"$f":"P1092-(P1092/1.0025)","v":4.6384039900249086E-3},1.86]
[{"$error":"#N/A"},null,null,null,null,421759,"BSD","BSD","PK","GLUE,KRAZY,SINGLES,CLIP STRIP"," ",5.0199999999999996,1,{"$f":"VLOOKUP(M1093,DFL!A:E,5,0)","v":0.63},{"$f":"P1093-(P1093/1.0025)","v":4.6384039900249086E-3},1.86]
[{"$error":"#N/A"},null,null,null,null,112220,"BSD","BSD","DZ","PEN,GRIP/ROUND STIC,DOZ,BLACK"," ",5.31,33,{"$f":"VLOOKUP(M1094,DFL!A:E,5,0)","v":0.65},{"$f":"P1094-(P1094/1.0025)","v":4.6384039900249086E-3},1.86]
[{"$error":"#N/A"},null,null,null,null,112266,"BSD","BSD","DZ","PEN,GRIP/ROUND STIC,DOZ,BLUE","074/000,EPP (eVine),74% recycled plastic barrel content",5.31,33,{"$f":"VLOOKUP(M1095,DFL!A:E,5,0)","v":0.65},{"$f":"P1095-(P1095/1.0025)","v":4.6384039900249086E-3},1.86]
[{"$error":"#N/A"},null,null,null,null,361681,"BSD","BSD","DZ","PEN,STIC GRIP,FINE,BLUE"," ",5.31,33,{"$f":"VLOOKUP(M1096,DFL!A:E,5,0)","v":0.65},{"$f":"P1096-(P1096/1.0025)","v":4.6384039900249086E-3},1.86]
[{"$error":"#N/A"},null,null,null,null,396521,"BSD","BSD","DZ","PEN,GRIP STIC,MED,RED"," ",5.31,33,{"$f":"VLOOKUP(M1097,DFL!A:E,5,0)","v":0.65},{"$f":"P1097-(P1097/1.0025)","v":4.6384039900249086E-3},1.86]
[{"$error":"#N/A"},null,null,null,null,240387,"SPR","SPR","EA","RIBBON,POS,BLK/RED"," ",2.71,14,{"$f":"VLOOKUP(M1098,DFL!A:H,8,0)","v":0.31},{"$f":"P1098-(P1098/1.0025)","v":4.6633416458852217E-3},1.87]
[{"$error":"#N/A"},null,null,null,null,626639,"SPR","SPR","EA","RIBBON,F/TM300A/B,U370/5,BLK"," ",2.71,14,{"$f":"VLOOKUP(M1099,DFL!A:H,8,0)","v":0.31},{"$f":"P1099-(P1099/1.0025)","v":4.6633416458852217E-3},1.87]
[{"$error":"#N/A"},null,null,null,null,160587,"SPR","SPR","EA","2028 GOGGLE, ECONOMY COVER",null,3.17,22,{"$f":"VLOOKUP(M1100,DFL!A:H,8,0)","v":0.41},{"$f":"P1100-(P1100/1.0025)","v":4.6633416458852217E-3},1.87]
[{"$error":"#N/A"},null,null,null,null,129193,"SPR","SPR","EA","GLUE;TAP-N-GLUE;CAP;RD",null,3.59,1,{"$f":"VLOOKUP(M1101,DFL!A:H,8,0)","v":0.48},{"$f":"P1101-(P1101/1.0025)","v":4.6633416458852217E-3},1.87]
[{"$error":"#N/A"},null,null,null,null,666560,"SPR","SPR","EA","NOTEBOOK;STENO;6X9;GRNPPR;",null,4.55,30,{"$f":"VLOOKUP(M1102,DFL!A:H,8,0)","v":0.57999999999999996},{"$f":"P1102-(P1102/1.0025)","v":4.7630922693264743E-3},1.91]
[{"$error":"#N/A"},null,null,null,null,129471,"SPR","SPR","ST","INDEX,TBL'CONT,1-8,WE"," ",5.05,35,{"$f":"VLOOKUP(M1103,DFL!A:H,8,0)","v":0.6},{"$f":"P1103-(P1103/1.0025)","v":5.0374064837903632E-3},2.02]
[{"$error":"#N/A"},null,null,null,null,196592,"BSD","BSD","EA","FILE,CARD,4X6,BLACK"," ",6.56,35,{"$f":"VLOOKUP(M1104,DFL!A:E,5,0)","v":0.7},{"$f":"P1104-(P1104/1.0025)","v":4.9127182044885753E-3},1.97]
[{"$error":"#N/A"},null,null,null,null,4007791,"SPR","SPR","EA","NOTEBOOK;WIRELES; 80SH",null,4.5,30,{"$f":"VLOOKUP(M1105,DFL!A:H,8,0)","v":0.57999999999999996},{"$f":"P1105-(P1105/1.0025)","v":4.713216957605848E-3},1.89]
[{"$error":"#N/A"},null,null,null,null,368720,"SPR","SPR","PK","NOTES;HIGHLD;SS;PLN;1.5X2YW",null,4.5,30,{"$f":"VLOOKUP(M1106,DFL!A:H,8,0)","v":0.57999999999999996},{"$f":"P1106-(P1106/1.0025)","v":4.713216957605848E-3},1.89]
[{"$error":"#N/A"},null,null,null,null,330718,"BSD","BSD","PK","RESTICKABLE DOTS,SCO7/8\",WHITE",null,4.7300000000000004,39,{"$f":"VLOOKUP(M1107,DFL!A:E,5,0)","v":0.6},{"$f":"P1107-(P1107/1.0025)","v":4.713216957605848E-3},1.89]
[{"$error":"#N/A"},null,null,null,null,763308,null,"SPR","EA","FRESHNER,AIR,RNZT,AFTRTHERAIN"," ",3.46,19,{"$f":"VLOOKUP(M1108,DFL!A:H,8,0)","v":0.45},{"$f":"P1108-(P1108/1.0025)","v":4.7381546134661612E-3},1.9]
[{"$error":"#N/A"},null,null,null,null,287730,"SPR","SPR","BX","RUBBERBAND,BRITES,ALLIANCE"," ",3.7,7,{"$f":"VLOOKUP(M1109,DFL!A:H,8,0)","v":0.46},{"$f":"P1109-(P1109/1.0025)","v":4.9875311720697368E-3},2]
[{"$error":"#N/A"},null,null,null,null,203885,"SPR","SPR","EA","INK,STAMP PAD,2OZ,BLACK",null,4.22,24,{"$f":"VLOOKUP(M1110,DFL!A:H,8,0)","v":0.55000000000000004},{"$f":"P1110-(P1110/1.0025)","v":4.7381546134661612E-3},1.9]
[{"$error":"#N/A"},null,null,null,null,203893,"SPR","SPR","EA","INK,STAMP PAD,2OZ,RED"," ",4.22,24,{"$f":"VLOOKUP(M1111,DFL!A:H,8,0)","v":0.55000000000000004},{"$f":"P1111-(P1111/1.0025)","v":4.7381546134661612E-3},1.9]
[{"$error":"#N/A"},null,null,null,null,639535,null,"SPR","EA","SPRAY,DISINF,LINEN,1OZ",null,3.48,19,{"$f":"VLOOKUP(M1112,DFL!A:H,8,0)","v":0.45},{"$f":"P1112-(P1112/1.0025)","v":4.7630922693264743E-3},1.91]
[{"$error":"#N/A"},null,null,null,null,173807,"SPR","SPR","RL","BORDER,ROLL,CORR,2.25X50FT,WHT"," ",5.29,10,{"$f":"VLOOKUP(M1113,DFL!A:H,8,0)","v":0.36},{"$f":"P1113-(P1113/1.0025)","v":8.4538653366581507E-3},3.39]
[{"$error":"#N/A"},null,null,null,null,173831,"SPR","SPR","RL","BORDER,ROLL,CORR,2.25X50FT,CAN"," ",5.29,10,{"$f":"VLOOKUP(M1114,DFL!A:H,8,0)","v":0.36},{"$f":"P1114-(P1114/1.0025)","v":8.4538653366581507E-3},3.39]
[{"$error":"#N/A"},null,null,null,null,173906,"SPR","SPR","RL","BORDER,ROLL,CORR,2.25X50FT,BK"," ",5.29,10,{"$f":"VLOOKUP(M1115,DFL!A:H,8,0)","v":0.36},{"$f":"P1115-(P1115/1.0025)","v":8.4538653366581507E-3},3.39]
[{"$error":"#N/A"},null,null,null,null,540144,"SPR","SPR","EA","PEN,ROLLBALL,VSN,UNI,FN,RD",null,4.49,33,{"$f":"VLOOKUP(M1116,DFL!A:H,8,0)","v":0.55000000000000004},{"$f":"P1116-(P1116/1.0025)","v":5.0374064837903632E-3},2.02]
[{"$error":"#N/A"},null,null,null,null,707959,"SPR","SPR","EA","PEN,ROLLERBALL,VSN,UNI,FN,RED",null,4.49,33,{"$f":"VLOOKUP(M1117,DFL!A:H,8,0)","v":0.55000000000000004},{"$f":"P1117-(P1117/1.0025)","v":5.0374064837903632E-3},2.02]
[{"$error":"#N/A"},null,null,null,null,707977,"SPR","SPR","EA","PEN,ROLLERBALL,VSN,UNI,FN,PUR"," ",4.49,33,{"$f":"VLOOKUP(M1118,DFL!A:H,8,0)","v":0.55000000000000004},{"$f":"P1118-(P1118/1.0025)","v":5.0374064837903632E-3},2.02]
[{"$error":"#N/A"},null,null,null,null,752791,"SPR","SPR","EA","PEN,UNIBALL,VISION,ELITE,BLACK",null,4.49,33,{"$f":"VLOOKUP(M1119,DFL!A:H,8,0)","v":0.55000000000000004},{"$f":"P1119-(P1119/1.0025)","v":5.0374064837903632E-3},2.02]
[{"$error":"#N/A"},null,null,null,null,752801,"SPR","SPR","EA","PEN,UBALL,VISION,ELITE,BLU/BLK",null,4.49,33,{"$f":"VLOOKUP(M1120,DFL!A:H,8,0)","v":0.55000000000000004},{"$f":"P1120-(P1120/1.0025)","v":5.0374064837903632E-3},2.02]
[{"$error":"#N/A"},null,null,null,null,222389,"SPR","SPR","EA","PEN,UB,VISIONELITE,0.5MM,BK",null,4.49,33,{"$f":"VLOOKUP(M1121,DFL!A:H,8,0)","v":0.55000000000000004},{"$f":"P1121-(P1121/1.0025)","v":5.0374064837903632E-3},2.02]
[{"$error":"#N/A"},null,null,null,null,540122,"SPR","SPR","EA","PEN,UB,VISIONELITE,0.5MM,BE",null,4.49,33,{"$f":"VLOOKUP(M1122,DFL!A:H,8,0)","v":0.55000000000000004},{"$f":"P1122-(P1122/1.0025)","v":5.0374064837903632E-3},2.02]
[{"$error":"#N/A"},null,null,null,null,655853,"SPR","SPR","EA","PEN,UB,VISIONELITE,0.8MM,BE",null,4.49,33,{"$f":"VLOOKUP(M1123,DFL!A:H,8,0)","v":0.55000000000000004},{"$f":"P1123-(P1123/1.0025)","v":5.0374064837903632E-3},2.02]
[{"$error":"#N/A"},null,null,null,null,362220,"SPR","SPR","BX","TOOTHPICK;WOOD;FLAT;2500PC",null,3.99,47,{"$f":"VLOOKUP(M1124,DFL!A:H,8,0)","v":0.5},{"$f":"P1124-(P1124/1.0025)","v":4.9875311720697368E-3},2]
[{"$error":"#N/A"},null,null,null,null,518688,"SPR","SPR","PK","NOTES,POSTIT,ULTRA,AST,1X3,4PK"," ",4.58,30,{"$f":"VLOOKUP(M1125,DFL!A:H,8,0)","v":0.57999999999999996},{"$f":"P1125-(P1125/1.0025)","v":4.7880299251870095E-3},1.92]
[{"$error":"#N/A"},null,null,null,null,764447,"BSD","BSD","PK","BOOK,MEMO,WRBND,SIDE,CR,60S,3"," ",7.4,30,{"$f":"VLOOKUP(M1126,DFL!A:E,5,0)","v":0.73},{"$f":"P1126-(P1126/1.0025)","v":4.9875311720697368E-3},2]
[{"$error":"#N/A"},null,null,null,null,5582185,"BSD","BSD","EA","Bostitch¬Æ Office Premium Standard Staples, 1/4\" Full Strip, Box Of 5,000 Staples",null,6.52,37,{"$f":"VLOOKUP(M1127,DFL!A:E,5,0)","v":0.65},{"$f":"P1127-(P1127/1.0025)","v":5.6857855361593934E-3},2.2799999999999998]
[{"$error":"#N/A"},null,null,null,null,724513,"BSD","BSD","EA","RULER,OD,SHATTERPROOF,12\""," ",7.07,34,{"$f":"VLOOKUP(M1128,DFL!A:E,5,0)","v":0.7},{"$f":"P1128-(P1128/1.0025)","v":5.2867830423939388E-3},2.12]
[{"$error":"#N/A"},null,null,null,null,174318,"SPR","SPR","EA","CARD,INDEX,RULED,SPIRAL,3X5",null,5.4,35,{"$f":"VLOOKUP(M1129,DFL!A:H,8,0)","v":0.6},{"$f":"P1129-(P1129/1.0025)","v":5.3865336658351914E-3},2.16]
[{"$error":"#N/A"},null,null,null,null,1383409,"SPR","SPR","EA","TRAY SDLD LTR STCKBLE BK"," ",5.24,31,{"$f":"VLOOKUP(M1130,DFL!A:H,8,0)","v":0.49},{"$f":"P1130-(P1130/1.0025)","v":6.6583541147129388E-3},2.67]
[{"$error":"#N/A"},null,null,null,null,729036,"BSD","BSD","DZ","PEN,BALLPOINT,STICK,DOZEN,RED"," ",5.54,33,{"$f":"VLOOKUP(M1131,DFL!A:E,5,0)","v":0.65},{"$f":"P1131-(P1131/1.0025)","v":4.8379052369076359E-3},1.94]
[{"$error":"#N/A"},null,null,null,null,982134,"BSD","BSD","EA","CLIPBOARD,OD,WOOD"," ",8.57,35,{"$f":"VLOOKUP(M1132,DFL!A:E,5,0)","v":0.7},{"$f":"P1132-(P1132/1.0025)","v":6.4089775561098072E-3},2.57]
[{"$error":"#N/A"},null,null,null,null,112987,"SPR","SPR","PK","LABEL,P/S,1/4\"DIA,RED,450/PK"," ",3.48,26,{"$f":"VLOOKUP(M1133,DFL!A:H,8,0)","v":0.44},{"$f":"P1133-(P1133/1.0025)","v":4.862842892767949E-3},1.95]
[{"$error":"#N/A"},null,null,null,null,113001,"SPR","SPR","PK","LABEL;ROUND;1/4\";YLW;450CT",null,3.48,26,{"$f":"VLOOKUP(M1134,DFL!A:H,8,0)","v":0.44},{"$f":"P1134-(P1134/1.0025)","v":4.862842892767949E-3},1.95]
[{"$error":"#N/A"},null,null,null,null,113019,"SPR","SPR","PK","LABEL;ROUND;1/4\";DKBE;450CT",null,3.48,26,{"$f":"VLOOKUP(M1135,DFL!A:H,8,0)","v":0.44},{"$f":"P1135-(P1135/1.0025)","v":4.862842892767949E-3},1.95]
[{"$error":"#N/A"},null,null,null,null,6268200,null,"SPR","EA","CLEANER;DSH;ULTRA;ORGL;9.7Z",null,3.55,19,{"$f":"VLOOKUP(M1136,DFL!A:H,8,0)","v":0.45},{"$f":"P1136-(P1136/1.0025)","v":4.862842892767949E-3},1.95]
[{"$error":"#N/A"},null,null,null,null,3924123,null,"SPR","EA","CLEANER;DSH;ULT;AB;ORN;9.7Z",null,3.55,19,{"$f":"VLOOKUP(M1137,DFL!A:H,8,0)","v":0.45},{"$f":"P1137-(P1137/1.0025)","v":4.862842892767949E-3},1.95]
[{"$error":"#N/A"},null,null,null,null,457225,"SPR","SPR","EA","TAPE,CORRECT,1/5X33',SIDE"," ",3.99,17,{"$f":"VLOOKUP(M1138,DFL!A:H,8,0)","v":0.48},{"$f":"P1138-(P1138/1.0025)","v":5.162094763092373E-3},2.0699999999999998]
[{"$error":"#N/A"},null,null,null,null,183448,"SPR","SPR","EA","PEN,UNI-BALL,GEL IMP,SILVER"," ",4.62,33,{"$f":"VLOOKUP(M1139,DFL!A:H,8,0)","v":0.55000000000000004},{"$f":"P1139-(P1139/1.0025)","v":5.1870324189526862E-3},2.08]
[{"$error":"#N/A"},null,null,null,null,139179,"BSD","BSD","PK","DIVIDER,DURABLE,WO,8 TABS"," ",9.6199999999999992,35,{"$f":"VLOOKUP(M1140,DFL!A:E,5,0)","v":0.7},{"$f":"P1140-(P1140/1.0025)","v":7.2069825436407164E-3},2.89]
[{"$error":"#N/A"},null,null,null,null,838379,"BSD","BSD","PK","PRINTED FLAGS,POST-IT,.47X1.7"," ",6.51,35,{"$f":"VLOOKUP(M1141,DFL!A:E,5,0)","v":0.7},{"$f":"P1141-(P1141/1.0025)","v":4.862842892767949E-3},1.95]
[{"$error":"#N/A"},null,null,null,null,286821,"BSD","BSD","PK","POST-IT,SIGN HERE,RD ARRW,80CT"," ",6.51,35,{"$f":"VLOOKUP(M1142,DFL!A:E,5,0)","v":0.7},{"$f":"P1142-(P1142/1.0025)","v":4.862842892767949E-3},1.95]
[{"$error":"#N/A"},null,null,null,null,7159142,"SPR","SPR","DZ","PEN,BALLPOINT,STICK,FINE,BK",null,5.99,33,{"$f":"VLOOKUP(M1143,DFL!A:H,8,0)","v":0.55000000000000004},{"$f":"P1143-(P1143/1.0025)","v":6.7331670822943224E-3},2.7]
[{"$error":"#N/A"},null,null,null,null,4059792,"SPR","SPR","DZ","PEN,BALLPOINT,STICK,FINE,BE",null,5.99,33,{"$f":"VLOOKUP(M1144,DFL!A:H,8,0)","v":0.55000000000000004},{"$f":"P1144-(P1144/1.0025)","v":6.7331670822943224E-3},2.7]
[{"$error":"#N/A"},null,null,null,null,7353561,"SPR","SPR","DZ","PEN,BALLPOINT,STICK,MED,BE",null,5.99,33,{"$f":"VLOOKUP(M1145,DFL!A:H,8,0)","v":0.55000000000000004},{"$f":"P1145-(P1145/1.0025)","v":6.7331670822943224E-3},2.7]
[{"$error":"#N/A"},null,null,null,null,8068326,"SPR","SPR","DZ","PEN,BALLPOINT,STICK,MED,RD",null,5.99,33,{"$f":"VLOOKUP(M1146,DFL!A:H,8,0)","v":0.55000000000000004},{"$f":"P1146-(P1146/1.0025)","v":6.7331670822943224E-3},{"$f":"ROUND(L1146*(1-N1146),2)","v":2.7}]
[{"$error":"#N/A"},null,null,null,null,6874045,"SPR","SPR","DZ","PEN,BALLPOINT,STICK,MED,BK",null,5.99,33,{"$f":"VLOOKUP(M1147,DFL!A:H,8,0)","v":0.55000000000000004},{"$f":"P1147-(P1147/1.0025)","v":6.7331670822943224E-3},2.7]
[{"$error":"#N/A"},null,null,null,null,720461,"BSD","BSD","EA","RULER,W/BNDR HOLES,12\",PLSTC,A"," ",7.18,34,{"$f":"VLOOKUP(M1148,DFL!A:E,5,0)","v":0.7},{"$f":"P1148-(P1148/1.0025)","v":5.3615960099748783E-3},2.15]
[{"$error":"#N/A"},null,null,null,null,465710,"SPR","SPR","EA","NOTES,STAR,POST-IT,ASTD"," ",4.6900000000000004,30,{"$f":"VLOOKUP(M1149,DFL!A:H,8,0)","v":0.57999999999999996},{"$f":"P1149-(P1149/1.0025)","v":4.9127182044885753E-3},1.97]
[{"$error":"#N/A"},null,null,null,null,465735,"SPR","SPR","EA","NOTES,BUTTERFLY/HEART,ASTD"," ",4.6900000000000004,30,{"$f":"VLOOKUP(M1150,DFL!A:H,8,0)","v":0.57999999999999996},{"$f":"P1150-(P1150/1.0025)","v":4.9127182044885753E-3},1.97]
[{"$error":"#N/A"},null,null,null,null,733092,"SPR","SPR","ST","DIVIDERS,MINI,12TAB,JAN-DEC",null,4.92,35,{"$f":"VLOOKUP(M1151,DFL!A:H,8,0)","v":0.6},{"$f":"P1151-(P1151/1.0025)","v":4.9127182044885753E-3},1.97]
[{"$error":"#N/A"},null,null,null,null,535211,"SPR","SPR","BX","CHALK;DRAWING;12/ST;AST",null,3.76,20,{"$f":"VLOOKUP(M1152,DFL!A:H,8,0)","v":0.47},{"$f":"P1152-(P1152/1.0025)","v":4.9625935162094237E-3},1.99]
[{"$error":"#N/A"},null,null,null,null,466169,"SPR","SPR","EA","PAD,STAMP,#1,FELT,RED"," ",4.43,24,{"$f":"VLOOKUP(M1153,DFL!A:H,8,0)","v":0.55000000000000004},{"$f":"P1153-(P1153/1.0025)","v":4.9625935162094237E-3},1.99]
[{"$error":"#N/A"},null,null,null,null,912238,"SPR","SPR","EA","PAD,STAMP,#1,FELT,UNINKED"," ",4.43,24,{"$f":"VLOOKUP(M1154,DFL!A:H,8,0)","v":0.55000000000000004},{"$f":"P1154-(P1154/1.0025)","v":4.9625935162094237E-3},1.99]
[{"$error":"#N/A"},null,null,null,null,479790,"SPR","SPR","EA","PAD,STAMP,#1,FELT,BLACK"," ",4.43,24,{"$f":"VLOOKUP(M1155,DFL!A:H,8,0)","v":0.55000000000000004},{"$f":"P1155-(P1155/1.0025)","v":4.9625935162094237E-3},1.99]
[{"$error":"#N/A"},null,null,null,null,728919,"BSD","BSD","DZ","PEN,BALLPOINT,STICK,DOZEN,BLK"," ",5.68,33,{"$f":"VLOOKUP(M1156,DFL!A:E,5,0)","v":0.65},{"$f":"P1156-(P1156/1.0025)","v":4.9625935162094237E-3},1.99]
[{"$error":"#N/A"},null,null,null,null,964494,"BSD","BSD","BX","PAD,FINGER,AMBER,PARR,SIZE 13"," ",6.89,27,{"$f":"VLOOKUP(M1157,DFL!A:E,5,0)","v":0.67},{"$f":"P1157-(P1157/1.0025)","v":5.6608478802990803E-3},2.27]
[{"$error":"#N/A"},null,null,null,null,234945,"SPR","SPR","BX","BANDAGE,ADHESIVE,PLASTIC"," ",3.39,22,{"$f":"VLOOKUP(M1158,DFL!A:H,8,0)","v":0.41},{"$f":"P1158-(P1158/1.0025)","v":4.9875311720697368E-3},2]
[{"$error":"#N/A"},null,null,null,null,549857,"SPR","SPR","PK","BLADE,KNIFE,RFL",null,4.75,7,{"$f":"VLOOKUP(M1159,DFL!A:H,8,0)","v":0.46},{"$f":"P1159-(P1159/1.0025)","v":6.4089775561098072E-3},2.57]
[{"$error":"#N/A"},null,null,null,null,474353,"BSD","BSD","EA","SOAP,LIQUID,7.5OZ,SOFTSOAP"," ",3.99,19,{"$f":"VLOOKUP(M1160,DFL!A:E,5,0)","v":0.5},{"$f":"P1160-(P1160/1.0025)","v":4.9875311720697368E-3},2]
[{"$error":"#N/A"},null,null,null,null,571238,"SPR","SPR","EA","BOOK;COMPOSITION;STNDRD;GBE",null,4.76,30,{"$f":"VLOOKUP(M1161,DFL!A:H,8,0)","v":0.57999999999999996},{"$f":"P1161-(P1161/1.0025)","v":4.9875311720697368E-3},2]
[{"$error":"#N/A"},null,null,null,null,790730,"BSD","BSD","RL","TAPE,MASKING,SCOTCH,7/8\"X60YDS"," ",4.99,39,{"$f":"VLOOKUP(M1162,DFL!A:E,5,0)","v":0.6},{"$f":"P1162-(P1162/1.0025)","v":4.9875311720697368E-3},2]
[{"$error":"#N/A"},null,null,null,null,964486,"BSD","BSD","BX","PAD,FINGER,AMBER,PARR,SIZE 12"," ",6.89,27,{"$f":"VLOOKUP(M1163,DFL!A:E,5,0)","v":0.67},{"$f":"P1163-(P1163/1.0025)","v":5.6608478802990803E-3},2.27]
[{"$error":"#N/A"},null,null,null,null,434132,"SPR","SPR","EA","RULER,ACRYLIC,18\""," ",8.15,34,{"$f":"VLOOKUP(M1164,DFL!A:H,8,0)","v":0.55000000000000004},{"$f":"P1164-(P1164/1.0025)","v":9.1521197007478072E-3},3.67]
[{"$error":"#N/A"},null,null,null,null,351732,"BSD","BSD","PK","BNDR PKT, CRNR LCK, 3/PK"," ",9.89,35,{"$f":"VLOOKUP(M1165,DFL!A:E,5,0)","v":0.7},{"$f":"P1165-(P1165/1.0025)","v":7.4064837905236658E-3},2.97]
[{"$error":"#N/A"},null,null,null,null,968787,"SPR","SPR","BX","BANDAGE,CURAD SHEER 3/4\",80",null,3.4,22,{"$f":"VLOOKUP(M1166,DFL!A:H,8,0)","v":0.41},{"$f":"P1166-(P1166/1.0025)","v":5.01246882793005E-3},2.0099999999999998]
[{"$error":"#N/A"},null,null,null,null,893997,"SPR","SPR","EA","LENS;COATED;CHECKLITE",null,3.41,22,{"$f":"VLOOKUP(M1167,DFL!A:H,8,0)","v":0.41},{"$f":"P1167-(P1167/1.0025)","v":5.01246882793005E-3},2.0099999999999998]
[{"$error":"#N/A"},null,null,null,null,111411,"SPR","SPR","PK","HIGHLIGHTER;PEN;CHISEL;4PK",null,4.46,33,{"$f":"VLOOKUP(M1168,DFL!A:H,8,0)","v":0.55000000000000004},{"$f":"P1168-(P1168/1.0025)","v":5.01246882793005E-3},2.0099999999999998]
[{"$error":"#N/A"},null,null,null,null,9620571,"BSD","BSD","DZ","PENCIL,PM,EVERSTRONG,12CT BOX",null,5.74,33,{"$f":"VLOOKUP(M1169,DFL!A:E,5,0)","v":0.65},{"$f":"P1169-(P1169/1.0025)","v":5.01246882793005E-3},2.0099999999999998]
[{"$error":"#N/A"},null,null,null,null,108130,"BSD","BSD","ST","POCKET,8TAB,PLASTIC"," ",9.92,35,{"$f":"VLOOKUP(M1170,DFL!A:E,5,0)","v":0.7},{"$f":"P1170-(P1170/1.0025)","v":7.4314214463839789E-3},2.98]
[{"$error":"#N/A"},null,null,null,null,224604,"BSD","BSD","PK","DIVIDER,WRITE-ON W/ POCKET,5TB"," ",9.93,35,{"$f":"VLOOKUP(M1171,DFL!A:E,5,0)","v":0.7},{"$f":"P1171-(P1171/1.0025)","v":7.4314214463839789E-3},2.98]
[{"$error":"#N/A"},null,null,null,null,699879,"SPR","SPR","EA","SPRAYER,TRIG,CHEM RESIST,GY",null,3.68,19,{"$f":"VLOOKUP(M1172,DFL!A:H,8,0)","v":0.45},{"$f":"P1172-(P1172/1.0025)","v":5.0374064837903632E-3},2.02]
[{"$error":"#N/A"},null,null,null,null,6787094,"BSD","BSD","EA","BOOK,COMP,PURPLE,100S,WR",null,7.47,30,{"$f":"VLOOKUP(M1173,DFL!A:E,5,0)","v":0.73},{"$f":"P1173-(P1173/1.0025)","v":5.0374064837903632E-3},2.02]
[{"$error":"#N/A"},null,null,null,null,344017,"SPR","SPR","DZ","CLIP,BINDER,MINI",null,4.32,7,{"$f":"VLOOKUP(M1174,DFL!A:H,8,0)","v":0.46},{"$f":"P1174-(P1174/1.0025)","v":5.8104738154614033E-3},2.33]
[{"$error":"#N/A"},null,null,null,null,369891,"SPR","SPR","PK","HOLDER,FILE,TRANSPARENT,BE"," ",6.27,35,{"$f":"VLOOKUP(M1175,DFL!A:H,8,0)","v":0.6},{"$f":"P1175-(P1175/1.0025)","v":6.2593516209474842E-3},2.5099999999999998]
[{"$error":"#N/A"},null,null,null,null,990500,"BSD","BSD","PK","Elmer's¬Æ Washable School Glue Sticks, 0.24 Oz, Pack Of 4",null,6.32,1,{"$f":"VLOOKUP(M1176,DFL!A:E,5,0)","v":0.63},{"$f":"P1176-(P1176/1.0025)","v":5.8354114713217164E-3},2.34]
[{"$error":"#N/A"},null,null,null,null,6901441,"BSD","BSD","EA","BOOK,COMP,BLUE,100S,WR",null,7.57,30,{"$f":"VLOOKUP(M1177,DFL!A:E,5,0)","v":0.73},{"$f":"P1177-(P1177/1.0025)","v":5.0872817955109895E-3},2.04]
[{"$error":"#N/A"},null,null,null,null,162370,"BSD","BSD","EA","MONEY/RENT RECEIPT BK 2PT"," ",4.84,11,{"$f":"VLOOKUP(M1178,DFL!A:E,5,0)","v":0.57999999999999996},{"$f":"P1178-(P1178/1.0025)","v":5.0623441396506763E-3},2.0299999999999998]
[{"$error":"#N/A"},null,null,null,null,996690,null,"SPR","PK","DIVIDER,JR,TAB,POLY,ASSOR COL",null,7.52,35,{"$f":"VLOOKUP(M1179,DFL!A:H,8,0)","v":0.6},{"$f":"P1179-(P1179/1.0025)","v":7.5062344139649184E-3},3.01]
[{"$error":"#N/A"},null,null,null,null,8120356,"BSD","BSD","EA","BOOK,COMP,RED,100S,WR",null,7.61,30,{"$f":"VLOOKUP(M1180,DFL!A:E,5,0)","v":0.73},{"$f":"P1180-(P1180/1.0025)","v":5.1122194513713026E-3},2.0499999999999998]
[{"$error":"#N/A"},null,null,null,null,111751,"SPR","SPR","EA","HOOK,FLIP CAHRT 2\""," ",4.54,36,{"$f":"VLOOKUP(M1181,DFL!A:H,8,0)","v":0.36},{"$f":"P1181-(P1181/1.0025)","v":7.2568578553613428E-3},2.91]
[{"$error":"#N/A"},null,null,null,null,254532,"SPR","SPR","BX","ENVELOPE;PLAIN;#10;WE;50CT",null,4.91,27,{"$f":"VLOOKUP(M1182,DFL!A:H,8,0)","v":0.57999999999999996},{"$f":"P1182-(P1182/1.0025)","v":5.1371571072316158E-3},2.06]
[{"$error":"#N/A"},null,null,null,null,9558175,"SPR","SPR","PK","CARD,INDEX,RULED,4X6,WE",null,5.33,35,{"$f":"VLOOKUP(M1183,DFL!A:H,8,0)","v":0.6},{"$f":"P1183-(P1183/1.0025)","v":5.311720698254252E-3},2.13]
[{"$error":"#N/A"},null,null,null,null,9534050,"SPR","SPR","PK","CARD,INDEX,PLAIN,4X6,WE",null,5.33,35,{"$f":"VLOOKUP(M1184,DFL!A:H,8,0)","v":0.6},{"$f":"P1184-(P1184/1.0025)","v":5.311720698254252E-3},2.13]
[{"$error":"#N/A"},null,null,null,null,320960,"BSD","BSD","BX","STAPLE,1/4\",SF1,15-25SHT,5M/BX"," ",6.69,37,{"$f":"VLOOKUP(M1185,DFL!A:E,5,0)","v":0.65},{"$f":"P1185-(P1185/1.0025)","v":5.8354114713217164E-3},2.34]
[{"$error":"#N/A"},null,null,null,null,776185,"SPR","SPR","EA","PURELL,PERSONAL SYSTEM,2OZ"," ",3.8,22,{"$f":"VLOOKUP(M1186,DFL!A:H,8,0)","v":0.41},{"$f":"P1186-(P1186/1.0025)","v":5.5860349127181408E-3},2.2400000000000002]
[{"$error":"#N/A"},null,null,null,null,990143,"SPR","SPR","ST","INDEX 11X8.5,1-8TAB,MULTICOLOR","030/030,EPP (eVine),CPG,30% post-consumer (paper)",5.17,35,{"$f":"VLOOKUP(M1187,DFL!A:H,8,0)","v":0.6},{"$f":"P1187-(P1187/1.0025)","v":5.162094763092373E-3},2.0699999999999998]
[{"$error":"#N/A"},null,null,null,null,991174,"SPR","SPR","ST","INDEX,11X8.5,1-8TAB,BLK/WHT","030/030,EPP (eVine),CPG,30% post-consumer (paper)",5.17,35,{"$f":"VLOOKUP(M1188,DFL!A:H,8,0)","v":0.6},{"$f":"P1188-(P1188/1.0025)","v":5.162094763092373E-3},2.0699999999999998]
[{"$error":"#N/A"},null,null,null,null,602675,"SPR","SPR","PK","TABS,DURABLE,2X1,24/PK,POST-IT"," ",5.17,35,{"$f":"VLOOKUP(M1189,DFL!A:H,8,0)","v":0.6},{"$f":"P1189-(P1189/1.0025)","v":5.162094763092373E-3},2.0699999999999998]
[{"$error":"#N/A"},null,null,null,null,651172,"SPR","SPR","PK","TAB,DURABLE,DIVIDING,4PK"," ",5.17,35,{"$f":"VLOOKUP(M1190,DFL!A:H,8,0)","v":0.6},{"$f":"P1190-(P1190/1.0025)","v":5.162094763092373E-3},2.0699999999999998]
[{"$error":"#N/A"},null,null,null,null,728982,"BSD","BSD","DZ","PEN,STIC,ROUND,MED,DOZEN,BLUE",null,5.9,33,{"$f":"VLOOKUP(M1191,DFL!A:E,5,0)","v":0.65},{"$f":"P1191-(P1191/1.0025)","v":5.162094763092373E-3},2.0699999999999998]
[{"$error":"#N/A"},null,null,null,null,474208,"BSD","BSD","ST","DIVIDER,INDEX,8TAB,MUTLI-COLOR"," ",10.210000000000001,35,{"$f":"VLOOKUP(M1192,DFL!A:E,5,0)","v":0.7},{"$f":"P1192-(P1192/1.0025)","v":7.6309226932664842E-3},3.06]
[{"$error":"#N/A"},null,null,null,null,5383553,"SPR","SPR","EA","REFILL,SCRUBBER,BATH",null,3.79,19,{"$f":"VLOOKUP(M1193,DFL!A:H,8,0)","v":0.45},{"$f":"P1193-(P1193/1.0025)","v":5.1870324189526862E-3},2.08]
[{"$error":"#N/A"},null,null,null,null,6732430,"SPR","SPR","PK","PENS,ANTMICROBIAL,8PKBL",null,4.62,33,{"$f":"VLOOKUP(M1194,DFL!A:H,8,0)","v":0.55000000000000004},{"$f":"P1194-(P1194/1.0025)","v":5.1870324189526862E-3},2.08]
[{"$error":"#N/A"},null,null,null,null,6245901,"SPR","SPR","PK","PENS,ANTMICROBIAL,8PKBK",null,4.62,33,{"$f":"VLOOKUP(M1195,DFL!A:H,8,0)","v":0.55000000000000004},{"$f":"P1195-(P1195/1.0025)","v":5.1870324189526862E-3},2.08]
[{"$error":"#N/A"},null,null,null,null,275831,"SPR","SPR","EA","EARBUDS,PRTBL DVICE,EB95,WE"," ",2.99,23,{"$f":"VLOOKUP(M1196,DFL!A:H,8,0)","v":0.3},{"$f":"P1196-(P1196/1.0025)","v":5.2119700748129993E-3},2.09]
[{"$error":"#N/A"},null,null,null,null,824487,"SPR","SPR","EA","MAXELL STEREO EARBUDS",null,2.99,48,{"$f":"VLOOKUP(M1197,DFL!A:H,8,0)","v":0.3},{"$f":"P1197-(P1197/1.0025)","v":5.2119700748129993E-3},2.09]
[{"$error":"#N/A"},null,null,null,null,662178,"SPR","SPR","EA","TAPE,REFILL,MONO,CORRECTION"," ",4.01,17,{"$f":"VLOOKUP(M1198,DFL!A:H,8,0)","v":0.48},{"$f":"P1198-(P1198/1.0025)","v":5.2119700748129993E-3},2.09]
[{"$error":"#N/A"},null,null,null,null,544634,"SPR","SPR","EA","CUP,PENCIL,FUSION,BLK,GRY",null,4.79,31,{"$f":"VLOOKUP(M1199,DFL!A:H,8,0)","v":0.49},{"$f":"P1199-(P1199/1.0025)","v":6.084788029924848E-3},2.44]
[{"$error":"#N/A"},null,null,null,null,318486,null,"SPR","PK","DIVIDER,JR,POCKET,POLY",null,7.67,35,{"$f":"VLOOKUP(M1200,DFL!A:H,8,0)","v":0.6},{"$f":"P1200-(P1200/1.0025)","v":7.6558603491267974E-3},3.07]
[{"$error":"#N/A"},null,null,null,null,234783,"SPR","SPR","BX","MEDLINE GAUZE 2\"X2\" 8 PLY"," ",3.56,22,{"$f":"VLOOKUP(M1201,DFL!A:H,8,0)","v":0.41},{"$f":"P1201-(P1201/1.0025)","v":5.2369077306733125E-3},2.1]
[{"$error":"#N/A"},null,null,null,null,759573,"SPR","SPR","EA","SANITIZER,PURELL,ALOE,4OZ EA",null,4.12,19,{"$f":"VLOOKUP(M1202,DFL!A:H,8,0)","v":0.45},{"$f":"P1202-(P1202/1.0025)","v":5.6608478802990803E-3},2.27]
[{"$error":"#N/A"},null,null,null,null,550390,"SPR","SPR","EA","MOISTENER,FINGERTIP,SORTKWI"," ",5,27,{"$f":"VLOOKUP(M1203,DFL!A:H,8,0)","v":0.57999999999999996},{"$f":"P1203-(P1203/1.0025)","v":5.2369077306733125E-3},2.1]
[{"$error":"#N/A"},null,null,null,null,572621,"SPR","SPR","PK","FLAGS,SEENOTES,ARROW,5NEON CLR"," ",5.01,30,{"$f":"VLOOKUP(M1204,DFL!A:H,8,0)","v":0.57999999999999996},{"$f":"P1204-(P1204/1.0025)","v":5.2369077306733125E-3},2.1]
[{"$error":"#N/A"},null,null,null,null,344615,"BSD","BSD","PK","T-PINS, 100/PK"," ",8.27,7,{"$f":"VLOOKUP(M1205,DFL!A:E,5,0)","v":0.72},{"$f":"P1205-(P1205/1.0025)","v":5.7855361596010901E-3},2.3199999999999998]
[{"$error":"#N/A"},null,null,null,null,949479,"BSD","BSD","EA"," PAINT CRAYWSH 160Z BLK",null,6.16,47,{"$f":"VLOOKUP(M1206,DFL!A:E,5,0)","v":0.56999999999999995},{"$f":"P1206-(P1206/1.0025)","v":6.6084788029923125E-3},2.65]
[{"$error":"#N/A"},null,null,null,null,949412,"BSD","BSD","EA"," PAINT WSH 16OZ ORANGE",null,6.16,47,{"$f":"VLOOKUP(M1207,DFL!A:E,5,0)","v":0.56999999999999995},{"$f":"P1207-(P1207/1.0025)","v":6.6084788029923125E-3},2.65]
[{"$error":"#N/A"},null,null,null,null,502328,"BSD","BSD","PK","MARKER,WASH,FN,CLSIC,8CT,SET","Less Harsh Chemicals,ACMI certified",6.46,28,{"$f":"VLOOKUP(M1208,DFL!A:E,5,0)","v":0.63},{"$f":"P1208-(P1208/1.0025)","v":5.9600997506232822E-3},2.39]
[{"$error":"#N/A"},null,null,null,null,436660,"SPR","SPR","EA","GLUE,SCHOOL,CLEAR,5 OZ."," ",4.67,1,{"$f":"VLOOKUP(M1209,DFL!A:H,8,0)","v":0.48},{"$f":"P1209-(P1209/1.0025)","v":6.0598503740645349E-3},2.4300000000000002]
[{"$error":"#N/A"},null,null,null,null,208155,"SPR","SPR","EA","PEN,GEL,207IMPACT,RETRCT,RD",null,4.99,33,{"$f":"VLOOKUP(M1210,DFL!A:H,8,0)","v":0.55000000000000004},{"$f":"P1210-(P1210/1.0025)","v":5.6109725685784539E-3},{"$f":"ROUND(L1210*(1-N1210),2)","v":2.25}]
[{"$error":"#N/A"},null,null,null,null,488401,"SPR","SPR","EA","PEN,UNIBALL,GEL IMPACT RT,BLK"," ",4.99,33,{"$f":"VLOOKUP(M1211,DFL!A:H,8,0)","v":0.55000000000000004},{"$f":"P1211-(P1211/1.0025)","v":5.6109725685784539E-3},2.25]
[{"$error":"#N/A"},null,null,null,null,488461,"SPR","SPR","EA","PEN,UNIBALL,GEL IMPACT RT,BLUE"," ",4.99,33,{"$f":"VLOOKUP(M1212,DFL!A:H,8,0)","v":0.55000000000000004},{"$f":"P1212-(P1212/1.0025)","v":5.6109725685784539E-3},2.25]
[{"$error":"#N/A"},null,null,null,null,282367,"BSD","BSD","EA","ROLLER,INK,CALC BK/RD",null,5.8,24,{"$f":"VLOOKUP(M1213,DFL!A:E,5,0)","v":0.63},{"$f":"P1213-(P1213/1.0025)","v":5.3615960099748783E-3},2.15]
[{"$error":"#N/A"},null,null,null,null,473866,"BSD","BSD","EA","CLOTH,CLEAN,DRY ERASE,POST-IT"," ",8.69,30,{"$f":"VLOOKUP(M1214,DFL!A:E,5,0)","v":0.73},{"$f":"P1214-(P1214/1.0025)","v":5.8603491271820296E-3},2.35]
[{"$error":"#N/A"},null,null,null,null,874231,null,"SPR","PK","PAPER,CNSTRCTN,9X12,WE",null,3.4603539823008851,47,{"$f":"VLOOKUP(M1215,DFL!A:H,8,0)","v":0.5},{"$f":"P1215-(P1215/1.0025)","v":4.3142144638403934E-3},1.73]
[{"$error":"#N/A"},null,null,null,null,873921,"SPR","SPR","PK","PAPER,CNSTRCTN,9X12,BK",null,4.25,47,{"$f":"VLOOKUP(M1216,DFL!A:H,8,0)","v":0.5},{"$f":"P1216-(P1216/1.0025)","v":5.311720698254252E-3},2.13]
[{"$error":"#N/A"},null,null,null,null,837278,"BSD","BSD","EA","BENT,VALUE,8IN,ASST"," ",8.31,7,{"$f":"VLOOKUP(M1217,DFL!A:E,5,0)","v":0.72},{"$f":"P1217-(P1217/1.0025)","v":5.8104738154614033E-3},2.33]
[{"$error":"#N/A"},null,null,null,null,465054,"BSD","BSD","EA","PAINT,TEMPERA,16 OZ,BRN",null,5.65,47,{"$f":"VLOOKUP(M1218,DFL!A:E,5,0)","v":0.56999999999999995},{"$f":"P1218-(P1218/1.0025)","v":6.0598503740645349E-3},2.4300000000000002]
[{"$error":"#N/A"},null,null,null,null,539262,null,"SPR","EA","SCISSORS,KIDS,BLUNT,5\"\",AST",null,4.0999999999999996,7,{"$f":"VLOOKUP(M1219,DFL!A:H,8,0)","v":0.46},{"$f":"P1219-(P1219/1.0025)","v":5.5112219451372013E-3},2.21]
[{"$error":"#N/A"},null,null,null,null,502369,"SPR","SPR","EA","SCISSORS,KIDS,POINTED,5\"\"AS",null,4.24,7,{"$f":"VLOOKUP(M1220,DFL!A:H,8,0)","v":0.46},{"$f":"P1220-(P1220/1.0025)","v":5.7107231920197066E-3},2.29]
[{"$error":"#N/A"},null,null,null,null,834627,null,"SPR","EA","SCISSORS;TRAINING;PRESCHOOL",null,4.24,7,{"$f":"VLOOKUP(M1221,DFL!A:H,8,0)","v":0.46},{"$f":"P1221-(P1221/1.0025)","v":5.7107231920197066E-3},2.29]
[{"$error":"#N/A"},null,null,null,null,951871,"SPR","SPR","ST","PENCILS;12 COLOR SET;3.3MM",null,4.9400000000000004,33,{"$f":"VLOOKUP(M1222,DFL!A:H,8,0)","v":0.55000000000000004},{"$f":"P1222-(P1222/1.0025)","v":5.5361596009975145E-3},2.2200000000000002]
[{"$error":"#N/A"},null,null,null,null,464776,"BSD","BSD","EA","PAINT,TEMPERA,16 OZ,BLK",null,5.033771929824562,47,{"$f":"VLOOKUP(M1223,DFL!A:E,5,0)","v":0.56999999999999995},{"$f":"P1223-(P1223/1.0025)","v":5.3865336658351914E-3},2.16]
[{"$error":"#N/A"},null,null,null,null,307512,"BSD","BSD","EA","ERASER,DRY ERASE,EXPO"," ",5.12,20,{"$f":"VLOOKUP(M1224,DFL!A:E,5,0)","v":0.57999999999999996},{"$f":"P1224-(P1224/1.0025)","v":5.3615960099748783E-3},2.15]
[{"$error":"#N/A"},null,null,null,null,366346,"SPR","SPR","EA","KRAZY GLUE,ADVANCED GEL"," ",4.16,1,{"$f":"VLOOKUP(M1225,DFL!A:H,8,0)","v":0.48},{"$f":"P1225-(P1225/1.0025)","v":5.3865336658351914E-3},2.16]
[{"$error":"#N/A"},null,null,null,null,963257,"SPR","SPR","EA","5G KRZY GLU ADV PRCSN"," ",4.16,1,{"$f":"VLOOKUP(M1226,DFL!A:H,8,0)","v":0.48},{"$f":"P1226-(P1226/1.0025)","v":5.3865336658351914E-3},2.16]
[{"$error":"#N/A"},null,null,null,null,552469,"SPR","SPR","EA","CLPBRD-6X8-TRNSP-CLEAR"," ",6.31,35,{"$f":"VLOOKUP(M1227,DFL!A:H,8,0)","v":0.6},{"$f":"P1227-(P1227/1.0025)","v":6.2842892768077974E-3},2.52]
[{"$error":"#N/A"},null,null,null,null,344279,"BSD","BSD","BX","STAPLES,PREMIUM,5000BX"," ",6.78,37,{"$f":"VLOOKUP(M1228,DFL!A:E,5,0)","v":0.65},{"$f":"P1228-(P1228/1.0025)","v":5.9102244389026559E-3},2.37]
[{"$error":"#N/A"},null,null,null,null,173013,"SPR","SPR","RL","TAPE,MAGIC,3M,1/2X1296",null,4.33,39,{"$f":"VLOOKUP(M1229,DFL!A:H,8,0)","v":0.5},{"$f":"P1229-(P1229/1.0025)","v":5.4114713216955046E-3},2.17]
[{"$error":"#N/A"},null,null,null,null,292689,"SPR","SPR","PK","CARD;INDEX;RULED;4X6;8PT;WE",null,5.61,35,{"$f":"VLOOKUP(M1230,DFL!A:H,8,0)","v":0.6},{"$f":"P1230-(P1230/1.0025)","v":5.5860349127181408E-3},2.2400000000000002]
[{"$error":"#N/A"},null,null,null,null,593065,"SPR","SPR","BX","CUBE,TISSUE,FACIAL"," ",3.9,40,{"$f":"VLOOKUP(M1231,DFL!A:H,8,0)","v":0.44},{"$f":"P1231-(P1231/1.0025)","v":5.4364089775558178E-3},2.1800000000000002]
[{"$error":"#N/A"},null,null,null,null,6854399,"SPR","SPR","DZ","PENCIL,MECH,STRNG,.9MM,12PK",null,4.8499999999999996,33,{"$f":"VLOOKUP(M1232,DFL!A:H,8,0)","v":0.55000000000000004},{"$f":"P1232-(P1232/1.0025)","v":5.4364089775558178E-3},2.1800000000000002]
[{"$error":"#N/A"},null,null,null,null,8483517,"SPR","SPR","DZ","PENCIL,MECH,CLSSC,.7MM,12PK",null,4.8499999999999996,33,{"$f":"VLOOKUP(M1233,DFL!A:H,8,0)","v":0.55000000000000004},{"$f":"P1233-(P1233/1.0025)","v":5.4364089775558178E-3},2.1800000000000002]
[{"$error":"#N/A"},null,null,null,null,747896,"SPR","SPR","EA","POCKETS,ACCORDIAN,LTR"," ",5.6,35,{"$f":"VLOOKUP(M1234,DFL!A:H,8,0)","v":0.6},{"$f":"P1234-(P1234/1.0025)","v":5.5860349127181408E-3},2.2400000000000002]
[{"$error":"#N/A"},null,null,null,null,747904,"SPR","SPR","EA","POCKETS,ACCORDIAN,LTR"," ",5.6,35,{"$f":"VLOOKUP(M1235,DFL!A:H,8,0)","v":0.6},{"$f":"P1235-(P1235/1.0025)","v":5.5860349127181408E-3},2.2400000000000002]
[{"$error":"#N/A"},null,null,null,null,747912,"SPR","SPR","EA","POCKETS,ACCORDIAN,LTR"," ",5.6,35,{"$f":"VLOOKUP(M1236,DFL!A:H,8,0)","v":0.6},{"$f":"P1236-(P1236/1.0025)","v":5.5860349127181408E-3},2.2400000000000002]
[{"$error":"#N/A"},null,null,null,null,747920,"SPR","SPR","EA","POCKETS,ACCORDIAN,LTR"," ",5.6,35,{"$f":"VLOOKUP(M1237,DFL!A:H,8,0)","v":0.6},{"$f":"P1237-(P1237/1.0025)","v":5.5860349127181408E-3},2.2400000000000002]
[{"$error":"#N/A"},null,null,null,null,610429,"BSD","BSD","EA","ADHESIVE,CONTROL GEL,4G"," ",5.88,1,{"$f":"VLOOKUP(M1238,DFL!A:E,5,0)","v":0.63},{"$f":"P1238-(P1238/1.0025)","v":5.4364089775558178E-3},2.1800000000000002]
[{"$error":"#N/A"},null,null,null,null,502290,"BSD","BSD","EA","RULER,OD,12\" ACRYLIC,CLEAR,"," ",8.02,34,{"$f":"VLOOKUP(M1239,DFL!A:E,5,0)","v":0.7},{"$f":"P1239-(P1239/1.0025)","v":6.0099750623439085E-3},2.41]
[{"$error":"#N/A"},null,null,null,null,123033,"SPR","SPR","EA","PUMP,ECONOMY,1OZ"," ",4,19,{"$f":"VLOOKUP(M1240,DFL!A:H,8,0)","v":0.45},{"$f":"P1240-(P1240/1.0025)","v":5.4862842892768882E-3},2.2000000000000002]
[{"$error":"#N/A"},null,null,null,null,764180,"SPR","SPR","PK"," MARKERS CRAYOLA BROAD 10PK",null,4.24,28,{"$f":"VLOOKUP(M1241,DFL!A:H,8,0)","v":0.48},{"$f":"P1241-(P1241/1.0025)","v":5.4862842892768882E-3},2.2000000000000002]
[{"$error":"#N/A"},null,null,null,null,446079,null,"SPR","PK","DIVIDER,JR,TAB,POLY,5PK,GREY",null,7.34,35,{"$f":"VLOOKUP(M1242,DFL!A:H,8,0)","v":0.6},{"$f":"P1242-(P1242/1.0025)","v":7.3316708229422822E-3},2.94]
[{"$error":"#N/A"},null,null,null,null,916464,"SPR","SPR","EA","GRABBER;GLOVE;BLUE",null,3.75,22,{"$f":"VLOOKUP(M1243,DFL!A:H,8,0)","v":0.41},{"$f":"P1243-(P1243/1.0025)","v":5.5112219451372013E-3},2.21]
[{"$error":"#N/A"},null,null,null,null,171660,"SPR","SPR","RL","TAPE,MAGIC,3/4X650\",REFILLABLE"," ",4.42,39,{"$f":"VLOOKUP(M1244,DFL!A:H,8,0)","v":0.5},{"$f":"P1244-(P1244/1.0025)","v":5.5112219451372013E-3},2.21]
[{"$error":"#N/A"},null,null,null,null,482171,"BSD","BSD","PK","CLIP,BNDR,SM,36/BX,ASTD COLORS",null,11.99,7,{"$f":"VLOOKUP(M1245,DFL!A:E,5,0)","v":0.72},{"$f":"P1245-(P1245/1.0025)","v":8.3790523690772112E-3},3.36]
[{"$error":"#N/A"},null,null,null,null,104060,"SPR","SPR","PK","SPONGE,HANDYSIZE,STAY FRESH"," ",4.04,19,{"$f":"VLOOKUP(M1246,DFL!A:H,8,0)","v":0.45},{"$f":"P1246-(P1246/1.0025)","v":5.5361596009975145E-3},2.2200000000000002]
[{"$error":"#N/A"},null,null,null,null,666552,"SPR","SPR","EA","BOOK,STENO,GREGG,WIREBND,80SHT"," ",5.42,30,{"$f":"VLOOKUP(M1247,DFL!A:H,8,0)","v":0.57999999999999996},{"$f":"P1247-(P1247/1.0025)","v":5.6857855361593934E-3},2.2799999999999998]
[{"$error":"#N/A"},null,null,null,null,1445869,"BSD","BSD","PK","MARKERS,CRAYOLA,WSHBL,BRD,10PK",null,5.99,28,{"$f":"VLOOKUP(M1248,DFL!A:E,5,0)","v":0.63},{"$f":"P1248-(P1248/1.0025)","v":5.5361596009975145E-3},2.2200000000000002]
[{"$error":"#N/A"},null,null,null,null,4682034,"BSD","BSD","PK","MARKERS,CRAYOLA,WSHBL,FN,10PK",null,5.99,28,{"$f":"VLOOKUP(M1249,DFL!A:E,5,0)","v":0.63},{"$f":"P1249-(P1249/1.0025)","v":5.5361596009975145E-3},2.2200000000000002]
[{"$error":"#N/A"},null,null,null,null,749601,"BSD","BSD","BX","STAPLE,1/4\",15-25SHT,5000BX"," ",6.98,37,{"$f":"VLOOKUP(M1250,DFL!A:E,5,0)","v":0.65},{"$f":"P1250-(P1250/1.0025)","v":6.084788029924848E-3},2.44]
[{"$error":"#N/A"},null,null,null,null,122666,null,"SPR","EA","RENUZIT SUPER ODOR KILLER 7.5"," ",4.05,19,{"$f":"VLOOKUP(M1251,DFL!A:H,8,0)","v":0.45},{"$f":"P1251-(P1251/1.0025)","v":5.5610972568578276E-3},2.23]
[{"$error":"#N/A"},null,null,null,null,584057,null,"SPR","EA","MRKR SHARPIE PAINT XF SLVR"," ",4.28,28,{"$f":"VLOOKUP(M1252,DFL!A:H,8,0)","v":0.48},{"$f":"P1252-(P1252/1.0025)","v":5.5610972568578276E-3},2.23]
[{"$error":"#N/A"},null,null,null,null,474311,"SPR","SPR","EA","FILE,MAG.ECONO/STOR,WH/BK"," ",4.6399999999999997,3,{"$f":"VLOOKUP(M1253,DFL!A:H,8,0)","v":0.5},{"$f":"P1253-(P1253/1.0025)","v":5.7855361596010901E-3},2.3199999999999998]
[{"$error":"#N/A"},null,null,null,null,938134,"SPR","SPR","EA","MOISTENER,FINGERTIP,1-3/4OZ"," ",5.3,27,{"$f":"VLOOKUP(M1254,DFL!A:H,8,0)","v":0.57999999999999996},{"$f":"P1254-(P1254/1.0025)","v":5.5610972568578276E-3},2.23]
[{"$error":"#N/A"},null,null,null,null,470237,"BSD","BSD","ST","INDEX,MTHLY,11X8.5,AST","030/030,EPP (eVine),CPG,30% post-consumer (paper)",7.43,35,{"$f":"VLOOKUP(M1255,DFL!A:E,5,0)","v":0.7},{"$f":"P1255-(P1255/1.0025)","v":5.5610972568578276E-3},2.23]
[{"$error":"#N/A"},null,null,null,null,987230,null,"SPR","EA"," COIL WRIST W/KEYRING RED",null,3.87,48,{"$f":"VLOOKUP(M1256,DFL!A:H,8,0)","v":0.3},{"$f":"P1256-(P1256/1.0025)","v":6.7581047381546355E-3},2.71]
[{"$error":"#N/A"},null,null,null,null,475883,null,"SPR","EA","FRESHENER,AIR,7OZ,LAVENDR"," ",4.07,19,{"$f":"VLOOKUP(M1257,DFL!A:H,8,0)","v":0.45},{"$f":"P1257-(P1257/1.0025)","v":5.5860349127181408E-3},2.2400000000000002]
[{"$error":"#N/A"},null,null,null,null,609051,null,"SPR","EA","FRESHNER,AIR,7OZ,APPLE,CINN"," ",4.07,19,{"$f":"VLOOKUP(M1258,DFL!A:H,8,0)","v":0.45},{"$f":"P1258-(P1258/1.0025)","v":5.5860349127181408E-3},2.2400000000000002]
[{"$error":"#N/A"},null,null,null,null,927665,"SPR","SPR","EA","MARKER,FELT,BROAD POINT,WHITE"," ",4.3,28,{"$f":"VLOOKUP(M1259,DFL!A:H,8,0)","v":0.48},{"$f":"P1259-(P1259/1.0025)","v":5.5860349127181408E-3},2.2400000000000002]
[{"$error":"#N/A"},null,null,null,null,258038,null,"SPR","EA","PEN,CORRECTION,WHITE"," ",4.2699999999999996,17,{"$f":"VLOOKUP(M1260,DFL!A:H,8,0)","v":0.48},{"$f":"P1260-(P1260/1.0025)","v":5.5361596009975145E-3},2.2200000000000002]
[{"$error":"#N/A"},null,null,null,null,640181,"SPR","SPR","BX","STAPLES,F/TR100,.25\",1MBX",null,4.8099999999999996,37,{"$f":"VLOOKUP(M1261,DFL!A:H,8,0)","v":0.5},{"$f":"P1261-(P1261/1.0025)","v":6.0099750623439085E-3},2.41]
[{"$error":"#N/A"},null,null,null,null,544380,"SPR","SPR","EA","PKT,LTR,EXP 3-1/2,GRN,73226"," ",5.82,35,{"$f":"VLOOKUP(M1262,DFL!A:H,8,0)","v":0.6},{"$f":"P1262-(P1262/1.0025)","v":5.8104738154614033E-3},2.33]
[{"$error":"#N/A"},null,null,null,null,756356,"SPR","SPR","EA","PKT,LTR,EXP 3-1/2,YEL,73233"," ",5.82,35,{"$f":"VLOOKUP(M1263,DFL!A:H,8,0)","v":0.6},{"$f":"P1263-(P1263/1.0025)","v":5.8104738154614033E-3},2.33]
[{"$error":"#N/A"},null,null,null,null,954834,"SPR","SPR","EA","POCKET,3-1/2\"EXP,T-TAB,LTR,RED"," ",5.82,35,{"$f":"VLOOKUP(M1264,DFL!A:H,8,0)","v":0.6},{"$f":"P1264-(P1264/1.0025)","v":5.8104738154614033E-3},2.33]
[{"$error":"#N/A"},null,null,null,null,954768,"SPR","SPR","EA","POCKET,3-1/2\"EXP,T-TAB,LTR,BLU"," ",5.82,35,{"$f":"VLOOKUP(M1265,DFL!A:H,8,0)","v":0.6},{"$f":"P1265-(P1265/1.0025)","v":5.8104738154614033E-3},2.33]
[{"$error":"#N/A"},null,null,null,null,221044,"BSD","BSD","BX","STAPLE,1/4\",15-25SHT,5000BX"," ",7.19,37,{"$f":"VLOOKUP(M1266,DFL!A:E,5,0)","v":0.65},{"$f":"P1266-(P1266/1.0025)","v":6.2842892768077974E-3},2.52]
[{"$error":"#N/A"},null,null,null,null,167071,"SPR","SPR","PK","STRIP,POSTER,8/PK,WE",null,3.52,16,{"$f":"VLOOKUP(M1267,DFL!A:H,8,0)","v":0.36},{"$f":"P1267-(P1267/1.0025)","v":5.6109725685784539E-3},2.25]
[{"$error":"#N/A"},null,null,null,null,682254,"SPR","SPR","BX","TISSUE,ANGLSFT,FLATBX,WE",null,4.01,40,{"$f":"VLOOKUP(M1268,DFL!A:H,8,0)","v":0.44},{"$f":"P1268-(P1268/1.0025)","v":5.6109725685784539E-3},2.25]
[{"$error":"#N/A"},null,null,null,null,1392292,"SPR","SPR","PK","CUP;FOAM;8OZ;WE;25PK",null,3.96,18,{"$f":"VLOOKUP(M1269,DFL!A:H,8,0)","v":0.44},{"$f":"P1269-(P1269/1.0025)","v":5.5361596009975145E-3},2.2200000000000002]
[{"$error":"#N/A"},null,null,null,null,429638,"SPR","SPR","EA","TAPE,CORRECTION,BIC,1PK"," ",4.33,17,{"$f":"VLOOKUP(M1270,DFL!A:H,8,0)","v":0.48},{"$f":"P1270-(P1270/1.0025)","v":5.6109725685784539E-3},2.25]
[{"$error":"#N/A"},null,null,null,null,827424,"SPR","SPR","PK","PEN,BP,.7MM,SS,BLU,2/PK"," ",6.48,33,{"$f":"VLOOKUP(M1271,DFL!A:H,8,0)","v":0.55000000000000004},{"$f":"P1271-(P1271/1.0025)","v":7.2817955112216559E-3},2.92]
[{"$error":"#N/A"},null,null,null,null,456814,"BSD","BSD","PK","PEN,BP,.7MM,SS,BLK,BLK,2/PK"," ",6.43,33,{"$f":"VLOOKUP(M1272,DFL!A:E,5,0)","v":0.65},{"$f":"P1272-(P1272/1.0025)","v":5.6109725685784539E-3},2.25]
[{"$error":"#N/A"},null,null,null,null,624177,"BSD","BSD","EA","RULER,18\",STAINLESS STEEL",null,7.5,34,{"$f":"VLOOKUP(M1273,DFL!A:E,5,0)","v":0.7},{"$f":"P1273-(P1273/1.0025)","v":5.6109725685784539E-3},2.25]
[{"$error":"#N/A"},null,null,null,null,506554,"SPR","SPR","EA","SANITIZER,HAND,PURELL,4OZ"," ",4.12,22,{"$f":"VLOOKUP(M1274,DFL!A:H,8,0)","v":0.41},{"$f":"P1274-(P1274/1.0025)","v":6.0598503740645349E-3},{"$f":"ROUND(L1274*(1-N1274),2)","v":2.4300000000000002}]
[{"$error":"#N/A"},null,null,null,null,912126,"SPR","SPR","EA","KNIFE,CUTTER,FILM,DISPOSABL"," ",4.29,25,{"$f":"VLOOKUP(M1275,DFL!A:H,8,0)","v":0.49},{"$f":"P1275-(P1275/1.0025)","v":5.4613466334161309E-3},2.19]
[{"$error":"#N/A"},null,null,null,null,135047,"SPR","SPR","PK","REFILL,UNIBALL,GEL,RT,2PK,BLK"," ",5.33,33,{"$f":"VLOOKUP(M1276,DFL!A:H,8,0)","v":0.55000000000000004},{"$f":"P1276-(P1276/1.0025)","v":5.9850374064835954E-3},2.4]
[{"$error":"#N/A"},null,null,null,null,624042,"BSD","BSD","EA","RULER,12\",STAINLESS STEEL",null,5.25,47,{"$f":"VLOOKUP(M1277,DFL!A:E,5,0)","v":0.56999999999999995},{"$f":"P1277-(P1277/1.0025)","v":5.6359102244387671E-3},2.2599999999999998]
[{"$error":"#N/A"},null,null,null,null,3878283,"SPR","SPR","EA","CLIPBOARD,STANDARD,6X9",null,4.45,7,{"$f":"VLOOKUP(M1278,DFL!A:H,8,0)","v":0.46},{"$f":"P1278-(P1278/1.0025)","v":5.9850374064835954E-3},2.4]
[{"$error":"#N/A"},null,null,null,null,135058,"SPR","SPR","PK","REFILL,UNIBALL,GEL,RT,2PK,BLUE"," ",5.33,33,{"$f":"VLOOKUP(M1279,DFL!A:H,8,0)","v":0.55000000000000004},{"$f":"P1279-(P1279/1.0025)","v":5.9850374064835954E-3},2.4]
[{"$error":"#N/A"},null,null,null,null,161097,"SPR","SPR","PK","REFILL,PEN,UNIBALL,IMPACT,2PK"," ",5.33,33,{"$f":"VLOOKUP(M1280,DFL!A:H,8,0)","v":0.55000000000000004},{"$f":"P1280-(P1280/1.0025)","v":5.9850374064835954E-3},2.4]
[{"$error":"#N/A"},null,null,null,null,344206,"SPR","SPR","BX","CLAMPS,BUTTERFLY,IDEAL,#1"," ",4.83,7,{"$f":"VLOOKUP(M1281,DFL!A:H,8,0)","v":0.46},{"$f":"P1281-(P1281/1.0025)","v":6.5087281795510599E-3},2.61]
[{"$error":"#N/A"},null,null,null,null,4219556,"SPR","SPR","BX","STAPLES,STNDRD,CHSLPNT,5000",null,4.45,37,{"$f":"VLOOKUP(M1282,DFL!A:H,8,0)","v":0.5},{"$f":"P1282-(P1282/1.0025)","v":5.5610972568578276E-3},2.23]
[{"$error":"#N/A"},null,null,null,null,550226,"BSD","BSD","PK","Duracell¬Æ 3-Volt Lithium 2032 Coin Batteries, Pack Of 2",null,5.31,6,{"$f":"VLOOKUP(M1283,DFL!A:E,5,0)","v":0.56999999999999995},{"$f":"P1283-(P1283/1.0025)","v":5.6857855361593934E-3},2.2799999999999998]
[{"$error":"#N/A"},null,null,null,null,197046,"SPR","SPR","ST","INDEX 11\" LEGAL 1-10 SID","030/030,EPP (eVine),CPG,30% post-consumer (paper)",5.69,35,{"$f":"VLOOKUP(M1284,DFL!A:H,8,0)","v":0.6},{"$f":"P1284-(P1284/1.0025)","v":5.6857855361593934E-3},2.2799999999999998]
[{"$error":"#N/A"},null,null,null,null,313619,"BSD","BSD","BX","PAD,FINGER,SUREGRP,#11.5,AMBER"," ",6.69,17,{"$f":"VLOOKUP(M1285,DFL!A:E,5,0)","v":0.61},{"$f":"P1285-(P1285/1.0025)","v":6.5087281795510599E-3},2.61]
[{"$error":"#N/A"},null,null,null,null,119693,"BSD","BSD","EA","GLUE,ALL PURPOSE,7.625OZ"," ",6.17,1,{"$f":"VLOOKUP(M1286,DFL!A:E,5,0)","v":0.63},{"$f":"P1286-(P1286/1.0025)","v":5.6857855361593934E-3},2.2799999999999998]
[{"$error":"#N/A"},null,null,null,null,592878,"SPR","SPR","RL","TOWELS,BLEACHED,85SH,WE",null,4.0999999999999996,40,{"$f":"VLOOKUP(M1287,DFL!A:H,8,0)","v":0.44},{"$f":"P1287-(P1287/1.0025)","v":5.7356608478800197E-3},2.2999999999999998]
[{"$error":"#N/A"},null,null,null,null,397816,"SPR","SPR","BX","TOWEL,KIMWPS,EX-L,WE",null,4.07,40,{"$f":"VLOOKUP(M1288,DFL!A:H,8,0)","v":0.44},{"$f":"P1288-(P1288/1.0025)","v":5.6857855361593934E-3},2.2799999999999998]
[{"$error":"#N/A"},null,null,null,null,557054,"SPR","SPR","EA","MARKER,PERM,JUMBO,SUPRCOLOR",null,4.43,28,{"$f":"VLOOKUP(M1289,DFL!A:H,8,0)","v":0.48},{"$f":"P1289-(P1289/1.0025)","v":5.7356608478800197E-3},2.2999999999999998]
[{"$error":"#N/A"},null,null,null,null,886788,"SPR","SPR","EA","BOOK,NOTE,1-SUBJ,WIREBND,80SH"," ",4.71,47,{"$f":"VLOOKUP(M1290,DFL!A:H,8,0)","v":0.5},{"$f":"P1290-(P1290/1.0025)","v":5.8852867830423428E-3},2.36]
[{"$error":"#N/A"},null,null,null,null,952586,"SPR","SPR","PK","REFILL,LEAD,0.9MM,2PK"," ",5.0999999999999996,33,{"$f":"VLOOKUP(M1291,DFL!A:H,8,0)","v":0.55000000000000004},{"$f":"P1291-(P1291/1.0025)","v":5.7356608478800197E-3},2.2999999999999998]
[{"$error":"#N/A"},null,null,null,null,8480751,"SPR","SPR","DZ","PEN,BP,WB,FINE,STICK,BLK",null,5.12,33,{"$f":"VLOOKUP(M1292,DFL!A:H,8,0)","v":0.55000000000000004},{"$f":"P1292-(P1292/1.0025)","v":5.7356608478800197E-3},2.2999999999999998]
[{"$error":"#N/A"},null,null,null,null,6819624,"SPR","SPR","DZ","PEN,BP,WB,FINE,STICK,BLU",null,5.12,33,{"$f":"VLOOKUP(M1293,DFL!A:H,8,0)","v":0.55000000000000004},{"$f":"P1293-(P1293/1.0025)","v":5.7356608478800197E-3},2.2999999999999998]
[{"$error":"#N/A"},null,null,null,null,8929759,"SPR","SPR","DZ","PEN,WB,BOLD,1.2MM,DZ,BLA",null,5.12,33,{"$f":"VLOOKUP(M1294,DFL!A:H,8,0)","v":0.55000000000000004},{"$f":"P1294-(P1294/1.0025)","v":5.7356608478800197E-3},2.2999999999999998]
[{"$error":"#N/A"},null,null,null,null,9072349,"SPR","SPR","DZ","PEN,WB,BOLD,1.2MM,DZ,BLUE",null,5.12,33,{"$f":"VLOOKUP(M1295,DFL!A:H,8,0)","v":0.55000000000000004},{"$f":"P1295-(P1295/1.0025)","v":5.7356608478800197E-3},2.2999999999999998]
[{"$error":"#N/A"},null,null,null,null,189654,"SPR","SPR","PK","CARD,INDEX,RLD,3X5,5 AST,100PK"," ",5.91,35,{"$f":"VLOOKUP(M1296,DFL!A:H,8,0)","v":0.6},{"$f":"P1296-(P1296/1.0025)","v":5.8852867830423428E-3},2.36]
[{"$error":"#N/A"},null,null,null,null,344734,"BSD","BSD","EA","REMOVER,STAPLE,PEN STYLE"," ",7.22,37,{"$f":"VLOOKUP(M1297,DFL!A:E,5,0)","v":0.65},{"$f":"P1297-(P1297/1.0025)","v":6.3092269326681105E-3},2.5299999999999998]
[{"$error":"#N/A"},null,null,null,null,839425,"SPR","SPR","BX","TISSUE,FACIAL,2PLY,CUBE"," ",4.13,40,{"$f":"VLOOKUP(M1298,DFL!A:H,8,0)","v":0.44},{"$f":"P1298-(P1298/1.0025)","v":5.7605985037403329E-3},2.31]
[{"$error":"#N/A"},null,null,null,null,848964,"SPR","SPR","EA","MARKER;FLUOR;WHI",null,4.45,28,{"$f":"VLOOKUP(M1299,DFL!A:H,8,0)","v":0.48},{"$f":"P1299-(P1299/1.0025)","v":5.7605985037403329E-3},2.31]
[{"$error":"#N/A"},null,null,null,null,221051,"BSD","BSD","BX","STAPLE,1/4\",15-25 SHT,5000BX"," ",7.59,37,{"$f":"VLOOKUP(M1300,DFL!A:E,5,0)","v":0.65},{"$f":"P1300-(P1300/1.0025)","v":6.6334164588526257E-3},2.66]
[{"$error":"#N/A"},null,null,null,null,811158,"BSD","BSD","DZ","PENCIL,LEAD,TICONDEROGA,SOFT"," ",7.05,33,{"$f":"VLOOKUP(M1301,DFL!A:E,5,0)","v":0.65},{"$f":"P1301-(P1301/1.0025)","v":6.1596009975062316E-3},2.4700000000000002]
[{"$error":"#N/A"},null,null,null,null,458547,"BSD","BSD","PK","MOISTENER,FINGERTIP,3/8OZ,3PK","050/050,EPP (eVine),50% post-consumer content (plastic container)",6.99,27,{"$f":"VLOOKUP(M1302,DFL!A:E,5,0)","v":0.67},{"$f":"P1302-(P1302/1.0025)","v":5.7605985037403329E-3},2.31]
[{"$error":"#N/A"},null,null,null,null,764426,"BSD","BSD","PK","BOOK,MEMO,TOPWIRE,3X5,CR,3PK"," ",8.9,30,{"$f":"VLOOKUP(M1303,DFL!A:E,5,0)","v":0.73},{"$f":"P1303-(P1303/1.0025)","v":5.9850374064835954E-3},2.4]
[{"$error":"#N/A"},null,null,null,null,969696,"SPR","SPR","EA","ALCOHOL,RUBBNG,ISOPROPL,70%"," ",3.94,22,{"$f":"VLOOKUP(M1304,DFL!A:H,8,0)","v":0.41},{"$f":"P1304-(P1304/1.0025)","v":5.7855361596010901E-3},2.3199999999999998]
[{"$error":"#N/A"},null,null,null,null,238816,null,"SPR","EA","X-Acto¬Æ #11 Precision Knife With Safety Cap",null,6.85,25,{"$f":"VLOOKUP(M1305,DFL!A:H,8,0)","v":0.49},{"$f":"P1305-(P1305/1.0025)","v":8.7032418952617263E-3},3.49]
[{"$error":"#N/A"},null,null,null,null,841719,null,"SPR","PK","NOTEBOOK,DISC,TUL,METL,1\",RSGD",null,9.44,30,{"$f":"VLOOKUP(M1306,DFL!A:H,8,0)","v":0.57999999999999996},{"$f":"P1306-(P1306/1.0025)","v":9.8753117206982211E-3},3.96]
[{"$error":"#N/A"},null,null,null,null,226928,"SPR","SPR","EA","TABLET;HNDWRT;1-1/8\";GRD K",null,3.33,48,{"$f":"VLOOKUP(M1307,DFL!A:H,8,0)","v":0.3},{"$f":"P1307-(P1307/1.0025)","v":5.8104738154614033E-3},2.33]
[{"$error":"#N/A"},null,null,null,null,801457,"SPR","SPR","PR","Y5017L  POLY/COTTON,LARGE",null,3.95,22,{"$f":"VLOOKUP(M1308,DFL!A:H,8,0)","v":0.41},{"$f":"P1308-(P1308/1.0025)","v":5.8104738154614033E-3},2.33]
[{"$error":"#N/A"},null,null,null,null,276388,"SPR","SPR","PK","REFILL,FRIXION,MED,BK,3PK",null,5.17,33,{"$f":"VLOOKUP(M1309,DFL!A:H,8,0)","v":0.55000000000000004},{"$f":"P1309-(P1309/1.0025)","v":5.8104738154614033E-3},2.33]
[{"$error":"#N/A"},null,null,null,null,615510,"SPR","SPR","PK","REFILL,JETSTREAM,BOLD,2PK,BLK"," ",5.51,33,{"$f":"VLOOKUP(M1310,DFL!A:H,8,0)","v":0.55000000000000004},{"$f":"P1310-(P1310/1.0025)","v":6.1845386533665447E-3},2.48]
[{"$error":"#N/A"},null,null,null,null,615535,"SPR","SPR","PK","REFILL,JETSTREAM,2PK,BOLD,BLUE",null,5.51,33,{"$f":"VLOOKUP(M1311,DFL!A:H,8,0)","v":0.55000000000000004},{"$f":"P1311-(P1311/1.0025)","v":6.1845386533665447E-3},2.48]
[{"$error":"#N/A"},null,null,null,null,232832,"BSD","BSD","PK","MRKER,BROADLINE,ASST,12PK","Less Harsh Chemicals,ACMI certified",7.13,28,{"$f":"VLOOKUP(M1312,DFL!A:E,5,0)","v":0.63},{"$f":"P1312-(P1312/1.0025)","v":6.5835411471319993E-3},2.64]
[{"$error":"#N/A"},null,null,null,null,455691,"SPR","SPR","EA","RULER,12\",SEE-THRU,POUCH,ACR"," ",5.67,34,{"$f":"VLOOKUP(M1313,DFL!A:H,8,0)","v":0.55000000000000004},{"$f":"P1313-(P1313/1.0025)","v":6.3591022443887368E-3},2.5499999999999998]
[{"$error":"#N/A"},null,null,null,null,949487,"BSD","BSD","EA"," PAINT WSH 16OZ WHITE",null,6.15,47,{"$f":"VLOOKUP(M1314,DFL!A:E,5,0)","v":0.56999999999999995},{"$f":"P1314-(P1314/1.0025)","v":6.5835411471319993E-3},2.64]
[{"$error":"#N/A"},null,null,null,null,949453,"BSD","BSD","EA"," PAINT WSH 16OZ GREEN",null,6.15,47,{"$f":"VLOOKUP(M1315,DFL!A:E,5,0)","v":0.56999999999999995},{"$f":"P1315-(P1315/1.0025)","v":6.5835411471319993E-3},2.64]
[{"$error":"#N/A"},null,null,null,null,949446,"BSD","BSD","EA"," PAINT WSH 16OZ BLU",null,6.15,47,{"$f":"VLOOKUP(M1316,DFL!A:E,5,0)","v":0.56999999999999995},{"$f":"P1316-(P1316/1.0025)","v":6.5835411471319993E-3},2.64]
[{"$error":"#N/A"},null,null,null,null,949420,"BSD","BSD","EA"," PAINT WSH 16OZ RED",null,6.15,47,{"$f":"VLOOKUP(M1317,DFL!A:E,5,0)","v":0.56999999999999995},{"$f":"P1317-(P1317/1.0025)","v":6.5835411471319993E-3},2.64]
[{"$error":"#N/A"},null,null,null,null,949404,"BSD","BSD","EA"," PAINT WSH 16OZ YEL",null,6.15,47,{"$f":"VLOOKUP(M1318,DFL!A:E,5,0)","v":0.56999999999999995},{"$f":"P1318-(P1318/1.0025)","v":6.5835411471319993E-3},2.64]
[{"$error":"#N/A"},null,null,null,null,949388,"BSD","BSD","EA"," PAINT WSH 16OZ BRN",null,6.15,47,{"$f":"VLOOKUP(M1319,DFL!A:E,5,0)","v":0.56999999999999995},{"$f":"P1319-(P1319/1.0025)","v":6.5835411471319993E-3},2.64]
[{"$error":"#N/A"},null,null,null,null,1220410,"SPR","SPR","EA","TABS 5/8-40PK-AQ, YL, PK, VIO",null,5.85,35,{"$f":"VLOOKUP(M1320,DFL!A:H,8,0)","v":0.6},{"$f":"P1320-(P1320/1.0025)","v":5.8354114713217164E-3},2.34]
[{"$error":"#N/A"},null,null,null,null,745041,"SPR","SPR","PK","FLAGS,POST-IT,BRIGHT,PRT,100PK",null,5.86,35,{"$f":"VLOOKUP(M1321,DFL!A:H,8,0)","v":0.6},{"$f":"P1321-(P1321/1.0025)","v":5.8354114713217164E-3},2.34]
[{"$error":"#N/A"},null,null,null,null,2480274,"BSD","BSD","EA","BLUNT SCISSORS 5 INCH 2 PACK"," ",9.1199999999999992,7,{"$f":"VLOOKUP(M1322,DFL!A:E,5,0)","v":0.72},{"$f":"P1322-(P1322/1.0025)","v":6.3591022443887368E-3},2.5499999999999998]
[{"$error":"#N/A"},null,null,null,null,2480283,"BSD","BSD","PK","KIDS POINTED SCISSORS 5IN 2PK"," ",9.1199999999999992,7,{"$f":"VLOOKUP(M1323,DFL!A:E,5,0)","v":0.72},{"$f":"P1323-(P1323/1.0025)","v":6.3591022443887368E-3},2.5499999999999998]
[{"$error":"#N/A"},null,null,null,null,112073,"SPR","SPR","BX","BANDAGE,WTRPRF,AST SZ,CLR",null,3.99,22,{"$f":"VLOOKUP(M1324,DFL!A:H,8,0)","v":0.41},{"$f":"P1324-(P1324/1.0025)","v":5.8603491271820296E-3},2.35]
[{"$error":"#N/A"},null,null,null,null,507508,"SPR","SPR","PK","INDEX TABS,HEFTY,WHITE"," ",5.88,35,{"$f":"VLOOKUP(M1325,DFL!A:H,8,0)","v":0.6},{"$f":"P1325-(P1325/1.0025)","v":5.8603491271820296E-3},2.35]
[{"$error":"#N/A"},null,null,null,null,137789,"BSD","BSD","PK","PENCIL,WOODEN,YELLOW,12,PK",null,7.41,33,{"$f":"VLOOKUP(M1326,DFL!A:E,5,0)","v":0.65},{"$f":"P1326-(P1326/1.0025)","v":6.4588528678304336E-3},2.59]
[{"$error":"#N/A"},null,null,null,null,505337,"BSD","BSD","ST","DIVIDER,EASY,VIEW,MC8TB,1PK"," ",11.57,35,{"$f":"VLOOKUP(M1327,DFL!A:E,5,0)","v":0.7},{"$f":"P1327-(P1327/1.0025)","v":8.6533665835411E-3},3.47]
[{"$error":"#N/A"},null,null,null,null,560394,"BSD","BSD","PK","CLIPS,BINDER,36PK,SMALL,BLACK"," ",9.24,7,{"$f":"VLOOKUP(M1328,DFL!A:E,5,0)","v":0.72},{"$f":"P1328-(P1328/1.0025)","v":6.4588528678304336E-3},2.59]
[{"$error":"#N/A"},null,null,null,null,549982,"SPR","SPR","EA","PROTRACTOR,6\",CLR,ROG02102"," ",6.02,34,{"$f":"VLOOKUP(M1329,DFL!A:H,8,0)","v":0.55000000000000004},{"$f":"P1329-(P1329/1.0025)","v":6.7581047381546355E-3},2.71]
[{"$error":"#N/A"},null,null,null,null,206573,"SPR","SPR","EA","MOISTENER,FINGERTIP,HYGIEN,1OZ"," ",3.39,48,{"$f":"VLOOKUP(M1330,DFL!A:H,8,0)","v":0.3},{"$f":"P1330-(P1330/1.0025)","v":5.9102244389026559E-3},2.37]
[{"$error":"#N/A"},null,null,null,null,627048,"SPR","SPR","RL","TAPE,MAGIC,INVISIBLE,3/4X1000"," ",4.74,39,{"$f":"VLOOKUP(M1331,DFL!A:H,8,0)","v":0.5},{"$f":"P1331-(P1331/1.0025)","v":5.9102244389026559E-3},2.37]
[{"$error":"#N/A"},null,null,null,null,590677,"SPR","SPR","EA","OPENER,LETTER,RWD"," ",8.9,31,{"$f":"VLOOKUP(M1332,DFL!A:H,8,0)","v":0.49},{"$f":"P1332-(P1332/1.0025)","v":1.1321695760598161E-2},4.54]
[{"$error":"#N/A"},null,null,null,null,7759104,"BSD","BSD","BX","Crayola¬Æ Color Of The World Colored Pencils, 3 mm, Assorted Colors, Pack Of 24 Pencils",null,7.67,33,{"$f":"VLOOKUP(M1333,DFL!A:E,5,0)","v":0.65},{"$f":"P1333-(P1333/1.0025)","v":6.683291770573252E-3},2.68]
[{"$error":"#N/A"},null,null,null,null,110593,"SPR","SPR","EA","GLUE,LIQUID,MONO,AGUA,1.69OZ"," ",4.57,1,{"$f":"VLOOKUP(M1334,DFL!A:H,8,0)","v":0.48},{"$f":"P1334-(P1334/1.0025)","v":5.9351620947629691E-3},2.38]
[{"$error":"#N/A"},null,null,null,null,262855,null,"SPR","EA","MKR,SHARP,PAINT,MED,RD,UPC"," ",4.58,28,{"$f":"VLOOKUP(M1335,DFL!A:H,8,0)","v":0.48},{"$f":"P1335-(P1335/1.0025)","v":5.9351620947629691E-3},2.38]
[{"$error":"#N/A"},null,null,null,null,915155,null,"SPR","EA","MKR,SHARP,PAINT,MED,BK, UPC"," ",4.5199999999999996,28,{"$f":"VLOOKUP(M1336,DFL!A:H,8,0)","v":0.48},{"$f":"P1336-(P1336/1.0025)","v":5.8603491271820296E-3},2.35]
[{"$error":"#N/A"},null,null,null,null,495164,"SPR","SPR","EA","MARKER;PAINT;SHARPIE;MED;SR",null,4.57,28,{"$f":"VLOOKUP(M1337,DFL!A:H,8,0)","v":0.48},{"$f":"P1337-(P1337/1.0025)","v":5.9351620947629691E-3},2.38]
[{"$error":"#N/A"},null,null,null,null,814092,"SPR","SPR","RL","TAPE,PACKAGING,2\"X800\""," ",4.76,39,{"$f":"VLOOKUP(M1338,DFL!A:H,8,0)","v":0.5},{"$f":"P1338-(P1338/1.0025)","v":5.9351620947629691E-3},{"$f":"ROUND(L1338*(1-N1338),2)","v":2.38}]
[{"$error":"#N/A"},null,null,null,null,661917,"SPR","SPR","ST","DIVIDER,PLASTIC MULTI,5 TAB"," ",7.02,35,{"$f":"VLOOKUP(M1339,DFL!A:H,8,0)","v":0.6},{"$f":"P1339-(P1339/1.0025)","v":7.0074812967577671E-3},2.81]
[{"$error":"#N/A"},null,null,null,null,276059,"BSD","BSD","EA","POUCH,PENCIL,WINDOW,PRIM,ASTD"," ",7.09,45,{"$f":"VLOOKUP(M1340,DFL!A:E,5,0)","v":0.63},{"$f":"P1340-(P1340/1.0025)","v":6.533665835411373E-3},2.62]
[{"$error":"#N/A"},null,null,null,null,820023,"SPR","SPR","PK","GLUE,SUPER,SCOTCH,FAST DRY,4PK"," ",4.59,1,{"$f":"VLOOKUP(M1341,DFL!A:H,8,0)","v":0.48},{"$f":"P1341-(P1341/1.0025)","v":5.9600997506232822E-3},2.39]
[{"$error":"#N/A"},null,null,null,null,812263,"SPR","SPR","PK","HIGHLIGHTER;DESK;AST;4PK",null,4.59,28,{"$f":"VLOOKUP(M1342,DFL!A:H,8,0)","v":0.48},{"$f":"P1342-(P1342/1.0025)","v":5.9600997506232822E-3},2.39]
[{"$error":"#N/A"},null,null,null,null,812271,"SPR","SPR","BX","HIGHLIGHTER;DESK;AST;4PK",null,4.59,28,{"$f":"VLOOKUP(M1343,DFL!A:H,8,0)","v":0.48},{"$f":"P1343-(P1343/1.0025)","v":5.9600997506232822E-3},2.39]
[{"$error":"#N/A"},null,null,null,null,265333,"BSD","BSD","PK","PG MARKR,POSTIT,.5\",10,ASTDCLR"," ",7.95,35,{"$f":"VLOOKUP(M1344,DFL!A:E,5,0)","v":0.7},{"$f":"P1344-(P1344/1.0025)","v":5.9600997506232822E-3},2.39]
[{"$error":"#N/A"},null,null,null,null,758278,"BSD","BSD","BX","CLEANER,SWIFFER WET,12BX"," ",4.79,19,{"$f":"VLOOKUP(M1345,DFL!A:E,5,0)","v":0.5},{"$f":"P1345-(P1345/1.0025)","v":5.9850374064835954E-3},2.4]
[{"$error":"#N/A"},null,null,null,null,350019,"SPR","SPR","PK","PAPER;CONST;SKINTONES;9X12",null,4.79,47,{"$f":"VLOOKUP(M1346,DFL!A:H,8,0)","v":0.5},{"$f":"P1346-(P1346/1.0025)","v":5.9850374064835954E-3},2.4]
[{"$error":"#N/A"},null,null,null,null,5982252,"SPR","SPR","ST","TOOLS;MODELING;PLASTIC;6CT",null,4.9000000000000004,47,{"$f":"VLOOKUP(M1347,DFL!A:H,8,0)","v":0.5},{"$f":"P1347-(P1347/1.0025)","v":6.1097256857856053E-3},2.4500000000000002]
[{"$error":"#N/A"},null,null,null,null,8317041,"BSD","BSD","EA","TAPE,M/S,DISP,1.89\"X26.64YDS",null,6.62,39,{"$f":"VLOOKUP(M1348,DFL!A:E,5,0)","v":0.6},{"$f":"P1348-(P1348/1.0025)","v":6.6084788029923125E-3},2.65]
[{"$error":"#N/A"},null,null,null,null,203711,"BSD","BSD","EA","MARKER,PERM,FELT,MAGNUM 44,BLK"," ",6.48,28,{"$f":"VLOOKUP(M1349,DFL!A:E,5,0)","v":0.63},{"$f":"P1349-(P1349/1.0025)","v":5.9850374064835954E-3},2.4]
[{"$error":"#N/A"},null,null,null,null,203729,"BSD","BSD","EA","MARKER,PERM,FELT,MAGNUM 44,RED"," ",6.48,28,{"$f":"VLOOKUP(M1350,DFL!A:E,5,0)","v":0.63},{"$f":"P1350-(P1350/1.0025)","v":5.9850374064835954E-3},2.4]
[{"$error":"#N/A"},null,null,null,null,108185,"BSD","BSD","ST","POCKET,DOUBLE,8TAB,PLASTIC,SET"," ",11.83,35,{"$f":"VLOOKUP(M1351,DFL!A:E,5,0)","v":0.7},{"$f":"P1351-(P1351/1.0025)","v":8.8528678304236053E-3},3.55]
[{"$error":"#N/A"},null,null,null,null,5741118,"SPR","SPR","EA","NOTE HLDR, MAGNETIC, WHITE",null,3.95,36,{"$f":"VLOOKUP(M1352,DFL!A:H,8,0)","v":0.36},{"$f":"P1352-(P1352/1.0025)","v":6.3092269326681105E-3},2.5299999999999998]
[{"$error":"#N/A"},null,null,null,null,205344,"SPR","SPR","EA","GLUE,SCHOOL,ELMERS,7.625OZ",null,4.6399999999999997,1,{"$f":"VLOOKUP(M1353,DFL!A:H,8,0)","v":0.48},{"$f":"P1353-(P1353/1.0025)","v":6.0099750623439085E-3},2.41]
[{"$error":"#N/A"},null,null,null,null,319130,"BSD","BSD","EA","SOAP,SFT,CRISPCLN,11.25OZ",null,5.03,22,{"$f":"VLOOKUP(M1354,DFL!A:E,5,0)","v":0.52},{"$f":"P1354-(P1354/1.0025)","v":6.0099750623439085E-3},2.41]
[{"$error":"#N/A"},null,null,null,null,448396,"SPR","SPR","ST","INDEX;TBL NTAB;JAN-DEC;MI",null,6.02,35,{"$f":"VLOOKUP(M1355,DFL!A:H,8,0)","v":0.6},{"$f":"P1355-(P1355/1.0025)","v":6.0099750623439085E-3},2.41]
[{"$error":"#N/A"},null,null,null,null,405361,"SPR","SPR","BX","OINTMENT;3X ANTIB;12/BX",null,4.21,22,{"$f":"VLOOKUP(M1356,DFL!A:H,8,0)","v":0.41},{"$f":"P1356-(P1356/1.0025)","v":6.1845386533665447E-3},2.48]
[{"$error":"#N/A"},null,null,null,null,858286,"BSD","BSD","PK","POSTERBOARD,11X14,WHITE,5PK"," ",5.77,10,{"$f":"VLOOKUP(M1357,DFL!A:E,5,0)","v":0.55000000000000004},{"$f":"P1357-(P1357/1.0025)","v":6.4837905236907467E-3},2.6]
[{"$error":"#N/A"},null,null,null,null,198714,"BSD","BSD","PK","PENCILS,COLORED,ERASABLE,12CT","Less Harsh Chemicals,ACMI certified",6.36,47,{"$f":"VLOOKUP(M1358,DFL!A:E,5,0)","v":0.56999999999999995},{"$f":"P1358-(P1358/1.0025)","v":6.8079800498752618E-3},2.73]
[{"$error":"#N/A"},null,null,null,null,723757,"SPR","SPR","EA","NOTEBOOK,MEMO,3X5,TOP OPN"," ",5.77,30,{"$f":"VLOOKUP(M1359,DFL!A:H,8,0)","v":0.57999999999999996},{"$f":"P1359-(P1359/1.0025)","v":6.0349127182042217E-3},2.42]
[{"$error":"#N/A"},null,null,null,null,199232,"SPR","SPR","PK","REFILL,CARDS,PETITE,100 CARDS"," ",6.04,35,{"$f":"VLOOKUP(M1360,DFL!A:H,8,0)","v":0.6},{"$f":"P1360-(P1360/1.0025)","v":6.0349127182042217E-3},2.42]
[{"$error":"#N/A"},null,null,null,null,238112,"BSD","BSD","PK","PENCIL,NO2,OD,PRESHARP,DZ,YLW",null,7.61,33,{"$f":"VLOOKUP(M1361,DFL!A:E,5,0)","v":0.65},{"$f":"P1361-(P1361/1.0025)","v":6.6334164588526257E-3},2.66]
[{"$error":"#N/A"},null,null,null,null,5906411,null,"SPR","PK","CERTIFICATE;RGHTON;RCG;30PK",null,3.99,4,{"$f":"VLOOKUP(M1362,DFL!A:H,8,0)","v":0.39},{"$f":"P1362-(P1362/1.0025)","v":6.0598503740645349E-3},2.4300000000000002]
[{"$error":"#N/A"},null,null,null,null,172395,"SPR","SPR","RL","TAPE,TRANSPARENT,3M,3/4X1296",null,4.8600000000000003,39,{"$f":"VLOOKUP(M1363,DFL!A:H,8,0)","v":0.5},{"$f":"P1363-(P1363/1.0025)","v":6.0598503740645349E-3},2.4300000000000002]
[{"$error":"#N/A"},null,null,null,null,325027,"SPR","SPR","DZ","PENCIL,LEAD,\"ORIOLE\",SOFT"," ",5.54,33,{"$f":"VLOOKUP(M1364,DFL!A:H,8,0)","v":0.55000000000000004},{"$f":"P1364-(P1364/1.0025)","v":6.2094763092268579E-3},2.4900000000000002]
[{"$error":"#N/A"},null,null,null,null,243159,"SPR","SPR","EA","BOX;ART/PENCIL;STRETCH;CLR",null,6.34,33,{"$f":"VLOOKUP(M1365,DFL!A:H,8,0)","v":0.55000000000000004},{"$f":"P1365-(P1365/1.0025)","v":7.1072319201994638E-3},2.85]
[{"$error":"#N/A"},null,null,null,null,146202,"SPR","SPR","EA","NOTEBOOK,1 SUB COLLEGE",null,5.78,30,{"$f":"VLOOKUP(M1366,DFL!A:H,8,0)","v":0.57999999999999996},{"$f":"P1366-(P1366/1.0025)","v":6.0598503740645349E-3},2.4300000000000002]
[{"$error":"#N/A"},null,null,null,null,295329,"SPR","SPR","PK","PAPER;TISSUE;SPC;12X18;50SH",null,5.79,30,{"$f":"VLOOKUP(M1367,DFL!A:H,8,0)","v":0.57999999999999996},{"$f":"P1367-(P1367/1.0025)","v":6.0598503740645349E-3},2.4300000000000002]
[{"$error":"#N/A"},null,null,null,null,553164,"SPR","SPR","ST","PCKT TAB DVDRS,5 TAB,ASST"," ",7,35,{"$f":"VLOOKUP(M1368,DFL!A:H,8,0)","v":0.6},{"$f":"P1368-(P1368/1.0025)","v":6.9825436408974539E-3},2.8]
[{"$error":"#N/A"},null,null,null,null,7457627,"SPR","SPR","EA","CLIPBOARD,STANDARD,9X12.5",null,4.84,7,{"$f":"VLOOKUP(M1369,DFL!A:H,8,0)","v":0.46},{"$f":"P1369-(P1369/1.0025)","v":6.5087281795510599E-3},2.61]
[{"$error":"#N/A"},null,null,null,null,194043,"SPR","SPR","EA","FORM,SLS,NCR,3-11/32X7-7/16"," ",6.38,11,{"$f":"VLOOKUP(M1370,DFL!A:H,8,0)","v":0.46},{"$f":"P1370-(P1370/1.0025)","v":8.6034912718204737E-3},3.45]
[{"$error":"#N/A"},null,null,null,null,823146,"SPR","SPR","ST","INDEX,11X8.5,A-Z,LEATHER,BLACK"," ",6.66,35,{"$f":"VLOOKUP(M1371,DFL!A:H,8,0)","v":0.6},{"$f":"P1371-(P1371/1.0025)","v":6.6334164588526257E-3},2.66]
[{"$error":"#N/A"},null,null,null,null,327298,"SPR","SPR","PK","FLAGS,POST-IT,1\",60PK,ELECT GL"," ",5.83,30,{"$f":"VLOOKUP(M1372,DFL!A:H,8,0)","v":0.57999999999999996},{"$f":"P1372-(P1372/1.0025)","v":6.1097256857856053E-3},2.4500000000000002]
[{"$error":"#N/A"},null,null,null,null,7193406,"SPR","SPR","PK","CRAYON;NEON;24CT",null,4.92,47,{"$f":"VLOOKUP(M1373,DFL!A:H,8,0)","v":0.5},{"$f":"P1373-(P1373/1.0025)","v":6.1346633416459184E-3},2.46]
[{"$error":"#N/A"},null,null,null,null,9738095,null,"SPR","PK","CRAYON;GLITTER;24CT",null,5.58,47,{"$f":"VLOOKUP(M1374,DFL!A:H,8,0)","v":0.5},{"$f":"P1374-(P1374/1.0025)","v":6.9576059850371408E-3},2.79]
[{"$error":"#N/A"},null,null,null,null,5718542,"SPR","SPR","PK","CRAYON;METALLIC;24CT",null,4.92,47,{"$f":"VLOOKUP(M1375,DFL!A:H,8,0)","v":0.5},{"$f":"P1375-(P1375/1.0025)","v":6.1346633416459184E-3},2.46]
[{"$error":"#N/A"},null,null,null,null,9782273,"BSD","BSD","EA"," NOTEBOOK PLY 7X5 CR 100SH WHT",null,9.1300000000000008,30,{"$f":"VLOOKUP(M1376,DFL!A:E,5,0)","v":0.73},{"$f":"P1376-(P1376/1.0025)","v":6.1596009975062316E-3},2.4700000000000002]
[{"$error":"#N/A"},null,null,null,null,8079230,"BSD","BSD","EA"," NOTEBOOK PLY 7X5 CR 100SH BLK",null,9.1300000000000008,30,{"$f":"VLOOKUP(M1377,DFL!A:E,5,0)","v":0.73},{"$f":"P1377-(P1377/1.0025)","v":6.1596009975062316E-3},2.4700000000000002]
[{"$error":"#N/A"},null,null,null,null,768588,"SPR","SPR","EA","BORDER,ROLL,2.25X50',DP PURPLE"," ",5.29,48,{"$f":"VLOOKUP(M1378,DFL!A:H,8,0)","v":0.3},{"$f":"P1378-(P1378/1.0025)","v":9.2269326683291908E-3},3.7]
[{"$error":"#N/A"},null,null,null,null,768642,"SPR","SPR","EA","BORDER,ROLL,2.25X50',SUN GOLD"," ",5.29,48,{"$f":"VLOOKUP(M1379,DFL!A:H,8,0)","v":0.3},{"$f":"P1379-(P1379/1.0025)","v":9.2269326683291908E-3},3.7]
[{"$error":"#N/A"},null,null,null,null,271085,"SPR","SPR","EA","CLIPBOARD,HARDBOARD,9X12.5",null,4.8,7,{"$f":"VLOOKUP(M1380,DFL!A:H,8,0)","v":0.46},{"$f":"P1380-(P1380/1.0025)","v":6.4588528678304336E-3},2.59]
[{"$error":"#N/A"},null,null,null,null,424481,"SPR","SPR","EA","FLAG,TAPE,POST-IT,ASST,100FLGS"," ",5.88,30,{"$f":"VLOOKUP(M1381,DFL!A:H,8,0)","v":0.57999999999999996},{"$f":"P1381-(P1381/1.0025)","v":6.1596009975062316E-3},2.4700000000000002]
[{"$error":"#N/A"},null,null,null,null,1376353,"BSD","BSD","PK","TAB FLDR 1/5-CUT CLEAR 25/PK"," ",8.01,35,{"$f":"VLOOKUP(M1382,DFL!A:E,5,0)","v":0.7},{"$f":"P1382-(P1382/1.0025)","v":5.9850374064835954E-3},2.4]
[{"$error":"#N/A"},null,null,null,null,998584,"BSD","BSD","EA","BOOK,COMP,100CT,CR"," ",9.14,30,{"$f":"VLOOKUP(M1383,DFL!A:E,5,0)","v":0.73},{"$f":"P1383-(P1383/1.0025)","v":6.1596009975062316E-3},2.4700000000000002]
[{"$error":"#N/A"},null,null,null,null,234810,"SPR","SPR","BX","MEDLINE GAUZE 2\"X2\" 12 PLY",null,4.2,22,{"$f":"VLOOKUP(M1384,DFL!A:H,8,0)","v":0.41},{"$f":"P1384-(P1384/1.0025)","v":6.1845386533665447E-3},2.48]
[{"$error":"#N/A"},null,null,null,null,315015,null,"SPR","BX","KLEENEX NATURALS FACE TISSU",null,4.54,40,{"$f":"VLOOKUP(M1385,DFL!A:H,8,0)","v":0.44},{"$f":"P1385-(P1385/1.0025)","v":6.3341645885284237E-3},2.54]
[{"$error":"#N/A"},null,null,null,null,9978551,"SPR","SPR","PK","REFILL,DISHWAND,HEAVYDUTY",null,4.5,19,{"$f":"VLOOKUP(M1386,DFL!A:H,8,0)","v":0.45},{"$f":"P1386-(P1386/1.0025)","v":6.1845386533665447E-3},2.48]
[{"$error":"#N/A"},null,null,null,null,9533157,"SPR","SPR","EA","BOTTLE,SPRAY,PERFECTO 7",null,4.51,19,{"$f":"VLOOKUP(M1387,DFL!A:H,8,0)","v":0.45},{"$f":"P1387-(P1387/1.0025)","v":6.1845386533665447E-3},2.48]
[{"$error":"#N/A"},null,null,null,null,8587579,"SPR","SPR","EA","SOAP,MPFREE,HAND,12/7.5OZ",null,4.51,19,{"$f":"VLOOKUP(M1388,DFL!A:H,8,0)","v":0.45},{"$f":"P1388-(P1388/1.0025)","v":6.1845386533665447E-3},2.48]
[{"$error":"#N/A"},null,null,null,null,5679257,"SPR","SPR","DZ","PENCIL,WOODCASE,#2HB,DZ",null,4.7699999999999996,33,{"$f":"VLOOKUP(M1389,DFL!A:H,8,0)","v":0.55000000000000004},{"$f":"P1389-(P1389/1.0025)","v":5.3615960099748783E-3},2.15]
[{"$error":"#N/A"},null,null,null,null,597155,"SPR","SPR","PK","NAPKINS,EVERYDAY,BOUNTY"," ",5.99,18,{"$f":"VLOOKUP(M1390,DFL!A:H,8,0)","v":0.44},{"$f":"P1390-(P1390/1.0025)","v":8.354114713216898E-3},3.35]
[{"$error":"#N/A"},null,null,null,null,436022,"SPR","SPR","PK","PEN;CRISTAL;STICK;10CT;BK",null,5.51,33,{"$f":"VLOOKUP(M1391,DFL!A:H,8,0)","v":0.55000000000000004},{"$f":"P1391-(P1391/1.0025)","v":6.1845386533665447E-3},2.48]
[{"$error":"#N/A"},null,null,null,null,7993335,"BSD","BSD","DZ","MECHPEN;ECOLUTION;DZ",null,7.1423247232472313,33,{"$f":"VLOOKUP(M1392,DFL!A:E,5,0)","v":0.65},{"$f":"P1392-(P1392/1.0025)","v":6.2344139650871711E-3},2.5]
[{"$error":"#N/A"},null,null,null,null,360747,"SPR","SPR","PR","GLOVE;WORK;PALM;LEATHER;M",null,4.22,22,{"$f":"VLOOKUP(M1393,DFL!A:H,8,0)","v":0.41},{"$f":"P1393-(P1393/1.0025)","v":6.2094763092268579E-3},2.4900000000000002]
[{"$error":"#N/A"},null,null,null,null,166702,"SPR","SPR","EA","TAPE,CORRECTION,MONO"," ",4.78,17,{"$f":"VLOOKUP(M1394,DFL!A:H,8,0)","v":0.48},{"$f":"P1394-(P1394/1.0025)","v":6.2094763092268579E-3},2.4900000000000002]
[{"$error":"#N/A"},null,null,null,null,431954,"BSD","BSD","EA","DISPENSER,TAPE,SCOTCH,C60,BLK"," ",6.9,39,{"$f":"VLOOKUP(M1395,DFL!A:E,5,0)","v":0.6},{"$f":"P1395-(P1395/1.0025)","v":6.8827930174562013E-3},2.76]
[{"$error":"#N/A"},null,null,null,null,360783,"SPR","SPR","PR","GLOVE;WORK;PALM;LEATHER;XL",null,4.24,22,{"$f":"VLOOKUP(M1396,DFL!A:H,8,0)","v":0.41},{"$f":"P1396-(P1396/1.0025)","v":6.2344139650871711E-3},2.5]
[{"$error":"#N/A"},null,null,null,null,949719,"SPR","SPR","BX"," CRAYONS SO BIG 5X9/16 8/B",null,4.99,47,{"$f":"VLOOKUP(M1397,DFL!A:H,8,0)","v":0.5},{"$f":"P1397-(P1397/1.0025)","v":6.2344139650871711E-3},2.5]
[{"$error":"#N/A"},null,null,null,null,725572,"SPR","SPR","EA","PAINT;ARTISTA II;WSH;TEMP",null,4.99,47,{"$f":"VLOOKUP(M1398,DFL!A:H,8,0)","v":0.5},{"$f":"P1398-(P1398/1.0025)","v":6.2344139650871711E-3},2.5]
[{"$error":"#N/A"},null,null,null,null,704544,"SPR","SPR","EA","PAINT;ARTISTA II;WSH;TEMP",null,4.99,47,{"$f":"VLOOKUP(M1399,DFL!A:H,8,0)","v":0.5},{"$f":"P1399-(P1399/1.0025)","v":6.2344139650871711E-3},2.5]
[{"$error":"#N/A"},null,null,null,null,706279,"SPR","SPR","DZ","PEN,INKJOY,100ST,1.0MM,BE",null,5.55,33,{"$f":"VLOOKUP(M1400,DFL!A:H,8,0)","v":0.55000000000000004},{"$f":"P1400-(P1400/1.0025)","v":6.2344139650871711E-3},2.5]
[{"$error":"#N/A"},null,null,null,null,965377,"SPR","SPR","EA","PEN,BALLPNT,F-402,RT,0.7,BK",null,5.55,33,{"$f":"VLOOKUP(M1401,DFL!A:H,8,0)","v":0.55000000000000004},{"$f":"P1401-(P1401/1.0025)","v":6.2344139650871711E-3},2.5]
[{"$error":"#N/A"},null,null,null,null,706252,"SPR","SPR","DZ","PEN,INKJOY,100ST,1.0MM,BK",null,5.55,33,{"$f":"VLOOKUP(M1402,DFL!A:H,8,0)","v":0.55000000000000004},{"$f":"P1402-(P1402/1.0025)","v":6.2344139650871711E-3},{"$f":"ROUND(L1402*(1-N1402),2)","v":2.5}]
[{"$error":"#N/A"},null,null,null,null,234882,"SPR","SPR","BX","BANDAGE,ADHESIVE,PLASTIC"," ",3.58,48,{"$f":"VLOOKUP(M1403,DFL!A:H,8,0)","v":0.3},{"$f":"P1403-(P1403/1.0025)","v":6.2593516209474842E-3},2.5099999999999998]
[{"$error":"#N/A"},null,null,null,null,323899,"SPR","SPR","BX","TACKS;THUMB;1/2\" HEAD;SR",null,5.25,7,{"$f":"VLOOKUP(M1404,DFL!A:H,8,0)","v":0.46},{"$f":"P1404-(P1404/1.0025)","v":7.0822942643391507E-3},2.84]
[{"$error":"#N/A"},null,null,null,null,1487269,"SPR","SPR","EA","CRAYON;TRIANGULAR;AST;16/BX",null,5.0199999999999996,47,{"$f":"VLOOKUP(M1405,DFL!A:H,8,0)","v":0.5},{"$f":"P1405-(P1405/1.0025)","v":6.2593516209474842E-3},2.5099999999999998]
[{"$error":"#N/A"},null,null,null,null,193384,"SPR","SPR","EA","POST-IT,FLAG,ARROWS,ASTD,100CT"," ",6.28,35,{"$f":"VLOOKUP(M1406,DFL!A:H,8,0)","v":0.6},{"$f":"P1406-(P1406/1.0025)","v":6.2593516209474842E-3},2.5099999999999998]
[{"$error":"#N/A"},null,null,null,null,286981,"SPR","SPR","PK","POST-IT,BRIGHT ARROWS,100 CT,A"," ",6.28,35,{"$f":"VLOOKUP(M1407,DFL!A:H,8,0)","v":0.6},{"$f":"P1407-(P1407/1.0025)","v":6.2593516209474842E-3},2.5099999999999998]
[{"$error":"#N/A"},null,null,null,null,522013,"BSD","BSD","EA","HOLDER,BUS,CARD,FAUXLTHR,BLACK"," ",7.33,31,{"$f":"VLOOKUP(M1408,DFL!A:E,5,0)","v":0.64},{"$f":"P1408-(P1408/1.0025)","v":6.5835411471319993E-3},2.64]
[{"$error":"#N/A"},null,null,null,null,574635,"BSD","BSD","ST","DIVIDER,INDEX,MTHLY,OD,LTHR,BK"," ",8.36,35,{"$f":"VLOOKUP(M1409,DFL!A:E,5,0)","v":0.7},{"$f":"P1409-(P1409/1.0025)","v":6.2593516209474842E-3},2.5099999999999998]
[{"$error":"#N/A"},null,null,null,null,898344,"SPR","SPR","DZ","PENCIL,PRESHARPENED,ORIOLE",null,4.6500000000000004,33,{"$f":"VLOOKUP(M1410,DFL!A:H,8,0)","v":0.55000000000000004},{"$f":"P1410-(P1410/1.0025)","v":5.2119700748129993E-3},2.09]
[{"$error":"#N/A"},null,null,null,null,236489,"SPR","SPR","PK","TABS,POLY PRIMARY,24 PK",null,6.3,35,{"$f":"VLOOKUP(M1411,DFL!A:H,8,0)","v":0.6},{"$f":"P1411-(P1411/1.0025)","v":6.2842892768077974E-3},2.52]
[{"$error":"#N/A"},null,null,null,null,395971,"SPR","SPR","PK","POST-IT FLAG,BRIGHT ASTD,4/PK"," ",6.31,35,{"$f":"VLOOKUP(M1412,DFL!A:H,8,0)","v":0.6},{"$f":"P1412-(P1412/1.0025)","v":6.2842892768077974E-3},2.52]
[{"$error":"#N/A"},null,null,null,null,395991,"SPR","SPR","PK","POST-IT FLAG,ASTD CLR,4/PK"," ",6.31,35,{"$f":"VLOOKUP(M1413,DFL!A:H,8,0)","v":0.6},{"$f":"P1413-(P1413/1.0025)","v":6.2842892768077974E-3},2.52]
[{"$error":"#N/A"},null,null,null,null,535544,"BSD","BSD","PK","POUCH,LAMIN.BUS CARD,25/PK",null,7.5,45,{"$f":"VLOOKUP(M1414,DFL!A:E,5,0)","v":0.63},{"$f":"P1414-(P1414/1.0025)","v":6.9326683291768276E-3},2.78]
[{"$error":"#N/A"},null,null,null,null,545871,null,"SPR","PK","Pentel¬Æ Clic Erasers¬Æ, 5\", Assorted Barrel Colors, Pack Of 3",null,7.21,33,{"$f":"VLOOKUP(M1415,DFL!A:H,8,0)","v":0.55000000000000004},{"$f":"P1415-(P1415/1.0025)","v":8.0798004987530092E-3},3.24]
[{"$error":"#N/A"},null,null,null,null,707694,"BSD","BSD","PK","ERASER,4/PK,WHITE"," ",7.21,33,{"$f":"VLOOKUP(M1416,DFL!A:E,5,0)","v":0.65},{"$f":"P1416-(P1416/1.0025)","v":6.2842892768077974E-3},2.52]
[{"$error":"#N/A"},null,null,null,null,124206,"SPR","SPR","PK","BADGE,NAME,BORDER,RED,2.25X3"," ",4.5999999999999996,5,{"$f":"VLOOKUP(M1417,DFL!A:H,8,0)","v":0.45},{"$f":"P1417-(P1417/1.0025)","v":6.3092269326681105E-3},2.5299999999999998]
[{"$error":"#N/A"},null,null,null,null,124222,"SPR","SPR","PK","BADGE,NAME,BORDER,2.25X3.5,GLD"," ",4.5999999999999996,5,{"$f":"VLOOKUP(M1418,DFL!A:H,8,0)","v":0.45},{"$f":"P1418-(P1418/1.0025)","v":6.3092269326681105E-3},2.5299999999999998]
[{"$error":"#N/A"},null,null,null,null,227074,"SPR","SPR","BX","BADGE NAME BORDER BLUE",null,4.5999999999999996,5,{"$f":"VLOOKUP(M1419,DFL!A:H,8,0)","v":0.45},{"$f":"P1419-(P1419/1.0025)","v":6.3092269326681105E-3},2.5299999999999998]
[{"$error":"#N/A"},null,null,null,null,765765,"SPR","SPR","BX","BADGE,NAME,VISITOR,BLUE"," ",4.5999999999999996,5,{"$f":"VLOOKUP(M1420,DFL!A:H,8,0)","v":0.45},{"$f":"P1420-(P1420/1.0025)","v":6.3092269326681105E-3},2.5299999999999998]
[{"$error":"#N/A"},null,null,null,null,323535,"SPR","SPR","BX","BADGE;SS;GN BDR;100",null,4.5999999999999996,5,{"$f":"VLOOKUP(M1421,DFL!A:H,8,0)","v":0.45},{"$f":"P1421-(P1421/1.0025)","v":6.3092269326681105E-3},2.5299999999999998]
[{"$error":"#N/A"},null,null,null,null,732175,"SPR","SPR","EA","GLUE,LOCTITE ULTRA GEL,4G"," ",7.71,1,{"$f":"VLOOKUP(M1422,DFL!A:H,8,0)","v":0.48},{"$f":"P1422-(P1422/1.0025)","v":9.9999999999997868E-3},4.01]
[{"$error":"#N/A"},null,null,null,null,1397818,"BSD","BSD","PK","INDEX CARD 3X5 RULD WHT 300CT"," ",8.34,35,{"$f":"VLOOKUP(M1423,DFL!A:E,5,0)","v":0.7},{"$f":"P1423-(P1423/1.0025)","v":6.2344139650871711E-3},2.5]
[{"$error":"#N/A"},null,null,null,null,369571,"BSD","BSD","PK","POST-IT FLAGS,SM,140 CT,4COLOR"," ",8.44,35,{"$f":"VLOOKUP(M1424,DFL!A:E,5,0)","v":0.7},{"$f":"P1424-(P1424/1.0025)","v":6.3092269326681105E-3},2.5299999999999998]
[{"$error":"#N/A"},null,null,null,null,369581,"BSD","BSD","PK","POST-IT FLAGS,SM,ASTD COLORS"," ",8.44,35,{"$f":"VLOOKUP(M1425,DFL!A:E,5,0)","v":0.7},{"$f":"P1425-(P1425/1.0025)","v":6.3092269326681105E-3},2.5299999999999998]
[{"$error":"#N/A"},null,null,null,null,519861,null,"SPR","DZ","PENCILS, WOOD CASE, ECON #2",null,5.65,33,{"$f":"VLOOKUP(M1426,DFL!A:H,8,0)","v":0.55000000000000004},{"$f":"P1426-(P1426/1.0025)","v":6.3341645885284237E-3},2.54]
[{"$error":"#N/A"},null,null,null,null,928747,"SPR","SPR","EA","PENCIL,QCKRCLICKER,0.5MM,BE",null,5.65,33,{"$f":"VLOOKUP(M1427,DFL!A:H,8,0)","v":0.55000000000000004},{"$f":"P1427-(P1427/1.0025)","v":6.3341645885284237E-3},2.54]
[{"$error":"#N/A"},null,null,null,null,928770,"SPR","SPR","EA","PENCIL,QCKRCLICKER,0.9MM,RD",null,5.65,33,{"$f":"VLOOKUP(M1428,DFL!A:H,8,0)","v":0.55000000000000004},{"$f":"P1428-(P1428/1.0025)","v":6.3341645885284237E-3},2.54]
[{"$error":"#N/A"},null,null,null,null,928721,"SPR","SPR","EA"," PENCIL .5MM QUICKCLIC TRNS BLK",null,5.65,33,{"$f":"VLOOKUP(M1429,DFL!A:H,8,0)","v":0.55000000000000004},{"$f":"P1429-(P1429/1.0025)","v":6.3341645885284237E-3},2.54]
[{"$error":"#N/A"},null,null,null,null,982249,"SPR","SPR","EA","PENCIL;QCKRCLICKER;0.7MM;BE",null,5.65,33,{"$f":"VLOOKUP(M1430,DFL!A:H,8,0)","v":0.55000000000000004},{"$f":"P1430-(P1430/1.0025)","v":6.3341645885284237E-3},2.54]
[{"$error":"#N/A"},null,null,null,null,525800,"SPR","SPR","EA","PENCIL;MECH;QUICKER;.7MM;PE",null,5.65,33,{"$f":"VLOOKUP(M1431,DFL!A:H,8,0)","v":0.55000000000000004},{"$f":"P1431-(P1431/1.0025)","v":6.3341645885284237E-3},2.54]
[{"$error":"#N/A"},null,null,null,null,365297,"SPR","SPR","PK","PROTECTOR,PGS,PHOTO,4X6,10/PK",null,7.14,30,{"$f":"VLOOKUP(M1432,DFL!A:H,8,0)","v":0.57999999999999996},{"$f":"P1432-(P1432/1.0025)","v":7.4812967581046053E-3},3]
[{"$error":"#N/A"},null,null,null,null,515344,"BSD","BSD","EA","DISPENSER,TAPE,DESKTOP,SILVER"," ",7.05,39,{"$f":"VLOOKUP(M1433,DFL!A:E,5,0)","v":0.6},{"$f":"P1433-(P1433/1.0025)","v":7.0324189526185243E-3},2.82]
[{"$error":"#N/A"},null,null,null,null,425563,"BSD","BSD","DZ","LEAD,PENCIL,SOFT,DZ,TICONDEROG"," ",7.77,33,{"$f":"VLOOKUP(M1434,DFL!A:E,5,0)","v":0.65},{"$f":"P1434-(P1434/1.0025)","v":6.7830423940149487E-3},2.72]
[{"$error":"#N/A"},null,null,null,null,535886,null,"SPR","EA","BRUSH,TILE&GROUT",null,4.63,19,{"$f":"VLOOKUP(M1435,DFL!A:H,8,0)","v":0.45},{"$f":"P1435-(P1435/1.0025)","v":6.3591022443887368E-3},2.5499999999999998]
[{"$error":"#N/A"},null,null,null,null,149983,"SPR","SPR","EA","DUSTPAN,PLASTIC,HD,12\""," ",4.7699999999999996,19,{"$f":"VLOOKUP(M1436,DFL!A:H,8,0)","v":0.45},{"$f":"P1436-(P1436/1.0025)","v":6.533665835411373E-3},2.62]
[{"$error":"#N/A"},null,null,null,null,367447,null,"SPR","EA","NOTEBOOK,COMP,80SH,COLG"," ",5.0999999999999996,47,{"$f":"VLOOKUP(M1437,DFL!A:H,8,0)","v":0.5},{"$f":"P1437-(P1437/1.0025)","v":6.3591022443887368E-3},2.5499999999999998]
[{"$error":"#N/A"},null,null,null,null,470203,"SPR","SPR","ST","INDEX,11X8.5,1-10TAB,MULTICOLR","030/030,EPP (eVine),CPG,30% post-consumer (paper)",6.39,35,{"$f":"VLOOKUP(M1438,DFL!A:H,8,0)","v":0.6},{"$f":"P1438-(P1438/1.0025)","v":6.38403990024905E-3},2.56]
[{"$error":"#N/A"},null,null,null,null,808618,"SPR","SPR","ST","INDEX,11X8.5,1-10TAB,BLK/WHT","030/030,EPP (eVine),CPG,30% post-consumer (paper)",6.39,35,{"$f":"VLOOKUP(M1439,DFL!A:H,8,0)","v":0.6},{"$f":"P1439-(P1439/1.0025)","v":6.38403990024905E-3},2.56]
[{"$error":"#N/A"},null,null,null,null,129501,"SPR","SPR","ST","COLOR COATED TAB,ASS'T,1-12"," ",6.83,35,{"$f":"VLOOKUP(M1440,DFL!A:H,8,0)","v":0.6},{"$f":"P1440-(P1440/1.0025)","v":6.8079800498752618E-3},2.73]
[{"$error":"#N/A"},null,null,null,null,706306,"BSD","BSD","DZ","PEN,PM100RT,MED,DZ,BLK"," ",7.32,33,{"$f":"VLOOKUP(M1441,DFL!A:E,5,0)","v":0.65},{"$f":"P1441-(P1441/1.0025)","v":6.38403990024905E-3},2.56]
[{"$error":"#N/A"},null,null,null,null,706324,"BSD","BSD","DZ","PEN,PM100RT,MED,DZ,BLUE"," ",7.32,33,{"$f":"VLOOKUP(M1442,DFL!A:E,5,0)","v":0.65},{"$f":"P1442-(P1442/1.0025)","v":6.38403990024905E-3},2.56]
[{"$error":"#N/A"},null,null,null,null,706369,"SPR","SPR","DZ","PEN;INKJOY;100RT;1.0MM;RD",null,7.32,33,{"$f":"VLOOKUP(M1443,DFL!A:H,8,0)","v":0.55000000000000004},{"$f":"P1443-(P1443/1.0025)","v":8.204488778054575E-3},3.29]
[{"$error":"#N/A"},null,null,null,null,683418,"BSD","BSD","PK","DIVIDER,LT,TAB,POLY,ASSOR COL",null,9.3800000000000008,35,{"$f":"VLOOKUP(M1444,DFL!A:E,5,0)","v":0.7},{"$f":"P1444-(P1444/1.0025)","v":7.0074812967577671E-3},2.81]
[{"$error":"#N/A"},null,null,null,null,5855289,"SPR","SPR","PK","CUP,COLD,PAPER,3OZ,50PK",null,4.55,18,{"$f":"VLOOKUP(M1445,DFL!A:H,8,0)","v":0.44},{"$f":"P1445-(P1445/1.0025)","v":6.3591022443887368E-3},2.5499999999999998]
[{"$error":"#N/A"},null,null,null,null,998153,"SPR","SPR","RL","TAPE;VYNL;GLOSS;3/8\";BK",null,5.13,39,{"$f":"VLOOKUP(M1446,DFL!A:H,8,0)","v":0.5},{"$f":"P1446-(P1446/1.0025)","v":6.4089775561098072E-3},2.57]
[{"$error":"#N/A"},null,null,null,null,171561,"SPR","SPR","EA","ROLLS,MOUNTING,SLF-STK,.5X.75"," ",4.97,1,{"$f":"VLOOKUP(M1447,DFL!A:H,8,0)","v":0.48},{"$f":"P1447-(P1447/1.0025)","v":6.4339152119701204E-3},2.58]
[{"$error":"#N/A"},null,null,null,null,510479,"SPR","SPR","BX","PENCIL;COLOR;WRITESTART;8CT",null,5.15,47,{"$f":"VLOOKUP(M1448,DFL!A:H,8,0)","v":0.5},{"$f":"P1448-(P1448/1.0025)","v":6.4339152119701204E-3},2.58]
[{"$error":"#N/A"},null,null,null,null,673533,"BSD","BSD","EA","WATERCOLOR,WASHABLE,16 COLOR",null,6.78,47,{"$f":"VLOOKUP(M1449,DFL!A:E,5,0)","v":0.56999999999999995},{"$f":"P1449-(P1449/1.0025)","v":7.2817955112216559E-3},2.92]
[{"$error":"#N/A"},null,null,null,null,544415,"SPR","SPR","EA","PKT,LGL,EXP 3-1/2,RD,74231"," ",6.73,35,{"$f":"VLOOKUP(M1450,DFL!A:H,8,0)","v":0.6},{"$f":"P1450-(P1450/1.0025)","v":6.7082294264335651E-3},2.69]
[{"$error":"#N/A"},null,null,null,null,544399,"SPR","SPR","EA","PKT,LGL,EXP 3-1/2,BLU,74225"," ",6.73,35,{"$f":"VLOOKUP(M1451,DFL!A:H,8,0)","v":0.6},{"$f":"P1451-(P1451/1.0025)","v":6.7082294264335651E-3},2.69]
[{"$error":"#N/A"},null,null,null,null,785636,"SPR","SPR","EA","POCKET,FILE,LGL,3.5EXP,YW"," ",6.73,35,{"$f":"VLOOKUP(M1452,DFL!A:H,8,0)","v":0.6},{"$f":"P1452-(P1452/1.0025)","v":6.7082294264335651E-3},2.69]
[{"$error":"#N/A"},null,null,null,null,497448,"BSD","BSD","EA","BIN,STCKNG,MDLR,5X5.5,LGE,CLR"," ",7.18,31,{"$f":"VLOOKUP(M1453,DFL!A:E,5,0)","v":0.64},{"$f":"P1453-(P1453/1.0025)","v":6.4339152119701204E-3},2.58]
[{"$error":"#N/A"},null,null,null,null,269594,"BSD","BSD","PK","CORNERLOCK PLASTIC SLEEVE"," ",11.395971731448762,8,{"$f":"VLOOKUP(M1454,DFL!A:E,5,0)","v":0.65},{"$f":"P1454-(P1454/1.0025)","v":9.9501246882791605E-3},3.99]
[{"$error":"#N/A"},null,null,null,null,601627,"BSD","BSD","PK","PEN,GEL,STAINLESS,G301,2PK,BLK"," ",7.38,33,{"$f":"VLOOKUP(M1455,DFL!A:E,5,0)","v":0.65},{"$f":"P1455-(P1455/1.0025)","v":6.4339152119701204E-3},2.58]
[{"$error":"#N/A"},null,null,null,null,470280,"SPR","SPR","EA","RIBBON,BLACK FABRIC"," ",3.76,14,{"$f":"VLOOKUP(M1456,DFL!A:H,8,0)","v":0.31},{"$f":"P1456-(P1456/1.0025)","v":6.4588528678304336E-3},2.59]
[{"$error":"#N/A"},null,null,null,null,822288,"SPR","SPR","EA","CADDY,MOP,TOILET BOWL,WHITE"," ",5.77,19,{"$f":"VLOOKUP(M1457,DFL!A:H,8,0)","v":0.45},{"$f":"P1457-(P1457/1.0025)","v":7.905236907730373E-3},3.17]
[{"$error":"#N/A"},null,null,null,null,533953,"SPR","SPR","EA","BOOK,DRIVER LOG,2PT,5.5X8"," ",4.93,11,{"$f":"VLOOKUP(M1458,DFL!A:H,8,0)","v":0.46},{"$f":"P1458-(P1458/1.0025)","v":6.6334164588526257E-3},2.66]
[{"$error":"#N/A"},null,null,null,null,592867,"SPR","SPR","RL","TOWELS,HOUSEHOLD,100SH,WE",null,4.6399999999999997,40,{"$f":"VLOOKUP(M1459,DFL!A:H,8,0)","v":0.44},{"$f":"P1459-(P1459/1.0025)","v":6.4837905236907467E-3},2.6]
[{"$error":"#N/A"},null,null,null,null,192252,"SPR","SPR","EA","PAPER;TISSUE;SPC;20X30;20SH",null,5.19,47,{"$f":"VLOOKUP(M1460,DFL!A:H,8,0)","v":0.5},{"$f":"P1460-(P1460/1.0025)","v":6.4837905236907467E-3},2.6]
[{"$error":"#N/A"},null,null,null,null,9603853,null,"SPR","PK","BEAD;ALPHABET;WE;150/PK",null,5.41,47,{"$f":"VLOOKUP(M1461,DFL!A:H,8,0)","v":0.5},{"$f":"P1461-(P1461/1.0025)","v":6.7581047381546355E-3},2.71]
[{"$error":"#N/A"},null,null,null,null,9941756,"SPR","SPR","PK","BEAD;ALPHABET;AST;150/PK",null,5.41,47,{"$f":"VLOOKUP(M1462,DFL!A:H,8,0)","v":0.5},{"$f":"P1462-(P1462/1.0025)","v":6.7581047381546355E-3},2.71]
[{"$error":"#N/A"},null,null,null,null,941066,"BSD","BSD","EA","SOAP,DISH,AJAX,LIQ,28OZ"," ",5.41,40,{"$f":"VLOOKUP(M1463,DFL!A:E,5,0)","v":0.52},{"$f":"P1463-(P1463/1.0025)","v":6.4837905236907467E-3},2.6]
[{"$error":"#N/A"},null,null,null,null,550996,"BSD","BSD","BX","PENCILS,COLORED,CRAYOLA,24PK","Less Harsh Chemicals,ACMI certified",6.04,47,{"$f":"VLOOKUP(M1464,DFL!A:E,5,0)","v":0.56999999999999995},{"$f":"P1464-(P1464/1.0025)","v":6.4837905236907467E-3},2.6]
[{"$error":"#N/A"},null,null,null,null,102582,null,"SPR","BX","PAPER FASTENER 1\"BASE 100BX"," ",9.6300000000000008,35,{"$f":"VLOOKUP(M1465,DFL!A:H,8,0)","v":0.6},{"$f":"P1465-(P1465/1.0025)","v":9.6009975062343322E-3},{"$f":"ROUND(L1465*(1-N1465),2)","v":3.85}]
[{"$error":"#N/A"},null,null,null,null,560963,null,"SPR","EA","CLEANER,DISINFCTNT,PNESOL,24OZ",null,4.75,19,{"$f":"VLOOKUP(M1466,DFL!A:H,8,0)","v":0.45},{"$f":"P1466-(P1466/1.0025)","v":6.5087281795510599E-3},2.61]
[{"$error":"#N/A"},null,null,null,null,418118,"SPR","SPR","EA","MARKER,UNIPAINT,OIL,FINE,BE",null,5.3,28,{"$f":"VLOOKUP(M1467,DFL!A:H,8,0)","v":0.48},{"$f":"P1467-(P1467/1.0025)","v":6.8827930174562013E-3},2.76]
[{"$error":"#N/A"},null,null,null,null,933085,"SPR","SPR","EA","MARKER,PAINT, BK,F"," ",5.3,28,{"$f":"VLOOKUP(M1468,DFL!A:H,8,0)","v":0.48},{"$f":"P1468-(P1468/1.0025)","v":6.8827930174562013E-3},2.76]
[{"$error":"#N/A"},null,null,null,null,7937250,"SPR","SPR","EA","MARKER,UNIPAINT,OIL,FINE,YW",null,5.3,28,{"$f":"VLOOKUP(M1469,DFL!A:H,8,0)","v":0.48},{"$f":"P1469-(P1469/1.0025)","v":6.8827930174562013E-3},2.76]
[{"$error":"#N/A"},null,null,null,null,9761554,"SPR","SPR","EA","RED INK OIL BASE MARKER"," ",5.3,28,{"$f":"VLOOKUP(M1470,DFL!A:H,8,0)","v":0.48},{"$f":"P1470-(P1470/1.0025)","v":6.8827930174562013E-3},2.76]
[{"$error":"#N/A"},null,null,null,null,516572,"SPR","SPR","EA","MARKER,UNIPAINT,OIL,FINE,GN",null,5.3,28,{"$f":"VLOOKUP(M1471,DFL!A:H,8,0)","v":0.48},{"$f":"P1471-(P1471/1.0025)","v":6.8827930174562013E-3},2.76]
[{"$error":"#N/A"},null,null,null,null,828702,"BSD","BSD","PK","LIDS, DOME 12/16/20OZ"," ",8.42,18,{"$f":"VLOOKUP(M1472,DFL!A:E,5,0)","v":0.55000000000000004},{"$f":"P1472-(P1472/1.0025)","v":9.4513715710720092E-3},3.79]
[{"$error":"#N/A"},null,null,null,null,404251,"SPR","SPR","EA","PENCIL,.7MM,TWIST-ERASE,BLACK"," ",5.8,33,{"$f":"VLOOKUP(M1473,DFL!A:H,8,0)","v":0.55000000000000004},{"$f":"P1473-(P1473/1.0025)","v":6.5087281795510599E-3},2.61]
[{"$error":"#N/A"},null,null,null,null,404311,"SPR","SPR","EA","PENCIL,.5MM,TWIST-ERASE,BLACK"," ",5.8,33,{"$f":"VLOOKUP(M1474,DFL!A:H,8,0)","v":0.55000000000000004},{"$f":"P1474-(P1474/1.0025)","v":6.5087281795510599E-3},2.61]
[{"$error":"#N/A"},null,null,null,null,404261,"SPR","SPR","EA","PENCIL,TWIST-ERASE III,.5MM",null,5.8,33,{"$f":"VLOOKUP(M1475,DFL!A:H,8,0)","v":0.55000000000000004},{"$f":"P1475-(P1475/1.0025)","v":6.5087281795510599E-3},2.61]
[{"$error":"#N/A"},null,null,null,null,515051,"SPR","SPR","EA","PENCIL,TWIST-ERASE III,.5MM",null,5.8,33,{"$f":"VLOOKUP(M1476,DFL!A:H,8,0)","v":0.55000000000000004},{"$f":"P1476-(P1476/1.0025)","v":6.5087281795510599E-3},2.61]
[{"$error":"#N/A"},null,null,null,null,545861,"SPR","SPR","EA","PENCIL,TWIST-ERASE III,.7MM",null,5.8,33,{"$f":"VLOOKUP(M1477,DFL!A:H,8,0)","v":0.55000000000000004},{"$f":"P1477-(P1477/1.0025)","v":6.5087281795510599E-3},2.61]
[{"$error":"#N/A"},null,null,null,null,515061,"SPR","SPR","EA","PENCIL,TWIST-ERASE III,.9MM",null,5.8,33,{"$f":"VLOOKUP(M1478,DFL!A:H,8,0)","v":0.55000000000000004},{"$f":"P1478-(P1478/1.0025)","v":6.5087281795510599E-3},2.61]
[{"$error":"#N/A"},null,null,null,null,705511,"SPR","SPR","EA","PENCIL,TWIST-ERASE III,.9MM",null,5.8,33,{"$f":"VLOOKUP(M1479,DFL!A:H,8,0)","v":0.55000000000000004},{"$f":"P1479-(P1479/1.0025)","v":6.5087281795510599E-3},2.61]
[{"$error":"#N/A"},null,null,null,null,854866,null,"SPR","BG","RUBBERBANDS,SZ16,1#"," ",9.6999999999999993,7,{"$f":"VLOOKUP(M1480,DFL!A:H,8,0)","v":0.46},{"$f":"P1480-(P1480/1.0025)","v":1.3067331670822746E-2},5.24]
[{"$error":"#N/A"},null,null,null,null,855595,"BSD","BSD","BG","RUBBERBANDS,SZ32,1#"," ",9.6999999999999993,7,{"$f":"VLOOKUP(M1481,DFL!A:E,5,0)","v":0.72},{"$f":"P1481-(P1481/1.0025)","v":6.7830423940149487E-3},2.72]
[{"$error":"#N/A"},null,null,null,null,855730,"BSD","BSD","BG","RUBBERBANDS,SZ19,1#"," ",9.6999999999999993,7,{"$f":"VLOOKUP(M1482,DFL!A:E,5,0)","v":0.72},{"$f":"P1482-(P1482/1.0025)","v":6.7830423940149487E-3},2.72]
[{"$error":"#N/A"},null,null,null,null,855883,"BSD","BSD","BG","RUBBERBANDS,SZ33,1#"," ",9.6999999999999993,7,{"$f":"VLOOKUP(M1483,DFL!A:E,5,0)","v":0.72},{"$f":"P1483-(P1483/1.0025)","v":6.7830423940149487E-3},2.72]
[{"$error":"#N/A"},null,null,null,null,855910,null,"SPR","BG","RUBBERBANDS,#54,1LB"," ",9.6999999999999993,7,{"$f":"VLOOKUP(M1484,DFL!A:H,8,0)","v":0.46},{"$f":"P1484-(P1484/1.0025)","v":1.3067331670822746E-2},5.24]
[{"$error":"#N/A"},null,null,null,null,855946,"BSD","BSD","BG","RUBBERBANDS,SZ64,1#"," ",9.6999999999999993,7,{"$f":"VLOOKUP(M1485,DFL!A:E,5,0)","v":0.72},{"$f":"P1485-(P1485/1.0025)","v":6.7830423940149487E-3},2.72]
[{"$error":"#N/A"},null,null,null,null,8763909,null,"SPR","PK","FILLER,JR,TUL,NR,SPRG,ASSORTED",null,9.68,30,{"$f":"VLOOKUP(M1486,DFL!A:H,8,0)","v":0.57999999999999996},{"$f":"P1486-(P1486/1.0025)","v":1.0149625935161666E-2},4.07]
[{"$error":"#N/A"},null,null,null,null,323741,"SPR","SPR","EA","BOOK,MEMO,SPIRAL,3X5,BRIGHT",null,4.8600000000000003,11,{"$f":"VLOOKUP(M1487,DFL!A:H,8,0)","v":0.46},{"$f":"P1487-(P1487/1.0025)","v":6.533665835411373E-3},2.62]
[{"$error":"#N/A"},null,null,null,null,532152,"SPR","SPR","ST","PAINT;GLITTER;WSHABL;8CT",null,5.23,47,{"$f":"VLOOKUP(M1488,DFL!A:H,8,0)","v":0.5},{"$f":"P1488-(P1488/1.0025)","v":6.533665835411373E-3},2.62]
[{"$error":"#N/A"},null,null,null,null,172714,"SPR","SPR","BX","3/8\" HEAVY DUTY STAPLE (BOX/10",null,5.64,37,{"$f":"VLOOKUP(M1489,DFL!A:H,8,0)","v":0.5},{"$f":"P1489-(P1489/1.0025)","v":7.0324189526185243E-3},2.82]
[{"$error":"#N/A"},null,null,null,null,5423816,"SPR","SPR","EA","DISPENSER,SANITIZER",null,3.75,48,{"$f":"VLOOKUP(M1490,DFL!A:H,8,0)","v":0.3},{"$f":"P1490-(P1490/1.0025)","v":6.5586034912716862E-3},2.63]
[{"$error":"#N/A"},null,null,null,null,3196096,"SPR","SPR","EA","DISPENSER;PROLINE 1000 BLK",null,3.75,48,{"$f":"VLOOKUP(M1491,DFL!A:H,8,0)","v":0.3},{"$f":"P1491-(P1491/1.0025)","v":6.5586034912716862E-3},2.63]
[{"$error":"#N/A"},null,null,null,null,6846570,"SPR","SPR","EA","DISPENSER;PROLINE;1000;WE",null,3.75,48,{"$f":"VLOOKUP(M1492,DFL!A:H,8,0)","v":0.3},{"$f":"P1492-(P1492/1.0025)","v":6.5586034912716862E-3},2.63]
[{"$error":"#N/A"},null,null,null,null,4740628,"SPR","SPR","EA","DISPENSER;SUNSCREEN;1L",null,3.75,48,{"$f":"VLOOKUP(M1493,DFL!A:H,8,0)","v":0.3},{"$f":"P1493-(P1493/1.0025)","v":6.5586034912716862E-3},2.63]
[{"$error":"#N/A"},null,null,null,null,9534362,"SPR","SPR","EA","DISPENSER;RESTORE CREAM;1L",null,3.75,48,{"$f":"VLOOKUP(M1494,DFL!A:H,8,0)","v":0.3},{"$f":"P1494-(P1494/1.0025)","v":6.5586034912716862E-3},2.63]
[{"$error":"#N/A"},null,null,null,null,9971500,"SPR","SPR","EA","DISPENSER;ANTIBAC;1L;WE",null,3.75,48,{"$f":"VLOOKUP(M1495,DFL!A:H,8,0)","v":0.3},{"$f":"P1495-(P1495/1.0025)","v":6.5586034912716862E-3},2.63]
[{"$error":"#N/A"},null,null,null,null,8814795,"SPR","SPR","EA","DISPENSER;HND;HAIR&BD;1L;WE",null,3.75,48,{"$f":"VLOOKUP(M1496,DFL!A:H,8,0)","v":0.3},{"$f":"P1496-(P1496/1.0025)","v":6.5586034912716862E-3},2.63]
[{"$error":"#N/A"},null,null,null,null,4999174,"SPR","SPR","PK","REFILLS,DSHWND,SCUB DOT,BE",null,4.78,19,{"$f":"VLOOKUP(M1497,DFL!A:H,8,0)","v":0.45},{"$f":"P1497-(P1497/1.0025)","v":6.5586034912716862E-3},2.63]
[{"$error":"#N/A"},null,null,null,null,5815816,"SPR","SPR","PK","REFILLS,DSHWND,SCUB DOT,GN",null,4.78,19,{"$f":"VLOOKUP(M1498,DFL!A:H,8,0)","v":0.45},{"$f":"P1498-(P1498/1.0025)","v":6.5586034912716862E-3},2.63]
[{"$error":"#N/A"},null,null,null,null,347806,"SPR","SPR","PK","PAPER,CONST,9X12,HOLIDAY RED"," ",5.25,47,{"$f":"VLOOKUP(M1499,DFL!A:H,8,0)","v":0.5},{"$f":"P1499-(P1499/1.0025)","v":6.5586034912716862E-3},2.63]
[{"$error":"#N/A"},null,null,null,null,338244,"SPR","SPR","PK","PAPER,CONST,VIOLET,9X12",null,5.25,47,{"$f":"VLOOKUP(M1500,DFL!A:H,8,0)","v":0.5},{"$f":"P1500-(P1500/1.0025)","v":6.5586034912716862E-3},2.63]
[{"$error":"#N/A"},null,null,null,null,338400,"SPR","SPR","PK","PAPER,CONST,ROYBLU,9X12"," ",5.25,47,{"$f":"VLOOKUP(M1501,DFL!A:H,8,0)","v":0.5},{"$f":"P1501-(P1501/1.0025)","v":6.5586034912716862E-3},2.63]
[{"$error":"#N/A"},null,null,null,null,338566,"SPR","SPR","PK","PAPER,CONST,9X12,DRKBN,50SH",null,5.25,47,{"$f":"VLOOKUP(M1502,DFL!A:H,8,0)","v":0.5},{"$f":"P1502-(P1502/1.0025)","v":6.5586034912716862E-3},2.63]
[{"$error":"#N/A"},null,null,null,null,338442,"SPR","SPR","PK","PAPER,CONST,9X12,ORNGE,50SH",null,5.25,47,{"$f":"VLOOKUP(M1503,DFL!A:H,8,0)","v":0.5},{"$f":"P1503-(P1503/1.0025)","v":6.5586034912716862E-3},2.63]
[{"$error":"#N/A"},null,null,null,null,338541,"SPR","SPR","PK","PAPER,CONST,9X12,YELLW,50SH",null,5.25,47,{"$f":"VLOOKUP(M1504,DFL!A:H,8,0)","v":0.5},{"$f":"P1504-(P1504/1.0025)","v":6.5586034912716862E-3},2.63]
[{"$error":"#N/A"},null,null,null,null,338582,"SPR","SPR","PK","PAPER,CONST,9X12,BROWN,50SH",null,5.25,47,{"$f":"VLOOKUP(M1505,DFL!A:H,8,0)","v":0.5},{"$f":"P1505-(P1505/1.0025)","v":6.5586034912716862E-3},2.63]
[{"$error":"#N/A"},null,null,null,null,338608,"SPR","SPR","PK","PAPER,CONST,9X12,WHITE,50SH",null,5.25,47,{"$f":"VLOOKUP(M1506,DFL!A:H,8,0)","v":0.5},{"$f":"P1506-(P1506/1.0025)","v":6.5586034912716862E-3},2.63]
[{"$error":"#N/A"},null,null,null,null,338665,"SPR","SPR","PK","PAPER,CONST,9X12,BLACK,50SH",null,5.25,47,{"$f":"VLOOKUP(M1507,DFL!A:H,8,0)","v":0.5},{"$f":"P1507-(P1507/1.0025)","v":6.5586034912716862E-3},2.63]
[{"$error":"#N/A"},null,null,null,null,338855,"SPR","SPR","PK","PAPER,CONST,9X12,AST,50SH",null,5.25,47,{"$f":"VLOOKUP(M1508,DFL!A:H,8,0)","v":0.5},{"$f":"P1508-(P1508/1.0025)","v":6.5586034912716862E-3},2.63]
[{"$error":"#N/A"},null,null,null,null,338723,"SPR","SPR","PK"," PAPER CONST FESTGRN 9X12",null,5.25,47,{"$f":"VLOOKUP(M1509,DFL!A:H,8,0)","v":0.5},{"$f":"P1509-(P1509/1.0025)","v":6.5586034912716862E-3},2.63]
[{"$error":"#N/A"},null,null,null,null,338483,"SPR","SPR","PK"," PAPER CONST BLUE 9X12",null,5.25,47,{"$f":"VLOOKUP(M1510,DFL!A:H,8,0)","v":0.5},{"$f":"P1510-(P1510/1.0025)","v":6.5586034912716862E-3},2.63]
[{"$error":"#N/A"},null,null,null,null,338301,"SPR","SPR","PK"," PAPER CONST PINK 9X12",null,5.25,47,{"$f":"VLOOKUP(M1511,DFL!A:H,8,0)","v":0.5},{"$f":"P1511-(P1511/1.0025)","v":6.5586034912716862E-3},2.63]
[{"$error":"#N/A"},null,null,null,null,338384,"SPR","SPR","PK"," PAPER CONST SKYBLUE 9X12",null,5.25,47,{"$f":"VLOOKUP(M1512,DFL!A:H,8,0)","v":0.5},{"$f":"P1512-(P1512/1.0025)","v":6.5586034912716862E-3},2.63]
[{"$error":"#N/A"},null,null,null,null,229872,"SPR","SPR","PK","PAPER;CONST;9X12;BRLLNT LME",null,5.25,47,{"$f":"VLOOKUP(M1513,DFL!A:H,8,0)","v":0.5},{"$f":"P1513-(P1513/1.0025)","v":6.5586034912716862E-3},2.63]
[{"$error":"#N/A"},null,null,null,null,338764,"SPR","SPR","PK","PAPER;CONST;9X12;FESTV RED",null,5.25,47,{"$f":"VLOOKUP(M1514,DFL!A:H,8,0)","v":0.5},{"$f":"P1514-(P1514/1.0025)","v":6.5586034912716862E-3},2.63]
[{"$error":"#N/A"},null,null,null,null,338228,"SPR","SPR","PK","PAPER;CONST;9X12;MGNTA;50SH",null,5.25,47,{"$f":"VLOOKUP(M1515,DFL!A:H,8,0)","v":0.5},{"$f":"P1515-(P1515/1.0025)","v":6.5586034912716862E-3},2.63]
[{"$error":"#N/A"},null,null,null,null,338749,"SPR","SPR","PK","PAPER;CONST;9X12;TURQS;50SH",null,5.25,47,{"$f":"VLOOKUP(M1516,DFL!A:H,8,0)","v":0.5},{"$f":"P1516-(P1516/1.0025)","v":6.5586034912716862E-3},2.63]
[{"$error":"#N/A"},null,null,null,null,338269,"SPR","SPR","PK","PAPER;CONST;9X12;SALMN;50SH",null,5.25,47,{"$f":"VLOOKUP(M1517,DFL!A:H,8,0)","v":0.5},{"$f":"P1517-(P1517/1.0025)","v":6.5586034912716862E-3},2.63]
[{"$error":"#N/A"},null,null,null,null,230003,"SPR","SPR","PK","PAPER;CONST;9X12;SHKPK;50SH",null,5.25,47,{"$f":"VLOOKUP(M1518,DFL!A:H,8,0)","v":0.5},{"$f":"P1518-(P1518/1.0025)","v":6.5586034912716862E-3},2.63]
[{"$error":"#N/A"},null,null,null,null,338624,"SPR","SPR","PK","PAPER;CONST;9X12;GRAY;50SH",null,5.25,47,{"$f":"VLOOKUP(M1519,DFL!A:H,8,0)","v":0.5},{"$f":"P1519-(P1519/1.0025)","v":6.5586034912716862E-3},2.63]
[{"$error":"#N/A"},null,null,null,null,338640,"SPR","SPR","PK","PAPER;CONST;9X12;SLATE;50SH",null,5.25,47,{"$f":"VLOOKUP(M1520,DFL!A:H,8,0)","v":0.5},{"$f":"P1520-(P1520/1.0025)","v":6.5586034912716862E-3},2.63]
[{"$error":"#N/A"},null,null,null,null,679910,"BSD","BSD","PK","BATTERY,\"AAAA\",ENERGIZER"," ",6.1613445378151264,6,{"$f":"VLOOKUP(M1521,DFL!A:E,5,0)","v":0.56999999999999995},{"$f":"P1521-(P1521/1.0025)","v":6.6084788029923125E-3},2.65]
[{"$error":"#N/A"},null,null,null,null,358759,"BSD","BSD","PK","LEAD,SUPER,HI-POLY,.5MM,3PK"," ",7.52,33,{"$f":"VLOOKUP(M1522,DFL!A:E,5,0)","v":0.65},{"$f":"P1522-(P1522/1.0025)","v":6.5586034912716862E-3},2.63]
[{"$error":"#N/A"},null,null,null,null,654696,"BSD","BSD","PK","LEAD,0.7MM,HB,90/CT,3PK"," ",7.52,33,{"$f":"VLOOKUP(M1523,DFL!A:E,5,0)","v":0.65},{"$f":"P1523-(P1523/1.0025)","v":6.5586034912716862E-3},2.63]
[{"$error":"#N/A"},null,null,null,null,679166,"BSD","BSD","CG",".9MM SUPER HI POYLMER LEAD"," ",7.52,33,{"$f":"VLOOKUP(M1524,DFL!A:E,5,0)","v":0.65},{"$f":"P1524-(P1524/1.0025)","v":6.5586034912716862E-3},2.63]
[{"$error":"#N/A"},null,null,null,null,249198,"SPR","SPR","PK","CUP,HOT,WISESIZE,PATHWAYS,8OZ"," ",4.71,18,{"$f":"VLOOKUP(M1525,DFL!A:H,8,0)","v":0.44},{"$f":"P1525-(P1525/1.0025)","v":6.5835411471319993E-3},2.64]
[{"$error":"#N/A"},null,null,null,null,482161,"BSD","BSD","PK","CLIP,BNDR,MINI,60/BOX,ASTD CLR",null,12.99,7,{"$f":"VLOOKUP(M1526,DFL!A:E,5,0)","v":0.72},{"$f":"P1526-(P1526/1.0025)","v":9.0773067331668678E-3},3.64]
[{"$error":"#N/A"},null,null,null,null,9637937,null,"SPR","EA","CUP,PENCIL,BLUETILE,SJW",null,5.2,31,{"$f":"VLOOKUP(M1527,DFL!A:H,8,0)","v":0.49},{"$f":"P1527-(P1527/1.0025)","v":6.6084788029923125E-3},2.65]
[{"$error":"#N/A"},null,null,null,null,101784,"SPR","SPR","ST","PEN,BRITELINER,ASST"," ",5.09,28,{"$f":"VLOOKUP(M1528,DFL!A:H,8,0)","v":0.48},{"$f":"P1528-(P1528/1.0025)","v":6.6084788029923125E-3},{"$f":"ROUND(L1528*(1-N1528),2)","v":2.65}]
[{"$error":"#N/A"},null,null,null,null,260812,"SPR","SPR","PK","HIGHLIGHTER;FRIX LIGHT;ASST",null,5.09,28,{"$f":"VLOOKUP(M1529,DFL!A:H,8,0)","v":0.48},{"$f":"P1529-(P1529/1.0025)","v":6.6084788029923125E-3},2.65]
[{"$error":"#N/A"},null,null,null,null,768597,"SPR","SPR","EA","BORDER;2.25\"X50;LIME GREEN",null,5.29,47,{"$f":"VLOOKUP(M1530,DFL!A:H,8,0)","v":0.5},{"$f":"P1530-(P1530/1.0025)","v":6.6084788029923125E-3},2.65]
[{"$error":"#N/A"},null,null,null,null,173849,"SPR","SPR","RL","BORDER;2.25\"X50;ORANGE",null,5.29,47,{"$f":"VLOOKUP(M1531,DFL!A:H,8,0)","v":0.5},{"$f":"P1531-(P1531/1.0025)","v":6.6084788029923125E-3},2.65]
[{"$error":"#N/A"},null,null,null,null,220459,"SPR","SPR","ST","PASTEL;OIL;AST;25CT",null,5.3,47,{"$f":"VLOOKUP(M1532,DFL!A:H,8,0)","v":0.5},{"$f":"P1532-(P1532/1.0025)","v":6.6084788029923125E-3},2.65]
[{"$error":"#N/A"},null,null,null,null,9205899,null,"SPR","DZ","BIC¬Æ Prevaguard Round Stic Pens With Antimicrobial Additive, Medium Point, 1.0 mm, Black Barrel, Black Ink, Set Of 12 Pens",null,5.91,33,{"$f":"VLOOKUP(M1533,DFL!A:H,8,0)","v":0.55000000000000004},{"$f":"P1533-(P1533/1.0025)","v":6.6334164588526257E-3},2.66]
[{"$error":"#N/A"},null,null,null,null,592255,"SPR","SPR","EA","ERASER,DRY,EXPO,REFILL"," ",5.0199999999999996,20,{"$f":"VLOOKUP(M1534,DFL!A:H,8,0)","v":0.47},{"$f":"P1534-(P1534/1.0025)","v":6.6334164588526257E-3},2.66]
[{"$error":"#N/A"},null,null,null,null,4710446,"BSD","BSD","EA"," TISSUES FCL STHNGLTN 3PLY WHT",null,5.6060606060606064,40,{"$f":"VLOOKUP(M1535,DFL!A:E,5,0)","v":0.52},{"$f":"P1535-(P1535/1.0025)","v":6.7082294264335651E-3},2.69]
[{"$error":"#N/A"},null,null,null,null,7714514,"SPR","SPR","EA","BOOK,STENO,GREGG,60SH,GRN",null,6.33,30,{"$f":"VLOOKUP(M1536,DFL!A:H,8,0)","v":0.57999999999999996},{"$f":"P1536-(P1536/1.0025)","v":6.6334164588526257E-3},2.66]
[{"$error":"#N/A"},null,null,null,null,452367,"BSD","BSD","PK","FLAG,TAPE,IN DISP,2PK,RED"," ",8.8800000000000008,35,{"$f":"VLOOKUP(M1537,DFL!A:E,5,0)","v":0.7},{"$f":"P1537-(P1537/1.0025)","v":6.6334164588526257E-3},2.66]
[{"$error":"#N/A"},null,null,null,null,452409,"BSD","BSD","PK","FLAGS,TAPE,IN DISP,2PK,YELLOW"," ",8.8800000000000008,35,{"$f":"VLOOKUP(M1538,DFL!A:E,5,0)","v":0.7},{"$f":"P1538-(P1538/1.0025)","v":6.6334164588526257E-3},2.66]
[{"$error":"#N/A"},null,null,null,null,7599419,"SPR","SPR","EA","CLIPBOARD,FLAT CLIP,9X12.5",null,5.14,7,{"$f":"VLOOKUP(M1539,DFL!A:H,8,0)","v":0.46},{"$f":"P1539-(P1539/1.0025)","v":6.9326683291768276E-3},2.78]
[{"$error":"#N/A"},null,null,null,null,204057,"BSD","BSD","EA","CLEANER,BOARD,DRY ERASE,8 OZ"," ",6.36,20,{"$f":"VLOOKUP(M1540,DFL!A:E,5,0)","v":0.57999999999999996},{"$f":"P1540-(P1540/1.0025)","v":6.6583541147129388E-3},2.67]
[{"$error":"#N/A"},null,null,null,null,883891,"SPR","SPR","PK","TAG,ARROW,SIGNHERE,MINI,AST"," ",6.36,30,{"$f":"VLOOKUP(M1541,DFL!A:H,8,0)","v":0.57999999999999996},{"$f":"P1541-(P1541/1.0025)","v":6.6583541147129388E-3},2.67]
[{"$error":"#N/A"},null,null,null,null,381034,"SPR","SPR","EA","CONTAINER,SHARPS,W/LID,1QT",null,4.54,22,{"$f":"VLOOKUP(M1542,DFL!A:H,8,0)","v":0.41},{"$f":"P1542-(P1542/1.0025)","v":6.683291770573252E-3},2.68]
[{"$error":"#N/A"},null,null,null,null,722094,"SPR","SPR","PK","GLUE DOTS,SCOTCH,MEDIUM,300PK"," ",5.15,1,{"$f":"VLOOKUP(M1543,DFL!A:H,8,0)","v":0.48},{"$f":"P1543-(P1543/1.0025)","v":6.683291770573252E-3},2.68]
[{"$error":"#N/A"},null,null,null,null,705291,"SPR","SPR","EA","CUP;PENCIL;BK",null,5.8,31,{"$f":"VLOOKUP(M1544,DFL!A:H,8,0)","v":0.49},{"$f":"P1544-(P1544/1.0025)","v":7.3815461346633526E-3},2.96]
[{"$error":"#N/A"},null,null,null,null,207902,"SPR","SPR","BX","STAPLE,1/4\",15-25SHT,5000BX"," ",5.36,37,{"$f":"VLOOKUP(M1545,DFL!A:H,8,0)","v":0.5},{"$f":"P1545-(P1545/1.0025)","v":6.683291770573252E-3},2.68]
[{"$error":"#N/A"},null,null,null,null,788719,"SPR","SPR","PK","CORD CLIP,COMMAND,ROUND,CLEAR"," ",6.39,30,{"$f":"VLOOKUP(M1546,DFL!A:H,8,0)","v":0.57999999999999996},{"$f":"P1546-(P1546/1.0025)","v":6.683291770573252E-3},2.68]
[{"$error":"#N/A"},null,null,null,null,881097,"BSD","BSD","PK","CLIP,PAPER,NO PVC,450,AST"," ",9.6401117318435752,7,{"$f":"VLOOKUP(M1547,DFL!A:E,5,0)","v":0.72},{"$f":"P1547-(P1547/1.0025)","v":6.7331670822943224E-3},2.7]
[{"$error":"#N/A"},null,null,null,null,7930588,"BSD","BSD","PK","FILLER,LT,TUL,NR,SPRG,ASSORTED",null,9.92,30,{"$f":"VLOOKUP(M1548,DFL!A:E,5,0)","v":0.73},{"$f":"P1548-(P1548/1.0025)","v":6.683291770573252E-3},2.68]
[{"$error":"#N/A"},null,null,null,null,802660,null,"SPR","EA","RIBBON,SEIKO EPC UNIV,BLK/RED"," ",4.99,14,{"$f":"VLOOKUP(M1549,DFL!A:H,8,0)","v":0.31},{"$f":"P1549-(P1549/1.0025)","v":8.5785536159597164E-3},3.44]
[{"$error":"#N/A"},null,null,null,null,4458530,"SPR","SPR","EA","BOOK,STENO,GREGG,60SH,WE",null,6.4,30,{"$f":"VLOOKUP(M1550,DFL!A:H,8,0)","v":0.57999999999999996},{"$f":"P1550-(P1550/1.0025)","v":6.7082294264335651E-3},2.69]
[{"$error":"#N/A"},null,null,null,null,448921,"BSD","BSD","EA","SCALE,TRINGLR,12\",ARCHITECT"," ",8.9499999999999993,34,{"$f":"VLOOKUP(M1551,DFL!A:E,5,0)","v":0.7},{"$f":"P1551-(P1551/1.0025)","v":6.7082294264335651E-3},2.69]
[{"$error":"#N/A"},null,null,null,null,909010,"SPR","SPR","EA","SHARPENER,PENCIL,W/CONTAINER",null,4.08,21,{"$f":"VLOOKUP(M1552,DFL!A:H,8,0)","v":0.28999999999999998},{"$f":"P1552-(P1552/1.0025)","v":7.2319201995010296E-3},2.9]
[{"$error":"#N/A"},null,null,null,null,360738,"SPR","SPR","PR","GLOVE;WORK;PALM;LEATHER;L",null,4.57,22,{"$f":"VLOOKUP(M1553,DFL!A:H,8,0)","v":0.41},{"$f":"P1553-(P1553/1.0025)","v":6.7331670822943224E-3},2.7]
[{"$error":"#N/A"},null,null,null,null,5377956,"BSD","BSD","EA","CLEANER,PAKIT,NONACID,5,RED",null,5.39,19,{"$f":"VLOOKUP(M1554,DFL!A:E,5,0)","v":0.5},{"$f":"P1554-(P1554/1.0025)","v":6.7331670822943224E-3},2.7]
[{"$error":"#N/A"},null,null,null,null,5443875,"BSD","BSD","EA","CLEANER,PAKIT,CITRUS,5,ORANGE",null,5.39,19,{"$f":"VLOOKUP(M1555,DFL!A:E,5,0)","v":0.5},{"$f":"P1555-(P1555/1.0025)","v":6.7331670822943224E-3},2.7]
[{"$error":"#N/A"},null,null,null,null,8666509,"BSD","BSD","EA","CLEANER,PAKIT,BASIN,5,PINK",null,5.39,19,{"$f":"VLOOKUP(M1556,DFL!A:E,5,0)","v":0.5},{"$f":"P1556-(P1556/1.0025)","v":6.7331670822943224E-3},2.7]
[{"$error":"#N/A"},null,null,null,null,963118,"SPR","SPR","PK","PAPER,CNST,9X12,50/PK,BAS","050/000,EPP (eVine),50% recycled fiber content",5.4,47,{"$f":"VLOOKUP(M1557,DFL!A:H,8,0)","v":0.5},{"$f":"P1557-(P1557/1.0025)","v":6.7331670822943224E-3},2.7]
[{"$error":"#N/A"},null,null,null,null,230136,"SPR","SPR","PK","PAPER;CONST;9X12;PURPL;50SH",null,5.4,47,{"$f":"VLOOKUP(M1558,DFL!A:H,8,0)","v":0.5},{"$f":"P1558-(P1558/1.0025)","v":6.7331670822943224E-3},2.7]
[{"$error":"#N/A"},null,null,null,null,129531,"SPR","SPR","ST","CLR COATED TB, ASS'T,J-D,EN"," ",7.19,35,{"$f":"VLOOKUP(M1559,DFL!A:H,8,0)","v":0.6},{"$f":"P1559-(P1559/1.0025)","v":7.1820448877804033E-3},2.88]
[{"$error":"#N/A"},null,null,null,null,9834476,"BSD","BSD","EA","NOTEBOOK,STELLAR,1S,CR,100,MNT",null,10.029999999999999,30,{"$f":"VLOOKUP(M1560,DFL!A:E,5,0)","v":0.73},{"$f":"P1560-(P1560/1.0025)","v":6.7581047381546355E-3},2.71]
[{"$error":"#N/A"},null,null,null,null,541326,"SPR","SPR","PK","BATTERY,PHOTO,ENERGIZER,N,2/PK"," ",5.27,6,{"$f":"VLOOKUP(M1561,DFL!A:H,8,0)","v":0.47},{"$f":"P1561-(P1561/1.0025)","v":6.9576059850371408E-3},2.79]
[{"$error":"#N/A"},null,null,null,null,375006,"SPR","SPR","DZ","PEN,STIC,CRYSTAL,BIC,12-PK,BLK"," ",6.03,33,{"$f":"VLOOKUP(M1562,DFL!A:H,8,0)","v":0.55000000000000004},{"$f":"P1562-(P1562/1.0025)","v":6.7581047381546355E-3},2.71]
[{"$error":"#N/A"},null,null,null,null,375014,"SPR","SPR","DZ","PEN,STIC,CRYSTAL,BIC,12-PK,BLU"," ",6.03,33,{"$f":"VLOOKUP(M1563,DFL!A:H,8,0)","v":0.55000000000000004},{"$f":"P1563-(P1563/1.0025)","v":6.7581047381546355E-3},2.71]
[{"$error":"#N/A"},null,null,null,null,375022,"SPR","SPR","DZ"," PEN STIC BIC MED 12/PK RED",null,6.03,33,{"$f":"VLOOKUP(M1564,DFL!A:H,8,0)","v":0.55000000000000004},{"$f":"P1564-(P1564/1.0025)","v":6.7581047381546355E-3},2.71]
[{"$error":"#N/A"},null,null,null,null,589086,"BSD","BSD","EA","PORTFOLIO,POLY,FASTENERS, BLK"," ",10.27,35,{"$f":"VLOOKUP(M1565,DFL!A:E,5,0)","v":0.7},{"$f":"P1565-(P1565/1.0025)","v":7.6807980049875546E-3},3.08]
[{"$error":"#N/A"},null,null,null,null,589113,"BSD","BSD","EA","PORTFOLIO,POLY,FASTENERS,RED"," ",10.27,35,{"$f":"VLOOKUP(M1566,DFL!A:E,5,0)","v":0.7},{"$f":"P1566-(P1566/1.0025)","v":7.6807980049875546E-3},3.08]
[{"$error":"#N/A"},null,null,null,null,589158,"BSD","BSD","EA","PORTFOLIO,POLY,FASTENERS,GREEN"," ",10.27,35,{"$f":"VLOOKUP(M1567,DFL!A:E,5,0)","v":0.7},{"$f":"P1567-(P1567/1.0025)","v":7.6807980049875546E-3},3.08]
[{"$error":"#N/A"},null,null,null,null,589194,"BSD","BSD","EA","PORTFOLIO,POLY,FASTENERS,YLW"," ",10.27,35,{"$f":"VLOOKUP(M1568,DFL!A:E,5,0)","v":0.7},{"$f":"P1568-(P1568/1.0025)","v":7.6807980049875546E-3},3.08]
[{"$error":"#N/A"},null,null,null,null,589203,"BSD","BSD","EA","PORTFOLIO,POLY,FASTENERS,BLUE"," ",10.27,35,{"$f":"VLOOKUP(M1569,DFL!A:E,5,0)","v":0.7},{"$f":"P1569-(P1569/1.0025)","v":7.6807980049875546E-3},3.08]
[{"$error":"#N/A"},null,null,null,null,589212,"BSD","BSD","EA","PORTFOLIO,POLY,FASTENERS,PRPL"," ",10.27,35,{"$f":"VLOOKUP(M1570,DFL!A:E,5,0)","v":0.7},{"$f":"P1570-(P1570/1.0025)","v":7.6807980049875546E-3},3.08]
[{"$error":"#N/A"},null,null,null,null,560484,null,"SPR","PK","PUSHPINS,50PK,LARGE,ASTD",null,10.64,7,{"$f":"VLOOKUP(M1571,DFL!A:H,8,0)","v":0.46},{"$f":"P1571-(P1571/1.0025)","v":1.4339152119700493E-2},5.75]
[{"$error":"#N/A"},null,null,null,null,9831393,"BSD","BSD","EA","NOTEBOOK,STELLAR,1S,CR,100,WHT",null,10.039999999999999,30,{"$f":"VLOOKUP(M1572,DFL!A:E,5,0)","v":0.73},{"$f":"P1572-(P1572/1.0025)","v":6.7581047381546355E-3},2.71]
[{"$error":"#N/A"},null,null,null,null,128364,null,"SPR","PK","FLUFF;CRAFT;COTTN;WE;100CT",null,3.89,48,{"$f":"VLOOKUP(M1573,DFL!A:H,8,0)","v":0.3},{"$f":"P1573-(P1573/1.0025)","v":6.7830423940149487E-3},2.72]
[{"$error":"#N/A"},null,null,null,null,293359,"BSD","BSD","EA","COFFEMATE,LITE,CNSTR,11OZ"," ",4.7503862660944201,48,{"$f":"VLOOKUP(M1574,DFL!A:E,5,0)","v":0.42},{"$f":"P1574-(P1574/1.0025)","v":6.8827930174562013E-3},2.76]
[{"$error":"#N/A"},null,null,null,null,908108,"SPR","SPR","EA","REEL;ID CARD;QUICK CLIP",null,5.75,5,{"$f":"VLOOKUP(M1575,DFL!A:H,8,0)","v":0.45},{"$f":"P1575-(P1575/1.0025)","v":7.8802992518700599E-3},3.16]
[{"$error":"#N/A"},null,null,null,null,321976,"SPR","SPR","EA","RULER,STAINLESS STEEL,6\"\"",null,6.6,34,{"$f":"VLOOKUP(M1576,DFL!A:H,8,0)","v":0.55000000000000004},{"$f":"P1576-(P1576/1.0025)","v":7.4064837905236658E-3},2.97]
[{"$error":"#N/A"},null,null,null,null,119594,"BSD","BSD","BX","CRAYONS,CRAYOLA,64PK","Less Harsh Chemicals,ACMI certified",6.33,47,{"$f":"VLOOKUP(M1577,DFL!A:E,5,0)","v":0.56999999999999995},{"$f":"P1577-(P1577/1.0025)","v":6.7830423940149487E-3},2.72]
[{"$error":"#N/A"},null,null,null,null,371674,"BSD","BSD","BX","STAPLES,B8,ARCH CR,1/4\",5M,STD"," ",8.69,37,{"$f":"VLOOKUP(M1578,DFL!A:E,5,0)","v":0.65},{"$f":"P1578-(P1578/1.0025)","v":7.5810473815458579E-3},3.04]
[{"$error":"#N/A"},null,null,null,null,221720,"BSD","BSD","PK","CLIP,PPR,#1,PRM SMTH,OD,500PK"," ",10.25,7,{"$f":"VLOOKUP(M1579,DFL!A:E,5,0)","v":0.72},{"$f":"P1579-(P1579/1.0025)","v":7.1571072319200901E-3},2.87]
[{"$error":"#N/A"},null,null,null,null,650457,"SPR","SPR","RL","TAPE,SEALING,2X22YD,DISP,CLEAR"," ",5.45,39,{"$f":"VLOOKUP(M1580,DFL!A:H,8,0)","v":0.5},{"$f":"P1580-(P1580/1.0025)","v":6.8079800498752618E-3},2.73]
[{"$error":"#N/A"},null,null,null,null,949438,"SPR","SPR","EA","PAINT;16 OZ WSHABLE;VL",null,5.45,47,{"$f":"VLOOKUP(M1581,DFL!A:H,8,0)","v":0.5},{"$f":"P1581-(P1581/1.0025)","v":6.8079800498752618E-3},2.73]
[{"$error":"#N/A"},null,null,null,null,591123,"SPR","SPR","ST","PROTECTOR,SHT W/TAB,11X8.5",null,8.08,35,{"$f":"VLOOKUP(M1582,DFL!A:H,8,0)","v":0.6},{"$f":"P1582-(P1582/1.0025)","v":8.0548628428926961E-3},3.23]
[{"$error":"#N/A"},null,null,null,null,490486,"BSD","BSD","ST","INDEX,DIV,8TB,PCKTS,AST"," ",13.45,35,{"$f":"VLOOKUP(M1583,DFL!A:E,5,0)","v":0.7},{"$f":"P1583-(P1583/1.0025)","v":1.0074812967580726E-2},4.04]
[{"$error":"#N/A"},null,null,null,null,676973,"BSD","BSD","EA","6X9 PLASTIC CLIPBOARD BLK"," ",10.17,35,{"$f":"VLOOKUP(M1584,DFL!A:E,5,0)","v":0.7},{"$f":"P1584-(P1584/1.0025)","v":7.605985037406171E-3},3.05]
[{"$error":"#N/A"},null,null,null,null,993972,"SPR","SPR","EA","SHELF BIN 4X4X12 YELLOW"," ",4.72,36,{"$f":"VLOOKUP(M1585,DFL!A:H,8,0)","v":0.36},{"$f":"P1585-(P1585/1.0025)","v":7.5311720698252316E-3},3.02]
[{"$error":"#N/A"},null,null,null,null,334861,"SPR","SPR","EA","HOLDER;PAD;GRAY",null,4.9800000000000004,19,{"$f":"VLOOKUP(M1586,DFL!A:H,8,0)","v":0.45},{"$f":"P1586-(P1586/1.0025)","v":6.832917705735575E-3},2.74]
[{"$error":"#N/A"},null,null,null,null,939183,"SPR","SPR","EA","CRAYON;BGHT;DRYERS;8/BX",null,5.47,47,{"$f":"VLOOKUP(M1587,DFL!A:H,8,0)","v":0.5},{"$f":"P1587-(P1587/1.0025)","v":6.832917705735575E-3},2.74]
[{"$error":"#N/A"},null,null,null,null,934315,"SPR","SPR","EA","COVER,PSBD,11X8.5,CLTH,BLK","060/030,EPP (eVine),CPG,60% recycled content, 30% post-consumer (stock)",6.84,35,{"$f":"VLOOKUP(M1588,DFL!A:H,8,0)","v":0.6},{"$f":"P1588-(P1588/1.0025)","v":6.832917705735575E-3},2.74]
[{"$error":"#N/A"},null,null,null,null,194100,"BSD","BSD","EA","FORM,SALES,NCR,4.25X6-3/8,2PT"," ",6.43,11,{"$f":"VLOOKUP(M1589,DFL!A:E,5,0)","v":0.57999999999999996},{"$f":"P1589-(P1589/1.0025)","v":6.7331670822943224E-3},2.7]
[{"$error":"#N/A"},null,null,null,null,243984,"BSD","BSD","PK","POUCH,LAMT,4X6 PHOTO ,25PK",null,8.67,8,{"$f":"VLOOKUP(M1590,DFL!A:E,5,0)","v":0.65},{"$f":"P1590-(P1590/1.0025)","v":7.5561097256855447E-3},3.03]
[{"$error":"#N/A"},null,null,null,null,6826483,"BSD","BSD","EA","PLASTIC CLIPBOARD CLEAR"," ",10.26,35,{"$f":"VLOOKUP(M1591,DFL!A:E,5,0)","v":0.7},{"$f":"P1591-(P1591/1.0025)","v":7.6807980049875546E-3},{"$f":"ROUND(L1591*(1-N1591),2)","v":3.08}]
[{"$error":"#N/A"},null,null,null,null,477678,"BSD","BSD","PK","CLIPBOARD,LEGAL,OD,2/PK,WOOD"," ",12.42,35,{"$f":"VLOOKUP(M1592,DFL!A:E,5,0)","v":0.7},{"$f":"P1592-(P1592/1.0025)","v":9.3017456359101303E-3},3.73]
[{"$error":"#N/A"},null,null,null,null,837905,"BSD","BSD","EA","BOOK,COMP,PRIMARY,RULE,100CT"," ",10.18,30,{"$f":"VLOOKUP(M1593,DFL!A:E,5,0)","v":0.73},{"$f":"P1593-(P1593/1.0025)","v":6.8578553615958882E-3},2.75]
[{"$error":"#N/A"},null,null,null,null,832003,"SPR","SPR","EA","DISHWAND,HEAVY DUTY,SCTCHBRITE"," ",5.01,19,{"$f":"VLOOKUP(M1594,DFL!A:H,8,0)","v":0.45},{"$f":"P1594-(P1594/1.0025)","v":6.8827930174562013E-3},2.76]
[{"$error":"#N/A"},null,null,null,null,927673,"SPR","SPR","EA","MARKER,FELT,FINE POINT,WHITE"," ",5.3,28,{"$f":"VLOOKUP(M1595,DFL!A:H,8,0)","v":0.48},{"$f":"P1595-(P1595/1.0025)","v":6.8827930174562013E-3},2.76]
[{"$error":"#N/A"},null,null,null,null,5912210,"SPR","SPR","EA","PENCILBOX;BLUE",null,5.42,31,{"$f":"VLOOKUP(M1596,DFL!A:H,8,0)","v":0.49},{"$f":"P1596-(P1596/1.0025)","v":6.8827930174562013E-3},2.76]
[{"$error":"#N/A"},null,null,null,null,4421021,"SPR","SPR","EA","PENCILBOX;RED",null,5.42,31,{"$f":"VLOOKUP(M1597,DFL!A:H,8,0)","v":0.49},{"$f":"P1597-(P1597/1.0025)","v":6.8827930174562013E-3},2.76]
[{"$error":"#N/A"},null,null,null,null,5913421,null,"SPR","EA","PENCILBOX;YELLOW",null,5.42,31,{"$f":"VLOOKUP(M1598,DFL!A:H,8,0)","v":0.49},{"$f":"P1598-(P1598/1.0025)","v":6.8827930174562013E-3},2.76]
[{"$error":"#N/A"},null,null,null,null,550624,"SPR","SPR","EA","PAD,STAMP,#1,MICROPORE,BLACK"," ",6.14,24,{"$f":"VLOOKUP(M1599,DFL!A:H,8,0)","v":0.55000000000000004},{"$f":"P1599-(P1599/1.0025)","v":6.8827930174562013E-3},2.76]
[{"$error":"#N/A"},null,null,null,null,517677,"SPR","SPR","EA","CLPBRD,LTR,RECYCLD,PLAS,BK"," ",7.8,35,{"$f":"VLOOKUP(M1600,DFL!A:H,8,0)","v":0.6},{"$f":"P1600-(P1600/1.0025)","v":7.7805486284288072E-3},3.12]
[{"$error":"#N/A"},null,null,null,null,517686,"SPR","SPR","EA","CLPBRD,LTR,RECYCLD,PLAS,RD"," ",7.8,35,{"$f":"VLOOKUP(M1601,DFL!A:H,8,0)","v":0.6},{"$f":"P1601-(P1601/1.0025)","v":7.7805486284288072E-3},3.12]
[{"$error":"#N/A"},null,null,null,null,517695,"SPR","SPR","EA","CLPBRD,LTR,RECYCLD,PLAS,BE"," ",7.8,35,{"$f":"VLOOKUP(M1602,DFL!A:H,8,0)","v":0.6},{"$f":"P1602-(P1602/1.0025)","v":7.7805486284288072E-3},3.12]
[{"$error":"#N/A"},null,null,null,null,4044475,"SPR","SPR","RL","SCOTT KITCHEN TOWEL ROLL"," ",4.9800000000000004,40,{"$f":"VLOOKUP(M1603,DFL!A:H,8,0)","v":0.44},{"$f":"P1603-(P1603/1.0025)","v":6.9576059850371408E-3},2.79]
[{"$error":"#N/A"},null,null,null,null,618548,"SPR","SPR","PK","PAPER;FILLER;WIDE;200SH",null,6.59,30,{"$f":"VLOOKUP(M1604,DFL!A:H,8,0)","v":0.57999999999999996},{"$f":"P1604-(P1604/1.0025)","v":6.9077306733165145E-3},2.77]
[{"$error":"#N/A"},null,null,null,null,825265,"BSD","BSD","BX","PIN,PUSH,200CT,CLEAR",null,10.97,7,{"$f":"VLOOKUP(M1605,DFL!A:E,5,0)","v":0.72},{"$f":"P1605-(P1605/1.0025)","v":7.6558603491267974E-3},3.07]
[{"$error":"#N/A"},null,null,null,null,919573,"BSD","BSD","EA","COFFEEMATE,REG CANISTER 11OZ"," ",4.8,48,{"$f":"VLOOKUP(M1606,DFL!A:E,5,0)","v":0.42},{"$f":"P1606-(P1606/1.0025)","v":6.9326683291768276E-3},2.78]
[{"$error":"#N/A"},null,null,null,null,9268495,"SPR","SPR","PK","CUP,PAPER,HOT,PRINTED,8OZ",null,5.09,18,{"$f":"VLOOKUP(M1607,DFL!A:H,8,0)","v":0.44},{"$f":"P1607-(P1607/1.0025)","v":7.1072319201994638E-3},2.85]
[{"$error":"#N/A"},null,null,null,null,853367,null,"SPR","PK","CUPS,CONE,PAPER",null,4.96,18,{"$f":"VLOOKUP(M1608,DFL!A:H,8,0)","v":0.44},{"$f":"P1608-(P1608/1.0025)","v":6.9326683291768276E-3},2.78]
[{"$error":"#N/A"},null,null,null,null,274722,"SPR","SPR","PK","WIPE,BABY,NICE'N CLEAN",null,5.18,19,{"$f":"VLOOKUP(M1609,DFL!A:H,8,0)","v":0.45},{"$f":"P1609-(P1609/1.0025)","v":7.1072319201994638E-3},2.85]
[{"$error":"#N/A"},null,null,null,null,574698,"BSD","BSD","ST","DIVIDER,A-Z,OD,LEATHER,BLACK",null,7.95,8,{"$f":"VLOOKUP(M1610,DFL!A:E,5,0)","v":0.65},{"$f":"P1610-(P1610/1.0025)","v":6.9326683291768276E-3},2.78]
[{"$error":"#N/A"},null,null,null,null,449761,"BSD","BSD","EA","RULER,TRIANGLE SET"," ",9.25,34,{"$f":"VLOOKUP(M1611,DFL!A:E,5,0)","v":0.7},{"$f":"P1611-(P1611/1.0025)","v":6.9326683291768276E-3},2.78]
[{"$error":"#N/A"},null,null,null,null,473652,"SPR","SPR","RL","TAPE,POST-IT,2-LINE,1/3X700"," ",5.36,17,{"$f":"VLOOKUP(M1612,DFL!A:H,8,0)","v":0.48},{"$f":"P1612-(P1612/1.0025)","v":6.9576059850371408E-3},2.79]
[{"$error":"#N/A"},null,null,null,null,6110982,"SPR","SPR","PK","STAPLES,.1/4\"\",5000PK",null,5.59,37,{"$f":"VLOOKUP(M1613,DFL!A:H,8,0)","v":0.5},{"$f":"P1613-(P1613/1.0025)","v":6.9825436408974539E-3},2.8]
[{"$error":"#N/A"},null,null,null,null,280131,"BSD","BSD","EA","BATTERY,CALC/WTCH,3VLT,LITHIUM"," ",6.5,6,{"$f":"VLOOKUP(M1614,DFL!A:E,5,0)","v":0.56999999999999995},{"$f":"P1614-(P1614/1.0025)","v":6.9825436408974539E-3},2.8]
[{"$error":"#N/A"},null,null,null,null,908723,null,"SPR","BX","STAPLE,1/4\",15-25SHT,5000BX"," ",8.9499999999999993,37,{"$f":"VLOOKUP(M1615,DFL!A:H,8,0)","v":0.5},{"$f":"P1615-(P1615/1.0025)","v":1.1172069825436282E-2},4.4800000000000004]
[{"$error":"#N/A"},null,null,null,null,215597,"BSD","BSD","EA","MOISTENER,FINGERTIP,ERGO,1.5OZ"," ",8.49,27,{"$f":"VLOOKUP(M1616,DFL!A:E,5,0)","v":0.67},{"$f":"P1616-(P1616/1.0025)","v":6.9825436408974539E-3},2.8]
[{"$error":"#N/A"},null,null,null,null,308478,"BSD","BSD","PK","CLIP,PAPER,#1,SMTH,OD,10PK"," ",10.59,7,{"$f":"VLOOKUP(M1617,DFL!A:E,5,0)","v":0.72},{"$f":"P1617-(P1617/1.0025)","v":7.4064837905236658E-3},2.97]
[{"$error":"#N/A"},null,null,null,null,482811,null,"SPR","PK","CLIP,BNDR,MED,24/BX,ASTD COLOR",null,13.99,7,{"$f":"VLOOKUP(M1618,DFL!A:H,8,0)","v":0.46},{"$f":"P1618-(P1618/1.0025)","v":1.8827930174563079E-2},7.55]
[{"$error":"#N/A"},null,null,null,null,173047,"SPR","SPR","RL","TAPE,MAGIC,3M,3/4X1296",null,5.61,39,{"$f":"VLOOKUP(M1619,DFL!A:H,8,0)","v":0.5},{"$f":"P1619-(P1619/1.0025)","v":7.0074812967577671E-3},2.81]
[{"$error":"#N/A"},null,null,null,null,873970,"BSD","BSD","PK","GLUE,SUPER,GORILLA,2/PK",null,7.6,1,{"$f":"VLOOKUP(M1620,DFL!A:E,5,0)","v":0.63},{"$f":"P1620-(P1620/1.0025)","v":7.0074812967577671E-3},2.81]
[{"$error":"#N/A"},null,null,null,null,323116,"BSD","BSD","EA","RULER,STEEL,12\",OD,SILVER"," ",10.29,34,{"$f":"VLOOKUP(M1621,DFL!A:E,5,0)","v":0.7},{"$f":"P1621-(P1621/1.0025)","v":7.7057356608478678E-3},3.09]
[{"$error":"#N/A"},null,null,null,null,9768461,null,"SPR","EA","PSOL,CLNR,LMNFR,28FO",null,5.13,19,{"$f":"VLOOKUP(M1622,DFL!A:H,8,0)","v":0.45},{"$f":"P1622-(P1622/1.0025)","v":7.0324189526185243E-3},2.82]
[{"$error":"#N/A"},null,null,null,null,912329,"SPR","SPR","EA","PAD,STAMP,#2,FELT,BLACK"," ",6.27,24,{"$f":"VLOOKUP(M1623,DFL!A:H,8,0)","v":0.55000000000000004},{"$f":"P1623-(P1623/1.0025)","v":7.0324189526185243E-3},2.82]
[{"$error":"#N/A"},null,null,null,null,376868,"SPR","SPR","PK","TABS, POST-IT,ASST, 1X1.5",null,6.71,30,{"$f":"VLOOKUP(M1624,DFL!A:H,8,0)","v":0.57999999999999996},{"$f":"P1624-(P1624/1.0025)","v":7.0324189526185243E-3},2.82]
[{"$error":"#N/A"},null,null,null,null,998120,"SPR","SPR","ST","INDEX,1-12,11X8.5,BLACK/WHITE","030/030,EPP (eVine),CPG,30% post-consumer (paper)",7.05,35,{"$f":"VLOOKUP(M1625,DFL!A:H,8,0)","v":0.6},{"$f":"P1625-(P1625/1.0025)","v":7.0324189526185243E-3},2.82]
[{"$error":"#N/A"},null,null,null,null,998112,"SPR","SPR","ST","INDEX,1-12,11X8.5,MULTICOLOR","030/030,EPP (eVine),CPG,30% post-consumer (paper)",7.05,35,{"$f":"VLOOKUP(M1626,DFL!A:H,8,0)","v":0.6},{"$f":"P1626-(P1626/1.0025)","v":7.0324189526185243E-3},2.82]
[{"$error":"#N/A"},null,null,null,null,687319,"BSD","BSD","ST","MARKER,SET,FLIP CHART,4 COLOR"," ",7.63,28,{"$f":"VLOOKUP(M1627,DFL!A:E,5,0)","v":0.63},{"$f":"P1627-(P1627/1.0025)","v":7.0324189526185243E-3},2.82]
[{"$error":"#N/A"},null,null,null,null,235488,"SPR","SPR","EA","BATTERY,ENERG 2450 3 VOLT,WTCH",null,5.5,6,{"$f":"VLOOKUP(M1628,DFL!A:H,8,0)","v":0.47},{"$f":"P1628-(P1628/1.0025)","v":7.2817955112216559E-3},2.92]
[{"$error":"#N/A"},null,null,null,null,464833,null,"SPR","ST","HILIGHTER,BRITELN5/ST,AST",null,5.43,28,{"$f":"VLOOKUP(M1629,DFL!A:H,8,0)","v":0.48},{"$f":"P1629-(P1629/1.0025)","v":7.0324189526185243E-3},2.82]
[{"$error":"#N/A"},null,null,null,null,327919,"BSD","BSD","PK","Elmer's¬Æ Washable Disappearing Purple School Glue Sticks, 0.21 Oz., Pack Of 6 + 2 Bonus Sticks",null,8.8000000000000007,1,{"$f":"VLOOKUP(M1630,DFL!A:E,5,0)","v":0.63},{"$f":"P1630-(P1630/1.0025)","v":8.1296758104736355E-3},3.26]
[{"$error":"#N/A"},null,null,null,null,383432,null,"SPR","PK","DIVIDER,LT,TAB,POLY,5PK,GREY",null,10.37,35,{"$f":"VLOOKUP(M1631,DFL!A:H,8,0)","v":0.6},{"$f":"P1631-(P1631/1.0025)","v":1.0349127182045059E-2},4.1500000000000004]
[{"$error":"#N/A"},null,null,null,null,530120,null,"SPR","BG","RUBBERBANDS,SUPERSIZE,24CT"," ",11.17,7,{"$f":"VLOOKUP(M1632,DFL!A:H,8,0)","v":0.46},{"$f":"P1632-(P1632/1.0025)","v":1.503740648379015E-2},6.03]
[{"$error":"#N/A"},null,null,null,null,916505,"SPR","SPR","EA","VEST,STANDRD,NON-CERTIFIED",null,4.8499999999999996,22,{"$f":"VLOOKUP(M1633,DFL!A:H,8,0)","v":0.41},{"$f":"P1633-(P1633/1.0025)","v":7.132169576059777E-3},2.86]
[{"$error":"#N/A"},null,null,null,null,316979,"SPR","SPR","PK","BLADE,RPLCMT F091508,10PK",null,6.4,25,{"$f":"VLOOKUP(M1634,DFL!A:H,8,0)","v":0.49},{"$f":"P1634-(P1634/1.0025)","v":8.1296758104736355E-3},3.26]
[{"$error":"#N/A"},null,null,null,null,934372,"SPR","SPR","EA","CVR,PSBD,11X8.5,CLTH,EXRED"," ",7.16,35,{"$f":"VLOOKUP(M1635,DFL!A:H,8,0)","v":0.6},{"$f":"P1635-(P1635/1.0025)","v":7.132169576059777E-3},2.86]
[{"$error":"#N/A"},null,null,null,null,934323,"SPR","SPR","EA","COVER,PSBD,11X8.5,CLTH,LTBLU","060/030,EPP (eVine),CPG,60% recycled content, 30% post-consumer (stock)",7.16,35,{"$f":"VLOOKUP(M1636,DFL!A:H,8,0)","v":0.6},{"$f":"P1636-(P1636/1.0025)","v":7.132169576059777E-3},2.86]
[{"$error":"#N/A"},null,null,null,null,934331,"SPR","SPR","EA","COVER,PSBD,11X8.5,CLTH,DKBLU","060/030,EPP (eVine),CPG,60% recycled content, 30% post-consumer (stock)",7.16,35,{"$f":"VLOOKUP(M1637,DFL!A:H,8,0)","v":0.6},{"$f":"P1637-(P1637/1.0025)","v":7.132169576059777E-3},2.86]
[{"$error":"#N/A"},null,null,null,null,934380,"SPR","SPR","EA","CVR,PSBD,11X8.5,CLTH,EXRED","060/030,EPP (eVine),CPG,60% recycled content, 30% post-consumer (stock)",7.16,35,{"$f":"VLOOKUP(M1638,DFL!A:H,8,0)","v":0.6},{"$f":"P1638-(P1638/1.0025)","v":7.132169576059777E-3},2.86]
[{"$error":"#N/A"},null,null,null,null,470229,"BSD","BSD","ST","INDEX,A-Z,11X8.5,AST","030/030,EPP (eVine),CPG,30% post-consumer (paper)",9.5299999999999994,35,{"$f":"VLOOKUP(M1639,DFL!A:E,5,0)","v":0.7},{"$f":"P1639-(P1639/1.0025)","v":7.132169576059777E-3},2.86]
[{"$error":"#N/A"},null,null,null,null,722243,null,"SPR","PR","GLOVES,KNIT,COATED,9673LG",null,4.87,22,{"$f":"VLOOKUP(M1640,DFL!A:H,8,0)","v":0.41},{"$f":"P1640-(P1640/1.0025)","v":7.1571072319200901E-3},2.87]
[{"$error":"#N/A"},null,null,null,null,722252,"SPR","SPR","PR","GLOVES,KNIT,COATED,MED,9673",null,4.87,22,{"$f":"VLOOKUP(M1641,DFL!A:H,8,0)","v":0.41},{"$f":"P1641-(P1641/1.0025)","v":7.1571072319200901E-3},2.87]
[{"$error":"#N/A"},null,null,null,null,722297,"SPR","SPR","PR","GLOVES, KNIT,9673 COATEDXL",null,4.87,22,{"$f":"VLOOKUP(M1642,DFL!A:H,8,0)","v":0.41},{"$f":"P1642-(P1642/1.0025)","v":7.1571072319200901E-3},2.87]
[{"$error":"#N/A"},null,null,null,null,662167,"SPR","SPR","EA","TAPE,REFILLABLE,MONO,CORRECTN"," ",5.51,17,{"$f":"VLOOKUP(M1643,DFL!A:H,8,0)","v":0.48},{"$f":"P1643-(P1643/1.0025)","v":7.1571072319200901E-3},2.87]
[{"$error":"#N/A"},null,null,null,null,361433,"SPR","SPR","PK","WASHABLE PROJECT PAINT; CLASSI",null,5.73,47,{"$f":"VLOOKUP(M1644,DFL!A:H,8,0)","v":0.5},{"$f":"P1644-(P1644/1.0025)","v":7.1571072319200901E-3},2.87]
[{"$error":"#N/A"},null,null,null,null,407221,"SPR","SPR","BX","PASTELS;OIL;28CT.",null,5.73,47,{"$f":"VLOOKUP(M1645,DFL!A:H,8,0)","v":0.5},{"$f":"P1645-(P1645/1.0025)","v":7.1571072319200901E-3},2.87]
[{"$error":"#N/A"},null,null,null,null,1374463,"BSD","BSD","EA","PLASTIC CLIPBOARD BLUE"," ",10.72,35,{"$f":"VLOOKUP(M1646,DFL!A:E,5,0)","v":0.7},{"$f":"P1646-(P1646/1.0025)","v":8.0299251870323829E-3},3.22]
[{"$error":"#N/A"},null,null,null,null,795948,"BSD","BSD","DZ","PAD,PERF,RECY,5X8,WHT,LGL,RLD"," ",10.63,30,{"$f":"VLOOKUP(M1647,DFL!A:E,5,0)","v":0.73},{"$f":"P1647-(P1647/1.0025)","v":7.1571072319200901E-3},2.87]
[{"$error":"#N/A"},null,null,null,null,9727030,"SPR","SPR","EA","RING;KEY;CARRYBINER",null,4.7699999999999996,48,{"$f":"VLOOKUP(M1648,DFL!A:H,8,0)","v":0.3},{"$f":"P1648-(P1648/1.0025)","v":8.3291770573565849E-3},3.34]
[{"$error":"#N/A"},null,null,null,null,5042024,"BSD","BSD","EA"," ALL PURP CLNR ECO CLN 32OZ",null,5.99,40,{"$f":"VLOOKUP(M1649,DFL!A:E,5,0)","v":0.52},{"$f":"P1649-(P1649/1.0025)","v":7.1820448877804033E-3},2.88]
[{"$error":"#N/A"},null,null,null,null,5611952,"SPR","SPR","EA","BOOK,STENO,GREGG,70SH,GRN",null,6.86,30,{"$f":"VLOOKUP(M1650,DFL!A:H,8,0)","v":0.57999999999999996},{"$f":"P1650-(P1650/1.0025)","v":7.1820448877804033E-3},2.88]
[{"$error":"#N/A"},null,null,null,null,288517,"BSD","BSD","DZ","PEN,Z-GRIP,BP,RTRCT,MED,DZ,BLK"," ",8.24,33,{"$f":"VLOOKUP(M1651,DFL!A:E,5,0)","v":0.65},{"$f":"P1651-(P1651/1.0025)","v":7.1820448877804033E-3},2.88]
[{"$error":"#N/A"},null,null,null,null,288587,"BSD","BSD","DZ","PEN,Z-GRIP,RT,BP,MED,DZ,BLUE"," ",8.24,33,{"$f":"VLOOKUP(M1652,DFL!A:E,5,0)","v":0.65},{"$f":"P1652-(P1652/1.0025)","v":7.1820448877804033E-3},2.88]
[{"$error":"#N/A"},null,null,null,null,760478,"BSD","BSD","DZ","PEN,Z-GRIP,BP,RTRCT,MED,DZ,RED"," ",8.24,33,{"$f":"VLOOKUP(M1653,DFL!A:E,5,0)","v":0.65},{"$f":"P1653-(P1653/1.0025)","v":7.1820448877804033E-3},2.88]
[{"$error":"#N/A"},null,null,null,null,662747,null,"SPR","PK","DIVIDER,LT,POCKETS,POLY,GREY",null,10.63,35,{"$f":"VLOOKUP(M1654,DFL!A:H,8,0)","v":0.6},{"$f":"P1654-(P1654/1.0025)","v":1.0598503740648191E-2},4.25]
[{"$error":"#N/A"},null,null,null,null,454227,"SPR","SPR","PK","PENCIL;TWT-ERCLK;2-PK;BCA",null,6.45,33,{"$f":"VLOOKUP(M1655,DFL!A:H,8,0)","v":0.55000000000000004},{"$f":"P1655-(P1655/1.0025)","v":7.2319201995010296E-3},{"$f":"ROUND(L1655*(1-N1655),2)","v":2.9}]
[{"$error":"#N/A"},null,null,null,null,105867,"SPR","SPR","EA","LP DRYLINE GRIP 1/CD CORR TAPE"," ",5.59,17,{"$f":"VLOOKUP(M1656,DFL!A:H,8,0)","v":0.48},{"$f":"P1656-(P1656/1.0025)","v":7.2568578553613428E-3},2.91]
[{"$error":"#N/A"},null,null,null,null,950014,"SPR","SPR","ST","Crayola¬Æ So Big‚Ñ¢ Washable Watercolor Set, Set Of 4 Colors",null,5.82,47,{"$f":"VLOOKUP(M1657,DFL!A:H,8,0)","v":0.5},{"$f":"P1657-(P1657/1.0025)","v":7.2568578553613428E-3},2.91]
[{"$error":"#N/A"},null,null,null,null,811943,"BSD","BSD","DZ","PENCILS,MECHANICAL,0.7M,12/BOX"," ",8.32,33,{"$f":"VLOOKUP(M1658,DFL!A:E,5,0)","v":0.65},{"$f":"P1658-(P1658/1.0025)","v":7.2568578553613428E-3},2.91]
[{"$error":"#N/A"},null,null,null,null,168329,"BSD","BSD","EA","SNACK,PNTBTR,JIFFCRMYTOGO,12OZ"," ",5.03,48,{"$f":"VLOOKUP(M1659,DFL!A:E,5,0)","v":0.42},{"$f":"P1659-(P1659/1.0025)","v":7.2817955112216559E-3},2.92]
[{"$error":"#N/A"},null,null,null,null,253801,"SPR","SPR","PK","CLIP,WIRE,CORD AWAY,6PK"," ",5.05,48,{"$f":"VLOOKUP(M1660,DFL!A:H,8,0)","v":0.3},{"$f":"P1660-(P1660/1.0025)","v":8.8279301745632921E-3},3.54]
[{"$error":"#N/A"},null,null,null,null,246351,null,"SPR","EA","GROMMET,CORD AWAY,2\",BLACK"," ",5.05,48,{"$f":"VLOOKUP(M1661,DFL!A:H,8,0)","v":0.3},{"$f":"P1661-(P1661/1.0025)","v":8.8279301745632921E-3},3.54]
[{"$error":"#N/A"},null,null,null,null,439493,"SPR","SPR","PK","MARKER;PERM;CHSLTP;4/CD;AST",null,5.63,28,{"$f":"VLOOKUP(M1662,DFL!A:H,8,0)","v":0.48},{"$f":"P1662-(P1662/1.0025)","v":7.3067331670819691E-3},2.93]
[{"$error":"#N/A"},null,null,null,null,511995,"SPR","SPR","RL","TAPE,SEALING,CT,2\"X22,CLR"," ",6.17,39,{"$f":"VLOOKUP(M1663,DFL!A:H,8,0)","v":0.5},{"$f":"P1663-(P1663/1.0025)","v":7.7057356608478678E-3},3.09]
[{"$error":"#N/A"},null,null,null,null,723206,null,"SPR","PK","SCRAPER,LABEL,MONARCH"," ",4.2,48,{"$f":"VLOOKUP(M1664,DFL!A:H,8,0)","v":0.3},{"$f":"P1664-(P1664/1.0025)","v":7.3316708229422822E-3},2.94]
[{"$error":"#N/A"},null,null,null,null,4541276,null,"SPR","BX","BANDAGE,ANTIBAC,0.75X4,AST",null,4.99,22,{"$f":"VLOOKUP(M1665,DFL!A:H,8,0)","v":0.41},{"$f":"P1665-(P1665/1.0025)","v":7.3316708229422822E-3},2.94]
[{"$error":"#N/A"},null,null,null,null,6042771,null,"SPR","BX","BANDAGE,ANTIBAC,1X3.25,AST",null,4.99,22,{"$f":"VLOOKUP(M1666,DFL!A:H,8,0)","v":0.41},{"$f":"P1666-(P1666/1.0025)","v":7.3316708229422822E-3},2.94]
[{"$error":"#N/A"},null,null,null,null,507221,"SPR","SPR","ST","SET;BRUSH;HOBBY;AST;5CT",null,6.11,47,{"$f":"VLOOKUP(M1667,DFL!A:H,8,0)","v":0.5},{"$f":"P1667-(P1667/1.0025)","v":7.6309226932664842E-3},3.06]
[{"$error":"#N/A"},null,null,null,null,724145,"SPR","SPR","EA","BK COMP SQ DL3SUB120CT",null,7.01,30,{"$f":"VLOOKUP(M1668,DFL!A:H,8,0)","v":0.57999999999999996},{"$f":"P1668-(P1668/1.0025)","v":7.3316708229422822E-3},2.94]
[{"$error":"#N/A"},null,null,null,null,2480337,"SPR","SPR","EA","BOOK,COMPOSITION,BLK MARBLE",null,7.01,30,{"$f":"VLOOKUP(M1669,DFL!A:H,8,0)","v":0.57999999999999996},{"$f":"P1669-(P1669/1.0025)","v":7.3316708229422822E-3},2.94]
[{"$error":"#N/A"},null,null,null,null,823211,"SPR","SPR","ST","INDEX,11X8.5,MOS,LEATHER,BLK"," ",8.35,35,{"$f":"VLOOKUP(M1670,DFL!A:H,8,0)","v":0.6},{"$f":"P1670-(P1670/1.0025)","v":8.3291770573565849E-3},3.34]
[{"$error":"#N/A"},null,null,null,null,5012541,null,"SPR","PK"," DIVIDRS 5.5X8.5 12MTH TUL RY24",null,6.99,11,{"$f":"VLOOKUP(M1671,DFL!A:H,8,0)","v":0.46},{"$f":"P1671-(P1671/1.0025)","v":9.4014962593513829E-3},3.77]
[{"$error":"#N/A"},null,null,null,null,5893198,null,"SPR","EA"," DESKPAD M 22X17 1C OD RY24",null,6.99,11,{"$f":"VLOOKUP(M1672,DFL!A:H,8,0)","v":0.46},{"$f":"P1672-(P1672/1.0025)","v":9.4014962593513829E-3},3.77]
[{"$error":"#N/A"},null,null,null,null,4748901,null,"SPR","EA","SOAP,OIL,MRPHY,ORGNL,16OZ",null,5.4223902439024396,19,{"$f":"VLOOKUP(M1673,DFL!A:H,8,0)","v":0.45},{"$f":"P1673-(P1673/1.0025)","v":7.4314214463839789E-3},2.98]
[{"$error":"#N/A"},null,null,null,null,8890753,"SPR","SPR","EA","CLNR;TOILET;FOREST;24OZ",null,5.37,19,{"$f":"VLOOKUP(M1674,DFL!A:H,8,0)","v":0.45},{"$f":"P1674-(P1674/1.0025)","v":7.3566084788030395E-3},2.95]
[2.88,null,null,null,null,263158,"SPR","SPR","EA","CLNR;TOILET BOWL;24OZ;BLUE",null,5.37,19,{"$f":"VLOOKUP(M1675,DFL!A:H,8,0)","v":0.45},{"$f":"P1675-(P1675/1.0025)","v":7.3566084788030395E-3},2.95]
[{"$error":"#N/A"},null,null,null,null,785380,null,"SPR","RL","TAPE,SEAL,48MMX100M",null,5.89,39,{"$f":"VLOOKUP(M1676,DFL!A:H,8,0)","v":0.5},{"$f":"P1676-(P1676/1.0025)","v":7.3566084788030395E-3},2.95]
[{"$error":"#N/A"},null,null,null,null,667903,null,"SPR","PK","PENCIL;TICONDEROGA;BK;10/CD",null,6.55,33,{"$f":"VLOOKUP(M1677,DFL!A:H,8,0)","v":0.55000000000000004},{"$f":"P1677-(P1677/1.0025)","v":7.3566084788030395E-3},2.95]
[{"$error":"#N/A"},null,null,null,null,408344,"BSD","BSD","PK","FLUID,CORR,BOND,WHITE,3/PK"," ",7.96,28,{"$f":"VLOOKUP(M1678,DFL!A:E,5,0)","v":0.63},{"$f":"P1678-(P1678/1.0025)","v":7.3566084788030395E-3},2.95]
[{"$error":"#N/A"},null,null,null,null,186534,"BSD","BSD","EA","TRAY,LETTER,RECYCLED"," ",8.1999999999999993,31,{"$f":"VLOOKUP(M1679,DFL!A:E,5,0)","v":0.64},{"$f":"P1679-(P1679/1.0025)","v":7.3566084788030395E-3},2.95]
[{"$error":"#N/A"},null,null,null,null,750067,"BSD","BSD","PK","SIGN HERE TAPE FLAG"," ",9.84,35,{"$f":"VLOOKUP(M1680,DFL!A:E,5,0)","v":0.7},{"$f":"P1680-(P1680/1.0025)","v":7.3566084788030395E-3},2.95]
[{"$error":"#N/A"},null,null,null,null,866336,null,"SPR","PK","FILLER,GRAPH,LETTER,8.5X11",null,10.92,30,{"$f":"VLOOKUP(M1681,DFL!A:H,8,0)","v":0.57999999999999996},{"$f":"P1681-(P1681/1.0025)","v":1.1446384039899726E-2},4.59]
[{"$error":"#N/A"},null,null,null,null,780615,"SPR","SPR","PK","STRIPS,ADHESIVE,REPLACEMENT,8P",null,5.7,1,{"$f":"VLOOKUP(M1682,DFL!A:H,8,0)","v":0.48},{"$f":"P1682-(P1682/1.0025)","v":7.3815461346633526E-3},2.96]
[{"$error":"#N/A"},null,null,null,null,752871,"SPR","SPR","PK","REFILL,VIS,ELT 2/PK,BLACK"," ",7.02,33,{"$f":"VLOOKUP(M1683,DFL!A:H,8,0)","v":0.55000000000000004},{"$f":"P1683-(P1683/1.0025)","v":7.8802992518700599E-3},3.16]
[{"$error":"#N/A"},null,null,null,null,804041,"SPR","SPR","EA","PAD,LEGAL,WIREBND,70SHT,WE",null,7.05,30,{"$f":"VLOOKUP(M1684,DFL!A:H,8,0)","v":0.57999999999999996},{"$f":"P1684-(P1684/1.0025)","v":7.3815461346633526E-3},2.96]
[{"$error":"#N/A"},null,null,null,null,552548,"SPR","SPR","EA","CLIPBOARD,9X12,NEON ORANGE"," ",8.18,35,{"$f":"VLOOKUP(M1685,DFL!A:H,8,0)","v":0.6},{"$f":"P1685-(P1685/1.0025)","v":8.1546134663339487E-3},3.27]
[{"$error":"#N/A"},null,null,null,null,552557,"SPR","SPR","EA","CLIPBOARD,9X12,NEON GREEN"," ",8.18,35,{"$f":"VLOOKUP(M1686,DFL!A:H,8,0)","v":0.6},{"$f":"P1686-(P1686/1.0025)","v":8.1546134663339487E-3},3.27]
[{"$error":"#N/A"},null,null,null,null,552566,"SPR","SPR","EA","CLIPBOARD,9X12,NEON PINK"," ",8.18,35,{"$f":"VLOOKUP(M1687,DFL!A:H,8,0)","v":0.6},{"$f":"P1687-(P1687/1.0025)","v":8.1546134663339487E-3},3.27]
[{"$error":"#N/A"},null,null,null,null,552584,"SPR","SPR","EA","CLIPBOARD,9X12,SMOKE"," ",8.18,35,{"$f":"VLOOKUP(M1688,DFL!A:H,8,0)","v":0.6},{"$f":"P1688-(P1688/1.0025)","v":8.1546134663339487E-3},3.27]
[{"$error":"#N/A"},null,null,null,null,422560,"BSD","BSD","EA","NOTEBOOK,BUSINESS,5X8"," ",10.98,30,{"$f":"VLOOKUP(M1689,DFL!A:E,5,0)","v":0.73},{"$f":"P1689-(P1689/1.0025)","v":7.3815461346633526E-3},2.96]
[{"$error":"#N/A"},null,null,null,null,7939562,"SPR","SPR","PK","LABEL;C/C YR-24;ETS;FLAT",null,6.73,26,{"$f":"VLOOKUP(M1690,DFL!A:H,8,0)","v":0.44},{"$f":"P1690-(P1690/1.0025)","v":9.4014962593513829E-3},3.77]
[{"$error":"#N/A"},null,null,null,null,597475,"SPR","SPR","PK","BADGE,NAME,HELLO,RD BRDR"," ",5.4,5,{"$f":"VLOOKUP(M1691,DFL!A:H,8,0)","v":0.45},{"$f":"P1691-(P1691/1.0025)","v":7.4064837905236658E-3},2.97]
[{"$error":"#N/A"},null,null,null,null,641092,"SPR","SPR","PK","BADGE,NAME,GLD,BORDERED,1C/PK"," ",5.4,5,{"$f":"VLOOKUP(M1692,DFL!A:H,8,0)","v":0.45},{"$f":"P1692-(P1692/1.0025)","v":7.4064837905236658E-3},2.97]
[{"$error":"#N/A"},null,null,null,null,217984,"SPR","SPR","PK","BADGE,NAME,BLU,BORDERED,1C/PK"," ",5.4,5,{"$f":"VLOOKUP(M1693,DFL!A:H,8,0)","v":0.45},{"$f":"P1693-(P1693/1.0025)","v":7.4064837905236658E-3},2.97]
[{"$error":"#N/A"},null,null,null,null,502336,"SPR","SPR","ST","MARKER;BROADLINE;WSHBLE;8CT",null,5.71,28,{"$f":"VLOOKUP(M1694,DFL!A:H,8,0)","v":0.48},{"$f":"P1694-(P1694/1.0025)","v":7.4064837905236658E-3},2.97]
[{"$error":"#N/A"},null,null,null,null,276068,"BSD","BSD","PK","CUP,HOT,8OZ,PATH,50PK"," ",7.59,18,{"$f":"VLOOKUP(M1695,DFL!A:E,5,0)","v":0.55000000000000004},{"$f":"P1695-(P1695/1.0025)","v":8.5286783042390901E-3},3.42]
[{"$error":"#N/A"},null,null,null,null,921049,"SPR","SPR","PK","INDEX,LTR,SIDE TAB,\"6\", 2","030/030,EPP (eVine),CPG,30% post-consumer (paper)",7.42,35,{"$f":"VLOOKUP(M1696,DFL!A:H,8,0)","v":0.6},{"$f":"P1696-(P1696/1.0025)","v":7.4064837905236658E-3},2.97]
[{"$error":"#N/A"},null,null,null,null,997460,"SPR","SPR","PK","INDEX DIVIDER LEGAL"," ",7.42,35,{"$f":"VLOOKUP(M1697,DFL!A:H,8,0)","v":0.6},{"$f":"P1697-(P1697/1.0025)","v":7.4064837905236658E-3},2.97]
[{"$error":"#N/A"},null,null,null,null,105197,"SPR","SPR","PK","LGL INDX SD TB LTR SIZE A"," ",7.42,35,{"$f":"VLOOKUP(M1698,DFL!A:H,8,0)","v":0.6},{"$f":"P1698-(P1698/1.0025)","v":7.4064837905236658E-3},2.97]
[{"$error":"#N/A"},null,null,null,null,105205,"SPR","SPR","PK","INDEX,LTR,BOT TAB,EXHIBIT B"," ",7.42,35,{"$f":"VLOOKUP(M1699,DFL!A:H,8,0)","v":0.6},{"$f":"P1699-(P1699/1.0025)","v":7.4064837905236658E-3},2.97]
[{"$error":"#N/A"},null,null,null,null,105213,"SPR","SPR","PK","INDEX,LTR,BOT TAB,EXHIBIT C"," ",7.42,35,{"$f":"VLOOKUP(M1700,DFL!A:H,8,0)","v":0.6},{"$f":"P1700-(P1700/1.0025)","v":7.4064837905236658E-3},2.97]
[{"$error":"#N/A"},null,null,null,null,105221,"SPR","SPR","PK","INDEX,LTR,BOT TAB,EXHIBIT D"," ",7.42,35,{"$f":"VLOOKUP(M1701,DFL!A:H,8,0)","v":0.6},{"$f":"P1701-(P1701/1.0025)","v":7.4064837905236658E-3},2.97]
[{"$error":"#N/A"},null,null,null,null,105239,"SPR","SPR","PK","INDEX,LTR,BOT TAB,EXHIBIT E"," ",7.42,35,{"$f":"VLOOKUP(M1702,DFL!A:H,8,0)","v":0.6},{"$f":"P1702-(P1702/1.0025)","v":7.4064837905236658E-3},2.97]
[{"$error":"#N/A"},null,null,null,null,105247,"SPR","SPR","PK","INDEX,LTR,BOT TAB,EXHIBIT F"," ",7.42,35,{"$f":"VLOOKUP(M1703,DFL!A:H,8,0)","v":0.6},{"$f":"P1703-(P1703/1.0025)","v":7.4064837905236658E-3},2.97]
[{"$error":"#N/A"},null,null,null,null,105254,"SPR","SPR","PK","INDEX,LTR,BOT TAB,EXHIBIT G"," ",7.42,35,{"$f":"VLOOKUP(M1704,DFL!A:H,8,0)","v":0.6},{"$f":"P1704-(P1704/1.0025)","v":7.4064837905236658E-3},2.97]
[{"$error":"#N/A"},null,null,null,null,725293,"SPR","SPR","ST","INDEX,SDE TB BLANK 25,WE"," ",7.42,35,{"$f":"VLOOKUP(M1705,DFL!A:H,8,0)","v":0.6},{"$f":"P1705-(P1705/1.0025)","v":7.4064837905236658E-3},2.97]
[{"$error":"#N/A"},null,null,null,null,920983,"SPR","SPR","PK","INDEX,LTR,SD TB,TBL CONT,"," ",7.42,35,{"$f":"VLOOKUP(M1706,DFL!A:H,8,0)","v":0.6},{"$f":"P1706-(P1706/1.0025)","v":7.4064837905236658E-3},2.97]
[{"$error":"#N/A"},null,null,null,null,920991,"SPR","SPR","PK","INDEX,LTR,SIDE TAB,\"1\", 2","030/030,EPP (eVine),CPG,30% post-consumer (paper)",7.42,35,{"$f":"VLOOKUP(M1707,DFL!A:H,8,0)","v":0.6},{"$f":"P1707-(P1707/1.0025)","v":7.4064837905236658E-3},2.97]
[{"$error":"#N/A"},null,null,null,null,921007,"SPR","SPR","PK","INDEX,LTR,SIDE TAB,\"2\", 2","030/030,EPP (eVine),CPG,30% post-consumer (paper)",7.42,35,{"$f":"VLOOKUP(M1708,DFL!A:H,8,0)","v":0.6},{"$f":"P1708-(P1708/1.0025)","v":7.4064837905236658E-3},2.97]
[{"$error":"#N/A"},null,null,null,null,921015,"SPR","SPR","PK","INDEX,LTR,SIDE TAB,\"3\", 2","030/030,EPP (eVine),CPG,30% post-consumer (paper)",7.42,35,{"$f":"VLOOKUP(M1709,DFL!A:H,8,0)","v":0.6},{"$f":"P1709-(P1709/1.0025)","v":7.4064837905236658E-3},2.97]
[{"$error":"#N/A"},null,null,null,null,921023,"SPR","SPR","PK","INDEX,LTR,SIDE TAB,\"4\", 2","030/030,EPP (eVine),CPG,30% post-consumer (paper)",7.42,35,{"$f":"VLOOKUP(M1710,DFL!A:H,8,0)","v":0.6},{"$f":"P1710-(P1710/1.0025)","v":7.4064837905236658E-3},2.97]
[{"$error":"#N/A"},null,null,null,null,921031,"SPR","SPR","PK","INDEX,LTR,SIDE TAB,\"5\", 2","030/030,EPP (eVine),CPG,30% post-consumer (paper)",7.42,35,{"$f":"VLOOKUP(M1711,DFL!A:H,8,0)","v":0.6},{"$f":"P1711-(P1711/1.0025)","v":7.4064837905236658E-3},2.97]
[{"$error":"#N/A"},null,null,null,null,921056,"SPR","SPR","PK","INDEX,LTR,SIDE TAB,\"7\", 2","030/030,EPP (eVine),CPG,30% post-consumer (paper)",7.42,35,{"$f":"VLOOKUP(M1712,DFL!A:H,8,0)","v":0.6},{"$f":"P1712-(P1712/1.0025)","v":7.4064837905236658E-3},2.97]
[{"$error":"#N/A"},null,null,null,null,921064,"SPR","SPR","PK","INDEX,LTR,SIDE TAB,\"8\", 2","030/030,EPP (eVine),CPG,30% post-consumer (paper)",7.42,35,{"$f":"VLOOKUP(M1713,DFL!A:H,8,0)","v":0.6},{"$f":"P1713-(P1713/1.0025)","v":7.4064837905236658E-3},2.97]
[{"$error":"#N/A"},null,null,null,null,921072,"SPR","SPR","PK","INDEX,LTR,SIDE TAB,\"9\", 2"," ",7.42,35,{"$f":"VLOOKUP(M1714,DFL!A:H,8,0)","v":0.6},{"$f":"P1714-(P1714/1.0025)","v":7.4064837905236658E-3},2.97]
[{"$error":"#N/A"},null,null,null,null,921080,"SPR","SPR","PK","INDEX,LTR,SIDE TAB,\"10\","," ",7.42,35,{"$f":"VLOOKUP(M1715,DFL!A:H,8,0)","v":0.6},{"$f":"P1715-(P1715/1.0025)","v":7.4064837905236658E-3},2.97]
[{"$error":"#N/A"},null,null,null,null,921098,"SPR","SPR","PK","INDEX,LTR,SIDE TAB,\"11\","," ",7.42,35,{"$f":"VLOOKUP(M1716,DFL!A:H,8,0)","v":0.6},{"$f":"P1716-(P1716/1.0025)","v":7.4064837905236658E-3},2.97]
[{"$error":"#N/A"},null,null,null,null,921106,"SPR","SPR","PK","INDEX,LTR,SIDE TAB,\"12\","," ",7.42,35,{"$f":"VLOOKUP(M1717,DFL!A:H,8,0)","v":0.6},{"$f":"P1717-(P1717/1.0025)","v":7.4064837905236658E-3},2.97]
[{"$error":"#N/A"},null,null,null,null,921122,"SPR","SPR","PK","INDEX,LTR,SIDE TAB,\"14\","," ",7.42,35,{"$f":"VLOOKUP(M1718,DFL!A:H,8,0)","v":0.6},{"$f":"P1718-(P1718/1.0025)","v":7.4064837905236658E-3},2.97]
[{"$error":"#N/A"},null,null,null,null,921130,"SPR","SPR","PK","INDEX,LTR,SIDE TAB,\"15\" 25/PK"," ",7.42,35,{"$f":"VLOOKUP(M1719,DFL!A:H,8,0)","v":0.6},{"$f":"P1719-(P1719/1.0025)","v":7.4064837905236658E-3},{"$f":"ROUND(L1719*(1-N1719),2)","v":2.97}]
[{"$error":"#N/A"},null,null,null,null,997452,"SPR","SPR","PK","INDEX EXHIBIT DIVIDER LEG"," ",7.42,35,{"$f":"VLOOKUP(M1720,DFL!A:H,8,0)","v":0.6},{"$f":"P1720-(P1720/1.0025)","v":7.4064837905236658E-3},2.97]
[{"$error":"#N/A"},null,null,null,null,997478,"SPR","SPR","PK","INDEX DIVIDER LEGAL"," ",7.42,35,{"$f":"VLOOKUP(M1721,DFL!A:H,8,0)","v":0.6},{"$f":"P1721-(P1721/1.0025)","v":7.4064837905236658E-3},2.97]
[{"$error":"#N/A"},null,null,null,null,997486,"SPR","SPR","PK","INDEX DIVIDER LEGAL"," ",7.42,35,{"$f":"VLOOKUP(M1722,DFL!A:H,8,0)","v":0.6},{"$f":"P1722-(P1722/1.0025)","v":7.4064837905236658E-3},2.97]
[{"$error":"#N/A"},null,null,null,null,997494,"SPR","SPR","PK","INDEX DIVIDER LEGAL"," ",7.42,35,{"$f":"VLOOKUP(M1723,DFL!A:H,8,0)","v":0.6},{"$f":"P1723-(P1723/1.0025)","v":7.4064837905236658E-3},2.97]
[{"$error":"#N/A"},null,null,null,null,997502,"SPR","SPR","PK","AVERY LGL IND EXHIBIT DIV"," ",7.42,35,{"$f":"VLOOKUP(M1724,DFL!A:H,8,0)","v":0.6},{"$f":"P1724-(P1724/1.0025)","v":7.4064837905236658E-3},2.97]
[{"$error":"#N/A"},null,null,null,null,997510,"SPR","SPR","PK","INDEX DIVIDER LEGAL"," ",7.42,35,{"$f":"VLOOKUP(M1725,DFL!A:H,8,0)","v":0.6},{"$f":"P1725-(P1725/1.0025)","v":7.4064837905236658E-3},2.97]
[{"$error":"#N/A"},null,null,null,null,997528,"SPR","SPR","PK","INDEX DIVIDER LEGAL"," ",7.42,35,{"$f":"VLOOKUP(M1726,DFL!A:H,8,0)","v":0.6},{"$f":"P1726-(P1726/1.0025)","v":7.4064837905236658E-3},2.97]
[{"$error":"#N/A"},null,null,null,null,997536,"SPR","SPR","PK","LEGAL INDEX DIVIDERS"," ",7.42,35,{"$f":"VLOOKUP(M1727,DFL!A:H,8,0)","v":0.6},{"$f":"P1727-(P1727/1.0025)","v":7.4064837905236658E-3},2.97]
[{"$error":"#N/A"},null,null,null,null,997544,"SPR","SPR","PK","LEGAL INDEX DIVIDERS"," ",7.42,35,{"$f":"VLOOKUP(M1728,DFL!A:H,8,0)","v":0.6},{"$f":"P1728-(P1728/1.0025)","v":7.4064837905236658E-3},2.97]
[{"$error":"#N/A"},null,null,null,null,105262,"SPR","SPR","PK","LGL IDX SD TB LTR SIZE H"," ",7.42,35,{"$f":"VLOOKUP(M1729,DFL!A:H,8,0)","v":0.6},{"$f":"P1729-(P1729/1.0025)","v":7.4064837905236658E-3},2.97]
[{"$error":"#N/A"},null,null,null,null,921114,"SPR","SPR","PK","INDEX,LTR,SIDE TAB,\"13\","," ",7.42,35,{"$f":"VLOOKUP(M1730,DFL!A:H,8,0)","v":0.6},{"$f":"P1730-(P1730/1.0025)","v":7.4064837905236658E-3},2.97]
[{"$error":"#N/A"},null,null,null,null,790710,null,"SPR","RL","TAPE,DUCT,MULTI-USE,SCOTCH",null,7.43,39,{"$f":"VLOOKUP(M1731,DFL!A:H,8,0)","v":0.5},{"$f":"P1731-(P1731/1.0025)","v":9.2768079800498171E-3},3.72]
[{"$error":"#N/A"},null,null,null,null,506567,"BSD","BSD","EA","BINDR R-RNG QUIKFIT O/L 1\" WHT","080/080,EPP (eVine),80% post-consumer (chipboard)",8.48,8,{"$f":"VLOOKUP(M1732,DFL!A:E,5,0)","v":0.65},{"$f":"P1732-(P1732/1.0025)","v":7.4064837905236658E-3},2.97]
[{"$error":"#N/A"},null,null,null,null,515615,"BSD","BSD","PK","POST-IT,1.5X2,ULTRA,ASST","030/030,EPP (eVine),CPG,30% post-consumer (paper)",9.91,35,{"$f":"VLOOKUP(M1733,DFL!A:E,5,0)","v":0.7},{"$f":"P1733-(P1733/1.0025)","v":7.4064837905236658E-3},2.97]
[{"$error":"#N/A"},null,null,null,null,655035,"BSD","BSD","PK","PAD,NOTE,POST-IT,.5\"X2\",5PK,NE","030/030,EPP (eVine),CPG,30% post-consumer (paper)",9.91,35,{"$f":"VLOOKUP(M1734,DFL!A:E,5,0)","v":0.7},{"$f":"P1734-(P1734/1.0025)","v":7.4064837905236658E-3},2.97]
[{"$error":"#N/A"},null,null,null,null,299320,"BSD","BSD","EA","COUNTERFEIT DETECTATOR ON COIL"," ",8.99,33,{"$f":"VLOOKUP(M1735,DFL!A:E,5,0)","v":0.65},{"$f":"P1735-(P1735/1.0025)","v":7.8553615960097467E-3},3.15]
[{"$error":"#N/A"},null,null,null,null,315257,"SPR","SPR","BX","STAPLES,HEAVY DUTY,6/BOX"," ",8.73,37,{"$f":"VLOOKUP(M1736,DFL!A:H,8,0)","v":0.5},{"$f":"P1736-(P1736/1.0025)","v":1.0897755610971949E-2},4.37]
[{"$error":"#N/A"},null,null,null,null,6249113,"BSD","BSD","EA"," DISINFECTANT CLNR ECO CLN 32OZ",null,5.99,19,{"$f":"VLOOKUP(M1737,DFL!A:E,5,0)","v":0.5},{"$f":"P1737-(P1737/1.0025)","v":7.4812967581046053E-3},3]
[{"$error":"#N/A"},null,null,null,null,8030453,"BSD","BSD","EA"," GLASS & SURF CLNR ECO CLN 32OZ",null,5.99,19,{"$f":"VLOOKUP(M1738,DFL!A:E,5,0)","v":0.5},{"$f":"P1738-(P1738/1.0025)","v":7.4812967581046053E-3},3]
[{"$error":"#N/A"},null,null,null,null,234575,"SPR","SPR","RL","TAPE,DOUBLE,STICK,.1/2\"X450\""," ",5.99,39,{"$f":"VLOOKUP(M1739,DFL!A:H,8,0)","v":0.5},{"$f":"P1739-(P1739/1.0025)","v":7.4812967581046053E-3},3]
[{"$error":"#N/A"},null,null,null,null,882912,"SPR","SPR","PK","PAPER;CONSTRC;12X18;BK;50SH",null,5.99,47,{"$f":"VLOOKUP(M1740,DFL!A:H,8,0)","v":0.5},{"$f":"P1740-(P1740/1.0025)","v":7.4812967581046053E-3},3]
[{"$error":"#N/A"},null,null,null,null,307672,"SPR","SPR","PK","PAPER;CONSTR;12X18;AST;50SH",null,5.99,47,{"$f":"VLOOKUP(M1741,DFL!A:H,8,0)","v":0.5},{"$f":"P1741-(P1741/1.0025)","v":7.4812967581046053E-3},3]
[{"$error":"#N/A"},null,null,null,null,307688,"SPR","SPR","PK","PAPER;CONSTRC;12X18;OE;50SH",null,5.99,47,{"$f":"VLOOKUP(M1742,DFL!A:H,8,0)","v":0.5},{"$f":"P1742-(P1742/1.0025)","v":7.4812967581046053E-3},3]
[{"$error":"#N/A"},null,null,null,null,307696,"SPR","SPR","PK","PAPER;CONSTRC;12X18;BN;50SH",null,5.99,47,{"$f":"VLOOKUP(M1743,DFL!A:H,8,0)","v":0.5},{"$f":"P1743-(P1743/1.0025)","v":7.4812967581046053E-3},3]
[{"$error":"#N/A"},null,null,null,null,882960,"SPR","SPR","PK","PAPER;CONSTRC;12X18;PK;50SH",null,5.99,47,{"$f":"VLOOKUP(M1744,DFL!A:H,8,0)","v":0.5},{"$f":"P1744-(P1744/1.0025)","v":7.4812967581046053E-3},3]
[{"$error":"#N/A"},null,null,null,null,882968,"SPR","SPR","PK","PAPER;CONSTRC;12X18;BE;50SH",null,5.99,47,{"$f":"VLOOKUP(M1745,DFL!A:H,8,0)","v":0.5},{"$f":"P1745-(P1745/1.0025)","v":7.4812967581046053E-3},3]
[{"$error":"#N/A"},null,null,null,null,882976,"SPR","SPR","PK","PAPER;CONSTR;12X18;SBE;50SH",null,5.99,47,{"$f":"VLOOKUP(M1746,DFL!A:H,8,0)","v":0.5},{"$f":"P1746-(P1746/1.0025)","v":7.4812967581046053E-3},3]
[{"$error":"#N/A"},null,null,null,null,882992,"SPR","SPR","PK","PAPER;CONSTR;12X18;HGN;50SH",null,5.99,47,{"$f":"VLOOKUP(M1747,DFL!A:H,8,0)","v":0.5},{"$f":"P1747-(P1747/1.0025)","v":7.4812967581046053E-3},3]
[{"$error":"#N/A"},null,null,null,null,368044,"SPR","SPR","PK","PAPER;CONSTR;12X18;LBN;50SH",null,5.99,47,{"$f":"VLOOKUP(M1748,DFL!A:H,8,0)","v":0.5},{"$f":"P1748-(P1748/1.0025)","v":7.4812967581046053E-3},3]
[{"$error":"#N/A"},null,null,null,null,368198,"SPR","SPR","PK","PAPER;CONSTRC;12X18;VT;50SH",null,5.99,47,{"$f":"VLOOKUP(M1749,DFL!A:H,8,0)","v":0.5},{"$f":"P1749-(P1749/1.0025)","v":7.4812967581046053E-3},3]
[{"$error":"#N/A"},null,null,null,null,368583,"SPR","SPR","PK","PAPER;CONSTR;12X18;TRQ;50SH",null,5.99,47,{"$f":"VLOOKUP(M1750,DFL!A:H,8,0)","v":0.5},{"$f":"P1750-(P1750/1.0025)","v":7.4812967581046053E-3},3]
[{"$error":"#N/A"},null,null,null,null,368870,"SPR","SPR","PK","PAPER;CONSTR;12X18;BWE;50SH",null,5.99,47,{"$f":"VLOOKUP(M1751,DFL!A:H,8,0)","v":0.5},{"$f":"P1751-(P1751/1.0025)","v":7.4812967581046053E-3},3]
[{"$error":"#N/A"},null,null,null,null,368919,"SPR","SPR","PK","PAPER;CONSTRC;12X18;GY;50SH",null,5.99,47,{"$f":"VLOOKUP(M1752,DFL!A:H,8,0)","v":0.5},{"$f":"P1752-(P1752/1.0025)","v":7.4812967581046053E-3},3]
[{"$error":"#N/A"},null,null,null,null,307712,"SPR","SPR","PK","PAPER;CONSTRC;12X18;YW;50SH",null,5.99,47,{"$f":"VLOOKUP(M1753,DFL!A:H,8,0)","v":0.5},{"$f":"P1753-(P1753/1.0025)","v":7.4812967581046053E-3},3]
[{"$error":"#N/A"},null,null,null,null,307752,"SPR","SPR","PK","PAPER;CONSTRC;12X18;WE;50SH",null,5.99,47,{"$f":"VLOOKUP(M1754,DFL!A:H,8,0)","v":0.5},{"$f":"P1754-(P1754/1.0025)","v":7.4812967581046053E-3},3]
[{"$error":"#N/A"},null,null,null,null,307768,"SPR","SPR","PK","PAPER;CONSTR;12X18;HRD;50SH",null,5.99,47,{"$f":"VLOOKUP(M1755,DFL!A:H,8,0)","v":0.5},{"$f":"P1755-(P1755/1.0025)","v":7.4812967581046053E-3},3]
[{"$error":"#N/A"},null,null,null,null,861518,null,"SPR","DZ","PENCIL,LEAD,TICONDEROGA,NO 1",null,7.19,33,{"$f":"VLOOKUP(M1756,DFL!A:H,8,0)","v":0.55000000000000004},{"$f":"P1756-(P1756/1.0025)","v":8.0798004987530092E-3},3.24]
[{"$error":"#N/A"},null,null,null,null,929596,null,"SPR","DZ","PENCIL;TICONDEROGA;#4",null,7.16,33,{"$f":"VLOOKUP(M1757,DFL!A:H,8,0)","v":0.55000000000000004},{"$f":"P1757-(P1757/1.0025)","v":8.0299251870323829E-3},3.22]
[{"$error":"#N/A"},null,null,null,null,811166,null,"SPR","DZ","PENCIL;WOODEN;#3H;12CT",null,6.42,33,{"$f":"VLOOKUP(M1758,DFL!A:H,8,0)","v":0.55000000000000004},{"$f":"P1758-(P1758/1.0025)","v":7.2069825436407164E-3},2.89]
[{"$error":"#N/A"},null,null,null,null,544497,"SPR","SPR","EA","PKT,LGL,EXP 5-1/4,RED,74241"," ",7.82,35,{"$f":"VLOOKUP(M1759,DFL!A:H,8,0)","v":0.6},{"$f":"P1759-(P1759/1.0025)","v":7.8054862842891204E-3},3.13]
[{"$error":"#N/A"},null,null,null,null,544479,"SPR","SPR","EA","PKT,LGL,EXP 5-1/4,BLU,74235"," ",7.82,35,{"$f":"VLOOKUP(M1760,DFL!A:H,8,0)","v":0.6},{"$f":"P1760-(P1760/1.0025)","v":7.8054862842891204E-3},3.13]
[{"$error":"#N/A"},null,null,null,null,914006,"SPR","SPR","BX"," MARKER WASH 20CT BOX CRAYOLA",null,5.78,28,{"$f":"VLOOKUP(M1761,DFL!A:H,8,0)","v":0.48},{"$f":"P1761-(P1761/1.0025)","v":7.5062344139649184E-3},3.01]
[{"$error":"#N/A"},null,null,null,null,8237459,null,"SPR","PK"," PAPER CNSTRCTN 50PK 9X12 PURPL",null,6.01,47,{"$f":"VLOOKUP(M1762,DFL!A:H,8,0)","v":0.5},{"$f":"P1762-(P1762/1.0025)","v":7.5062344139649184E-3},3.01]
[{"$error":"#N/A"},null,null,null,null,8237262,null,"SPR","PK"," PAPER CNSTRCTN 50PK 9X12 YLLW",null,6.03,47,{"$f":"VLOOKUP(M1763,DFL!A:H,8,0)","v":0.5},{"$f":"P1763-(P1763/1.0025)","v":7.5311720698252316E-3},3.02]
[{"$error":"#N/A"},null,null,null,null,8234390,null,"SPR","PK"," PAPER CNSTRCTN 50PK 9X12 BRWN",null,6.01,47,{"$f":"VLOOKUP(M1764,DFL!A:H,8,0)","v":0.5},{"$f":"P1764-(P1764/1.0025)","v":7.5062344139649184E-3},3.01]
[{"$error":"#N/A"},null,null,null,null,670457,"SPR","SPR","EA","NOTEBOOK,11X8.5,100CT",null,7.17,30,{"$f":"VLOOKUP(M1765,DFL!A:H,8,0)","v":0.57999999999999996},{"$f":"P1765-(P1765/1.0025)","v":7.5062344139649184E-3},3.01]
[{"$error":"#N/A"},null,null,null,null,243655,"SPR","SPR","EA","HOLDER,CARD,BUSINESS,BCA,4 TIE"," ",8.01,35,{"$f":"VLOOKUP(M1766,DFL!A:H,8,0)","v":0.6},{"$f":"P1766-(P1766/1.0025)","v":7.9800498753117566E-3},3.2]
[{"$error":"#N/A"},null,null,null,null,730620,"SPR","SPR","EA","DIARYSKETCH 8.5X11-70CT",null,8.59,32,{"$f":"VLOOKUP(M1767,DFL!A:H,8,0)","v":0.65},{"$f":"P1767-(P1767/1.0025)","v":7.5062344139649184E-3},3.01]
[{"$error":"#N/A"},null,null,null,null,8240591,null,"SPR","PK"," PAPER CNSTRCTN 50PK 9X12 PINK",null,6.04,47,{"$f":"VLOOKUP(M1768,DFL!A:H,8,0)","v":0.5},{"$f":"P1768-(P1768/1.0025)","v":7.5311720698252316E-3},3.02]
[{"$error":"#N/A"},null,null,null,null,8233557,null,"SPR","PK"," PAPER CNSTRCTN 50PK 9X12 BR BL",null,6.04,47,{"$f":"VLOOKUP(M1769,DFL!A:H,8,0)","v":0.5},{"$f":"P1769-(P1769/1.0025)","v":7.5311720698252316E-3},3.02]
[{"$error":"#N/A"},null,null,null,null,8241772,null,"SPR","PK"," PAPER CNSTRCTN 50PK 9X12 BRGRN",null,6.06,47,{"$f":"VLOOKUP(M1770,DFL!A:H,8,0)","v":0.5},{"$f":"P1770-(P1770/1.0025)","v":7.5561097256855447E-3},3.03]
[{"$error":"#N/A"},null,null,null,null,531472,"SPR","SPR","DZ","PENCIL,TRI-WRITE,DZ,TICONDEROG"," ",6.93,33,{"$f":"VLOOKUP(M1771,DFL!A:H,8,0)","v":0.55000000000000004},{"$f":"P1771-(P1771/1.0025)","v":7.7805486284288072E-3},3.12]
[{"$error":"#N/A"},null,null,null,null,551987,"SPR","SPR","ST","INDEX,PLAST,WRTE-ON5TAB,AST"," ",9.42,35,{"$f":"VLOOKUP(M1772,DFL!A:H,8,0)","v":0.6},{"$f":"P1772-(P1772/1.0025)","v":9.4014962593513829E-3},3.77]
[{"$error":"#N/A"},null,null,null,null,577078,"BSD","BSD","PK","FLAG,POST-IT,\"INITIAL HERE\",2P"," ",10.07,35,{"$f":"VLOOKUP(M1773,DFL!A:E,5,0)","v":0.7},{"$f":"P1773-(P1773/1.0025)","v":7.5311720698252316E-3},3.02]
[{"$error":"#N/A"},null,null,null,null,9733624,null,"SPR","BX","BADGE;ADHSV;LTBE BRDR;100CT",null,5.51,5,{"$f":"VLOOKUP(M1774,DFL!A:H,8,0)","v":0.45},{"$f":"P1774-(P1774/1.0025)","v":7.5561097256855447E-3},3.03]
[{"$error":"#N/A"},null,null,null,null,8233473,null,"SPR","PK"," PAPER CNSTRCTN 50PK 9X12 RED",null,6.08,47,{"$f":"VLOOKUP(M1775,DFL!A:H,8,0)","v":0.5},{"$f":"P1775-(P1775/1.0025)","v":7.5810473815458579E-3},3.04]
[{"$error":"#N/A"},null,null,null,null,8235719,null,"SPR","PK"," PAPER CNSTRCTN 50PK 9X12 ORNG",null,6.06,47,{"$f":"VLOOKUP(M1776,DFL!A:H,8,0)","v":0.5},{"$f":"P1776-(P1776/1.0025)","v":7.5561097256855447E-3},3.03]
[{"$error":"#N/A"},null,null,null,null,112391,"BSD","BSD","PK","LABEL,FILE FOLDER,WHT,252/PK"," ",6.88,26,{"$f":"VLOOKUP(M1777,DFL!A:E,5,0)","v":0.56000000000000005},{"$f":"P1777-(P1777/1.0025)","v":7.5561097256855447E-3},3.03]
[{"$error":"#N/A"},null,null,null,null,1393777,"SPR","SPR","EA","TILE & GROUT BRUSH"," ",6.43,19,{"$f":"VLOOKUP(M1778,DFL!A:H,8,0)","v":0.45},{"$f":"P1778-(P1778/1.0025)","v":8.8279301745632921E-3},3.54]
[{"$error":"#N/A"},null,null,null,null,947671,"BSD","BSD","PK","SEALS,2\" DIA,GOLD,44/PK"," ",6.9,26,{"$f":"VLOOKUP(M1779,DFL!A:E,5,0)","v":0.56000000000000005},{"$f":"P1779-(P1779/1.0025)","v":7.5810473815458579E-3},3.04]
[{"$error":"#N/A"},null,null,null,null,703288,"SPR","SPR","ST","SUPPORTS,STACKING,F/60112"," ",7.49,31,{"$f":"VLOOKUP(M1780,DFL!A:H,8,0)","v":0.49},{"$f":"P1780-(P1780/1.0025)","v":9.5261845386529487E-3},3.82]
[{"$error":"#N/A"},null,null,null,null,555338,"BSD","BSD","DZ","PEN,BPOINT,RT,BE,DZ"," ",8.6999999999999993,33,{"$f":"VLOOKUP(M1781,DFL!A:E,5,0)","v":0.65},{"$f":"P1781-(P1781/1.0025)","v":7.605985037406171E-3},3.05]
[{"$error":"#N/A"},null,null,null,null,555347,"BSD","BSD","DZ","PEN,BPOINT,RT,BK,DZ"," ",8.6999999999999993,33,{"$f":"VLOOKUP(M1782,DFL!A:E,5,0)","v":0.65},{"$f":"P1782-(P1782/1.0025)","v":7.605985037406171E-3},3.05]
[{"$error":"#N/A"},null,null,null,null,161360,"BSD","BSD","EA","NOTEBOOK, CAMB LIM 9.5X6 80CT"," ",11.31,30,{"$f":"VLOOKUP(M1783,DFL!A:E,5,0)","v":0.73},{"$f":"P1783-(P1783/1.0025)","v":7.605985037406171E-3},{"$f":"ROUND(L1783*(1-N1783),2)","v":3.05}]
[{"$error":"#N/A"},null,null,null,null,719368,"SPR","SPR","PK","LID,PAPER CUP, 8 OZ",null,5.51,18,{"$f":"VLOOKUP(M1784,DFL!A:H,8,0)","v":0.44},{"$f":"P1784-(P1784/1.0025)","v":7.7057356608478678E-3},3.09]
[{"$error":"#N/A"},null,null,null,null,755851,"SPR","SPR","BX","TISSUE,KLEENEX,BOUTIQUE,SINGLE"," ",5.47,40,{"$f":"VLOOKUP(M1785,DFL!A:H,8,0)","v":0.44},{"$f":"P1785-(P1785/1.0025)","v":7.6309226932664842E-3},3.06]
[{"$error":"#N/A"},null,null,null,null,8023904,"SPR","SPR","EA","GLUE,WOOD,GORILLA,4OZ",null,5.89,1,{"$f":"VLOOKUP(M1786,DFL!A:H,8,0)","v":0.48},{"$f":"P1786-(P1786/1.0025)","v":7.6309226932664842E-3},3.06]
[{"$error":"#N/A"},null,null,null,null,368023,"SPR","SPR","PK","PAPER;CONSTR;12X18;DBN;50SH",null,6.11,47,{"$f":"VLOOKUP(M1787,DFL!A:H,8,0)","v":0.5},{"$f":"P1787-(P1787/1.0025)","v":7.6309226932664842E-3},3.06]
[{"$error":"#N/A"},null,null,null,null,355518,"SPR","SPR","PK","PAPER;CONSTRC;12X18;RD;50SH",null,6.11,47,{"$f":"VLOOKUP(M1788,DFL!A:H,8,0)","v":0.5},{"$f":"P1788-(P1788/1.0025)","v":7.6309226932664842E-3},3.06]
[{"$error":"#N/A"},null,null,null,null,886796,"SPR","SPR","EA","BOOK,NOTE,1-SUBJ.WIREBND,80SH"," ",6.27,47,{"$f":"VLOOKUP(M1789,DFL!A:H,8,0)","v":0.5},{"$f":"P1789-(P1789/1.0025)","v":7.8304239401494335E-3},3.14]
[{"$error":"#N/A"},null,null,null,null,234567,"SPR","SPR","RL","Q1 TAPE,MOUNTING,DBL-COATD,1"," ",6.12,39,{"$f":"VLOOKUP(M1790,DFL!A:H,8,0)","v":0.5},{"$f":"P1790-(P1790/1.0025)","v":7.6309226932664842E-3},3.06]
[{"$error":"#N/A"},null,null,null,null,292458,"SPR","SPR","EA","BNDR,RG,11X8.5,1\",2PKT,BL"," ",7.49,8,{"$f":"VLOOKUP(M1791,DFL!A:H,8,0)","v":0.55000000000000004},{"$f":"P1791-(P1791/1.0025)","v":8.4039900249375243E-3},3.37]
[{"$error":"#N/A"},null,null,null,null,394851,"SPR","SPR","EA","CLIP,SPRING,ADHESIVE,3M CMND",null,6.8,8,{"$f":"VLOOKUP(M1792,DFL!A:H,8,0)","v":0.55000000000000004},{"$f":"P1792-(P1792/1.0025)","v":7.6309226932664842E-3},3.06]
[{"$error":"#N/A"},null,null,null,null,984435,"SPR","SPR","EA","BOOK;STENO;GREGG;70SH;WE",null,7.29,30,{"$f":"VLOOKUP(M1793,DFL!A:H,8,0)","v":0.57999999999999996},{"$f":"P1793-(P1793/1.0025)","v":7.6309226932664842E-3},3.06]
[{"$error":"#N/A"},null,null,null,null,207253,null,"SPR","EA","BINDER,ODP,RR,1\",BLACK",null,9.6,8,{"$f":"VLOOKUP(M1794,DFL!A:H,8,0)","v":0.55000000000000004},{"$f":"P1794-(P1794/1.0025)","v":1.0773067331670383E-2},4.32]
[{"$error":"#N/A"},null,null,null,null,207262,null,"SPR","EA","BINDER,ODP,RR,1\",BLUE","100/100,EPP (eVine),100% post-consumer (chipboard)",9.6,8,{"$f":"VLOOKUP(M1795,DFL!A:H,8,0)","v":0.55000000000000004},{"$f":"P1795-(P1795/1.0025)","v":1.0773067331670383E-2},4.32]
[{"$error":"#N/A"},null,null,null,null,134521,null,"SPR","EA","MOP,PRO,ECONOMY,COTTON,#16",null,5.59,19,{"$f":"VLOOKUP(M1796,DFL!A:H,8,0)","v":0.45},{"$f":"P1796-(P1796/1.0025)","v":7.6558603491267974E-3},3.07]
[{"$error":"#N/A"},null,null,null,null,409604,"SPR","SPR","EA","JOURNAL;PIC;SPIRL;RED TIGER",null,4.3899999999999997,48,{"$f":"VLOOKUP(M1797,DFL!A:H,8,0)","v":0.3},{"$f":"P1797-(P1797/1.0025)","v":7.6558603491267974E-3},3.07]
[{"$error":"#N/A"},null,null,null,null,5407128,"SPR","SPR","EA","JOURNAL;PIC;SPIRL;GRN PANDA",null,4.3899999999999997,48,{"$f":"VLOOKUP(M1798,DFL!A:H,8,0)","v":0.3},{"$f":"P1798-(P1798/1.0025)","v":7.6558603491267974E-3},3.07]
[{"$error":"#N/A"},null,null,null,null,4999327,null,"SPR","EA","MOP,WEDGE,MICROFIBER",null,5.6289473684210529,19,{"$f":"VLOOKUP(M1799,DFL!A:H,8,0)","v":0.45},{"$f":"P1799-(P1799/1.0025)","v":7.7306733167081809E-3},3.1]
[{"$error":"#N/A"},null,null,null,null,879058,null,"SPR","PK","HIGHLIGHTER,POCKET,ACCENT,4/PK",null,5.91,28,{"$f":"VLOOKUP(M1800,DFL!A:H,8,0)","v":0.48},{"$f":"P1800-(P1800/1.0025)","v":7.6558603491267974E-3},3.07]
[{"$error":"#N/A"},null,null,null,null,728886,"BSD","BSD","EA","CLEANER,BUBBLES,SCRUBBING"," ",6.13,19,{"$f":"VLOOKUP(M1801,DFL!A:E,5,0)","v":0.5},{"$f":"P1801-(P1801/1.0025)","v":7.6558603491267974E-3},3.07]
[{"$error":"#N/A"},null,null,null,null,274304,"SPR","SPR","EA","PEN,SECURITY,CHAIN"," ",8.2899999999999991,33,{"$f":"VLOOKUP(M1802,DFL!A:H,8,0)","v":0.55000000000000004},{"$f":"P1802-(P1802/1.0025)","v":9.3017456359101303E-3},3.73]
[{"$error":"#N/A"},null,null,null,null,194118,null,"SPR","EA","FORM,SALES,NCR,4.25X7,3P,50/BK"," ",7.16,11,{"$f":"VLOOKUP(M1803,DFL!A:H,8,0)","v":0.46},{"$f":"P1803-(P1803/1.0025)","v":9.6508728179549585E-3},3.87]
[{"$error":"#N/A"},null,null,null,null,551950,"SPR","SPR","ST","INDEX,3-RG,11X8.5,MONTHS"," ",8.1999999999999993,35,{"$f":"VLOOKUP(M1804,DFL!A:H,8,0)","v":0.6},{"$f":"P1804-(P1804/1.0025)","v":8.1795511221942618E-3},3.28]
[{"$error":"#N/A"},null,null,null,null,102913,"SPR","SPR","EA","COVER,PSBD,8.5\"CC,11X8.5,DBLUE","060/030,EPP (eVine),CPG,60% recycled content, 30% post-consumer (stock)",7.68,35,{"$f":"VLOOKUP(M1805,DFL!A:H,8,0)","v":0.6},{"$f":"P1805-(P1805/1.0025)","v":7.6558603491267974E-3},3.07]
[{"$error":"#N/A"},null,null,null,null,193623,"SPR","SPR","EA","COVER,PSBD,8.5\"CC,11X8.5,DGRN","060/030,EPP (eVine),CPG,60% recycled content, 30% post-consumer (stock)",7.68,35,{"$f":"VLOOKUP(M1806,DFL!A:H,8,0)","v":0.6},{"$f":"P1806-(P1806/1.0025)","v":7.6558603491267974E-3},3.07]
[{"$error":"#N/A"},null,null,null,null,102889,"SPR","SPR","EA","COVER,PSBD,8.5\"CC,11X8.5,BLACK","060/030,EPP (eVine),CPG,60% recycled content, 30% post-consumer (stock)",7.68,35,{"$f":"VLOOKUP(M1807,DFL!A:H,8,0)","v":0.6},{"$f":"P1807-(P1807/1.0025)","v":7.6558603491267974E-3},3.07]
[{"$error":"#N/A"},null,null,null,null,102905,"SPR","SPR","EA","COVER,REPORT,20PT,11X8.5,LTBLU","060/030,EPP (eVine),CPG,60% recycled content, 30% post-consumer (stock)",7.68,35,{"$f":"VLOOKUP(M1808,DFL!A:H,8,0)","v":0.6},{"$f":"P1808-(P1808/1.0025)","v":7.6558603491267974E-3},3.07]
[{"$error":"#N/A"},null,null,null,null,102947,"SPR","SPR","EA","COVER,PSBD,8.5\"CC,11X8.5,RED","060/030,EPP (eVine),CPG,60% recycled content, 30% post-consumer (stock)",7.68,35,{"$f":"VLOOKUP(M1809,DFL!A:H,8,0)","v":0.6},{"$f":"P1809-(P1809/1.0025)","v":7.6558603491267974E-3},3.07]
[{"$error":"#N/A"},null,null,null,null,193664,"SPR","SPR","EA","COVER,PSBD,8.5\"CC,11X8.5,EXRED","060/030,EPP (eVine),CPG,60% recycled content, 30% post-consumer (stock)",7.68,35,{"$f":"VLOOKUP(M1810,DFL!A:H,8,0)","v":0.6},{"$f":"P1810-(P1810/1.0025)","v":7.6558603491267974E-3},3.07]
[{"$error":"#N/A"},null,null,null,null,274592,"SPR","SPR","EA","PAINT;16 OZ;LIQUD TEM;OR",null,6.15,47,{"$f":"VLOOKUP(M1811,DFL!A:H,8,0)","v":0.5},{"$f":"P1811-(P1811/1.0025)","v":7.6807980049875546E-3},3.08]
[{"$error":"#N/A"},null,null,null,null,274608,"SPR","SPR","EA","PAINT;16 OZ;LIQUD TEM;VL",null,6.15,47,{"$f":"VLOOKUP(M1812,DFL!A:H,8,0)","v":0.5},{"$f":"P1812-(P1812/1.0025)","v":7.6807980049875546E-3},3.08]
[{"$error":"#N/A"},null,null,null,null,274640,"SPR","SPR","EA","PAINT;16 OZ;LIQUD TEM;BR",null,6.15,47,{"$f":"VLOOKUP(M1813,DFL!A:H,8,0)","v":0.5},{"$f":"P1813-(P1813/1.0025)","v":7.6807980049875546E-3},3.08]
[{"$error":"#N/A"},null,null,null,null,276113,"SPR","SPR","EA","PAINT;TEMPERA;RTU;PRANG;RD",null,6.15,47,{"$f":"VLOOKUP(M1814,DFL!A:H,8,0)","v":0.5},{"$f":"P1814-(P1814/1.0025)","v":7.6807980049875546E-3},3.08]
[{"$error":"#N/A"},null,null,null,null,279547,"SPR","SPR","EA","PAINT;TEMPERA;RTU;PRANG;YW",null,6.15,47,{"$f":"VLOOKUP(M1815,DFL!A:H,8,0)","v":0.5},{"$f":"P1815-(P1815/1.0025)","v":7.6807980049875546E-3},3.08]
[{"$error":"#N/A"},null,null,null,null,280107,"SPR","SPR","EA","PAINT;TEMPERA;RTU;PRANG;GN",null,6.15,47,{"$f":"VLOOKUP(M1816,DFL!A:H,8,0)","v":0.5},{"$f":"P1816-(P1816/1.0025)","v":7.6807980049875546E-3},3.08]
[{"$error":"#N/A"},null,null,null,null,280164,"SPR","SPR","EA","PAINT;TEMPERA;RTU;PRANG;BE",null,6.15,47,{"$f":"VLOOKUP(M1817,DFL!A:H,8,0)","v":0.5},{"$f":"P1817-(P1817/1.0025)","v":7.6807980049875546E-3},3.08]
[{"$error":"#N/A"},null,null,null,null,279497,null,"SPR","EA","PAINT;TEMPERA;RTU;PRANG;BK",null,6.15,47,{"$f":"VLOOKUP(M1818,DFL!A:H,8,0)","v":0.5},{"$f":"P1818-(P1818/1.0025)","v":7.6807980049875546E-3},3.08]
[{"$error":"#N/A"},null,null,null,null,279463,"SPR","SPR","EA","PAINT;TEMPERA;RTU;PRANG;WE",null,6.15,47,{"$f":"VLOOKUP(M1819,DFL!A:H,8,0)","v":0.5},{"$f":"P1819-(P1819/1.0025)","v":7.6807980049875546E-3},3.08]
[{"$error":"#N/A"},null,null,null,null,738276,"SPR","SPR","PK","PAPER,FILLER,5.5X8.5,WH"," ",6.47,47,{"$f":"VLOOKUP(M1820,DFL!A:H,8,0)","v":0.5},{"$f":"P1820-(P1820/1.0025)","v":8.0798004987530092E-3},3.24]
[{"$error":"#N/A"},null,null,null,null,173096,"SPR","SPR","RL","MAGIC PLUS REMVBL,3/4\"X36YDS"," ",6.16,39,{"$f":"VLOOKUP(M1821,DFL!A:H,8,0)","v":0.5},{"$f":"P1821-(P1821/1.0025)","v":7.6807980049875546E-3},3.08]
[{"$error":"#N/A"},null,null,null,null,7006811,"SPR","SPR","PK","CARD,INDEX,PLAIN,5X8,WE",null,7.92,35,{"$f":"VLOOKUP(M1822,DFL!A:H,8,0)","v":0.6},{"$f":"P1822-(P1822/1.0025)","v":7.905236907730373E-3},3.17]
[{"$error":"#N/A"},null,null,null,null,762880,"SPR","SPR","PK","CARD,INDEX",null,7.92,35,{"$f":"VLOOKUP(M1823,DFL!A:H,8,0)","v":0.6},{"$f":"P1823-(P1823/1.0025)","v":7.905236907730373E-3},3.17]
[{"$error":"#N/A"},null,null,null,null,798204,"SPR","SPR","PK","CUP,COLD,16OZ,CLR"," ",5.24,18,{"$f":"VLOOKUP(M1824,DFL!A:H,8,0)","v":0.44},{"$f":"P1824-(P1824/1.0025)","v":7.3067331670819691E-3},2.93]
[{"$error":"#N/A"},null,null,null,null,466342,"BSD","BSD","EA","MONEY/RENT RECEIPT BK 3 PT"," ",7.22,11,{"$f":"VLOOKUP(M1825,DFL!A:E,5,0)","v":0.57999999999999996},{"$f":"P1825-(P1825/1.0025)","v":7.5561097256855447E-3},3.03]
[{"$error":"#N/A"},null,null,null,null,475136,null,"SPR","ST"," DIVIDERS TOC JANDEC MULTICLR",null,7.72,35,{"$f":"VLOOKUP(M1826,DFL!A:H,8,0)","v":0.6},{"$f":"P1826-(P1826/1.0025)","v":7.7057356608478678E-3},3.09]
[{"$error":"#N/A"},null,null,null,null,470366,"BSD","BSD","PK","Pilot¬Æ FriXion Light Pastel Erasable Highlighters, Chisel Point, Assorted Colors, Pack Of 5 Highlighters",null,8.4450890585241734,28,{"$f":"VLOOKUP(M1827,DFL!A:E,5,0)","v":0.63},{"$f":"P1827-(P1827/1.0025)","v":7.7805486284288072E-3},3.12]
[{"$error":"#N/A"},null,null,null,null,759924,"SPR","SPR","BX","KLEENEX NATURALS FACE TISSU",null,4.76,40,{"$f":"VLOOKUP(M1828,DFL!A:H,8,0)","v":0.44},{"$f":"P1828-(P1828/1.0025)","v":6.6583541147129388E-3},2.67]
[{"$error":"#N/A"},null,null,null,null,338046,"SPR","SPR","EA","POCKET;BINDER;ZIP;10.5X8",null,7.14,47,{"$f":"VLOOKUP(M1829,DFL!A:H,8,0)","v":0.5},{"$f":"P1829-(P1829/1.0025)","v":8.9027431421442316E-3},3.57]
[{"$error":"#N/A"},null,null,null,null,268601,"BSD","BSD","PK","MARKER,EXPO 2,FINE,4-PK,AST"," ",8.3800000000000008,28,{"$f":"VLOOKUP(M1830,DFL!A:E,5,0)","v":0.63},{"$f":"P1830-(P1830/1.0025)","v":7.7306733167081809E-3},3.1]
[{"$error":"#N/A"},null,null,null,null,919334,"BSD","BSD","PK","MARKER,DE,EXPO,LO,UF,4PK,ASST"," ",8.3800000000000008,28,{"$f":"VLOOKUP(M1831,DFL!A:E,5,0)","v":0.63},{"$f":"P1831-(P1831/1.0025)","v":7.7306733167081809E-3},3.1]
[{"$error":"#N/A"},null,null,null,null,268651,"BSD","BSD","PK","MARKER,EXPO 2,FINE,4PK,BLK"," ",8.3800000000000008,28,{"$f":"VLOOKUP(M1832,DFL!A:E,5,0)","v":0.63},{"$f":"P1832-(P1832/1.0025)","v":7.7306733167081809E-3},3.1]
[{"$error":"#N/A"},null,null,null,null,6097779,"SPR","SPR","EA","PUNCH,SINGLE HOLE,1/4\",SLVR",null,7.1,7,{"$f":"VLOOKUP(M1833,DFL!A:H,8,0)","v":0.46},{"$f":"P1833-(P1833/1.0025)","v":9.5511221945137059E-3},3.83]
[{"$error":"#N/A"},null,null,null,null,949198,"SPR","SPR","ST","Crayola¬Æ Watercolor Set With Brush, Oval Pan, Set Of 8 Colors",null,6.22,47,{"$f":"VLOOKUP(M1834,DFL!A:H,8,0)","v":0.5},{"$f":"P1834-(P1834/1.0025)","v":7.7556109725684941E-3},3.11]
[{"$error":"#N/A"},null,null,null,null,666511,"BSD","BSD","RL","TAPE,MASKING,2X60YD,HILND"," ",7.77,39,{"$f":"VLOOKUP(M1835,DFL!A:E,5,0)","v":0.6},{"$f":"P1835-(P1835/1.0025)","v":7.7556109725684941E-3},3.11]
[{"$error":"#N/A"},null,null,null,null,456518,"BSD","BSD","EA","DIVIDER,INSERT W/PKT,8 TAB",null,15.36,35,{"$f":"VLOOKUP(M1836,DFL!A:E,5,0)","v":0.7},{"$f":"P1836-(P1836/1.0025)","v":1.1496259351620353E-2},4.6100000000000003]
[{"$error":"#N/A"},null,null,null,null,346625,"BSD","BSD","EA","NOTEBOOK,STELLAR,1S,CR,100,RED",null,11.53,30,{"$f":"VLOOKUP(M1837,DFL!A:E,5,0)","v":0.73},{"$f":"P1837-(P1837/1.0025)","v":7.7556109725684941E-3},3.11]
[{"$error":"#N/A"},null,null,null,null,234990,"SPR","SPR","BX","BANDAGE,ADHESIVE,WOVEN"," ",5.29,22,{"$f":"VLOOKUP(M1838,DFL!A:H,8,0)","v":0.41},{"$f":"P1838-(P1838/1.0025)","v":7.7805486284288072E-3},3.12]
[{"$error":"#N/A"},null,null,null,null,795815,"SPR","SPR","RL","TOWEL,SHOP,ROLL,SCOTT",null,5.75,40,{"$f":"VLOOKUP(M1839,DFL!A:H,8,0)","v":0.44},{"$f":"P1839-(P1839/1.0025)","v":8.0299251870323829E-3},3.22]
[{"$error":"#N/A"},null,null,null,null,8235724,null,"SPR","PK"," PAPER CNSTRCTN 50PK 9X12 LT BL",null,6.25,47,{"$f":"VLOOKUP(M1840,DFL!A:H,8,0)","v":0.5},{"$f":"P1840-(P1840/1.0025)","v":7.8054862842891204E-3},3.13]
[{"$error":"#N/A"},null,null,null,null,196634,"SPR","SPR","EA","FILE,CARD,5X8,BLACK",null,9.19,35,{"$f":"VLOOKUP(M1841,DFL!A:H,8,0)","v":0.6},{"$f":"P1841-(P1841/1.0025)","v":9.1770573566081204E-3},3.68]
[{"$error":"#N/A"},null,null,null,null,754007,"BSD","BSD","PK","FILLER,LT,NOTETAKING,8.5X11",null,11.55,30,{"$f":"VLOOKUP(M1842,DFL!A:E,5,0)","v":0.73},{"$f":"P1842-(P1842/1.0025)","v":7.7805486284288072E-3},3.12]
[{"$error":"#N/A"},null,null,null,null,9918340,"SPR","SPR","EA","REMOVER,STAPLE,BLK",null,8.18,37,{"$f":"VLOOKUP(M1843,DFL!A:H,8,0)","v":0.5},{"$f":"P1843-(P1843/1.0025)","v":1.0199501246882292E-2},4.09]
[{"$error":"#N/A"},null,null,null,null,448561,"SPR","SPR","EA","SCALE,TRIANGULAR,12\",ENGR"," ",6.95,34,{"$f":"VLOOKUP(M1844,DFL!A:H,8,0)","v":0.55000000000000004},{"$f":"P1844-(P1844/1.0025)","v":7.8054862842891204E-3},3.13]
[{"$error":"#N/A"},null,null,null,null,274884,"SPR","SPR","EA","INK,REFILL PRE-INK RED"," ",6.95,24,{"$f":"VLOOKUP(M1845,DFL!A:H,8,0)","v":0.55000000000000004},{"$f":"P1845-(P1845/1.0025)","v":7.8054862842891204E-3},3.13]
[{"$error":"#N/A"},null,null,null,null,274893,"SPR","SPR","EA","INK,REFILL PRE-INK BLUE"," ",6.95,24,{"$f":"VLOOKUP(M1846,DFL!A:H,8,0)","v":0.55000000000000004},{"$f":"P1846-(P1846/1.0025)","v":7.8054862842891204E-3},{"$f":"ROUND(L1846*(1-N1846),2)","v":3.13}]
[{"$error":"#N/A"},null,null,null,null,448541,"SPR","SPR","EA","SCALE,TRIANGLR,ARCHTCT,12\"\"",null,6.95,34,{"$f":"VLOOKUP(M1847,DFL!A:H,8,0)","v":0.55000000000000004},{"$f":"P1847-(P1847/1.0025)","v":7.8054862842891204E-3},3.13]
[{"$error":"#N/A"},null,null,null,null,7652522,null,"SPR","PK","NOTEPAD,TUL,STICKY,ASSTD,125SH",null,11.61,30,{"$f":"VLOOKUP(M1848,DFL!A:H,8,0)","v":0.57999999999999996},{"$f":"P1848-(P1848/1.0025)","v":1.2169576059849696E-2},4.88]
[{"$error":"#N/A"},null,null,null,null,642346,null,"SPR","PK","LEAD,.5MM,105/PK"," ",6.98,33,{"$f":"VLOOKUP(M1849,DFL!A:H,8,0)","v":0.55000000000000004},{"$f":"P1849-(P1849/1.0025)","v":7.8304239401494335E-3},3.14]
[{"$error":"#N/A"},null,null,null,null,8755965,null,"SPR","EA","CLNR;DISINF;ADRNK;40OZ",null,5.71,19,{"$f":"VLOOKUP(M1850,DFL!A:H,8,0)","v":0.45},{"$f":"P1850-(P1850/1.0025)","v":7.8304239401494335E-3},3.14]
[{"$error":"#N/A"},null,null,null,null,9556162,"SPR","SPR","RL","TAPE,PACKAGING,LOCK BOX,SM",null,6.27,39,{"$f":"VLOOKUP(M1851,DFL!A:H,8,0)","v":0.5},{"$f":"P1851-(P1851/1.0025)","v":7.8304239401494335E-3},3.14]
[{"$error":"#N/A"},null,null,null,null,642353,null,"SPR","PK","LEAD,.7MM,105/PK"," ",6.98,33,{"$f":"VLOOKUP(M1852,DFL!A:H,8,0)","v":0.55000000000000004},{"$f":"P1852-(P1852/1.0025)","v":7.8304239401494335E-3},3.14]
[{"$error":"#N/A"},null,null,null,null,677346,"BSD","BSD","DZ","PEN,BALLPT,WOW,MED"," ",8.9700000000000006,33,{"$f":"VLOOKUP(M1853,DFL!A:E,5,0)","v":0.65},{"$f":"P1853-(P1853/1.0025)","v":7.8304239401494335E-3},3.14]
[{"$error":"#N/A"},null,null,null,null,677318,"BSD","BSD","DZ","PEN,BALLPT,WOW,MED"," ",8.9700000000000006,33,{"$f":"VLOOKUP(M1854,DFL!A:E,5,0)","v":0.65},{"$f":"P1854-(P1854/1.0025)","v":7.8304239401494335E-3},3.14]
[{"$error":"#N/A"},null,null,null,null,677339,"BSD","BSD","DZ","PEN,BALLPT,WOW,MED"," ",8.9700000000000006,33,{"$f":"VLOOKUP(M1855,DFL!A:E,5,0)","v":0.65},{"$f":"P1855-(P1855/1.0025)","v":7.8304239401494335E-3},3.14]
[{"$error":"#N/A"},null,null,null,null,9109560,"BSD","BSD","EA"," Scotch  Cushion Lock Wrap",null,9.5299999999999994,27,{"$f":"VLOOKUP(M1856,DFL!A:E,5,0)","v":0.67},{"$f":"P1856-(P1856/1.0025)","v":7.8304239401494335E-3},3.14]
[{"$error":"#N/A"},null,null,null,null,193714,"BSD","BSD","PD","FORM,PO,NCR,5.56X8.43 3PT,PAD"," ",11.36,30,{"$f":"VLOOKUP(M1857,DFL!A:E,5,0)","v":0.73},{"$f":"P1857-(P1857/1.0025)","v":7.6558603491267974E-3},3.07]
[{"$error":"#N/A"},null,null,null,null,585089,"SPR","SPR","EA","PLUNGER,VALUE PLUS,YW"," ",6.53,19,{"$f":"VLOOKUP(M1858,DFL!A:H,8,0)","v":0.45},{"$f":"P1858-(P1858/1.0025)","v":8.952618453865302E-3},3.59]
[{"$error":"#N/A"},null,null,null,null,933069,"SPR","SPR","EA","MARKER,PAINT,MED,UNI PX20,ORN"," ",6.4,28,{"$f":"VLOOKUP(M1859,DFL!A:H,8,0)","v":0.48},{"$f":"P1859-(P1859/1.0025)","v":8.3042394014962717E-3},3.33]
[{"$error":"#N/A"},null,null,null,null,136663,"SPR","SPR","EA","MARKER,PAINT,MED,UNI PX20,PNK"," ",6.4,28,{"$f":"VLOOKUP(M1860,DFL!A:H,8,0)","v":0.48},{"$f":"P1860-(P1860/1.0025)","v":8.3042394014962717E-3},3.33]
[{"$error":"#N/A"},null,null,null,null,926146,"SPR","SPR","EA","PX 20 SILVER - MEDIUM-",null,6.4,28,{"$f":"VLOOKUP(M1861,DFL!A:H,8,0)","v":0.48},{"$f":"P1861-(P1861/1.0025)","v":8.3042394014962717E-3},3.33]
[{"$error":"#N/A"},null,null,null,null,136655,"SPR","SPR","EA","MARKER,PAINT,YELLOW"," ",6.4,28,{"$f":"VLOOKUP(M1862,DFL!A:H,8,0)","v":0.48},{"$f":"P1862-(P1862/1.0025)","v":8.3042394014962717E-3},3.33]
[{"$error":"#N/A"},null,null,null,null,933044,"SPR","SPR","EA","MARKER,PAINT,MED,UNI,P"," ",6.4,28,{"$f":"VLOOKUP(M1863,DFL!A:H,8,0)","v":0.48},{"$f":"P1863-(P1863/1.0025)","v":8.3042394014962717E-3},3.33]
[{"$error":"#N/A"},null,null,null,null,932939,"SPR","SPR","EA","MARKER,PAINT,MEDIUM,RED",null,6.4,28,{"$f":"VLOOKUP(M1864,DFL!A:H,8,0)","v":0.48},{"$f":"P1864-(P1864/1.0025)","v":8.3042394014962717E-3},3.33]
[{"$error":"#N/A"},null,null,null,null,933077,"SPR","SPR","EA","MARKER,PAINT,W/ERASE,MAB/WHT"," ",6.4,28,{"$f":"VLOOKUP(M1865,DFL!A:H,8,0)","v":0.48},{"$f":"P1865-(P1865/1.0025)","v":8.3042394014962717E-3},3.33]
[{"$error":"#N/A"},null,null,null,null,932921,"SPR","SPR","EA","MARKER,PAINT, BK,M"," ",6.4,28,{"$f":"VLOOKUP(M1866,DFL!A:H,8,0)","v":0.48},{"$f":"P1866-(P1866/1.0025)","v":8.3042394014962717E-3},3.33]
[{"$error":"#N/A"},null,null,null,null,233106,"SPR","SPR","EA","MARKER;UNI-PAINT;OIL;MED;VT",null,6.4,28,{"$f":"VLOOKUP(M1867,DFL!A:H,8,0)","v":0.48},{"$f":"P1867-(P1867/1.0025)","v":8.3042394014962717E-3},3.33]
[{"$error":"#N/A"},null,null,null,null,929042,"SPR","SPR","EA","PENCIL,MECH,.5MM,SHARP,BLACK"," ",7,33,{"$f":"VLOOKUP(M1868,DFL!A:H,8,0)","v":0.55000000000000004},{"$f":"P1868-(P1868/1.0025)","v":7.8553615960097467E-3},3.15]
[{"$error":"#N/A"},null,null,null,null,929059,"SPR","SPR","EA","PENCIL,MECH,.7MM,SHARP,BLUE"," ",7,33,{"$f":"VLOOKUP(M1869,DFL!A:H,8,0)","v":0.55000000000000004},{"$f":"P1869-(P1869/1.0025)","v":7.8553615960097467E-3},3.15]
[{"$error":"#N/A"},null,null,null,null,929067,"SPR","SPR","EA","PENCIL,MECH,.9MM,SHARP,YELLOW"," ",7,33,{"$f":"VLOOKUP(M1870,DFL!A:H,8,0)","v":0.55000000000000004},{"$f":"P1870-(P1870/1.0025)","v":7.8553615960097467E-3},3.15]
[{"$error":"#N/A"},null,null,null,null,825489,"BSD","BSD","BX","FASTNER,PAPER,2IN SETS,50BX"," ",11.7,35,{"$f":"VLOOKUP(M1871,DFL!A:E,5,0)","v":0.7},{"$f":"P1871-(P1871/1.0025)","v":8.7531172069823526E-3},3.51]
[{"$error":"#N/A"},null,null,null,null,756354,"SPR","SPR","EA","NOTE,BUBBLE,3X3,AST",null,4.51,48,{"$f":"VLOOKUP(M1872,DFL!A:H,8,0)","v":0.3},{"$f":"P1872-(P1872/1.0025)","v":7.8802992518700599E-3},3.16]
[{"$error":"#N/A"},null,null,null,null,648745,"SPR","SPR","BG","LIFESAVERS,PEPOMINT,6.25 OZ",null,4.5199999999999996,48,{"$f":"VLOOKUP(M1873,DFL!A:H,8,0)","v":0.3},{"$f":"P1873-(P1873/1.0025)","v":7.8802992518700599E-3},3.16]
[{"$error":"#N/A"},null,null,null,null,197149,"BSD","BSD","PK","CUPS,10OZ,HOT,PATHWAYS"," ",9.1,18,{"$f":"VLOOKUP(M1874,DFL!A:E,5,0)","v":0.55000000000000004},{"$f":"P1874-(P1874/1.0025)","v":1.0224438902742605E-2},4.0999999999999996]
[{"$error":"#N/A"},null,null,null,null,1365796,null,"SPR","EA","OPEN/CLOSED CLOCK"," ",12.81,36,{"$f":"VLOOKUP(M1875,DFL!A:H,8,0)","v":0.36},{"$f":"P1875-(P1875/1.0025)","v":2.0448877805485211E-2},8.1999999999999993]
[{"$error":"#N/A"},null,null,null,null,904858,"BSD","BSD","EA","BIN,WEAVE,SMALL,BLACK"," ",8.1,3,{"$f":"VLOOKUP(M1876,DFL!A:E,5,0)","v":0.61},{"$f":"P1876-(P1876/1.0025)","v":7.8802992518700599E-3},3.16]
[{"$error":"#N/A"},null,null,null,null,548041,"SPR","SPR","PK"," HIGHLIGHTER MJACT FYW 4PK",null,6.09,28,{"$f":"VLOOKUP(M1877,DFL!A:H,8,0)","v":0.48},{"$f":"P1877-(P1877/1.0025)","v":7.905236907730373E-3},3.17]
[{"$error":"#N/A"},null,null,null,null,377182,null,"SPR","PK","HIGHLIGHTER,M,ACC.4/PK,ASTD",null,6.09,28,{"$f":"VLOOKUP(M1878,DFL!A:H,8,0)","v":0.48},{"$f":"P1878-(P1878/1.0025)","v":7.905236907730373E-3},3.17]
[{"$error":"#N/A"},null,null,null,null,508218,"BSD","BSD","EA","TAPE,POSTER,REMOVABLE,3/4X150\""," ",7.92,39,{"$f":"VLOOKUP(M1879,DFL!A:E,5,0)","v":0.6},{"$f":"P1879-(P1879/1.0025)","v":7.905236907730373E-3},3.17]
[{"$error":"#N/A"},null,null,null,null,328480,"BSD","BSD","EA","MARKER,MEAN STREAK,YELLOW"," ",8.58,28,{"$f":"VLOOKUP(M1880,DFL!A:E,5,0)","v":0.63},{"$f":"P1880-(P1880/1.0025)","v":7.905236907730373E-3},3.17]
[{"$error":"#N/A"},null,null,null,null,927657,"BSD","BSD","EA","MARKER,MEAN STREAK,WTRPRF,WHT"," ",8.58,28,{"$f":"VLOOKUP(M1881,DFL!A:E,5,0)","v":0.63},{"$f":"P1881-(P1881/1.0025)","v":7.905236907730373E-3},3.17]
[{"$error":"#N/A"},null,null,null,null,561510,"SPR","SPR","EA","CREAMER;CANISTER;12 OZ.",null,4.55,48,{"$f":"VLOOKUP(M1882,DFL!A:H,8,0)","v":0.3},{"$f":"P1882-(P1882/1.0025)","v":7.9551122194509993E-3},3.19]
[{"$error":"#N/A"},null,null,null,null,947424,"SPR","SPR","BX","CHALK;PAPER;AMBRITE;AST",null,6.02,20,{"$f":"VLOOKUP(M1883,DFL!A:H,8,0)","v":0.47},{"$f":"P1883-(P1883/1.0025)","v":7.9551122194509993E-3},3.19]
[{"$error":"#N/A"},null,null,null,null,8542813,null,"SPR","PK","PEN,RETRACT,GEL,0.7,AST,3PC",null,7.4,33,{"$f":"VLOOKUP(M1884,DFL!A:H,8,0)","v":0.55000000000000004},{"$f":"P1884-(P1884/1.0025)","v":8.3042394014962717E-3},3.33]
[{"$error":"#N/A"},null,null,null,null,663018,"SPR","SPR","BX","TISSUE,FACIAL125SHTS,2PLY",null,6.12,40,{"$f":"VLOOKUP(M1885,DFL!A:H,8,0)","v":0.44},{"$f":"P1885-(P1885/1.0025)","v":8.5536159600994033E-3},3.43]
[{"$error":"#N/A"},null,null,null,null,115631,"SPR","SPR","PK","SPONGE,SCRUBBER,S.O.S.3PK"," ",5.81,19,{"$f":"VLOOKUP(M1886,DFL!A:H,8,0)","v":0.45},{"$f":"P1886-(P1886/1.0025)","v":7.9800498753117566E-3},3.2]
[{"$error":"#N/A"},null,null,null,null,4190211,"SPR","SPR","EA","CLIPBOARD,STANDARD,9X15.5",null,6.3,7,{"$f":"VLOOKUP(M1887,DFL!A:H,8,0)","v":0.46},{"$f":"P1887-(P1887/1.0025)","v":8.4788029925184638E-3},3.4]
[{"$error":"#N/A"},null,null,null,null,362465,"SPR","SPR","PK","FEATHER;BRIGHT-HUE;BAG;1OZ",null,6.64,47,{"$f":"VLOOKUP(M1888,DFL!A:H,8,0)","v":0.5},{"$f":"P1888-(P1888/1.0025)","v":8.2793017456355145E-3},3.32]
[{"$error":"#N/A"},null,null,null,null,745133,"BSD","BSD","RL","TAPE, MASKING,1\"X60,BLUE"," ",8,39,{"$f":"VLOOKUP(M1889,DFL!A:E,5,0)","v":0.6},{"$f":"P1889-(P1889/1.0025)","v":7.9800498753117566E-3},3.2]
[{"$error":"#N/A"},null,null,null,null,129511,"SPR","SPR","ST","COLOR COATED TAB,ASS'T,1-15",null,8.51,35,{"$f":"VLOOKUP(M1890,DFL!A:H,8,0)","v":0.6},{"$f":"P1890-(P1890/1.0025)","v":8.4788029925184638E-3},3.4]
[{"$error":"#N/A"},null,null,null,null,588268,"BSD","BSD","EA","BOOK,COMP,100CT,WR"," ",11.9,30,{"$f":"VLOOKUP(M1891,DFL!A:E,5,0)","v":0.73},{"$f":"P1891-(P1891/1.0025)","v":8.0049875311720697E-3},3.21]
[{"$error":"#N/A"},null,null,null,null,124230,"SPR","SPR","PK","BADGE,NAME,PLAIN,2.25X3.5,WHT"," ",4.5999999999999996,48,{"$f":"VLOOKUP(M1892,DFL!A:H,8,0)","v":0.3},{"$f":"P1892-(P1892/1.0025)","v":8.0299251870323829E-3},3.22]
[{"$error":"#N/A"},null,null,null,null,8064114,null,"SPR","PK","HILIGHTER,SHRP,PKT,AST,5/PK",null,6.2,28,{"$f":"VLOOKUP(M1893,DFL!A:H,8,0)","v":0.48},{"$f":"P1893-(P1893/1.0025)","v":8.0299251870323829E-3},3.22]
[{"$error":"#N/A"},null,null,null,null,120744,"SPR","SPR","PK","BLADE,REPLACEMENT,SNAP,18MM"," ",6.31,25,{"$f":"VLOOKUP(M1894,DFL!A:H,8,0)","v":0.49},{"$f":"P1894-(P1894/1.0025)","v":8.0299251870323829E-3},3.22]
[{"$error":"#N/A"},null,null,null,null,673140,null,"SPR","PK"," CUP PLSTC16OZ CLR 25PK",null,13.1,18,{"$f":"VLOOKUP(M1895,DFL!A:H,8,0)","v":0.44},{"$f":"P1895-(P1895/1.0025)","v":1.8304239401495614E-2},7.34]
[{"$error":"#N/A"},null,null,null,null,4731073,null,"SPR","EA","BINDER,ECONOMY,RND,0.5\",RD",null,7.16,8,{"$f":"VLOOKUP(M1896,DFL!A:H,8,0)","v":0.55000000000000004},{"$f":"P1896-(P1896/1.0025)","v":8.0299251870323829E-3},3.22]
[{"$error":"#N/A"},null,null,null,null,970017,"SPR","SPR","EA","COVER,BINDER,BE",null,8.4,35,{"$f":"VLOOKUP(M1897,DFL!A:H,8,0)","v":0.6},{"$f":"P1897-(P1897/1.0025)","v":8.3790523690772112E-3},3.36]
[{"$error":"#N/A"},null,null,null,null,970029,"SPR","SPR","EA","COVER,BINDER,BK",null,8.4,35,{"$f":"VLOOKUP(M1898,DFL!A:H,8,0)","v":0.6},{"$f":"P1898-(P1898/1.0025)","v":8.3790523690772112E-3},3.36]
[{"$error":"#N/A"},null,null,null,null,970062,"SPR","SPR","EA","COVER,BINDER,BRD",null,8.4,35,{"$f":"VLOOKUP(M1899,DFL!A:H,8,0)","v":0.6},{"$f":"P1899-(P1899/1.0025)","v":8.3790523690772112E-3},3.36]
[{"$error":"#N/A"},null,null,null,null,970071,"SPR","SPR","EA","COVER,BINDER,DBE",null,8.4,35,{"$f":"VLOOKUP(M1900,DFL!A:H,8,0)","v":0.6},{"$f":"P1900-(P1900/1.0025)","v":8.3790523690772112E-3},3.36]
[{"$error":"#N/A"},null,null,null,null,818657,"BSD","BSD","EA","NOTEBOOK,STELLAR,1S,CR100,BLK",null,11.91,30,{"$f":"VLOOKUP(M1901,DFL!A:E,5,0)","v":0.73},{"$f":"P1901-(P1901/1.0025)","v":8.0299251870323829E-3},3.22]
[{"$error":"#N/A"},null,null,null,null,486293,"BSD","BSD","EA","NOTEBOOK,STELLAR,1S,CR,100,BLU",null,11.93,30,{"$f":"VLOOKUP(M1902,DFL!A:E,5,0)","v":0.73},{"$f":"P1902-(P1902/1.0025)","v":8.0299251870323829E-3},3.22]
[{"$error":"#N/A"},null,null,null,null,728660,"SPR","SPR","EA","CLEANER,BOARD,DRY-ERASE"," ",4.93,48,{"$f":"VLOOKUP(M1903,DFL!A:H,8,0)","v":0.3},{"$f":"P1903-(P1903/1.0025)","v":8.6034912718204737E-3},3.45]
[{"$error":"#N/A"},null,null,null,null,570878,"SPR","SPR","EA","EYEWEAR, SAFETY, WRAPAROUND"," ",5.71,22,{"$f":"VLOOKUP(M1904,DFL!A:H,8,0)","v":0.41},{"$f":"P1904-(P1904/1.0025)","v":8.4039900249375243E-3},3.37]
[{"$error":"#N/A"},null,null,null,null,9221133,"SPR","SPR","BX","BANDAGE,ANTIBAC,FINGER,AST",null,5.48,22,{"$f":"VLOOKUP(M1905,DFL!A:H,8,0)","v":0.41},{"$f":"P1905-(P1905/1.0025)","v":8.0548628428926961E-3},3.23]
[{"$error":"#N/A"},null,null,null,null,382249,"SPR","SPR","EA","CLEANTER,2000FLSHS W/BLEACH"," ",5.88,19,{"$f":"VLOOKUP(M1906,DFL!A:H,8,0)","v":0.45},{"$f":"P1906-(P1906/1.0025)","v":8.0548628428926961E-3},3.23]
[{"$error":"#N/A"},null,null,null,null,848564,null,"SPR","PK","CALC INKROLL PR-42 2-PACK"," ",5.99,14,{"$f":"VLOOKUP(M1907,DFL!A:H,8,0)","v":0.31},{"$f":"P1907-(P1907/1.0025)","v":1.0299251870323545E-2},4.13]
[{"$error":"#N/A"},null,null,null,null,502351,null,"SPR","EA","SCISSORS,STUDENT,LH/RH,7\",ASTD"," ",6.24,7,{"$f":"VLOOKUP(M1908,DFL!A:H,8,0)","v":0.46},{"$f":"P1908-(P1908/1.0025)","v":8.4039900249375243E-3},3.37]
[{"$error":"#N/A"},null,null,null,null,205299,"SPR","SPR","EA","TRIMMER;TERRIFIC;GEL STARS",null,5.99,7,{"$f":"VLOOKUP(M1909,DFL!A:H,8,0)","v":0.46},{"$f":"P1909-(P1909/1.0025)","v":8.0548628428926961E-3},{"$f":"ROUND(L1909*(1-N1909),2)","v":3.23}]
[{"$error":"#N/A"},null,null,null,null,450829,"SPR","SPR","BX","CHALK;SIDEWALK;20PC;AST",null,6.09,20,{"$f":"VLOOKUP(M1910,DFL!A:H,8,0)","v":0.47},{"$f":"P1910-(P1910/1.0025)","v":8.0548628428926961E-3},3.23]
[{"$error":"#N/A"},null,null,null,null,313395,"SPR","SPR","ST","DIVIDERS;LEATHER TABS;MTHLY",null,8.07,35,{"$f":"VLOOKUP(M1911,DFL!A:H,8,0)","v":0.6},{"$f":"P1911-(P1911/1.0025)","v":8.0548628428926961E-3},3.23]
[{"$error":"#N/A"},null,null,null,null,772794,"BSD","BSD","EA","BIN,STCKNG,MDLR,XLGE,CLEAR"," ",8.69,3,{"$f":"VLOOKUP(M1912,DFL!A:E,5,0)","v":0.61},{"$f":"P1912-(P1912/1.0025)","v":8.4538653366581507E-3},3.39]
[{"$error":"#N/A"},null,null,null,null,298672,"BSD","BSD","PK","NOTES,SS,MIAMI,2X2",null,11.96,30,{"$f":"VLOOKUP(M1913,DFL!A:E,5,0)","v":0.73},{"$f":"P1913-(P1913/1.0025)","v":8.0548628428926961E-3},3.23]
[{"$error":"#N/A"},null,null,null,null,7760263,"BSD","BSD","EA"," CLENER GLASS&MIRROR 32.OZ",null,6.46,19,{"$f":"VLOOKUP(M1914,DFL!A:E,5,0)","v":0.5},{"$f":"P1914-(P1914/1.0025)","v":8.0548628428926961E-3},3.23]
[{"$error":"#N/A"},null,null,null,null,802642,"SPR","SPR","BX","BANDAGE,FABR STRIP,ASST"," ",5.49,22,{"$f":"VLOOKUP(M1915,DFL!A:H,8,0)","v":0.41},{"$f":"P1915-(P1915/1.0025)","v":8.0798004987530092E-3},3.24]
[{"$error":"#N/A"},null,null,null,null,507557,null,"SPR","EA","TISSUE,FACIAL,PUFFS EA"," ",5.53,40,{"$f":"VLOOKUP(M1916,DFL!A:H,8,0)","v":0.44},{"$f":"P1916-(P1916/1.0025)","v":7.7306733167081809E-3},3.1]
[{"$error":"#N/A"},null,null,null,null,5288709,null,"SPR","PK","CUPS,CONE,PAPER",null,5.79,18,{"$f":"VLOOKUP(M1917,DFL!A:H,8,0)","v":0.44},{"$f":"P1917-(P1917/1.0025)","v":8.0798004987530092E-3},3.24]
[{"$error":"#N/A"},null,null,null,null,417325,"SPR","SPR","EA","CABLE,CAT6,UTP,RJ45M/M,6',B",null,7.49,6,{"$f":"VLOOKUP(M1918,DFL!A:H,8,0)","v":0.47},{"$f":"P1918-(P1918/1.0025)","v":9.9002493765585342E-3},3.97]
[{"$error":"#N/A"},null,null,null,null,1370755,"SPR","SPR","BX","LARGE WASH CRAYONS 16CT",null,6.47,47,{"$f":"VLOOKUP(M1919,DFL!A:H,8,0)","v":0.5},{"$f":"P1919-(P1919/1.0025)","v":8.0798004987530092E-3},3.24]
[{"$error":"#N/A"},null,null,null,null,748271,"BSD","BSD","PK","DISPLAY,PROTECTOR,10/PK"," ",15.97,35,{"$f":"VLOOKUP(M1920,DFL!A:E,5,0)","v":0.7},{"$f":"P1920-(P1920/1.0025)","v":1.1945137157106878E-2},4.79]
[{"$error":"#N/A"},null,null,null,null,889700,"SPR","SPR","RL","TOWEL;PAPER;RECYL;1RL",null,5.8,40,{"$f":"VLOOKUP(M1921,DFL!A:H,8,0)","v":0.44},{"$f":"P1921-(P1921/1.0025)","v":8.1047381546133224E-3},3.25]
[{"$error":"#N/A"},null,null,null,null,9317130,"SPR","SPR","PK","RUBBERBAND,BIG,48/PK",null,6.31,7,{"$f":"VLOOKUP(M1922,DFL!A:H,8,0)","v":0.46},{"$f":"P1922-(P1922/1.0025)","v":8.503740648378777E-3},3.41]
[{"$error":"#N/A"},null,null,null,null,320155,"BSD","BSD","EA","BOOK,CMP,GRPH,4Q,9.75X7.5,100C"," ",12.09,30,{"$f":"VLOOKUP(M1923,DFL!A:E,5,0)","v":0.73},{"$f":"P1923-(P1923/1.0025)","v":8.1296758104736355E-3},3.26]
[{"$error":"#N/A"},null,null,null,null,729890,"SPR","SPR","BX","BANDAGES,KNEE/ELBOW,COMFORT"," ",5.95,19,{"$f":"VLOOKUP(M1924,DFL!A:H,8,0)","v":0.45},{"$f":"P1924-(P1924/1.0025)","v":8.1546134663339487E-3},3.27]
[{"$error":"#N/A"},null,null,null,null,8281356,"SPR","SPR","EA","WIPE,ROLL,L30,WYPALL",null,6.96,19,{"$f":"VLOOKUP(M1925,DFL!A:H,8,0)","v":0.45},{"$f":"P1925-(P1925/1.0025)","v":9.5511221945137059E-3},3.83]
[{"$error":"#N/A"},null,null,null,null,698219,"SPR","SPR","PK","CUP,COLD,10OZ,CLR"," ",5.75,18,{"$f":"VLOOKUP(M1926,DFL!A:H,8,0)","v":0.44},{"$f":"P1926-(P1926/1.0025)","v":8.0299251870323829E-3},3.22]
[{"$error":"#N/A"},null,null,null,null,181529,"BSD","BSD","DZ","PENCIL,#2 POLY LEAD,DISP,12/PK"," ",9.36,33,{"$f":"VLOOKUP(M1927,DFL!A:E,5,0)","v":0.65},{"$f":"P1927-(P1927/1.0025)","v":8.1795511221942618E-3},3.28]
[{"$error":"#N/A"},null,null,null,null,594874,"BSD","BSD","EA","BINDER,FLEXI-VIEW,1\",NVYBLU EA"," ",13.88,8,{"$f":"VLOOKUP(M1928,DFL!A:E,5,0)","v":0.65},{"$f":"P1928-(P1928/1.0025)","v":1.211970074812907E-2},4.8600000000000003]
[{"$error":"#N/A"},null,null,null,null,772102,"BSD","BSD","EA","BINDER,FLEXI-VIEW, .5\""," ",13.88,8,{"$f":"VLOOKUP(M1929,DFL!A:E,5,0)","v":0.65},{"$f":"P1929-(P1929/1.0025)","v":1.211970074812907E-2},4.8600000000000003]
[{"$error":"#N/A"},null,null,null,null,8010053,"SPR","SPR","EA","FRESHENER,WRMR,FEBREZE PLUG",null,6.63,19,{"$f":"VLOOKUP(M1930,DFL!A:H,8,0)","v":0.45},{"$f":"P1930-(P1930/1.0025)","v":9.1022443890271809E-3},3.65]
[{"$error":"#N/A"},null,null,null,null,882915,"BSD","BSD","EA","MOUSEPAD,BLACK"," ",5.79,29,{"$f":"VLOOKUP(M1931,DFL!A:E,5,0)","v":0.43},{"$f":"P1931-(P1931/1.0025)","v":8.2294264339148882E-3},3.3]
[{"$error":"#N/A"},null,null,null,null,899507,"BSD","BSD","EA","MOUSEPAD,BASIC,OD,BLU"," ",5.79,29,{"$f":"VLOOKUP(M1932,DFL!A:E,5,0)","v":0.43},{"$f":"P1932-(P1932/1.0025)","v":8.2294264339148882E-3},3.3]
[{"$error":"#N/A"},null,null,null,null,1127970,"BSD","BSD","EA","BRUSH,BOWL,SCRATCHLESS",null,7.09,19,{"$f":"VLOOKUP(M1933,DFL!A:E,5,0)","v":0.5},{"$f":"P1933-(P1933/1.0025)","v":8.8528678304236053E-3},3.55]
[{"$error":"#N/A"},null,null,null,null,551941,"SPR","SPR","ST","INDEX,25TAB,A-Z,9/32\"HL,BUF"," ",8.44,35,{"$f":"VLOOKUP(M1934,DFL!A:H,8,0)","v":0.6},{"$f":"P1934-(P1934/1.0025)","v":8.4289276807978375E-3},3.38]
[{"$error":"#N/A"},null,null,null,null,152619,"SPR","SPR","PK","FOLDER,FLE PRJCT 5PK,CR",null,9.49,35,{"$f":"VLOOKUP(M1935,DFL!A:H,8,0)","v":0.6},{"$f":"P1935-(P1935/1.0025)","v":9.4763092269323224E-3},3.8]
[{"$error":"#N/A"},null,null,null,null,905267,"SPR","SPR","PK","FOLDER,PROJECT VIEW,LTR,ASTD"," ",9.49,35,{"$f":"VLOOKUP(M1936,DFL!A:H,8,0)","v":0.6},{"$f":"P1936-(P1936/1.0025)","v":9.4763092269323224E-3},3.8]
[{"$error":"#N/A"},null,null,null,null,6989511,"SPR","SPR","PK","TAGS,KEY,PLASTIC,ASSORTED",null,8.25,35,{"$f":"VLOOKUP(M1937,DFL!A:H,8,0)","v":0.6},{"$f":"P1937-(P1937/1.0025)","v":8.2294264339148882E-3},3.3]
[{"$error":"#N/A"},null,null,null,null,416567,null,"SPR","PK","HOOKS,CUBICLE,RECYCLED,5PK",null,6.62,16,{"$f":"VLOOKUP(M1938,DFL!A:H,8,0)","v":0.36},{"$f":"P1938-(P1938/1.0025)","v":1.0573566084787878E-2},4.24]
[{"$error":"#N/A"},null,null,null,null,951841,"BSD","BSD","PK","PEN,4 COLOR,3PACK,BIC"," ",9.4700000000000006,33,{"$f":"VLOOKUP(M1939,DFL!A:E,5,0)","v":0.65},{"$f":"P1939-(P1939/1.0025)","v":8.2543640897752013E-3},3.31]
[{"$error":"#N/A"},null,null,null,null,705529,"SPR","SPR","BX","BANDAGE;FLEX;XTRALARGE",null,5.99,22,{"$f":"VLOOKUP(M1940,DFL!A:H,8,0)","v":0.41},{"$f":"P1940-(P1940/1.0025)","v":8.8029925187029789E-3},3.53]
[{"$error":"#N/A"},null,null,null,null,835919,"SPR","SPR","EA","WARMER,PLUGINS,GLADE",null,6.03,19,{"$f":"VLOOKUP(M1941,DFL!A:H,8,0)","v":0.45},{"$f":"P1941-(P1941/1.0025)","v":8.2793017456355145E-3},3.32]
[{"$error":"#N/A"},null,null,null,null,565904,"SPR","SPR","EA","MARKER;WINDOWFX;WSHBL;8ST",null,6.38,28,{"$f":"VLOOKUP(M1942,DFL!A:H,8,0)","v":0.48},{"$f":"P1942-(P1942/1.0025)","v":8.2793017456355145E-3},3.32]
[{"$error":"#N/A"},null,null,null,null,755245,"BSD","BSD","PK","HIGHLIGHTER,CLEARVIEW,3PK,ASTD"," ",8.9700000000000006,28,{"$f":"VLOOKUP(M1943,DFL!A:E,5,0)","v":0.63},{"$f":"P1943-(P1943/1.0025)","v":8.2793017456355145E-3},3.32]
[{"$error":"#N/A"},null,null,null,null,717321,"BSD","BSD","PK","TAB,POST-IT,DURABLE,3/PK"," ",11.08,35,{"$f":"VLOOKUP(M1944,DFL!A:E,5,0)","v":0.7},{"$f":"P1944-(P1944/1.0025)","v":8.2793017456355145E-3},3.32]
[{"$error":"#N/A"},null,null,null,null,925971,"BSD","BSD","PK","FLAGS,INDEX,DURABLE,3PK,FLUOR"," ",11.08,35,{"$f":"VLOOKUP(M1945,DFL!A:E,5,0)","v":0.7},{"$f":"P1945-(P1945/1.0025)","v":8.2793017456355145E-3},3.32]
[{"$error":"#N/A"},null,null,null,null,613827,null,"SPR","PK","FASTENER,RND HD,100PK,1\",BRASS"," ",11.08,35,{"$f":"VLOOKUP(M1946,DFL!A:H,8,0)","v":0.6},{"$f":"P1946-(P1946/1.0025)","v":1.1047381546134716E-2},4.43]
[{"$error":"#N/A"},null,null,null,null,971946,"BSD","BSD","PK","NOTES,SS,1 7/8X1 7/8,8PK,NEON"," ",12.28,30,{"$f":"VLOOKUP(M1947,DFL!A:E,5,0)","v":0.73},{"$f":"P1947-(P1947/1.0025)","v":8.2793017456355145E-3},3.32]
[{"$error":"#N/A"},null,null,null,null,977022,"BSD","BSD","PK","NOTES,SS,2X2,POST-IT,8PK,ULTRA"," ",12.28,30,{"$f":"VLOOKUP(M1948,DFL!A:E,5,0)","v":0.73},{"$f":"P1948-(P1948/1.0025)","v":8.2793017456355145E-3},3.32]
[{"$error":"#N/A"},null,null,null,null,597305,null,"SPR","EA","CLEANER,COFFEE,AUTO,DIP-IT",null,6.05,19,{"$f":"VLOOKUP(M1949,DFL!A:H,8,0)","v":0.45},{"$f":"P1949-(P1949/1.0025)","v":8.3042394014962717E-3},3.33]
[{"$error":"#N/A"},null,null,null,null,908608,"SPR","SPR","EA","REMOVER,STAPLE,PUSH TYPE,CARD."," ",7.14,37,{"$f":"VLOOKUP(M1950,DFL!A:H,8,0)","v":0.5},{"$f":"P1950-(P1950/1.0025)","v":8.9027431421442316E-3},3.57]
[{"$error":"#N/A"},null,null,null,null,8278619,"SPR","SPR","PK","PENCIL,PROGEAR,1.3MM",null,7.4,33,{"$f":"VLOOKUP(M1951,DFL!A:H,8,0)","v":0.55000000000000004},{"$f":"P1951-(P1951/1.0025)","v":8.3042394014962717E-3},3.33]
[{"$error":"#N/A"},null,null,null,null,485939,null,"SPR","EA","MOPHEAD,#20,CE,4PLY"," ",6.07,19,{"$f":"VLOOKUP(M1952,DFL!A:H,8,0)","v":0.45},{"$f":"P1952-(P1952/1.0025)","v":8.3291770573565849E-3},3.34]
[{"$error":"#N/A"},null,null,null,null,524468,"BSD","BSD","PK","DISPENSER,NAPKIN,SERVONE,WHITE"," ",5.93,48,{"$f":"VLOOKUP(M1953,DFL!A:E,5,0)","v":0.42},{"$f":"P1953-(P1953/1.0025)","v":8.5785536159597164E-3},3.44]
[{"$error":"#N/A"},null,null,null,null,824833,"SPR","SPR","PK","WIPES,BABY,HYPOALLERGENIC,64PK"," ",6.08,19,{"$f":"VLOOKUP(M1954,DFL!A:H,8,0)","v":0.45},{"$f":"P1954-(P1954/1.0025)","v":8.3291770573565849E-3},3.34]
[{"$error":"#N/A"},null,null,null,null,787708,"SPR","SPR","EA","HOLDER,BUSINESS,BK"," ",6.84,31,{"$f":"VLOOKUP(M1955,DFL!A:H,8,0)","v":0.49},{"$f":"P1955-(P1955/1.0025)","v":8.7032418952617263E-3},3.49]
[{"$error":"#N/A"},null,null,null,null,549848,"SPR","SPR","EA","KNIFE,UTILTY,13PT",null,8.0399999999999991,25,{"$f":"VLOOKUP(M1956,DFL!A:H,8,0)","v":0.49},{"$f":"P1956-(P1956/1.0025)","v":1.0224438902742605E-2},4.0999999999999996]
[{"$error":"#N/A"},null,null,null,null,724558,"BSD","BSD","EA","RULER,OD, 12\",MAGNIFYING"," ",12.27,34,{"$f":"VLOOKUP(M1957,DFL!A:E,5,0)","v":0.7},{"$f":"P1957-(P1957/1.0025)","v":9.1770573566081204E-3},3.68]
[{"$error":"#N/A"},null,null,null,null,717689,"SPR","SPR","PK","STEMS;CHENLLE;6MM;STRPD;AST",null,4.9800000000000004,48,{"$f":"VLOOKUP(M1958,DFL!A:H,8,0)","v":0.3},{"$f":"P1958-(P1958/1.0025)","v":8.7032418952617263E-3},3.49]
[{"$error":"#N/A"},null,null,null,null,677887,"SPR","SPR","PK","LABELS;STAR BRIGHTS;36CT",null,5.99,26,{"$f":"VLOOKUP(M1959,DFL!A:H,8,0)","v":0.44},{"$f":"P1959-(P1959/1.0025)","v":8.354114713216898E-3},3.35]
[{"$error":"#N/A"},null,null,null,null,4511859,null,"SPR","EA","SCOTCH-BRITE LINT ROLLER",null,6.09,19,{"$f":"VLOOKUP(M1960,DFL!A:H,8,0)","v":0.45},{"$f":"P1960-(P1960/1.0025)","v":8.354114713216898E-3},3.35]
[{"$error":"#N/A"},null,null,null,null,309643,"SPR","SPR","DZ"," PENCIL #2 TICONDEROGA DZ BLACK",null,7.44,33,{"$f":"VLOOKUP(M1961,DFL!A:H,8,0)","v":0.55000000000000004},{"$f":"P1961-(P1961/1.0025)","v":8.354114713216898E-3},3.35]
[{"$error":"#N/A"},null,null,null,null,727835,null,"SPR","DZ","PENCIL,ENVIROSTIK,#2,DZ"," ",7.67,33,{"$f":"VLOOKUP(M1962,DFL!A:H,8,0)","v":0.55000000000000004},{"$f":"P1962-(P1962/1.0025)","v":8.6034912718204737E-3},3.45]
[{"$error":"#N/A"},null,null,null,null,850718,null,"SPR","EA","CORD,EXTENSION,9FT,WHITE"," ",7.79,6,{"$f":"VLOOKUP(M1963,DFL!A:H,8,0)","v":0.47},{"$f":"P1963-(P1963/1.0025)","v":1.0299251870323545E-2},4.13]
[{"$error":"#N/A"},null,null,null,null,517043,"SPR","SPR","EA","NOTEBOOK,STENO,6X9,60SH,WE"," ",7.97,30,{"$f":"VLOOKUP(M1964,DFL!A:H,8,0)","v":0.57999999999999996},{"$f":"P1964-(P1964/1.0025)","v":8.354114713216898E-3},3.35]
[{"$error":"#N/A"},null,null,null,null,278457,"SPR","SPR","ST","MARKER;ART;WTRCOLOR;WSHBL;8",null,6.47,28,{"$f":"VLOOKUP(M1965,DFL!A:H,8,0)","v":0.48},{"$f":"P1965-(P1965/1.0025)","v":8.3790523690772112E-3},3.36]
[{"$error":"#N/A"},null,null,null,null,779964,"BSD","BSD","DZ","PEN,PM,INKJOY,300RT,1.0,DZ,BLK"," ",9.6,33,{"$f":"VLOOKUP(M1966,DFL!A:E,5,0)","v":0.65},{"$f":"P1966-(P1966/1.0025)","v":8.3790523690772112E-3},3.36]
[{"$error":"#N/A"},null,null,null,null,779982,"BSD","BSD","DZ","PEN,INKJOY,300RT,O/S,BE"," ",9.6,33,{"$f":"VLOOKUP(M1967,DFL!A:E,5,0)","v":0.65},{"$f":"P1967-(P1967/1.0025)","v":8.3790523690772112E-3},3.36]
[{"$error":"#N/A"},null,null,null,null,780009,"BSD","BSD","DZ","PEN,INKJOY,300RT,O/S,RD"," ",9.6,33,{"$f":"VLOOKUP(M1968,DFL!A:E,5,0)","v":0.65},{"$f":"P1968-(P1968/1.0025)","v":8.3790523690772112E-3},3.36]
[{"$error":"#N/A"},null,null,null,null,458825,"BSD","BSD","ST","PEN,BALLPT,RSVP,MULTI PK"," ",9.61,33,{"$f":"VLOOKUP(M1969,DFL!A:E,5,0)","v":0.65},{"$f":"P1969-(P1969/1.0025)","v":8.3790523690772112E-3},3.36]
[{"$error":"#N/A"},null,null,null,null,6822070,null,"SPR","EA"," Refill RY24 Daily 6x4 White",null,7.99,11,{"$f":"VLOOKUP(M1970,DFL!A:H,8,0)","v":0.46},{"$f":"P1970-(P1970/1.0025)","v":1.074812967581007E-2},4.3099999999999996]
[{"$error":"#N/A"},null,null,null,null,9906390,"SPR","SPR","BX","BANDAGES,SOFT 'N FLEX,30",null,5.71,22,{"$f":"VLOOKUP(M1971,DFL!A:H,8,0)","v":0.41},{"$f":"P1971-(P1971/1.0025)","v":8.4039900249375243E-3},3.37]
[{"$error":"#N/A"},null,null,null,null,716798,"SPR","SPR","BG","CUP,FOAM,10OZ,WE,25CT",null,5.97,18,{"$f":"VLOOKUP(M1972,DFL!A:H,8,0)","v":0.44},{"$f":"P1972-(P1972/1.0025)","v":8.3291770573565849E-3},3.34]
[{"$error":"#N/A"},null,null,null,null,509726,"SPR","SPR","ST","MARKER,SHRPIE.MET,2PK"," ",6.49,28,{"$f":"VLOOKUP(M1973,DFL!A:H,8,0)","v":0.48},{"$f":"P1973-(P1973/1.0025)","v":8.4039900249375243E-3},{"$f":"ROUND(L1973*(1-N1973),2)","v":3.37}]
[{"$error":"#N/A"},null,null,null,null,976304,"BSD","BSD","BX","STAPLES,HGH CPTY,3/8\",BX-3000"," ",9.6199999999999992,37,{"$f":"VLOOKUP(M1974,DFL!A:E,5,0)","v":0.65},{"$f":"P1974-(P1974/1.0025)","v":8.4039900249375243E-3},3.37]
[{"$error":"#N/A"},null,null,null,null,498827,"SPR","SPR","PK","CUP,SINGLE,8OZ"," ",6.19,18,{"$f":"VLOOKUP(M1975,DFL!A:H,8,0)","v":0.44},{"$f":"P1975-(P1975/1.0025)","v":8.6533665835411E-3},3.47]
[{"$error":"#N/A"},null,null,null,null,542635,"SPR","SPR","DZ","CLIP,BINDER,MED,12/BX",null,7.15,7,{"$f":"VLOOKUP(M1976,DFL!A:H,8,0)","v":0.46},{"$f":"P1976-(P1976/1.0025)","v":9.6259351620946454E-3},3.86]
[{"$error":"#N/A"},null,null,null,null,819036,null,"SPR","EA","GLUE,TAPE,8MMX10M"," ",6.5,1,{"$f":"VLOOKUP(M1977,DFL!A:H,8,0)","v":0.48},{"$f":"P1977-(P1977/1.0025)","v":8.4289276807978375E-3},3.38]
[{"$error":"#N/A"},null,null,null,null,552487,"SPR","SPR","EA","CLIPBOARD,PLAS,9X12,CLEAR"," ",9.27,35,{"$f":"VLOOKUP(M1978,DFL!A:H,8,0)","v":0.6},{"$f":"P1978-(P1978/1.0025)","v":9.2518703241895039E-3},3.71]
[{"$error":"#N/A"},null,null,null,null,552496,"SPR","SPR","EA","CLIPBOARD,PLAS,9X12,SMOKE"," ",9.27,35,{"$f":"VLOOKUP(M1979,DFL!A:H,8,0)","v":0.6},{"$f":"P1979-(P1979/1.0025)","v":9.2518703241895039E-3},3.71]
[{"$error":"#N/A"},null,null,null,null,552511,"SPR","SPR","EA","CLIPBOARD,PLAS,9X12,BLUEBER"," ",9.27,35,{"$f":"VLOOKUP(M1980,DFL!A:H,8,0)","v":0.6},{"$f":"P1980-(P1980/1.0025)","v":9.2518703241895039E-3},3.71]
[{"$error":"#N/A"},null,null,null,null,506406,"BSD","BSD","EA","BINDR D-R QUICKFIT O/L 1\"  WHT","080/080,EPP (eVine),80% post-consumer (chipboard)",9.65,8,{"$f":"VLOOKUP(M1981,DFL!A:E,5,0)","v":0.65},{"$f":"P1981-(P1981/1.0025)","v":8.4289276807978375E-3},3.38]
[{"$error":"#N/A"},null,null,null,null,541553,"SPR","SPR","EA","BINDER,D-RING,5/8\",WHITE","080/080,EPP (eVine),80% post-consumer (chipboard)",12.35,8,{"$f":"VLOOKUP(M1982,DFL!A:H,8,0)","v":0.55000000000000004},{"$f":"P1982-(P1982/1.0025)","v":1.3865336658353655E-2},5.56]
[{"$error":"#N/A"},null,null,null,null,477727,"BSD","BSD","PK","CLIPBOARD,OD,3/PK,WOOD"," ",15.81,35,{"$f":"VLOOKUP(M1983,DFL!A:E,5,0)","v":0.7},{"$f":"P1983-(P1983/1.0025)","v":1.1820448877805312E-2},4.74]
[{"$error":"#N/A"},null,null,null,null,173914,"SPR","SPR","RL","BORDER;2.25\"X50;VIOLET",null,5.29,36,{"$f":"VLOOKUP(M1984,DFL!A:H,8,0)","v":0.36},{"$f":"P1984-(P1984/1.0025)","v":8.4538653366581507E-3},3.39]
[{"$error":"#N/A"},null,null,null,null,380081,"SPR","SPR","EA","MARKER,PERM,MAGNUM,BE"," ",6.52,28,{"$f":"VLOOKUP(M1985,DFL!A:H,8,0)","v":0.48},{"$f":"P1985-(P1985/1.0025)","v":8.4538653366581507E-3},3.39]
[{"$error":"#N/A"},null,null,null,null,611497,"SPR","SPR","PK","MARKER,SHARPIE,2 PACK,SILVER",null,6.52,28,{"$f":"VLOOKUP(M1986,DFL!A:H,8,0)","v":0.48},{"$f":"P1986-(P1986/1.0025)","v":8.4538653366581507E-3},3.39]
[{"$error":"#N/A"},null,null,null,null,199975,"SPR","SPR","EA","SHARPENER,OVAL,ASST"," ",4.79,21,{"$f":"VLOOKUP(M1987,DFL!A:H,8,0)","v":0.28999999999999998},{"$f":"P1987-(P1987/1.0025)","v":8.4788029925184638E-3},3.4]
[{"$error":"#N/A"},null,null,null,null,989482,"SPR","SPR","EA","LIME STANDARD VEST MESHH&L"," ",4.8499999999999996,48,{"$f":"VLOOKUP(M1988,DFL!A:H,8,0)","v":0.3},{"$f":"P1988-(P1988/1.0025)","v":8.4788029925184638E-3},3.4]
[{"$error":"#N/A"},null,null,null,null,234972,"SPR","SPR","BX","BANDAGE,ADHESIVE,WOVEN",null,5.76,22,{"$f":"VLOOKUP(M1989,DFL!A:H,8,0)","v":0.41},{"$f":"P1989-(P1989/1.0025)","v":8.4788029925184638E-3},3.4]
[{"$error":"#N/A"},null,null,null,null,732198,"SPR","SPR","PK","CUP,COLD,12OZ,CLR"," ",5.8,18,{"$f":"VLOOKUP(M1990,DFL!A:H,8,0)","v":0.44},{"$f":"P1990-(P1990/1.0025)","v":8.1047381546133224E-3},3.25]
[{"$error":"#N/A"},null,null,null,null,232018,"SPR","SPR","EA","TAPE,GORILLA-TO-GO,BLK",null,6.79,39,{"$f":"VLOOKUP(M1991,DFL!A:H,8,0)","v":0.5},{"$f":"P1991-(P1991/1.0025)","v":8.4788029925184638E-3},3.4]
[{"$error":"#N/A"},null,null,null,null,117008,"SPR","SPR","EA","PENCIL,GRPHGR-500,0.5MM,BK",null,7.55,33,{"$f":"VLOOKUP(M1992,DFL!A:H,8,0)","v":0.55000000000000004},{"$f":"P1992-(P1992/1.0025)","v":8.4788029925184638E-3},3.4]
[{"$error":"#N/A"},null,null,null,null,117016,"SPR","SPR","EA","PENCIL,GRPHGR-500,0.7MM,BE",null,7.55,33,{"$f":"VLOOKUP(M1993,DFL!A:H,8,0)","v":0.55000000000000004},{"$f":"P1993-(P1993/1.0025)","v":8.4788029925184638E-3},3.4]
[{"$error":"#N/A"},null,null,null,null,117024,"SPR","SPR","EA","PENCIL,GRPHGR-500,0.9MM,GY",null,7.55,33,{"$f":"VLOOKUP(M1994,DFL!A:H,8,0)","v":0.55000000000000004},{"$f":"P1994-(P1994/1.0025)","v":8.4788029925184638E-3},3.4]
[{"$error":"#N/A"},null,null,null,null,7071233,null,"SPR","PK"," PAD 3.5X8.5 DAILY TUL SCHEDULE",null,8.1,11,{"$f":"VLOOKUP(M1995,DFL!A:H,8,0)","v":0.46},{"$f":"P1995-(P1995/1.0025)","v":1.0897755610971949E-2},4.37]
[{"$error":"#N/A"},null,null,null,null,474945,"SPR","SPR","ST","STACKERS,F/5\" DSKTRY,BLK"," ",6.69,31,{"$f":"VLOOKUP(M1996,DFL!A:H,8,0)","v":0.49},{"$f":"P1996-(P1996/1.0025)","v":8.503740648378777E-3},3.41]
[{"$error":"#N/A"},null,null,null,null,890441,"BSD","BSD","EA","SOAP,LIQD DIAL GLD,7.5OZ"," ",6.82,19,{"$f":"VLOOKUP(M1997,DFL!A:E,5,0)","v":0.5},{"$f":"P1997-(P1997/1.0025)","v":8.503740648378777E-3},3.41]
[{"$error":"#N/A"},null,null,null,null,452391,"SPR","SPR","PK","FLAG,TAPE,IN DISP,2PK,GREEN"," ",8.5299999999999994,35,{"$f":"VLOOKUP(M1998,DFL!A:H,8,0)","v":0.6},{"$f":"P1998-(P1998/1.0025)","v":8.503740648378777E-3},3.41]
[{"$error":"#N/A"},null,null,null,null,620336,"SPR","SPR","PK","FLAG,TAPE,IN DISP,NEON PNK,2PK"," ",8.5299999999999994,35,{"$f":"VLOOKUP(M1999,DFL!A:H,8,0)","v":0.6},{"$f":"P1999-(P1999/1.0025)","v":8.503740648378777E-3},3.41]
[{"$error":"#N/A"},null,null,null,null,452375,"SPR","SPR","PK","FLAG,TAPE,IN DISP,BLUE,2PK"," ",8.5299999999999994,35,{"$f":"VLOOKUP(M2000,DFL!A:H,8,0)","v":0.6},{"$f":"P2000-(P2000/1.0025)","v":8.503740648378777E-3},3.41]
[{"$error":"#N/A"},null,null,null,null,846110,"BSD","BSD","BX","PEN, IJ50 STICK, BLK 60",null,9.81,33,{"$f":"VLOOKUP(M2012,DFL!A:E,5,0)","v":0.65},{"$f":"P2012-(P2012/1.0025)","v":8.5536159600994033E-3},3.43]
[{"$error":"#N/A"},null,null,null,null,115491,"BSD","BSD","EA","CLEANER,TOILET BWL,BLCH EA"," ",6.88,19,{"$f":"VLOOKUP(M2017,DFL!A:E,5,0)","v":0.5},{"$f":"P2017-(P2017/1.0025)","v":8.5785536159597164E-3},3.44]
[{"$error":"#N/A"},null,null,null,null,273461,null,"SPR","PK","WITE-OUT,EZ QUICK DRY,3PK,WHT",null,8.8699999999999992,17,{"$f":"VLOOKUP(M2032,DFL!A:H,8,0)","v":0.48},{"$f":"P2032-(P2032/1.0025)","v":1.1496259351620353E-2},4.6100000000000003]
[{"$error":"#N/A"},null,null,null,null,804031,"SPR","SPR","EA","BOOK,NOTE,LGL,8.5X11.75,CY",null,8.33,30,{"$f":"VLOOKUP(M2051,DFL!A:H,8,0)","v":0.57999999999999996},{"$f":"P2051-(P2051/1.0025)","v":8.7281795511220395E-3},3.5]
[{"$error":"#N/A"},null,null,null,null,9266975,"SPR","SPR","EA","OPENER,LETTER,STEEL,SR",null,7.03,31,{"$f":"VLOOKUP(M2059,DFL!A:H,8,0)","v":0.49},{"$f":"P2059-(P2059/1.0025)","v":8.952618453865302E-3},3.59]
[{"$error":"#N/A"},null,null,null,null,431556,"BSD","BSD","PK","STRIPS,PCT HNG,LRG,BLK,COMMAND",null,7.09,16,{"$f":"VLOOKUP(M2082,DFL!A:E,5,0)","v":0.5},{"$f":"P2082-(P2082/1.0025)","v":8.8528678304236053E-3},3.55]
[{"$error":"#N/A"},null,null,null,null,592966,"SPR","SPR","BX","WIPES,EYEGLASS,ACCUWIPE"," ",6.04,22,{"$f":"VLOOKUP(M2087,DFL!A:H,8,0)","v":0.41},{"$f":"P2087-(P2087/1.0025)","v":8.8778054862839184E-3},3.56]
[{"$error":"#N/A"},null,null,null,null,866619,"SPR","SPR","EA","SOAP;FOAM;A/B;PREMIUM;GOJO",null,7.21,22,{"$f":"VLOOKUP(M2102,DFL!A:H,8,0)","v":0.41},{"$f":"P2102-(P2102/1.0025)","v":1.0598503740648191E-2},4.25]
[{"$error":"#N/A"},null,null,null,null,442306,"BSD","BSD","PK","NOTE,OD,1.5\"X2\",12PK,YELLOW",null,13.49,30,{"$f":"VLOOKUP(M2121,DFL!A:E,5,0)","v":0.73},{"$f":"P2121-(P2121/1.0025)","v":9.0773067331668678E-3},3.64]
[{"$error":"#N/A"},null,null,null,null,7587317,null,"SPR","EA","FRESHNER,AIR,7OZ,MULBERRY",null,6.68,19,{"$f":"VLOOKUP(M2132,DFL!A:H,8,0)","v":0.45},{"$f":"P2132-(P2132/1.0025)","v":9.1521197007478072E-3},3.67]
[{"$error":"#N/A"},null,null,null,null,876948,null,"SPR","PK","CORN STARCH FORKS, 50-CT"," ",7.84,18,{"$f":"VLOOKUP(M2152,DFL!A:H,8,0)","v":0.44},{"$f":"P2152-(P2152/1.0025)","v":1.0947630922693463E-2},4.3899999999999997]
[{"$error":"#N/A"},null,null,null,null,570129,"BSD","BSD","EA","SOAP,DIAL BASIC,FMNG,PMP,7.5OZ"," ",7.79,22,{"$f":"VLOOKUP(M2157,DFL!A:E,5,0)","v":0.52},{"$f":"P2157-(P2157/1.0025)","v":9.3266832917704434E-3},3.74]
[{"$error":"#N/A"},null,null,null,null,238964,"BSD","BSD","PK","BLADE,#11,DISPENSER OF 15/PK"," ",11.08,25,{"$f":"VLOOKUP(M2172,DFL!A:E,5,0)","v":0.61},{"$f":"P2172-(P2172/1.0025)","v":1.0773067331670383E-2},4.32]
[{"$error":"#N/A"},null,null,null,null,519529,"SPR","SPR","PK","PEN,SHARPIE,FINE,STNLSS,BK",null,7.28,28,{"$f":"VLOOKUP(M2187,DFL!A:H,8,0)","v":0.48},{"$f":"P2187-(P2187/1.0025)","v":9.4513715710720092E-3},3.79]
[{"$error":"#N/A"},null,null,null,null,234918,"SPR","SPR","BX","BANDAGE,ADHSIVE,WOVN,FNGRTP",null,6.49,22,{"$f":"VLOOKUP(M2205,DFL!A:H,8,0)","v":0.41},{"$f":"P2205-(P2205/1.0025)","v":9.5511221945137059E-3},3.83]
[{"$error":"#N/A"},null,null,null,null,509034,"SPR","SPR","EA","WIPES,PURELL,FRESH,40CT",null,7.65,22,{"$f":"VLOOKUP(M2222,DFL!A:H,8,0)","v":0.41},{"$f":"P2222-(P2222/1.0025)","v":1.1246882793017221E-2},4.51]
[{"$error":"#N/A"},null,null,null,null,554844,"SPR","SPR","EA","STAPLES,SPEEDPRO,HIGHCAPACITY"," ",12,37,{"$f":"VLOOKUP(M2241,DFL!A:H,8,0)","v":0.5},{"$f":"P2241-(P2241/1.0025)","v":1.4962593516209211E-2},6]
[{"$error":"#N/A"},null,null,null,null,256957,"SPR","SPR","EA","WIPES,PRE MOIST 3\",60CT"," ",6.58,22,{"$f":"VLOOKUP(M2242,DFL!A:H,8,0)","v":0.41},{"$f":"P2242-(P2242/1.0025)","v":9.6758104738152717E-3},3.88]
[{"$error":"#N/A"},null,null,null,null,538896,"SPR","SPR","EA","CLIPBOARD,PLASTIC,RECY,BK"," ",9.77,35,{"$f":"VLOOKUP(M2257,DFL!A:H,8,0)","v":0.6},{"$f":"P2257-(P2257/1.0025)","v":9.7506234413962112E-3},3.91]
[{"$error":"#N/A"},null,null,null,null,9956171,"SPR","SPR","PK","PROTECTOR,SHEET,STANDRD,CLR",null,8.7799999999999994,35,{"$f":"VLOOKUP(M2278,DFL!A:H,8,0)","v":0.6},{"$f":"P2278-(P2278/1.0025)","v":8.7531172069823526E-3},3.51]
[{"$error":"#N/A"},null,null,null,null,942219,"SPR","SPR","EA","BOOK,STENO,RECY,GREGG,80PG,WHT"," ",9.48,30,{"$f":"VLOOKUP(M2292,DFL!A:H,8,0)","v":0.57999999999999996},{"$f":"P2292-(P2292/1.0025)","v":9.9251870324188474E-3},3.98]
[{"$error":"#N/A"},null,null,null,null,670865,"SPR","SPR","DZ","PEN,BALL,RETRACT,MED,RED"," ",11.6,33,{"$f":"VLOOKUP(M2311,DFL!A:H,8,0)","v":0.55000000000000004},{"$f":"P2311-(P2311/1.0025)","v":1.301745635910212E-2},5.22]
[{"$error":"#N/A"},null,null,null,null,286986,"SPR","SPR","EA","MOP,WET,20OUNCE,CUTEND",null,8.43,19,{"$f":"VLOOKUP(M2326,DFL!A:H,8,0)","v":0.45},{"$f":"P2326-(P2326/1.0025)","v":1.157107231920218E-2},4.6399999999999997]
[{"$error":"#N/A"},null,null,null,null,4470932,"SPR","SPR","EA","SCRBBLBS;MULPUR;DISFEC;12OZ",null,7.4,19,{"$f":"VLOOKUP(M2327,DFL!A:H,8,0)","v":0.45},{"$f":"P2327-(P2327/1.0025)","v":1.0149625935161666E-2},4.07]
[{"$error":"#N/A"},null,null,null,null,903978,"BSD","BSD","PK","PENCIL,MECH.9MM,LRG ERASER,2PK"," ",11.76,33,{"$f":"VLOOKUP(M2351,DFL!A:E,5,0)","v":0.65},{"$f":"P2351-(P2351/1.0025)","v":1.0274314214463232E-2},4.12]
[3.93,null,null,null,null,312848,"SPR","SPR","EA","WIPES,LYSOL,CLEANING,35SHEETS"," ",7.54,19,{"$f":"VLOOKUP(M2362,DFL!A:H,8,0)","v":0.45},{"$f":"P2362-(P2362/1.0025)","v":1.0349127182045059E-2},4.1500000000000004]
[{"$error":"#N/A"},null,null,null,null,676476,"SPR","SPR","BX","FIRST AID,BRN CRM,10PK/BX"," ",7.25,22,{"$f":"VLOOKUP(M2377,DFL!A:H,8,0)","v":0.41},{"$f":"P2377-(P2377/1.0025)","v":1.067331670822913E-2},4.28]
[{"$error":"#N/A"},null,null,null,null,944926,"SPR","SPR","PK","LABELS,\"U\",1X1-5/8,100/PK,DKBR"," ",7.42,26,{"$f":"VLOOKUP(M2396,DFL!A:H,8,0)","v":0.44},{"$f":"P2396-(P2396/1.0025)","v":1.0374064837905372E-2},4.16]
[{"$error":"#N/A"},null,null,null,null,944942,"SPR","SPR","PK","LABELS,\"W\",1X1-5/8,100/PK,YEL"," ",7.42,26,{"$f":"VLOOKUP(M2411,DFL!A:H,8,0)","v":0.44},{"$f":"P2411-(P2411/1.0025)","v":1.0374064837905372E-2},4.16]
[{"$error":"#N/A"},null,null,null,null,969318,"SPR","SPR","BX","MEDLINE NON-WOVEN GAUZE"," ",7.09,22,{"$f":"VLOOKUP(M2424,DFL!A:H,8,0)","v":0.41},{"$f":"P2424-(P2424/1.0025)","v":1.0423940149625999E-2},4.18]
[{"$error":"#N/A"},null,null,null,null,811950,"BSD","BSD","DZ","PEN,CLIC,STIC,BIC,BLACK"," ",11.94,33,{"$f":"VLOOKUP(M2432,DFL!A:E,5,0)","v":0.65},{"$f":"P2432-(P2432/1.0025)","v":1.0423940149625999E-2},4.18]
[{"$error":"#N/A"},null,null,null,null,416442,"SPR","SPR","RM","PAPER;NEWS;RULD;SKIPLN;1/2\"",null,9.99,30,{"$f":"VLOOKUP(M2447,DFL!A:H,8,0)","v":0.57999999999999996},{"$f":"P2447-(P2447/1.0025)","v":1.0473815461346625E-2},4.2]
[{"$error":"#N/A"},null,null,null,null,274386,"BSD","BSD","EA","HOLDER,SIGN,STANDUP,5X7,CLEAR"," ",11.68,36,{"$f":"VLOOKUP(M2466,DFL!A:E,5,0)","v":0.6},{"$f":"P2466-(P2466/1.0025)","v":1.164588528678312E-2},4.67]
[{"$error":"#N/A"},null,null,null,null,332236,"SPR","SPR","PK","CERTIFICATE;STUDENT OF WEEK",null,7,4,{"$f":"VLOOKUP(M2482,DFL!A:H,8,0)","v":0.39},{"$f":"P2482-(P2482/1.0025)","v":1.0648379052368817E-2},4.2699999999999996]
[{"$error":"#N/A"},null,null,null,null,348608,"SPR","SPR","RL","TAPE,DUCT,1.88\"\"X20YDS,PINK",null,8.8800000000000008,39,{"$f":"VLOOKUP(M2497,DFL!A:H,8,0)","v":0.5},{"$f":"P2497-(P2497/1.0025)","v":1.1072319201995029E-2},4.4400000000000004]
[{"$error":"#N/A"},null,null,null,null,551996,"SPR","SPR","ST","INDEX,PLAST,WRTE-ON8TAB,AST"," ",13.24,35,{"$f":"VLOOKUP(M2502,DFL!A:H,8,0)","v":0.6},{"$f":"P2502-(P2502/1.0025)","v":1.3216957605984625E-2},5.3]
[{"$error":"#N/A"},null,null,null,null,6075949,"BSD","BSD","EA"," DISPENSER TAPE CLIP 1PK",null,10.81,39,{"$f":"VLOOKUP(M2517,DFL!A:E,5,0)","v":0.6},{"$f":"P2517-(P2517/1.0025)","v":1.0773067331670383E-2},4.32]
[{"$error":"#N/A"},null,null,null,null,104042,"SPR","SPR","EA","RULER,YARDSTICK,WOOD,BRASS END"," ",10.52,34,{"$f":"VLOOKUP(M2536,DFL!A:H,8,0)","v":0.55000000000000004},{"$f":"P2536-(P2536/1.0025)","v":1.1795511221944999E-2},4.7300000000000004]
[{"$error":"#N/A"},null,null,null,null,554483,"SPR","SPR","EA","FOLDER,EXPNDNG,SLIDE&DIVIDE"," ",12.87,35,{"$f":"VLOOKUP(M2540,DFL!A:H,8,0)","v":0.6},{"$f":"P2540-(P2540/1.0025)","v":1.2842892768079928E-2},5.15]
[{"$error":"#N/A"},null,null,null,null,257681,"BSD","BSD","DZ","HIGHLIGHTER,BRITELINER,GREEN"," ",11.91,28,{"$f":"VLOOKUP(M2567,DFL!A:E,5,0)","v":0.63},{"$f":"P2567-(P2567/1.0025)","v":1.0997506234414089E-2},4.41]
[{"$error":"#N/A"},null,null,null,null,631022,"SPR","SPR","EA","WIPES,E-TRONIC,30CT",null,8.0299999999999994,19,{"$f":"VLOOKUP(M2572,DFL!A:H,8,0)","v":0.45},{"$f":"P2572-(P2572/1.0025)","v":1.1022443890274403E-2},4.42]
[{"$error":"#N/A"},null,null,null,null,419770,"BSD","BSD","DZ","PEN,BALLPT,COMFORTMATE,MED,BLU"," ",12.834337078651686,33,{"$f":"VLOOKUP(M2587,DFL!A:E,5,0)","v":0.65},{"$f":"P2587-(P2587/1.0025)","v":1.1197007481296595E-2},4.49]
[{"$error":"#N/A"},null,null,null,null,129541,"SPR","SPR","ST","COLOR COATED TAB,ASS'T,1-31"," ",12.05,35,{"$f":"VLOOKUP(M2606,DFL!A:H,8,0)","v":0.6},{"$f":"P2606-(P2606/1.0025)","v":1.2019950124687817E-2},4.82]
[{"$error":"#N/A"},null,null,null,null,362122,"SPR","SPR","EA","BEADS;PONY;BRITE;1000PC;AST",null,9.35,47,{"$f":"VLOOKUP(M2613,DFL!A:H,8,0)","v":0.5},{"$f":"P2613-(P2613/1.0025)","v":1.1670822942643433E-2},4.68]
[{"$error":"#N/A"},null,null,null,null,742203,"SPR","SPR","BX","TAPE,FIRSTAID,1/2\"X10"," ",9.66,19,{"$f":"VLOOKUP(M2637,DFL!A:H,8,0)","v":0.45},{"$f":"P2637-(P2637/1.0025)","v":1.3241895261844938E-2},5.31]
[{"$error":"#N/A"},null,null,null,null,386844,"BSD","BSD","EA","NOTE,POST-IT,POP-UP,DISP,BLACK"," ",18.72,30,{"$f":"VLOOKUP(M2642,DFL!A:E,5,0)","v":0.73},{"$f":"P2642-(P2642/1.0025)","v":1.2593516209475908E-2},5.05]
[{"$error":"#N/A"},null,null,null,null,211207,null,"SPR","EA","AIR-FRESHENER,SUPER,OE,NECT"," ",8.36,19,{"$f":"VLOOKUP(M2657,DFL!A:H,8,0)","v":0.45},{"$f":"P2657-(P2657/1.0025)","v":1.1471321695760039E-2},4.5999999999999996]
[{"$error":"#N/A"},null,null,null,null,361139,"SPR","SPR","EA","MARKERS,WASH,12CT,T/L","Less Harsh Chemicals,ACMI certified",8.92,28,{"$f":"VLOOKUP(M2672,DFL!A:H,8,0)","v":0.48},{"$f":"P2672-(P2672/1.0025)","v":1.157107231920218E-2},4.6399999999999997]
[{"$error":"#N/A"},null,null,null,null,330606,null,"SPR","EA","ACCUSTAMP2 2CLR COMPLETED"," ",12.55,24,{"$f":"VLOOKUP(M2686,DFL!A:H,8,0)","v":0.55000000000000004},{"$f":"P2686-(P2686/1.0025)","v":1.4089775561097362E-2},5.65]
[{"$error":"#N/A"},null,null,null,null,757647,"BSD","BSD","EA","SCISSORS,STRT,VALUE,3PK,8\""," ",18.149999999999999,7,{"$f":"VLOOKUP(M2707,DFL!A:E,5,0)","v":0.72},{"$f":"P2707-(P2707/1.0025)","v":1.2668329177056847E-2},5.08]
[{"$error":"#N/A"},null,null,null,null,289754,"BSD","BSD","EA","SOAP,DISH,METH,LIME,SEA SALT",null,9.3589751552795022,19,{"$f":"VLOOKUP(M2712,DFL!A:E,5,0)","v":0.5},{"$f":"P2712-(P2712/1.0025)","v":1.1670822942643433E-2},4.68]
[{"$error":"#N/A"},null,null,null,null,9871334,"SPR","SPR","EA","TAPE,NANOGRAB,DBL,0.94X5,CL",null,11.26,39,{"$f":"VLOOKUP(M2727,DFL!A:H,8,0)","v":0.5},{"$f":"P2727-(P2727/1.0025)","v":1.4039900249375847E-2},5.63]
[{"$error":"#N/A"},null,null,null,null,551460,"SPR","SPR","PK","UTILITY KNIFE REFILL CARTDG"," ",8.75,7,{"$f":"VLOOKUP(M2742,DFL!A:H,8,0)","v":0.46},{"$f":"P2742-(P2742/1.0025)","v":1.1795511221944999E-2},4.7300000000000004]
[{"$error":"#N/A"},null,null,null,null,882069,"SPR","SPR","EA","PEN,ENERGEL,ALLOY RT,0.7,PK",null,10.55,33,{"$f":"VLOOKUP(M2759,DFL!A:H,8,0)","v":0.55000000000000004},{"$f":"P2759-(P2759/1.0025)","v":1.1845386533665625E-2},4.75]
[{"$error":"#N/A"},null,null,null,null,708834,"SPR","SPR","EA","PEN,DR.GRIP,BLPNT,1.0MM,BK",null,10.58,33,{"$f":"VLOOKUP(M2777,DFL!A:H,8,0)","v":0.55000000000000004},{"$f":"P2777-(P2777/1.0025)","v":1.1870324189525938E-2},4.76]
[{"$error":"#N/A"},null,null,null,null,112854,"BSD","BSD","PK","LABEL,P/S,3/4\"DIA,YEL,1008PK"," ",10.84,26,{"$f":"VLOOKUP(M2782,DFL!A:E,5,0)","v":0.56000000000000005},{"$f":"P2782-(P2782/1.0025)","v":1.1895261845386251E-2},4.7699999999999996]
[{"$error":"#N/A"},null,null,null,null,320243,"BSD","BSD","EA","Xstamper¬Æ Pre-Inked Stamp Re-Inking Fluid, 10 ml, Black Ink",null,14.2,24,{"$f":"VLOOKUP(M2797,DFL!A:E,5,0)","v":0.63},{"$f":"P2797-(P2797/1.0025)","v":1.3092269326683059E-2},5.25]
[{"$error":"#N/A"},null,null,null,null,891536,"BSD","BSD","EA","SPRAY,METHOD,PINK GRAPEFRUIT"," ",9.6589189189189195,19,{"$f":"VLOOKUP(M2812,DFL!A:E,5,0)","v":0.5},{"$f":"P2812-(P2812/1.0025)","v":1.204488778054813E-2},4.83]
[{"$error":"#N/A"},null,null,null,null,9327881,null,"SPR","EA"," DeskPad RY24 Monthly 21x16",null,11.55,11,{"$f":"VLOOKUP(M2832,DFL!A:H,8,0)","v":0.46},{"$f":"P2832-(P2832/1.0025)","v":1.5561097256857614E-2},6.24]
[{"$error":"#N/A"},null,null,null,null,281344,"SPR","SPR","EA","BINDER, ECON VIEW,1\",WHT EA",null,11.93,8,{"$f":"VLOOKUP(M2847,DFL!A:H,8,0)","v":0.55000000000000004},{"$f":"P2847-(P2847/1.0025)","v":1.3391521197006817E-2},5.37]
[{"$error":"#N/A"},null,null,null,null,735108,null,"SPR","EA","SIGN,NO SOLICITING,SV"," ",19.79,36,{"$f":"VLOOKUP(M2862,DFL!A:H,8,0)","v":0.36},{"$f":"P2862-(P2862/1.0025)","v":3.1596009975061179E-2},12.67]
[4.79,null,null,null,null,713767,"BSD","BSD","EA","REFILL,FRSHMTIC,AIR WICK,LVNDR"," ",9.919796747967478,19,{"$f":"VLOOKUP(M2867,DFL!A:E,5,0)","v":0.5},{"$f":"P2867-(P2867/1.0025)","v":1.2369077306733089E-2},4.96]
[{"$error":"#N/A"},null,null,null,null,6631733,"BSD","BSD","EA","CLAW,3M,DRYWALL,HANGER,5PK",null,9.8800000000000008,16,{"$f":"VLOOKUP(M2882,DFL!A:E,5,0)","v":0.5},{"$f":"P2882-(P2882/1.0025)","v":1.2319201995012463E-2},4.9400000000000004]
[{"$error":"#N/A"},null,null,null,null,4838103,"SPR","SPR","PK","CRAYON;JUMBO;16/PK",null,9.94,47,{"$f":"VLOOKUP(M2905,DFL!A:H,8,0)","v":0.5},{"$f":"P2905-(P2905/1.0025)","v":1.2394014962593403E-2},4.97]
[{"$error":"#N/A"},null,null,null,null,400895,null,"SPR","PK","WARMER,ELEC OIL COMBO"," ",7.14,48,{"$f":"VLOOKUP(M2917,DFL!A:H,8,0)","v":0.3},{"$f":"P2917-(P2917/1.0025)","v":1.2468827930174342E-2},5]
[{"$error":"#N/A"},null,null,null,null,717261,"BSD","BSD","EA","POST-IT,POP-UP,DISPENSR,3X3\""," ",20.59,30,{"$f":"VLOOKUP(M2932,DFL!A:E,5,0)","v":0.73},{"$f":"P2932-(P2932/1.0025)","v":1.3865336658353655E-2},5.56]
[{"$error":"#N/A"},null,null,null,null,673385,"SPR","SPR","EA","CLEANER,GLASS,AEROSOL"," ",9.34,19,{"$f":"VLOOKUP(M2951,DFL!A:H,8,0)","v":0.45},{"$f":"P2951-(P2951/1.0025)","v":1.2817955112219614E-2},5.14]
[{"$error":"#N/A"},null,null,null,null,994067,"BSD","BSD","EA","STAMP,SHUTTER,PI,SCANNED,RED"," ",25.2,24,{"$f":"VLOOKUP(M2963,DFL!A:E,5,0)","v":0.63},{"$f":"P2963-(P2963/1.0025)","v":2.3241895261845613E-2},9.32]
[{"$error":"#N/A"},null,null,null,null,9862207,"SPR","SPR","EA","SOAP, LAVENDER,12,12/CTN",null,9.23,19,{"$f":"VLOOKUP(M2968,DFL!A:H,8,0)","v":0.45},{"$f":"P2968-(P2968/1.0025)","v":1.2668329177056847E-2},5.08]
[{"$error":"#N/A"},null,null,null,null,120675,"BSD","BSD","DZ","PENS,MED.PT,RSVP,12PK,BLACK"," ",14.59,33,{"$f":"VLOOKUP(M2987,DFL!A:E,5,0)","v":0.65},{"$f":"P2987-(P2987/1.0025)","v":1.2743142144637787E-2},5.1100000000000003]
[{"$error":"#N/A"},null,null,null,null,3328882,"SPR","SPR","EA","FILE,EXPAND,LTR,7PKT,PK",null,14.79,35,{"$f":"VLOOKUP(M3002,DFL!A:H,8,0)","v":0.6},{"$f":"P3002-(P3002/1.0025)","v":1.4763092269326705E-2},5.92]
[{"$error":"#N/A"},null,null,null,null,7795247,null,"SPR","PK","CUP, PETE 12 OZ, CLEAR",null,9.26,18,{"$f":"VLOOKUP(M3021,DFL!A:H,8,0)","v":0.44},{"$f":"P3021-(P3021/1.0025)","v":1.294264339152118E-2},5.19]
[{"$error":"#N/A"},null,null,null,null,1383256,null,"SPR","BX","PANEL CLIPS ASST SOLID 20/BX"," ",18.559999999999999,7,{"$f":"VLOOKUP(M3036,DFL!A:H,8,0)","v":0.46},{"$f":"P3036-(P3036/1.0025)","v":2.4987531172069311E-2},10.02]
[{"$error":"#N/A"},null,null,null,null,128731,"SPR","SPR","EA","CLEANER,DEGREASER,24-OZ"," ",9.9600000000000009,19,{"$f":"VLOOKUP(M3038,DFL!A:H,8,0)","v":0.45},{"$f":"P3038-(P3038/1.0025)","v":1.366583541147115E-2},5.48]
[{"$error":"#N/A"},null,null,null,null,984008,"SPR","SPR","EA","PAD,MOUSE,ECON,BK"," ",9.17,29,{"$f":"VLOOKUP(M3057,DFL!A:H,8,0)","v":0.3},{"$f":"P3057-(P3057/1.0025)","v":1.6009975062344139E-2},6.42]
[{"$error":"#N/A"},null,null,null,null,485262,"BSD","BSD","EA","MOUSEPAD,RAINDROP,BLUE"," ",9.27,29,{"$f":"VLOOKUP(M3072,DFL!A:E,5,0)","v":0.43},{"$f":"P3072-(P3072/1.0025)","v":1.3167082294263999E-2},5.28]
[{"$error":"#N/A"},null,null,null,null,232662,"BSD","BSD","PK","FLAGS,SIGNHERE,ARROW,1/2\",ASTD",null,19.66,30,{"$f":"VLOOKUP(M3091,DFL!A:E,5,0)","v":0.73},{"$f":"P3091-(P3091/1.0025)","v":1.3241895261844938E-2},5.31]
[{"$error":"#N/A"},null,null,null,null,713070,"SPR","SPR","ST","DIVIDER,INDX,TOC,DBL CLMN,32TB","030/030,EPP (eVine),CPG,30% post-consumer (paper)",13.3,35,{"$f":"VLOOKUP(M3094,DFL!A:H,8,0)","v":0.6},{"$f":"P3094-(P3094/1.0025)","v":1.3266832917705251E-2},5.32]
[{"$error":"#N/A"},null,null,null,null,9575737,"BSD","BSD","PK","PEN, R. STIC, XLIFE, 60CT, AST",null,15.39,33,{"$f":"VLOOKUP(M3122,DFL!A:E,5,0)","v":0.65},{"$f":"P3122-(P3122/1.0025)","v":1.3441396508728332E-2},5.39]
[{"$error":"#N/A"},null,null,null,null,6140369,"BSD","BSD","EA","Moleskine Classic Hard Cover Notebook, 3-1/2\" x 5-1/2\", Ruled, 192 Pages (96 Sheets), Lemon Green",null,19.95,30,{"$f":"VLOOKUP(M3127,DFL!A:E,5,0)","v":0.73},{"$f":"P3127-(P3127/1.0025)","v":1.3441396508728332E-2},5.39]
[{"$error":"#N/A"},null,null,null,null,7697263,"SPR","SPR","BO","REMOVER;MOLD;MILDEW;STAIN",null,9.83,19,{"$f":"VLOOKUP(M3142,DFL!A:H,8,0)","v":0.45},{"$f":"P3142-(P3142/1.0025)","v":1.3491271820448958E-2},5.41]
[{"$error":"#N/A"},null,null,null,null,825138,"SPR","SPR","BX","FIRST AID,COT TIP,APLR,WE"," ",9.89,19,{"$f":"VLOOKUP(M3157,DFL!A:H,8,0)","v":0.45},{"$f":"P3157-(P3157/1.0025)","v":1.3566084788029897E-2},5.44]
[{"$error":"#N/A"},null,null,null,null,330885,null,"SPR","EA","ACCUSTAMP2 2CLR FILE COPY",null,27.17,24,{"$f":"VLOOKUP(M3167,DFL!A:H,8,0)","v":0.55000000000000004},{"$f":"P3167-(P3167/1.0025)","v":3.0498753117205624E-2},12.23]
[{"$error":"#N/A"},null,null,null,null,238698,"SPR","SPR","EA","ROLLER,ADHESIVE DOT,1/3\"X49'"," ",10.62,1,{"$f":"VLOOKUP(M3192,DFL!A:H,8,0)","v":0.48},{"$f":"P3192-(P3192/1.0025)","v":1.3765586034912403E-2},5.52]
[{"$error":"#N/A"},null,null,null,null,9992201,"BSD","BSD","EA","DISINFECTANT,FANTASTIK,32OZ",null,11.178078291814945,19,{"$f":"VLOOKUP(M3197,DFL!A:E,5,0)","v":0.5},{"$f":"P3197-(P3197/1.0025)","v":1.3940149625934595E-2},5.59]
[{"$error":"#N/A"},null,null,null,null,7362811,null,"SPR","EA","TRAY,DESK,BLUETILE,SJW",null,10.93,31,{"$f":"VLOOKUP(M3212,DFL!A:H,8,0)","v":0.49},{"$f":"P3212-(P3212/1.0025)","v":1.3890274314213968E-2},5.57]
[{"$error":"#N/A"},null,null,null,null,473875,"BSD","BSD","PK","TRAY,DRY ERASE,POST-IT,ACCSSRY"," ",12.45,10,{"$f":"VLOOKUP(M3227,DFL!A:E,5,0)","v":0.55000000000000004},{"$f":"P3227-(P3227/1.0025)","v":1.3965087281794908E-2},5.6]
[{"$error":"#N/A"},null,null,null,null,593395,"Paper Core","Paper Core","RM","PAPER,XERO,WE,8.5X14,20#",null,55.76,"Paper Core","Paper Core",{"$f":"P3240-(P3240/1.0025)","v":1.4438902743141746E-2},{"$f":"VLOOKUP(F3240,'June 2025 RISI'!$A$2:$M$19,11,0)","v":5.79}]
[{"$error":"#N/A"},null,null,null,null,599753,"SPR","SPR","RL","TAPE,FILAMENT,.75\"X60YD"," ",9.9700000000000006,39,{"$f":"VLOOKUP(M3262,DFL!A:H,8,0)","v":0.5},{"$f":"P3262-(P3262/1.0025)","v":1.2443890274314029E-2},4.99]
[{"$error":"#N/A"},null,null,null,null,9891378,"SPR","SPR","BX","PROTECTOR,SHEET,HVYWT,NONGL",null,13.24,35,{"$f":"VLOOKUP(M3277,DFL!A:H,8,0)","v":0.6},{"$f":"P3277-(P3277/1.0025)","v":1.3216957605984625E-2},5.3]
[{"$error":"#N/A"},null,null,null,null,274795,null,"SPR","EA","RIBBON,CORRECT,F/EM-80,85,100."," ",10.99,17,{"$f":"VLOOKUP(M3282,DFL!A:H,8,0)","v":0.48},{"$f":"P3282-(P3282/1.0025)","v":1.4239401496259241E-2},5.71]
[{"$error":"#N/A"},null,null,null,null,417270,"SPR","SPR","EA","BELKIN PATCH CABLE - 5 FT",null,8.1999999999999993,48,{"$f":"VLOOKUP(M3297,DFL!A:H,8,0)","v":0.3},{"$f":"P3297-(P3297/1.0025)","v":1.431421446384018E-2},5.74]
[{"$error":"#N/A"},null,null,null,null,424456,"BSD","BSD","PK","PEN,COUNTERFEIT DETECTOR,3PK"," ",16.989999999999998,33,{"$f":"VLOOKUP(M3313,DFL!A:E,5,0)","v":0.65},{"$f":"P3313-(P3313/1.0025)","v":1.4837905236907645E-2},5.95]
[{"$error":"#N/A"},null,null,null,null,681593,"SPR","SPR","EA","NUMBERER,2000 PLUS,#2-8"," ",12.95,24,{"$f":"VLOOKUP(M3332,DFL!A:H,8,0)","v":0.55000000000000004},{"$f":"P3332-(P3332/1.0025)","v":1.4538653366582999E-2},5.83]
[{"$error":"#N/A"},null,null,null,null,203472,"SPR","SPR","PK","NOTE,POST-IT,SS,3X3,ULTRA,5PK"," ",14,30,{"$f":"VLOOKUP(M3347,DFL!A:H,8,0)","v":0.57999999999999996},{"$f":"P3347-(P3347/1.0025)","v":1.4663341645884564E-2},5.88]
[{"$error":"#N/A"},null,null,null,null,304481,"SPR","SPR","EA","FORM;PURCHS ORDER;2-PT;VERT",null,11.18,11,{"$f":"VLOOKUP(M3352,DFL!A:H,8,0)","v":0.46},{"$f":"P3352-(P3352/1.0025)","v":1.5062344139650463E-2},6.04]
[{"$error":"#N/A"},null,null,null,null,652175,"SPR","SPR","PK","CUP,PRFCTOUCH,WISESIZE,16OZ",null,10.57,18,{"$f":"VLOOKUP(M3367,DFL!A:H,8,0)","v":0.44},{"$f":"P3367-(P3367/1.0025)","v":1.4763092269326705E-2},5.92]
[{"$error":"#N/A"},null,null,null,null,211180,"BSD","BSD","EA","AIR-FRESHENER,SUPER,OE,COOL"," ",11.88,19,{"$f":"VLOOKUP(M3386,DFL!A:E,5,0)","v":0.5},{"$f":"P3386-(P3386/1.0025)","v":1.4812967581047332E-2},5.94]
[{"$error":"#N/A"},null,null,null,null,8704853,"BSD","BSD","EA","NOTEBOOK,STELLAR,5S,CR,200,RED",null,22.11,30,{"$f":"VLOOKUP(M3402,DFL!A:E,5,0)","v":0.73},{"$f":"P3402-(P3402/1.0025)","v":1.4887780548628271E-2},5.97]
[{"$error":"#N/A"},null,null,null,null,748304,"BSD","BSD","PK","TIMECARDS,7000E,9\"H,100PK"," ",12,16,{"$f":"VLOOKUP(M3417,DFL!A:E,5,0)","v":0.5},{"$f":"P3417-(P3417/1.0025)","v":1.4962593516209211E-2},6]
[{"$error":"#N/A"},null,null,null,null,207387,"SPR","SPR","DZ","PEN,Z-GRIP MAX,BP,RT,1.0,BE",null,13.37,33,{"$f":"VLOOKUP(M3422,DFL!A:H,8,0)","v":0.55000000000000004},{"$f":"P3422-(P3422/1.0025)","v":1.5012468827929837E-2},6.02]
[{"$error":"#N/A"},null,null,null,null,323004,"BSD","BSD","DZ","PEN,BIC,BP,ATLANTIS,MED,DZ,BLU"," ",17.309999999999999,33,{"$f":"VLOOKUP(M3444,DFL!A:E,5,0)","v":0.65},{"$f":"P3444-(P3444/1.0025)","v":1.5112219451371089E-2},6.06]
[{"$error":"#N/A"},null,null,null,null,112904,"SPR","SPR","PK","LABEL,P/S,3/4\"DIA,FLO,1008PK"," ",10.86,26,{"$f":"VLOOKUP(M3453,DFL!A:H,8,0)","v":0.44},{"$f":"P3453-(P3453/1.0025)","v":1.5162094763091716E-2},6.08]
[{"$error":"#N/A"},null,null,null,null,2938432,"SPR","SPR","EA","HANDCLEANSER;250ML;KRESTO",null,10.62,22,{"$f":"VLOOKUP(M3472,DFL!A:H,8,0)","v":0.41},{"$f":"P3472-(P3472/1.0025)","v":1.5635910224438554E-2},6.27]
[{"$error":"#N/A"},null,null,null,null,262731,"BSD","BSD","DZ","HIGHLIGHTRE,POCKET ACCENT,FLOR"," ",16.559999999999999,28,{"$f":"VLOOKUP(M3487,DFL!A:E,5,0)","v":0.63},{"$f":"P3487-(P3487/1.0025)","v":1.5286783042393282E-2},6.13]
[5.99,null,null,null,null,140587,"BSD","BSD","PK","FRESHENER,OIL,LAVENDAR,PP"," ",12.27,19,{"$f":"VLOOKUP(M3492,DFL!A:E,5,0)","v":0.5},{"$f":"P3492-(P3492/1.0025)","v":1.5311720698253595E-2},6.14]
[{"$error":"#N/A"},null,null,null,null,7004747,"BSD","BSD","PK","CLEAR NOTE,OD,12PK,50SHT,CLEAR",null,22.95,30,{"$f":"VLOOKUP(M3517,DFL!A:E,5,0)","v":0.73},{"$f":"P3517-(P3517/1.0025)","v":1.5461346633416362E-2},6.2]
[{"$error":"#N/A"},null,null,null,null,5282608,null,"SPR","EA","BINDER;VIEW;ROUND;1\";WE",null,13.82,8,{"$f":"VLOOKUP(M3523,DFL!A:H,8,0)","v":0.55000000000000004},{"$f":"P3523-(P3523/1.0025)","v":1.5511221945136988E-2},6.22]
[{"$error":"#N/A"},null,null,null,null,592460,null,"SPR","BX","SPOON,SP,PLSTC,HEAVY MED.WT"," ",11.19,18,{"$f":"VLOOKUP(M3542,DFL!A:H,8,0)","v":0.44},{"$f":"P3542-(P3542/1.0025)","v":1.5635910224438554E-2},6.27]
[{"$error":"#N/A"},null,null,null,null,347842,"SPR","SPR","EA","TABLET;CHART;1\"RLD;24X16;WE",null,8.99,48,{"$f":"VLOOKUP(M3557,DFL!A:H,8,0)","v":0.3},{"$f":"P3557-(P3557/1.0025)","v":1.568578553615918E-2},6.29]
[{"$error":"#N/A"},null,null,null,null,203182,"BSD","BSD","DZ","MARKER,MED,MAJOR ACCENT,FL GRN"," ",17.04,28,{"$f":"VLOOKUP(M3576,DFL!A:E,5,0)","v":0.63},{"$f":"P3576-(P3576/1.0025)","v":1.5710723192019493E-2},6.3]
[{"$error":"#N/A"},null,null,null,null,7939991,null,"SPR","EA"," WalCal 11x8.75 Analeis RY24 M",null,14.99,11,{"$f":"VLOOKUP(M3590,DFL!A:H,8,0)","v":0.46},{"$f":"P3590-(P3590/1.0025)","v":2.0174563591021766E-2},8.09]
[{"$error":"#N/A"},null,null,null,null,8679786,null,"SPR","EA"," Plr 5x8 flyby RY24  WM",null,14.99,11,{"$f":"VLOOKUP(M3593,DFL!A:H,8,0)","v":0.46},{"$f":"P3593-(P3593/1.0025)","v":2.0174563591021766E-2},8.09]
[{"$error":"#N/A"},null,null,null,null,9065684,"SPR","SPR","EA","DUSTER,LAMBWOOL,LGHT,42\",WHT",null,11.87,19,{"$f":"VLOOKUP(M3612,DFL!A:H,8,0)","v":0.45},{"$f":"P3612-(P3612/1.0025)","v":1.6284289276807584E-2},6.53]
[{"$error":"#N/A"},null,null,null,null,220343,"SPR","SPR","EA","CLAY;MODELING;3# BCKT;OR",null,12.69,47,{"$f":"VLOOKUP(M3627,DFL!A:H,8,0)","v":0.5},{"$f":"P3627-(P3627/1.0025)","v":1.5835411471321059E-2},6.35]
[{"$error":"#N/A"},null,null,null,null,452931,"SPR","SPR","EA","LETTERS;CASUAL;SPARKL;4\";SR",null,9.99,36,{"$f":"VLOOKUP(M3642,DFL!A:H,8,0)","v":0.36},{"$f":"P3642-(P3642/1.0025)","v":1.5935162094762312E-2},6.39]
[{"$error":"#N/A"},null,null,null,null,316958,"BSD","BSD","EA","KNIFE,SELF RETRACTING"," ",27.25,25,{"$f":"VLOOKUP(M3648,DFL!A:E,5,0)","v":0.61},{"$f":"P3648-(P3648/1.0025)","v":2.6508728179550189E-2},10.63]
[{"$error":"#N/A"},null,null,null,null,722612,"SPR","SPR","BX","ROLL,PAPER TAPE,2\"X 10YD"," ",12.84,39,{"$f":"VLOOKUP(M3663,DFL!A:H,8,0)","v":0.5},{"$f":"P3663-(P3663/1.0025)","v":1.6009975062344139E-2},6.42]
[{"$error":"#N/A"},null,null,null,null,8229721,null,"SPR","EA","SCISSORS,8\",RECYCLED,BLK",null,11.99,7,{"$f":"VLOOKUP(M3682,DFL!A:H,8,0)","v":0.46},{"$f":"P3682-(P3682/1.0025)","v":1.6134663341645705E-2},6.47]
[{"$error":"#N/A"},null,null,null,null,6421065,"SPR","SPR","BX","ENVELOPE,LTR,TP/LD,POLY,PE",null,17.78,27,{"$f":"VLOOKUP(M3697,DFL!A:H,8,0)","v":0.57999999999999996},{"$f":"P3697-(P3697/1.0025)","v":1.8628428927680574E-2},7.47]
[{"$error":"#N/A"},null,null,null,null,9331591,"SPR","SPR","EA","DISINFECTANT,SPRY EA",null,11.85,19,{"$f":"VLOOKUP(M3712,DFL!A:H,8,0)","v":0.45},{"$f":"P3712-(P3712/1.0025)","v":1.6259351620947271E-2},6.52]
[{"$error":"#N/A"},null,null,null,null,607871,"SPR","SPR","EA","GLUE,CLEAR GOR,1.75OZ",null,12.59,1,{"$f":"VLOOKUP(M3721,DFL!A:H,8,0)","v":0.48},{"$f":"P3721-(P3721/1.0025)","v":1.6334164588528211E-2},6.55]
[{"$error":"#N/A"},null,null,null,null,4292285,"SPR","SPR","EA","CLEANER,GAIN,STARTER,KIT,MRCL",null,9.98,19,{"$f":"VLOOKUP(M3747,DFL!A:H,8,0)","v":0.45},{"$f":"P3747-(P3747/1.0025)","v":1.3690773067331463E-2},5.49]
[{"$error":"#N/A"},null,null,null,null,5467063,"SPR","SPR","EA","CLEANER,LMNZEST,STRKIT,MRCL",null,9.98,19,{"$f":"VLOOKUP(M3748,DFL!A:H,8,0)","v":0.45},{"$f":"P3748-(P3748/1.0025)","v":1.3690773067331463E-2},5.49]
[{"$error":"#N/A"},null,null,null,null,835325,"SPR","SPR","EA","TABLET;PICTURESTORY;24X16",null,9.49,48,{"$f":"VLOOKUP(M3767,DFL!A:H,8,0)","v":0.3},{"$f":"P3767-(P3767/1.0025)","v":1.6558603491271029E-2},6.64]
[{"$error":"#N/A"},null,null,null,null,112623,"SPR","SPR","PK","LABEL,P/S,3/4\"X1\",WHT,1M/PK"," ",11.93,26,{"$f":"VLOOKUP(M3782,DFL!A:H,8,0)","v":0.44},{"$f":"P3782-(P3782/1.0025)","v":1.665835411471317E-2},6.68]
[{"$error":"#N/A"},null,null,null,null,821808,"BSD","BSD","EA","CLEANER,DSNFCT,WIPES,FRSH EA"," ",13.38,19,{"$f":"VLOOKUP(M3794,DFL!A:E,5,0)","v":0.5},{"$f":"P3794-(P3794/1.0025)","v":1.6683291770573483E-2},6.69]
[{"$error":"#N/A"},null,null,null,null,3779936,"SPR","SPR","PK","BAG,WALLET,ZIPPER,CL",null,13.99,14,{"$f":"VLOOKUP(M3817,DFL!A:H,8,0)","v":0.31},{"$f":"P3817-(P3817/1.0025)","v":2.4064837905235947E-2},{"$f":"ROUND(L3817*(1-N3817),2)","v":9.65}]
[{"$error":"#N/A"},null,null,null,null,8092185,"BSD","BSD","EA","Moleskine Classic Hard Cover Notebook, 5\" x 8-1/4\", Ruled, 120 Sheets, Sapphire Blue",null,24.95,30,{"$f":"VLOOKUP(M3832,DFL!A:E,5,0)","v":0.73},{"$f":"P3832-(P3832/1.0025)","v":1.6807980049875049E-2},6.74]
[{"$error":"#N/A"},null,null,null,null,727955,"SPR","SPR","BX","KNIFE,BXD,HVY/MED WEIGHT,BK"," ",12.06,18,{"$f":"VLOOKUP(M3837,DFL!A:H,8,0)","v":0.44},{"$f":"P3837-(P3837/1.0025)","v":1.6832917705735362E-2},6.75]
[{"$error":"#N/A"},null,null,null,null,515009,"SPR","SPR","EA","PADLOCK,SOLID BRASS"," ",10.51,48,{"$f":"VLOOKUP(M3852,DFL!A:H,8,0)","v":0.3},{"$f":"P3852-(P3852/1.0025)","v":1.8354114713216241E-2},7.36]
[{"$error":"#N/A"},null,null,null,null,504808,"BSD","BSD","PK","NOTE,PST-IT,SSTCKY,4X6,5PK,YEL","SFI Certified Product",25.19,30,{"$f":"VLOOKUP(M3867,DFL!A:E,5,0)","v":0.73},{"$f":"P3867-(P3867/1.0025)","v":1.6957605985036928E-2},6.8]
[{"$error":"#N/A"},null,null,null,null,556722,"SPR","SPR","EA","BINDER,VUE,11X8.5,SPR01639"," ",15.21,8,{"$f":"VLOOKUP(M3887,DFL!A:H,8,0)","v":0.55000000000000004},{"$f":"P3887-(P3887/1.0025)","v":1.705735660847818E-2},6.84]
[{"$error":"#N/A"},null,null,null,null,485898,"SPR","SPR","BX","TEA,HERBAL,RUBYCHAI ROOIBOS"," ",9.81,48,{"$f":"VLOOKUP(M3902,DFL!A:H,8,0)","v":0.3},{"$f":"P3902-(P3902/1.0025)","v":1.713216957605912E-2},6.87]
[{"$error":"#N/A"},null,null,null,null,4364408,"SPR","SPR","EA","WIPE,HAND,SANI-HANDS",null,12.76,19,{"$f":"VLOOKUP(M3907,DFL!A:H,8,0)","v":0.45},{"$f":"P3907-(P3907/1.0025)","v":1.7506234413964705E-2},7.02]
[{"$error":"#N/A"},null,null,null,null,569542,"SPR","SPR","BX","ENVELOPE,CLNSEAL,PHOTO,4X6,WHT"," ",16.47,27,{"$f":"VLOOKUP(M3925,DFL!A:H,8,0)","v":0.57999999999999996},{"$f":"P3925-(P3925/1.0025)","v":1.7256857855361574E-2},6.92]
[{"$error":"#N/A"},null,null,null,null,917243,"BSD","BSD","PK","TAPE,DOUBLE SIDED,PERM,2/PK"," ",17.37,39,{"$f":"VLOOKUP(M3938,DFL!A:E,5,0)","v":0.6},{"$f":"P3938-(P3938/1.0025)","v":1.7331670822942513E-2},6.95]
[{"$error":"#N/A"},null,null,null,null,994319,"SPR","SPR","EA","INK,YELLOW,STANDARD"," ",16.850000000000001,43,{"$f":"VLOOKUP(M3957,DFL!A:H,8,0)","v":0.3},{"$f":"P3957-(P3957/1.0025)","v":2.9426433915212158E-2},11.8]
[{"$error":"#N/A"},null,null,null,null,483669,"BSD","BSD","EA","RIBBON,OKIDATA M/L 180-391,BLK"," ",12.95,14,{"$f":"VLOOKUP(M3972,DFL!A:E,5,0)","v":0.46},{"$f":"P3972-(P3972/1.0025)","v":1.7431421446383766E-2},6.99]
[{"$error":"#N/A"},null,null,null,null,8605951,"SPR","SPR","EA","DISPENSER,1700,PEARL,1.7L",null,10,48,{"$f":"VLOOKUP(M3977,DFL!A:H,8,0)","v":0.3},{"$f":"P3977-(P3977/1.0025)","v":1.7456359102244079E-2},7]
[{"$error":"#N/A"},null,null,null,null,792364,"SPR","SPR","BX","TISSUE,CLEANING,PREMOISTEND"," ",11.89,22,{"$f":"VLOOKUP(M3998,DFL!A:H,8,0)","v":0.41},{"$f":"P3998-(P3998/1.0025)","v":1.7506234413964705E-2},7.02]
[{"$error":"#N/A"},null,null,null,null,9435980,null,"SPR","EA","NOTEBOOK,STELLAR,3S,WR,150,BLK",null,16.75,30,{"$f":"VLOOKUP(M4008,DFL!A:H,8,0)","v":0.57999999999999996},{"$f":"P4008-(P4008/1.0025)","v":1.7556109725685332E-2},{"$f":"ROUND(L4008*(1-N4008),2)","v":7.04}]
[{"$error":"#N/A"},null,null,null,null,8646460,"SPR","SPR","EA","CALENDAR;WALL;3-MNTH;ACADEM",null,13.07,11,{"$f":"VLOOKUP(M4027,DFL!A:H,8,0)","v":0.46},{"$f":"P4027-(P4027/1.0025)","v":1.7605985037405958E-2},7.06]
[{"$error":"#N/A"},null,null,null,null,698381,"SPR","SPR","EA","SPRAY,DSNFCTNT,EACH",null,12.01,22,{"$f":"VLOOKUP(M4042,DFL!A:H,8,0)","v":0.41},{"$f":"P4042-(P4042/1.0025)","v":1.7680798004986897E-2},7.09]
[{"$error":"#N/A"},null,null,null,null,868928,"SPR","SPR","EA","WIPE,SUPER SANI-CLOTH,LG"," ",13.19,19,{"$f":"VLOOKUP(M4047,DFL!A:H,8,0)","v":0.45},{"$f":"P4047-(P4047/1.0025)","v":1.8079800498752796E-2},7.25]
[{"$error":"#N/A"},null,null,null,null,505096,"BSD","BSD","PK","POST-IT,NOTE,SS,4X4,6/PK,ASTD","SFI Certified Product",26.39,30,{"$f":"VLOOKUP(M4071,DFL!A:E,5,0)","v":0.73},{"$f":"P4071-(P4071/1.0025)","v":1.778054862842815E-2},7.13]
[{"$error":"#N/A"},null,null,null,null,285581,"SPR","SPR","PK","POST-IT NOTE,LINED,3X3,6/PK,NE","SFI Certified Product",16.989999999999998,30,{"$f":"VLOOKUP(M4078,DFL!A:H,8,0)","v":0.57999999999999996},{"$f":"P4078-(P4078/1.0025)","v":1.7805486284288463E-2},7.14]
[{"$error":"#N/A"},null,null,null,null,6646617,"SPR","SPR","EA","CLEANER,TOILET BOWL,ACIDIC",null,13.06,19,{"$f":"VLOOKUP(M4097,DFL!A:H,8,0)","v":0.45},{"$f":"P4097-(P4097/1.0025)","v":1.7905236907730604E-2},7.18]
[{"$error":"#N/A"},null,null,null,null,802931,"BSD","BSD","EA","DISPENSER,POP-UP,STEEL TOP,BLK",null,19.98,39,{"$f":"VLOOKUP(M4112,DFL!A:E,5,0)","v":0.6},{"$f":"P4112-(P4112/1.0025)","v":1.9925187032418634E-2},7.99]
[{"$error":"#N/A"},null,null,null,null,458714,null,"SPR","PK","PEN,VISN ELITE,.8MM,5,AST"," ",20.67,33,{"$f":"VLOOKUP(M4127,DFL!A:H,8,0)","v":0.55000000000000004},{"$f":"P4127-(P4127/1.0025)","v":2.3192019950124987E-2},9.3000000000000007]
[{"$error":"#N/A"},null,null,null,null,699488,"BSD","BSD","EA","LOG BOOK,8-1/16\"X11\"50PG","SFI Certified Sourcing (Black)",16.97,11,{"$f":"VLOOKUP(M4144,DFL!A:E,5,0)","v":0.57999999999999996},{"$f":"P4144-(P4144/1.0025)","v":1.778054862842815E-2},7.13]
[{"$error":"#N/A"},null,null,null,null,831774,"SPR","SPR","EA","CLEANER,RMVR,MOLD/MILDEW",null,13.25,19,{"$f":"VLOOKUP(M4148,DFL!A:H,8,0)","v":0.45},{"$f":"P4148-(P4148/1.0025)","v":1.8179551122194049E-2},7.29]
[{"$error":"#N/A"},null,null,null,null,8009925,"BSD","BSD","DZ","PM,PROFILE,BP,1.0MM,12P,OS,BLU",null,20.88,33,{"$f":"VLOOKUP(M4167,DFL!A:E,5,0)","v":0.65},{"$f":"P4167-(P4167/1.0025)","v":1.8229426433914675E-2},7.31]
[{"$error":"#N/A"},null,null,null,null,1718532,"SPR","SPR","EA","PAINT MARKING WHITE",null,10.48,48,{"$f":"VLOOKUP(M4182,DFL!A:H,8,0)","v":0.3},{"$f":"P4182-(P4182/1.0025)","v":1.8304239401495614E-2},7.34]
[{"$error":"#N/A"},null,null,null,null,435328,"SPR","SPR","PD","PAD,DUAL,LGL,8.5X11.75,WE"," ",17.489999999999998,30,{"$f":"VLOOKUP(M4197,DFL!A:H,8,0)","v":0.57999999999999996},{"$f":"P4197-(P4197/1.0025)","v":1.8329177057355928E-2},7.35]
[{"$error":"#N/A"},null,null,null,null,6443035,"SPR","SPR","EA","DRIVE,USB,16GB,2.0,ERGO,BK",null,8.99,46,{"$f":"VLOOKUP(M4202,DFL!A:H,8,0)","v":0.18},{"$f":"P4202-(P4202/1.0025)","v":1.8379052369076554E-2},7.37]
[{"$error":"#N/A"},null,null,null,null,8788400,"SPR","SPR","EA","CASE;STORAGE;RED",null,14.5,31,{"$f":"VLOOKUP(M4218,DFL!A:H,8,0)","v":0.49},{"$f":"P4218-(P4218/1.0025)","v":1.8453865336658382E-2},7.4]
[{"$error":"#N/A"},null,null,null,null,644747,null,"SPR","PK","CARDSTOCK;PEARL;BRIGHT;AST",null,14.3,47,{"$f":"VLOOKUP(M4233,DFL!A:H,8,0)","v":0.5},{"$f":"P4233-(P4233/1.0025)","v":1.7830423940149664E-2},7.15]
[{"$error":"#N/A"},null,null,null,null,407847,null,"SPR","PK","FILLER,GRAPH,JR,8.5X5.5",null,27.69,30,{"$f":"VLOOKUP(M4252,DFL!A:H,8,0)","v":0.57999999999999996},{"$f":"P4252-(P4252/1.0025)","v":2.9002493765585058E-2},11.63]
[{"$error":"#N/A"},null,null,null,null,506336,"SPR","SPR","PK","NOTE,PSTIT,SSTCKY,4X6,3PK,NEON","SFI Certified Product",17.87,30,{"$f":"VLOOKUP(M4267,DFL!A:H,8,0)","v":0.57999999999999996},{"$f":"P4267-(P4267/1.0025)","v":1.8728179551121826E-2},7.51]
[{"$error":"#N/A"},null,null,null,null,8627489,null,"SPR","EA","PAD;DESK;COMPACT;BE",null,13.97,11,{"$f":"VLOOKUP(M4275,DFL!A:H,8,0)","v":0.46},{"$f":"P4275-(P4275/1.0025)","v":1.8802992518702766E-2},7.54]
[{"$error":"#N/A"},null,null,null,null,5506061,"SPR","SPR","BX","REFILL,GEL,ENERGEL,0.7MM,BE",null,16.8,33,{"$f":"VLOOKUP(M4288,DFL!A:H,8,0)","v":0.55000000000000004},{"$f":"P4288-(P4288/1.0025)","v":1.8852867830423392E-2},7.56]
[{"$error":"#N/A"},null,null,null,null,883672,"BSD","BSD","EA","REFILL,TIMEMIST,CLEAN&FRESH"," ",15.14,19,{"$f":"VLOOKUP(M4303,DFL!A:E,5,0)","v":0.5},{"$f":"P4303-(P4303/1.0025)","v":1.8877805486283705E-2},7.57]
[{"$error":"#N/A"},null,null,null,null,783492,null,"SPR","PK"," PEN BP RTRCT 1.0MM 12PK RED",null,18.68,33,{"$f":"VLOOKUP(M4322,DFL!A:H,8,0)","v":0.55000000000000004},{"$f":"P4322-(P4322/1.0025)","v":2.0972568578553563E-2},8.41]
[{"$error":"#N/A"},null,null,null,null,4176488,null,"SPR","PK","LABEL;SGHTWRD;CLNGTHG;50/PK",null,11.99,36,{"$f":"VLOOKUP(M4337,DFL!A:H,8,0)","v":0.36},{"$f":"P4337-(P4337/1.0025)","v":1.9127182044887725E-2},7.67]
[{"$error":"#N/A"},null,null,null,null,474840,null,"SPR","ST"," DIVIDER 5TAB TOC 6PK MULTICLR",null,19.22,35,{"$f":"VLOOKUP(M4348,DFL!A:H,8,0)","v":0.6},{"$f":"P4348-(P4348/1.0025)","v":1.9177057356608351E-2},7.69]
[{"$error":"#N/A"},null,null,null,null,9020680,null,"SPR","EA"," TISSUE BATH TAD ULTPRM 12PK",null,30.35,40,{"$f":"VLOOKUP(M4372,DFL!A:H,8,0)","v":0.44},{"$f":"P4372-(P4372/1.0025)","v":4.2394014962592763E-2},17]
[{"$error":"#N/A"},null,null,null,null,894645,"SPR","SPR","PK","PEN,SHARPIE,FINE,6PK,ASTD"," ",17.190000000000001,33,{"$f":"VLOOKUP(M4373,DFL!A:H,8,0)","v":0.55000000000000004},{"$f":"P4373-(P4373/1.0025)","v":1.9301745635909917E-2},7.74]
[{"$error":"#N/A"},null,null,null,null,1383418,"BSD","BSD","EA","FILE VRTCLE CLR UNBRKBL",null,21.69,31,{"$f":"VLOOKUP(M4392,DFL!A:E,5,0)","v":0.64},{"$f":"P4392-(P4392/1.0025)","v":1.9476309226932109E-2},7.81]
[{"$error":"#N/A"},null,null,null,null,505901,null,"SPR","PK","SPOONS;BAGGED;REFLECTIONS",null,14.03,18,{"$f":"VLOOKUP(M4406,DFL!A:H,8,0)","v":0.44},{"$f":"P4406-(P4406/1.0025)","v":1.9600997506233675E-2},7.86]
[{"$error":"#N/A"},null,null,null,null,542487,"SPR","SPR","PK","EXHIBITLABELS-U-CREATE"," ",17,26,{"$f":"VLOOKUP(M4423,DFL!A:H,8,0)","v":0.44},{"$f":"P4423-(P4423/1.0025)","v":2.3740648379051876E-2},9.52]
[{"$error":"#N/A"},null,null,null,null,8158351,null,"SPR","BX","SNACKS;APPLEJACKS;JUMBO;12CT",null,11.38,48,{"$f":"VLOOKUP(M4442,DFL!A:H,8,0)","v":0.3},{"$f":"P4442-(P4442/1.0025)","v":1.9875311720698008E-2},7.97]
[{"$error":"#N/A"},null,null,null,null,8990034,null,"SPR","EA"," DskPd 22x17 Peyton RY24 M",null,18.989999999999998,11,{"$f":"VLOOKUP(M4457,DFL!A:H,8,0)","v":0.46},{"$f":"P4457-(P4457/1.0025)","v":2.5561097256856513E-2},10.25]
[{"$error":"#N/A"},null,null,null,null,5468483,null,"SPR","EA"," DESKPAD M RY24 22X17 OD PARDSE",null,18.989999999999998,11,{"$f":"VLOOKUP(M4462,DFL!A:H,8,0)","v":0.46},{"$f":"P4462-(P4462/1.0025)","v":2.5561097256856513E-2},10.25]
[{"$error":"#N/A"},null,null,null,null,187578,"SPR","SPR","EA","BOOK,PHONE MESSAGE,4X5.5"," ",15.33,11,{"$f":"VLOOKUP(M4479,DFL!A:H,8,0)","v":0.46},{"$f":"P4479-(P4479/1.0025)","v":2.0648379052369492E-2},8.2799999999999994]
[{"$error":"#N/A"},null,null,null,null,5806363,"SPR","SPR","PK","RUBBERBANDS,SIZE #107,1LB",null,17.55,7,{"$f":"VLOOKUP(M4493,DFL!A:H,8,0)","v":0.46},{"$f":"P4493-(P4493/1.0025)","v":2.3640897755610624E-2},9.48]
[{"$error":"#N/A"},null,null,null,null,378420,"SPR","SPR","BX","RUBBERBANDS,7X1/8,1LB,LE",null,16.86,7,{"$f":"VLOOKUP(M4512,DFL!A:H,8,0)","v":0.46},{"$f":"P4512-(P4512/1.0025)","v":2.2693266832916947E-2},9.1]
[{"$error":"#N/A"},null,null,null,null,3286035,"BSD","BSD","EA","NOTEBOOK,FO,HD,LG,5X8.25,BLK",null,29.95,30,{"$f":"VLOOKUP(M4527,DFL!A:E,5,0)","v":0.73},{"$f":"P4527-(P4527/1.0025)","v":2.0174563591021766E-2},8.09]
[{"$error":"#N/A"},null,null,null,null,451872,"BSD","BSD","DZ","MARKER,PERM,UFINE,SHARP,DZ,RED"," ",21.96,28,{"$f":"VLOOKUP(M4542,DFL!A:E,5,0)","v":0.63},{"$f":"P4542-(P4542/1.0025)","v":2.0274314214463018E-2},8.1300000000000008]
[{"$error":"#N/A"},null,null,null,null,362262,"SPR","SPR","BX","STICK;CRFT;WOOD;1000PC;AST",null,16.940000000000001,47,{"$f":"VLOOKUP(M4552,DFL!A:H,8,0)","v":0.5},{"$f":"P4552-(P4552/1.0025)","v":2.1122194513715442E-2},8.4700000000000006]
[{"$error":"#N/A"},null,null,null,null,440949,"BSD","BSD","EA","Officemate Heavy-Duty Magnets, Assorted Colors, Pack Of 30",null,26.99,36,{"$f":"VLOOKUP(M4563,DFL!A:E,5,0)","v":0.6},{"$f":"P4563-(P4563/1.0025)","v":2.6932668329177289E-2},10.8]
[{"$error":"#N/A"},null,null,null,null,205122,null,"SPR","EA","TRIMMER,PERSONAL,NARROW,12IN",null,31.89,7,{"$f":"VLOOKUP(M4582,DFL!A:H,8,0)","v":0.46},{"$f":"P4582-(P4582/1.0025)","v":4.2942643391519653E-2},17.22]
[{"$error":"#N/A"},null,null,null,null,544775,"SPR","SPR","EA","CLIPBOARD,ALUMINUM,8.5X14"," ",20.55,35,{"$f":"VLOOKUP(M4597,DFL!A:H,8,0)","v":0.6},{"$f":"P4597-(P4597/1.0025)","v":2.0498753117205837E-2},8.2200000000000006]
[{"$error":"#N/A"},null,null,null,null,561717,"SPR","SPR","PK","PAPER,SMARTSTK CONS,12X18"," ",16.489999999999998,47,{"$f":"VLOOKUP(M4612,DFL!A:H,8,0)","v":0.5},{"$f":"P4612-(P4612/1.0025)","v":2.0573566084786776E-2},8.25]
[{"$error":"#N/A"},null,null,null,null,310419,null,"SPR","EA"," MOUSEPAD RUBBER SILVER",null,11.83,29,{"$f":"VLOOKUP(M4625,DFL!A:H,8,0)","v":0.3},{"$f":"P4625-(P4625/1.0025)","v":2.0648379052369492E-2},8.2799999999999994]
[{"$error":"#N/A"},null,null,null,null,890840,"SPR","SPR","EA","LETTERS;PLAYFUL;4\";YW;216PC",null,12.99,36,{"$f":"VLOOKUP(M4633,DFL!A:H,8,0)","v":0.36},{"$f":"P4633-(P4633/1.0025)","v":2.0723192019950432E-2},8.31]
[{"$error":"#N/A"},null,null,null,null,5983374,null,"SPR","EA"," Calendar Wall RY24 12x17 White",null,19.89,11,{"$f":"VLOOKUP(M4652,DFL!A:H,8,0)","v":0.46},{"$f":"P4652-(P4652/1.0025)","v":2.6783042394013634E-2},10.74]
[{"$error":"#N/A"},null,null,null,null,532257,"BSD","BSD","EA","JOURNAL,A4,RLD/PRF,POLY,BLK/RD"," ",19.96,11,{"$f":"VLOOKUP(M4667,DFL!A:E,5,0)","v":0.57999999999999996},{"$f":"P4667-(P4667/1.0025)","v":2.0897755610972624E-2},8.3800000000000008]
[{"$error":"#N/A"},null,null,null,null,754841,"BSD","BSD","DZ","MARKER,CHISEL,SHARPIE,BLUE"," ",22.68,28,{"$f":"VLOOKUP(M4682,DFL!A:E,5,0)","v":0.63},{"$f":"P4682-(P4682/1.0025)","v":2.0922693266832937E-2},8.39]
[{"$error":"#N/A"},null,null,null,null,8192767,null,"SPR","EA"," Plr 8.5x11 Sophie RY24 WM",null,19.989999999999998,11,{"$f":"VLOOKUP(M4698,DFL!A:H,8,0)","v":0.46},{"$f":"P4698-(P4698/1.0025)","v":2.6907730673316976E-2},10.79]
[{"$error":"#N/A"},null,null,null,null,8583239,null,"SPR","EA"," Plr 8.5x11 MimiPink RY24 WM",null,19.989999999999998,11,{"$f":"VLOOKUP(M4703,DFL!A:H,8,0)","v":0.46},{"$f":"P4703-(P4703/1.0025)","v":2.6907730673316976E-2},10.79]
[{"$error":"#N/A"},null,null,null,null,6393440,null,"SPR","EA"," REFILL RY24 QN DAILY SML",null,20,11,{"$f":"VLOOKUP(M4718,DFL!A:H,8,0)","v":0.46},{"$f":"P4718-(P4718/1.0025)","v":2.6932668329177289E-2},10.8]
[{"$error":"#N/A"},null,null,null,null,8235147,null,"SPR","PK"," REFILL 5.5X8.5 DLY TUL UNDATED",null,20.13,11,{"$f":"VLOOKUP(M4737,DFL!A:H,8,0)","v":0.46},{"$f":"P4737-(P4737/1.0025)","v":2.7107231920199482E-2},10.87]
[{"$error":"#N/A"},null,null,null,null,404079,"BSD","BSD","DZ","PAD,NOTE,POST-IT,3\"X3\",12PK,AS"," ",31.751233243967825,30,{"$f":"VLOOKUP(M4752,DFL!A:E,5,0)","v":0.73},{"$f":"P4752-(P4752/1.0025)","v":2.1371571072318574E-2},8.57]
[{"$error":"#N/A"},null,null,null,null,732650,"BSD","BSD","RM","PAPER,SECURITY,8.5X11,BE","SFI Certified Sourcing (Black)",34.07,32,{"$f":"VLOOKUP(M4756,DFL!A:E,5,0)","v":0.75},{"$f":"P4756-(P4756/1.0025)","v":2.1246882793017008E-2},8.52]
[{"$error":"#N/A"},null,null,null,null,295301,"SPR","SPR","BX","KIT,CLEAN,SCREEN,WIPES,50",null,15.87,40,{"$f":"VLOOKUP(M4773,DFL!A:H,8,0)","v":0.44},{"$f":"P4773-(P4773/1.0025)","v":2.2169576059850371E-2},8.89]
[{"$error":"#N/A"},null,null,null,null,7596741,"SPR","SPR","EA","TOTE;2.5QT;RED",null,16.850000000000001,31,{"$f":"VLOOKUP(M4788,DFL!A:H,8,0)","v":0.49},{"$f":"P4788-(P4788/1.0025)","v":2.14214463840392E-2},8.59]
[{"$error":"#N/A"},null,null,null,null,683185,"BSD","BSD","BX","LABEL,IJ,FULL,WHT,25CT"," ",19.57,26,{"$f":"VLOOKUP(M4807,DFL!A:E,5,0)","v":0.56000000000000005},{"$f":"P4807-(P4807/1.0025)","v":2.1471321695759826E-2},8.61]
[{"$error":"#N/A"},null,null,null,null,198143,"SPR","SPR","BX","PROTECTOR,SHEET,TOPLOAD,11X8.5"," ",21.57,35,{"$f":"VLOOKUP(M4822,DFL!A:H,8,0)","v":0.6},{"$f":"P4822-(P4822/1.0025)","v":2.1521197007480453E-2},8.6300000000000008]
[{"$error":"#N/A"},null,null,null,null,272904,"SPR","SPR","PR","LEATHER,DRIVER,M",null,14.64,22,{"$f":"VLOOKUP(M4829,DFL!A:H,8,0)","v":0.41},{"$f":"P4829-(P4829/1.0025)","v":2.1546134663340766E-2},8.64]
[{"$error":"#N/A"},null,null,null,null,506408,"BSD","BSD","PK","NOTES,POST-IT,3X3,14/PK,NEON","SFI Certified Product",32.11,30,{"$f":"VLOOKUP(M4843,DFL!A:E,5,0)","v":0.73},{"$f":"P4843-(P4843/1.0025)","v":2.1620947630921705E-2},8.67]
[{"$error":"#N/A"},null,null,null,null,9731137,null,"SPR","BX","LANYARD, U-CLIP, BLK",null,16.41,5,{"$f":"VLOOKUP(M4858,DFL!A:H,8,0)","v":0.45},{"$f":"P4858-(P4858/1.0025)","v":2.2518703241894755E-2},9.0299999999999994]
[{"$error":"#N/A"},null,null,null,null,949281,"SPR","SPR","ST","CADDY,EXPO RECYCL ORGNZR SET"," ",16.8,28,{"$f":"VLOOKUP(M4877,DFL!A:H,8,0)","v":0.48},{"$f":"P4877-(P4877/1.0025)","v":2.1795511221943897E-2},8.74]
[{"$error":"#N/A"},null,null,null,null,497402,null,"SPR","EA","DISPENSER,POP-UP,STEEL TOP,WHT",null,17.5,39,{"$f":"VLOOKUP(M4887,DFL!A:H,8,0)","v":0.5},{"$f":"P4887-(P4887/1.0025)","v":2.182044887780421E-2},8.75]
[{"$error":"#N/A"},null,null,null,null,420927,"SPR","SPR","RM","PAPER,COPY,8.5X11,RE-ENTRY,RED"," ",36.32,32,{"$f":"VLOOKUP(M4908,DFL!A:H,8,0)","v":0.65},{"$f":"P4908-(P4908/1.0025)","v":3.1695760598502432E-2},12.71]
[{"$error":"#N/A"},null,null,null,null,302879,null,"SPR","EA","SCOOP;BOUNCER;BAR;6 O",null,12.55,48,{"$f":"VLOOKUP(M4913,DFL!A:H,8,0)","v":0.3},{"$f":"P4913-(P4913/1.0025)","v":2.1920199501247239E-2},8.7899999999999991]
[{"$error":"#N/A"},null,null,null,null,5939896,null,"SPR","EA"," CALENDAR WALL M RY24 15X12 PAR",null,20.99,11,{"$f":"VLOOKUP(M4928,DFL!A:H,8,0)","v":0.46},{"$f":"P4928-(P4928/1.0025)","v":2.8254364089775663E-2},11.33]
[{"$error":"#N/A"},null,null,null,null,234280,null,"SPR","DZ"," PEN RT GEL SFT GRP 12PK BLK",null,21.61,33,{"$f":"VLOOKUP(M4947,DFL!A:H,8,0)","v":0.55000000000000004},{"$f":"P4947-(P4947/1.0025)","v":2.4239401496258139E-2},9.7200000000000006]
[{"$error":"#N/A"},null,null,null,null,149765,"BSD","BSD","DZ","PEN,UNIBALL,XF,UB120,BLK"," ",27.02,33,{"$f":"VLOOKUP(M4960,DFL!A:E,5,0)","v":0.65},{"$f":"P4960-(P4960/1.0025)","v":2.3591022443889997E-2},9.4600000000000009]
[{"$error":"#N/A"},null,null,null,null,4284216,"BSD","BSD","EA","Rochester Midland Toilet Seat Cover Dispenser, White",null,23.23,19,{"$f":"VLOOKUP(M4978,DFL!A:E,5,0)","v":0.5},{"$f":"P4978-(P4978/1.0025)","v":2.8977556109724745E-2},11.62]
[{"$error":"#N/A"},null,null,null,null,9715479,"SPR","SPR","BX","PROTECTOR,SHEET,HVYWT,NONGL",null,26.68,35,{"$f":"VLOOKUP(M4997,DFL!A:H,8,0)","v":0.6},{"$f":"P4997-(P4997/1.0025)","v":2.6608478802991442E-2},10.67]
[{"$error":"#N/A"},null,null,null,null,5710967,null,"SPR","EA"," PLANNER RY24 TRAD MTHLY LRG",null,21.39,11,{"$f":"VLOOKUP(M4998,DFL!A:H,8,0)","v":0.46},{"$f":"P4998-(P4998/1.0025)","v":2.8802992518702553E-2},11.55]
[{"$error":"#N/A"},null,null,null,null,274574,"SPR","SPR","EA","8GB USB 2.0 FL DR PINSTRIPE BL"," ",11,46,{"$f":"VLOOKUP(M5013,DFL!A:H,8,0)","v":0.18},{"$f":"P5013-(P5013/1.0025)","v":2.2493765586034442E-2},9.02]
[{"$error":"#N/A"},null,null,null,null,9869384,null,"SPR","EA"," WALL RY24 TRAD MTHLY MED",null,21.49,11,{"$f":"VLOOKUP(M5033,DFL!A:H,8,0)","v":0.46},{"$f":"P5033-(P5033/1.0025)","v":2.8927680798004118E-2},11.6]
[{"$error":"#N/A"},null,null,null,null,922369,"SPR","SPR","EA","PADLOCK,MAXIMUM SECURITY,1.5\""," ",12.94,48,{"$f":"VLOOKUP(M5048,DFL!A:H,8,0)","v":0.3},{"$f":"P5048-(P5048/1.0025)","v":2.2593516209475695E-2},9.06]
[{"$error":"#N/A"},null,null,null,null,501371,"SPR","SPR","EA","BINDER,DUR,L/HLDR,2\",8X5,BK"," ",23.85,8,{"$f":"VLOOKUP(M5067,DFL!A:H,8,0)","v":0.55000000000000004},{"$f":"P5067-(P5067/1.0025)","v":2.6758104738153321E-2},10.73]
[{"$error":"#N/A"},null,null,null,null,205781,"SPR","SPR","EA","SCISSORS,8\",STRAIGHT TRIMMR,CD"," ",18.440000000000001,7,{"$f":"VLOOKUP(M5082,DFL!A:H,8,0)","v":0.46},{"$f":"P5082-(P5082/1.0025)","v":2.4837905236907432E-2},9.9600000000000009]
[{"$error":"#N/A"},null,null,null,null,290426,"SPR","SPR","EA","SCSSRS, 8\",STR,CARBOTI,WHT,GRN"," ",40.04,7,{"$f":"VLOOKUP(M5083,DFL!A:H,8,0)","v":0.46},{"$f":"P5083-(P5083/1.0025)","v":5.3915211970075205E-2},21.62]
[{"$error":"#N/A"},null,null,null,null,868383,"BSD","BSD","EA","FILE,WALL,MAGNETIC,LTR,BLK"," ",26.88,31,{"$f":"VLOOKUP(M5106,DFL!A:E,5,0)","v":0.64},{"$f":"P5106-(P5106/1.0025)","v":2.4139650872816887E-2},9.68]
[{"$error":"#N/A"},null,null,null,null,6262605,null,"SPR","EA"," CALENDAR WALL M RY24 15X23 PAR",null,21.99,11,{"$f":"VLOOKUP(M5118,DFL!A:H,8,0)","v":0.46},{"$f":"P5118-(P5118/1.0025)","v":2.960099750623435E-2},11.87]
[{"$error":"#N/A"},null,null,null,null,9740109,"BSD","BSD","CA","LACROIX, KEYLIME, 2/12PK",null,16.95,48,{"$f":"VLOOKUP(M5137,DFL!A:E,5,0)","v":0.42},{"$f":"P5137-(P5137/1.0025)","v":2.4513715710723361E-2},9.83]
[{"$error":"#N/A"},null,null,null,null,206805,"SPR","SPR","BX"," FASTENER BASE 2IN CP 100/BX",null,17.309999999999999,7,{"$f":"VLOOKUP(M5152,DFL!A:H,8,0)","v":0.46},{"$f":"P5152-(P5152/1.0025)","v":2.3316708229426553E-2},9.35]
[{"$error":"#N/A"},null,null,null,null,433573,"BSD","BSD","PK","PORTFOLIO,PCKT,W/FST,10PK,LBLU"," ",31.27,35,{"$f":"VLOOKUP(M5167,DFL!A:E,5,0)","v":0.7},{"$f":"P5167-(P5167/1.0025)","v":2.3391521197007492E-2},9.3800000000000008]
[{"$error":"#N/A"},null,null,null,null,4814098,"SPR","SPR","PK","PEN,GEL,207,0.7MM,8PK,BLK",null,22.25,33,{"$f":"VLOOKUP(M5179,DFL!A:H,8,0)","v":0.55000000000000004},{"$f":"P5179-(P5179/1.0025)","v":2.4962593516208997E-2},10.01]
[{"$error":"#N/A"},null,null,null,null,9796020,null,"SPR","EA"," DESK RY24 CNTMPO MO 17",null,22.46,11,{"$f":"VLOOKUP(M5188,DFL!A:H,8,0)","v":0.46},{"$f":"P5188-(P5188/1.0025)","v":3.0249376558602492E-2},12.13]
[{"$error":"#N/A"},null,null,null,null,922550,"SPR","SPR","BX","LBL,F/LBL PRNT,SHPG,2-1/8X4"," ",16.93,26,{"$f":"VLOOKUP(M5203,DFL!A:H,8,0)","v":0.44},{"$f":"P5203-(P5203/1.0025)","v":2.3640897755610624E-2},9.48]
[{"$error":"#N/A"},null,null,null,null,869398,"BSD","BSD","EA","FILE,WALL,LETTER,CLEAR"," ",27.78,31,{"$f":"VLOOKUP(M5222,DFL!A:E,5,0)","v":0.64},{"$f":"P5222-(P5222/1.0025)","v":2.4937655860348684E-2},10]
[{"$error":"#N/A"},null,null,null,null,8630980,null,"SPR","EA","CALENDAR;WALLSEASONAL;AY",null,17.7,11,{"$f":"VLOOKUP(M5237,DFL!A:H,8,0)","v":0.46},{"$f":"P5237-(P5237/1.0025)","v":2.3840399002493129E-2},9.56]
[{"$error":"#N/A"},null,null,null,null,341273,"SPR","SPR","ST","SET;BBS;MULTIP-TABLES",null,14.99,36,{"$f":"VLOOKUP(M5252,DFL!A:H,8,0)","v":0.36},{"$f":"P5252-(P5252/1.0025)","v":2.3915211970074068E-2},9.59]
[{"$error":"#N/A"},null,null,null,null,8545242,null,"SPR","PK","PEN,ADVANCE INK,AST,60PC,",null,21.36,33,{"$f":"VLOOKUP(M5258,DFL!A:H,8,0)","v":0.55000000000000004},{"$f":"P5258-(P5258/1.0025)","v":2.3965087281794695E-2},9.61]
[{"$error":"#N/A"},null,null,null,null,894690,"BSD","BSD","DZ","PEN,GEL,UB 207,NDLE,0.7,DZ,BLK"," ",27.784436229205173,33,{"$f":"VLOOKUP(M5273,DFL!A:E,5,0)","v":0.65},{"$f":"P5273-(P5273/1.0025)","v":2.4239401496258139E-2},9.7200000000000006]
[{"$error":"#N/A"},null,null,null,null,8012169,"BSD","BSD","DZ","PM,PROFILE,GEL,1MM,12P,OS,BLK",null,27.6,33,{"$f":"VLOOKUP(M5292,DFL!A:E,5,0)","v":0.65},{"$f":"P5292-(P5292/1.0025)","v":2.4089775561096261E-2},9.66]
[{"$error":"#N/A"},null,null,null,null,592808,null,"SPR","DZ","PEN,PM,IJ,GL,600ST,.7,12CT,BLK",null,27.62,33,{"$f":"VLOOKUP(M5307,DFL!A:H,8,0)","v":0.55000000000000004},{"$f":"P5307-(P5307/1.0025)","v":3.0997506234413663E-2},12.43]
[{"$error":"#N/A"},null,null,null,null,462005,"BSD","BSD","RM","PAPER,PASTEL,24#,8.5X11,PINK"," ",41.39,32,{"$f":"VLOOKUP(M5324,DFL!A:E,5,0)","v":0.75},{"$f":"P5324-(P5324/1.0025)","v":2.5810473815461421E-2},10.35]
[{"$error":"#N/A"},null,null,null,null,6078238,null,"SPR","EA"," REFILL RY24 CORE WKLY MINI",null,23.1,11,{"$f":"VLOOKUP(M5328,DFL!A:H,8,0)","v":0.46},{"$f":"P5328-(P5328/1.0025)","v":3.1097256857854916E-2},12.47]
[{"$error":"#N/A"},null,null,null,null,927926,"BSD","BSD","EA","BROTHER,LC20EY,INK"," ",14.99,43,{"$f":"VLOOKUP(M5343,DFL!A:E,5,0)","v":0.35},{"$f":"P5343-(P5343/1.0025)","v":2.4289276807978766E-2},9.74]
[{"$error":"#N/A"},null,null,null,null,984690,"BSD","BSD","BX","CARD,LSR,TENT,LRG,50CT"," ",32.54,35,{"$f":"VLOOKUP(M5362,DFL!A:E,5,0)","v":0.7},{"$f":"P5362-(P5362/1.0025)","v":2.4339152119699392E-2},9.76]
[{"$error":"#N/A"},null,null,null,null,735910,"BSD","BSD","EA","HOLDER,SGN,VERTICAL,8-1/2X11"," ",27,36,{"$f":"VLOOKUP(M5368,DFL!A:E,5,0)","v":0.6},{"$f":"P5368-(P5368/1.0025)","v":2.6932668329177289E-2},10.8]
[{"$error":"#N/A"},null,null,null,null,1332406,"SPR","SPR","EA","CONTAINER,SHARPS, 2GAL,RED",null,22.95,31,{"$f":"VLOOKUP(M5393,DFL!A:H,8,0)","v":0.49},{"$f":"P5393-(P5393/1.0025)","v":2.917705735660725E-2},11.7]
[{"$error":"#N/A"},null,null,null,null,694636,"SPR","SPR","PK","ENVELOPE,CLSP9X12 YW10/PK"," ",23.43,27,{"$f":"VLOOKUP(M5398,DFL!A:H,8,0)","v":0.57999999999999996},{"$f":"P5398-(P5398/1.0025)","v":2.4538653366583674E-2},9.84]
[{"$error":"#N/A"},null,null,null,null,8409734,null,"SPR","EA"," WALL RY24 DEEP GREEN MTHLY MED",null,23.53,11,{"$f":"VLOOKUP(M5413,DFL!A:H,8,0)","v":0.46},{"$f":"P5413-(P5413/1.0025)","v":3.1695760598502432E-2},12.71]
[{"$error":"#N/A"},null,null,null,null,563278,"SPR","SPR","EA","CALC,SCI,131,FUNC,B/W",null,13.99,21,{"$f":"VLOOKUP(M5432,DFL!A:H,8,0)","v":0.28999999999999998},{"$f":"P5432-(P5432/1.0025)","v":2.4763092269326492E-2},9.93]
[{"$error":"#N/A"},null,null,null,null,581682,"BSD","BSD","EA","TOTE,FILE,LTR/LGL,CLR/BLK",null,26.47,3,{"$f":"VLOOKUP(M5441,DFL!A:E,5,0)","v":0.61},{"$f":"P5441-(P5441/1.0025)","v":2.5735660847880482E-2},10.32]
[{"$error":"#N/A"},null,null,null,null,884744,"BSD","BSD","PK","MARKER,FLAIR,PM,12CT,ASTD"," ",28.73,33,{"$f":"VLOOKUP(M5463,DFL!A:E,5,0)","v":0.65},{"$f":"P5463-(P5463/1.0025)","v":2.5087281795510563E-2},10.06]
[{"$error":"#N/A"},null,null,null,null,897078,"BSD","BSD","EA","CRTDG,INK,YW",null,25.230288461538461,43,{"$f":"VLOOKUP(M5468,DFL!A:E,5,0)","v":0.35},{"$f":"P5468-(P5468/1.0025)","v":4.0897755610970421E-2},16.399999999999999]
[{"$error":"#N/A"},null,null,null,null,270312,"BSD","BSD","PK","PENCIL,WD CASE, YELLOW,144CT"," ",30.96,33,{"$f":"VLOOKUP(M5483,DFL!A:E,5,0)","v":0.65},{"$f":"P5483-(P5483/1.0025)","v":2.7032418952618542E-2},10.84]
[{"$error":"#N/A"},null,null,null,null,243145,"SPR","SPR","DZ","MARKER,PERM,CHISEL,DESK,BK"," ",23.11,28,{"$f":"VLOOKUP(M5498,DFL!A:H,8,0)","v":0.48},{"$f":"P5498-(P5498/1.0025)","v":2.9975062344139047E-2},12.02]
[{"$error":"#N/A"},null,null,null,null,211458,"SPR","SPR","ST","GUIDE,FILE,LTR,A-Z,T/TAB,MAN"," ",26.49,35,{"$f":"VLOOKUP(M5514,DFL!A:H,8,0)","v":0.6},{"$f":"P5514-(P5514/1.0025)","v":2.643391521196925E-2},10.6]
[{"$error":"#N/A"},null,null,null,null,8895631,"SPR","SPR","EA"," KIT CLEANING BREWER SINGLE",null,18.57,19,{"$f":"VLOOKUP(M5533,DFL!A:H,8,0)","v":0.45},{"$f":"P5533-(P5533/1.0025)","v":2.546134663341526E-2},10.210000000000001]
[{"$error":"#N/A"},null,null,null,null,3697484,"SPR","SPR","BX","KIND PEANUT BUTTER DARK CHOCOL",null,18.25,48,{"$f":"VLOOKUP(M5538,DFL!A:H,8,0)","v":0.3},{"$f":"P5538-(P5538/1.0025)","v":3.1870324189524624E-2},12.78]
[{"$error":"#N/A"},null,null,null,null,8454341,"SPR","SPR","EA","BULB,LED,PAR38,15W,3K,CA-OK",null,15.54,16,{"$f":"VLOOKUP(M5553,DFL!A:H,8,0)","v":0.36},{"$f":"P5553-(P5553/1.0025)","v":2.4812967581047118E-2},9.9499999999999993]
[{"$error":"#N/A"},null,null,null,null,4683806,"SPR","SPR","BX","ERASER,REFILL,PENCIL,5PC",null,22.8,33,{"$f":"VLOOKUP(M5568,DFL!A:H,8,0)","v":0.55000000000000004},{"$f":"P5568-(P5568/1.0025)","v":2.5586034912716826E-2},10.26]
[{"$error":"#N/A"},null,null,null,null,6728902,"SPR","SPR","EA","SOAP;DSH;REFILL;SEAMIN;54OZ",null,17.48,22,{"$f":"VLOOKUP(M5587,DFL!A:H,8,0)","v":0.41},{"$f":"P5587-(P5587/1.0025)","v":2.5710723192020168E-2},10.31]
[{"$error":"#N/A"},null,null,null,null,6971401,null,"SPR","EA"," DESK RY24 RECY MTHLY 21",null,24.6,11,{"$f":"VLOOKUP(M5603,DFL!A:H,8,0)","v":0.46},{"$f":"P5603-(P5603/1.0025)","v":3.3117206982542058E-2},13.28]
[{"$error":"#N/A"},null,null,null,null,8630651,null,"SPR","EA","PLANNER;WK/MTH;7X9;AY",null,19.22,11,{"$f":"VLOOKUP(M5622,DFL!A:H,8,0)","v":0.46},{"$f":"P5622-(P5622/1.0025)","v":2.5885286783042361E-2},10.38]
[{"$error":"#N/A"},null,null,null,null,5288080,"SPR","SPR","EA","TRAY;DOCUMENT;ANTIMICROBIAL",null,20.350000000000001,31,{"$f":"VLOOKUP(M5623,DFL!A:H,8,0)","v":0.49},{"$f":"P5623-(P5623/1.0025)","v":2.5885286783042361E-2},10.38]
[{"$error":"#N/A"},null,null,null,null,9559578,"SPR","SPR","PK","PUSHPIN,WOOD,ASST",null,12.65,7,{"$f":"VLOOKUP(M5638,DFL!A:H,8,0)","v":0.46},{"$f":"P5638-(P5638/1.0025)","v":1.7032418952617867E-2},6.83]
[{"$error":"#N/A"},null,null,null,null,732981,"SPR","SPR","EA","COVER,CORD,BELKIN,6',DARK GRAY"," ",18.989999999999998,48,{"$f":"VLOOKUP(M5660,DFL!A:H,8,0)","v":0.3},{"$f":"P5660-(P5660/1.0025)","v":3.3142144638404147E-2},13.29]
[{"$error":"#N/A"},null,null,null,null,154818,"BSD","BSD","BX","FROSTED  MINI WHEATS CIAC"," ",20.09,48,{"$f":"VLOOKUP(M5673,DFL!A:E,5,0)","v":0.42},{"$f":"P5673-(P5673/1.0025)","v":2.9052369077305684E-2},11.65]
[{"$error":"#N/A"},null,null,null,null,4423538,"SPR","SPR","EA","STAPLER,DESK,FULL,DUAL SHOT",null,25.96,37,{"$f":"VLOOKUP(M5688,DFL!A:H,8,0)","v":0.5},{"$f":"P5688-(P5688/1.0025)","v":3.2369077306732663E-2},12.98]
[{"$error":"#N/A"},null,null,null,null,101856,"SPR","SPR","DZ","MARKER,DRY,CHISEL"," ",20.38,28,{"$f":"VLOOKUP(M5707,DFL!A:H,8,0)","v":0.48},{"$f":"P5707-(P5707/1.0025)","v":2.643391521196925E-2},10.6]
[{"$error":"#N/A"},null,null,null,null,380712,"BSD","BSD","PK","CEREAL,CHEERIOS,1.3OZ,6/PK"," ",18.736342042755343,48,{"$f":"VLOOKUP(M5708,DFL!A:E,5,0)","v":0.42},{"$f":"P5708-(P5708/1.0025)","v":2.7107231920199482E-2},{"$f":"ROUND(L5708*(1-N5708),2)","v":10.87}]
[{"$error":"#N/A"},null,null,null,null,449645,"SPR","SPR","PK","FRAME, ADHESIVE, 1/2 LTR",null,17.989999999999998,4,{"$f":"VLOOKUP(M5733,DFL!A:H,8,0)","v":0.39},{"$f":"P5733-(P5733/1.0025)","v":2.7356608478802613E-2},10.97]
[{"$error":"#N/A"},null,null,null,null,9986802,"SPR","SPR","PK","HOLDER;MAG;SGN;8.5X11;SV",null,21.44,31,{"$f":"VLOOKUP(M5743,DFL!A:H,8,0)","v":0.49},{"$f":"P5743-(P5743/1.0025)","v":2.7256857855361361E-2},10.93]
[{"$error":"#N/A"},null,null,null,null,5293124,"SPR","SPR","EA","CLEANER,LAV,FABULOSO,128OZ",null,22,19,{"$f":"VLOOKUP(M5758,DFL!A:H,8,0)","v":0.45},{"$f":"P5758-(P5758/1.0025)","v":3.0174563591021553E-2},12.1]
[{"$error":"#N/A"},null,null,null,null,973006,"BSD","BSD","EA","BIN,MODULAR,LATCHING,54QT,CLR",null,27.7,3,{"$f":"VLOOKUP(M5777,DFL!A:E,5,0)","v":0.61},{"$f":"P5777-(P5777/1.0025)","v":2.6932668329177289E-2},10.8]
[{"$error":"#N/A"},null,null,null,null,270438,"SPR","SPR","EA","BROOM;CORN/FIBER;WHSE",null,21.93,19,{"$f":"VLOOKUP(M5791,DFL!A:H,8,0)","v":0.45},{"$f":"P5791-(P5791/1.0025)","v":3.00748129675803E-2},12.06]
[{"$error":"#N/A"},null,null,null,null,472224,"BSD","BSD","PK","DIVIDER,POCKET,3HL,SLASH,AS"," ",37.658093306288038,35,{"$f":"VLOOKUP(M5794,DFL!A:E,5,0)","v":0.7},{"$f":"P5794-(P5794/1.0025)","v":2.8179551122194724E-2},11.3]
[{"$error":"#N/A"},null,null,null,null,9321370,"SPR","SPR","PK","PEN,MARKER,CREATIVE SET,10P",null,21.01,28,{"$f":"VLOOKUP(M5813,DFL!A:H,8,0)","v":0.48},{"$f":"P5813-(P5813/1.0025)","v":2.7256857855361361E-2},10.93]
[{"$error":"#N/A"},null,null,null,null,9779145,"SPR","SPR","BD","NOTEBOOK,WIRE,WIDE,1SUB,70",null,26.1,30,{"$f":"VLOOKUP(M5828,DFL!A:H,8,0)","v":0.57999999999999996},{"$f":"P5828-(P5828/1.0025)","v":2.73316708229423E-2},10.96]
[{"$error":"#N/A"},null,null,null,null,6255792,"SPR","SPR","BX","CARD,INDEX,RULED,3X5,WE",null,28.5,35,{"$f":"VLOOKUP(M5847,DFL!A:H,8,0)","v":0.6},{"$f":"P5847-(P5847/1.0025)","v":2.8428927680797855E-2},11.4]
[{"$error":"#N/A"},null,null,null,null,807315,"SPR","SPR","EA","FRESHNER,AIR,DRY,G JOE,10OZ"," ",15.84,48,{"$f":"VLOOKUP(M5864,DFL!A:H,8,0)","v":0.3},{"$f":"P5864-(P5864/1.0025)","v":2.7655860349126371E-2},11.09]
[{"$error":"#N/A"},null,null,null,null,492487,"SPR","SPR","EA","INK,EPSON 200,YELLOW"," ",15.88,43,{"$f":"VLOOKUP(M5878,DFL!A:H,8,0)","v":0.3},{"$f":"P5878-(P5878/1.0025)","v":2.7730673316707311E-2},11.12]
[{"$error":"#N/A"},null,null,null,null,803497,"SPR","SPR","PK","PLATES,6-7/8\",ULTRA,PATH,125PK"," ",19.850000000000001,18,{"$f":"VLOOKUP(M5883,DFL!A:H,8,0)","v":0.44},{"$f":"P5883-(P5883/1.0025)","v":2.7730673316707311E-2},11.12]
[{"$error":"#N/A"},null,null,null,null,1183038,"SPR","SPR","PK","SIGN,HFLETTER,11x17,SLV",null,17.989999999999998,36,{"$f":"VLOOKUP(M5898,DFL!A:H,8,0)","v":0.36},{"$f":"P5898-(P5898/1.0025)","v":2.87032418952613E-2},11.51]
[{"$error":"#N/A"},null,null,null,null,8876011,null,"SPR","EA","USB-C PURPLE MINI OPTICAL MOUS",null,16,29,{"$f":"VLOOKUP(M5917,DFL!A:H,8,0)","v":0.3},{"$f":"P5917-(P5917/1.0025)","v":2.7930174563589816E-2},11.2]
[{"$error":"#N/A"},null,null,null,null,280156,"BSD","BSD","PK","BATTERY,SIZE D,ALKALINE,4/PK"," ",26.05,6,{"$f":"VLOOKUP(M5922,DFL!A:E,5,0)","v":0.56999999999999995},{"$f":"P5922-(P5922/1.0025)","v":2.7930174563589816E-2},11.2]
[{"$error":"#N/A"},null,null,null,null,833235,"BSD","BSD","EA","CABLE,NETWORK,CAT5E,7,BLUE"," ",20.75,48,{"$f":"VLOOKUP(M5948,DFL!A:E,5,0)","v":0.42},{"$f":"P5948-(P5948/1.0025)","v":3.0024937655859674E-2},12.04]
[{"$error":"#N/A"},null,null,null,null,4342507,"SPR","SPR","BG","CUP HOT INSULATED 8 OZ.",null,21.07,18,{"$f":"VLOOKUP(M5953,DFL!A:H,8,0)","v":0.44},{"$f":"P5953-(P5953/1.0025)","v":2.9426433915212158E-2},11.8]
[{"$error":"#N/A"},null,null,null,null,7102817,null,"SPR","EA"," PLANNER RY24 HARMONY W/M LRG",null,26.99,11,{"$f":"VLOOKUP(M5968,DFL!A:H,8,0)","v":0.46},{"$f":"P5968-(P5968/1.0025)","v":3.6334164588527784E-2},14.57]
[{"$error":"#N/A"},null,null,null,null,262271,"BSD","BSD","DZ","PEN,OHP,FINE,VIS-A-VIS,BLUE"," ",31.01229305423406,28,{"$f":"VLOOKUP(M5983,DFL!A:E,5,0)","v":0.63},{"$f":"P5983-(P5983/1.0025)","v":2.8603491271820047E-2},11.47]
[{"$error":"#N/A"},null,null,null,null,9728042,null,"SPR","EA"," PLANNER RY24 FLORA W/M LRG",null,27.17,11,{"$f":"VLOOKUP(M5995,DFL!A:H,8,0)","v":0.46},{"$f":"P5995-(P5995/1.0025)","v":3.6583541147130916E-2},14.67]
[{"$error":"#N/A"},null,null,null,null,790841,"BSD","BSD","DZ","PEN,RETRACT,G-2,FINE,RED"," ",32.65,33,{"$f":"VLOOKUP(M6018,DFL!A:E,5,0)","v":0.65},{"$f":"P6018-(P6018/1.0025)","v":2.8503740648378795E-2},11.43]
[{"$error":"#N/A"},null,null,null,null,681112,"BSD","BSD","BX","Folgers¬Æ Single-Serve Coffee K-Cup¬Æ, Classic Roast, Carton Of 24",null,22.99,48,{"$f":"VLOOKUP(M6023,DFL!A:E,5,0)","v":0.42},{"$f":"P6023-(P6023/1.0025)","v":3.32418952618454E-2},13.33]
[{"$error":"#N/A"},null,null,null,null,6486083,null,"SPR","BO","DETERGENT,TIDE,46 OZ,32 USE",null,20.89,19,{"$f":"VLOOKUP(M6038,DFL!A:H,8,0)","v":0.45},{"$f":"P6038-(P6038/1.0025)","v":2.8653366583540674E-2},11.49]
[{"$error":"#N/A"},null,null,null,null,596170,"SPR","SPR","ST","GUIDE,CRD,A-Z,4X6,25/ST,ASTD",null,34.090000000000003,35,{"$f":"VLOOKUP(M6053,DFL!A:H,8,0)","v":0.6},{"$f":"P6053-(P6053/1.0025)","v":3.4014962593515108E-2},13.64]
[{"$error":"#N/A"},null,null,null,null,3280064,"BSD","BSD","EA","Dunkin' Donuts¬Æ Single-Serve Coffee K-Cup¬Æ, Original Blend, Carton Of 22",null,23.23,48,{"$f":"VLOOKUP(M6068,DFL!A:E,5,0)","v":0.42},{"$f":"P6068-(P6068/1.0025)","v":3.3591022443889784E-2},13.47]
[{"$error":"#N/A"},null,null,null,null,2980446,null,"SPR","EA","POP-UP WAVE DISPENSER MI",null,16.61,48,{"$f":"VLOOKUP(M6088,DFL!A:H,8,0)","v":0.3},{"$f":"P6088-(P6088/1.0025)","v":2.9002493765585058E-2},11.63]
[{"$error":"#N/A"},null,null,null,null,252717,"SPR","SPR","DZ","PEN,RBALL,RT,SARASA,FN,RD"," ",25.84,33,{"$f":"VLOOKUP(M6093,DFL!A:H,8,0)","v":0.55000000000000004},{"$f":"P6093-(P6093/1.0025)","v":2.9002493765585058E-2},11.63]
[{"$error":"#N/A"},null,null,null,null,743641,"SPR","SPR","EA","PAPER;MLTI-PURPOSE;YW;500SH",null,33.35,32,{"$f":"VLOOKUP(M6108,DFL!A:H,8,0)","v":0.65},{"$f":"P6108-(P6108/1.0025)","v":2.9102244389026311E-2},11.67]
[{"$error":"#N/A"},null,null,null,null,773722,"SPR","SPR","BX","FOLDER,2 POCKET,UNLAMINATED"," ",30.72,35,{"$f":"VLOOKUP(M6123,DFL!A:H,8,0)","v":0.6},{"$f":"P6123-(P6123/1.0025)","v":3.0648379052369279E-2},12.29]
[{"$error":"#N/A"},null,null,null,null,843769,"BSD","BSD","PK","STICKY NOTE,OD,3X3,12PK,BRIGHT",null,43.51,30,{"$f":"VLOOKUP(M6141,DFL!A:E,5,0)","v":0.73},{"$f":"P6141-(P6141/1.0025)","v":2.9301745635908816E-2},11.75]
[{"$error":"#N/A"},null,null,null,null,9926665,"SPR","SPR","EA","DESKMAT,PVC,ANTISTATC,19X24",null,23.61,15,{"$f":"VLOOKUP(M6158,DFL!A:H,8,0)","v":0.5},{"$f":"P6158-(P6158/1.0025)","v":2.9451371571072471E-2},11.81]
[{"$error":"#N/A"},null,null,null,null,991686,"BSD","BSD","BX","FLDR HANGING RECY AST LTR 25BX",null,38.71,35,{"$f":"VLOOKUP(M6173,DFL!A:E,5,0)","v":0.7},{"$f":"P6173-(P6173/1.0025)","v":2.8952618453864432E-2},11.61]
[{"$error":"#N/A"},null,null,null,null,9506618,null,"SPR","EA","VALET,DESK,FABRIC,LTGRAY",null,23.28,31,{"$f":"VLOOKUP(M6178,DFL!A:H,8,0)","v":0.49},{"$f":"P6178-(P6178/1.0025)","v":2.960099750623435E-2},11.87]
[{"$error":"#N/A"},null,null,null,null,6762581,"BSD","BSD","PK","LABEL,2\"RND,WHT,300",null,26.99,26,{"$f":"VLOOKUP(M6193,DFL!A:E,5,0)","v":0.56000000000000005},{"$f":"P6193-(P6193/1.0025)","v":2.9625935162094663E-2},11.88]
[{"$error":"#N/A"},null,null,null,null,980504,"SPR","SPR","EA","DETERGENT,LIQ,PUREX,75OZ,LINEN",null,21.63,19,{"$f":"VLOOKUP(M6214,DFL!A:H,8,0)","v":0.45},{"$f":"P6214-(P6214/1.0025)","v":2.9675810473815289E-2},11.9]
[{"$error":"#N/A"},null,null,null,null,470568,null,"SPR","BX","COOKIE, BISCOFF, TWIN PACK",null,20.56,48,{"$f":"VLOOKUP(M6228,DFL!A:H,8,0)","v":0.3},{"$f":"P6228-(P6228/1.0025)","v":3.5885286783042147E-2},14.39]
[{"$error":"#N/A"},null,null,null,null,720393,"SPR","SPR","PK","LABEL,SQUARE,25SHT,300CT,WHITE"," ",21.35,26,{"$f":"VLOOKUP(M6243,DFL!A:H,8,0)","v":0.44},{"$f":"P6243-(P6243/1.0025)","v":2.9825436408977168E-2},11.96]
[{"$error":"#N/A"},null,null,null,null,409540,"BSD","BSD","DZ","PEN,BALL,FINE,PRECISE,PV7,RED"," ",34.19,33,{"$f":"VLOOKUP(M6248,DFL!A:E,5,0)","v":0.65},{"$f":"P6248-(P6248/1.0025)","v":2.9850374064837482E-2},11.97]
[{"$error":"#N/A"},null,null,null,null,255745,"SPR","SPR","EA","BOOK-PETTY CASH DUP"," ",22.94,11,{"$f":"VLOOKUP(M6272,DFL!A:H,8,0)","v":0.46},{"$f":"P6272-(P6272/1.0025)","v":3.0897755610972411E-2},12.39]
[{"$error":"#N/A"},null,null,null,null,118144,"BSD","BSD","BX","TEA,K-CUP,EARL GREY,24BX"," ",20.76,48,{"$f":"VLOOKUP(M6279,DFL!A:E,5,0)","v":0.42},{"$f":"P6279-(P6279/1.0025)","v":3.0024937655859674E-2},12.04]
[{"$error":"#N/A"},null,null,null,null,9275947,null,"SPR","PK"," REFILL 8.5X11 DLY TUL UNDATED",null,28.69,11,{"$f":"VLOOKUP(M6298,DFL!A:H,8,0)","v":0.46},{"$f":"P6298-(P6298/1.0025)","v":3.8628428927680147E-2},15.49]
[{"$error":"#N/A"},null,null,null,null,475573,"SPR","SPR","RM","PAPER,ASTROBRT,24#,ORCHID",null,36.32,32,{"$f":"VLOOKUP(M6313,DFL!A:H,8,0)","v":0.65},{"$f":"P6313-(P6313/1.0025)","v":3.1695760598502432E-2},12.71]
[{"$error":"#N/A"},null,null,null,null,785459,"SPR","SPR","RL","LABEL,CC SGL DGT#250RL GN"," ",21.72,26,{"$f":"VLOOKUP(M6332,DFL!A:H,8,0)","v":0.44},{"$f":"P6332-(P6332/1.0025)","v":3.0324189526183432E-2},12.16]
[{"$error":"#N/A"},null,null,null,null,898962,"SPR","SPR","PK","TISSUE,BATH,300CT,12RL/PK",null,21.75,40,{"$f":"VLOOKUP(M6345,DFL!A:H,8,0)","v":0.44},{"$f":"P6345-(P6345/1.0025)","v":3.0374064837904058E-2},12.18]
[{"$error":"#N/A"},null,null,null,null,4765038,null,"SPR","EA"," PLANNER RY24 TRAD WKLY MED",null,28.99,11,{"$f":"VLOOKUP(M6349,DFL!A:H,8,0)","v":0.46},{"$f":"P6349-(P6349/1.0025)","v":3.9027431421445158E-2},15.65]
[{"$error":"#N/A"},null,null,null,null,471439,"BSD","BSD","EA","BINDER,OD,VW,DR,3\",RED"," ",38.51,8,{"$f":"VLOOKUP(M6368,DFL!A:E,5,0)","v":0.65},{"$f":"P6368-(P6368/1.0025)","v":3.3615960099750097E-2},13.48]
[{"$error":"#N/A"},null,null,null,null,100247,"SPR","SPR","DZ","MARKER;DRYERSE;WDGETP;DZ;BK",null,23.63,28,{"$f":"VLOOKUP(M6383,DFL!A:H,8,0)","v":0.48},{"$f":"P6383-(P6383/1.0025)","v":3.0648379052369279E-2},12.29]
[{"$error":"#N/A"},null,null,null,null,712774,"SPR","SPR","EA","INK,EPSON T252,MAGENTA"," ",17.64,43,{"$f":"VLOOKUP(M6402,DFL!A:H,8,0)","v":0.3},{"$f":"P6402-(P6402/1.0025)","v":3.0798004987531158E-2},12.35]
[{"$error":"#N/A"},null,null,null,null,923076,"SPR","SPR","RL","LABEL,ALLERGY,500/RL,OE"," ",24.95,26,{"$f":"VLOOKUP(M6418,DFL!A:H,8,0)","v":0.44},{"$f":"P6418-(P6418/1.0025)","v":3.4837905236907218E-2},13.97]
[{"$error":"#N/A"},null,null,null,null,193730,null,"SPR","PD","FORM,PO,8.37X11.43 3PT,PAD"," ",23.37,2,{"$f":"VLOOKUP(M6419,DFL!A:H,8,0)","v":0.33},{"$f":"P6419-(P6419/1.0025)","v":3.9052369077305471E-2},15.66]
[{"$error":"#N/A"},null,null,null,null,478056,"BSD","BSD","DZ","SHARPIE,METALLIC"," ",33.72,28,{"$f":"VLOOKUP(M6438,DFL!A:E,5,0)","v":0.63},{"$f":"P6438-(P6438/1.0025)","v":3.1122194513715229E-2},12.48]
[{"$error":"#N/A"},null,null,null,null,505851,"SPR","SPR","BX","PROTCT,SHT,TOPPER",null,31.29,35,{"$f":"VLOOKUP(M6453,DFL!A:H,8,0)","v":0.6},{"$f":"P6453-(P6453/1.0025)","v":3.1221945137156482E-2},12.52]
[{"$error":"#N/A"},null,null,null,null,757784,"SPR","SPR","EA","CARTRIDGE,RIBBON,LQ-590"," ",18.22,14,{"$f":"VLOOKUP(M6468,DFL!A:H,8,0)","v":0.31},{"$f":"P6468-(P6468/1.0025)","v":3.1346633416458047E-2},12.57]
[{"$error":"#N/A"},null,null,null,null,253466,"BSD","BSD","PK","NOTES,POP-UP,MARSEILLE,CAB PK",null,48.329806157354625,30,{"$f":"VLOOKUP(M6476,DFL!A:E,5,0)","v":0.73},{"$f":"P6476-(P6476/1.0025)","v":3.2543640897754855E-2},13.05]
[{"$error":"#N/A"},null,null,null,null,7111906,null,"SPR","EA"," YEARLY AY24 AY/RY JUMBO",null,29.99,11,{"$f":"VLOOKUP(M6503,DFL!A:H,8,0)","v":0.46},{"$f":"P6503-(P6503/1.0025)","v":4.0374064837905621E-2},16.190000000000001]
[{"$error":"#N/A"},null,null,null,null,610981,"SPR","SPR","PK","LABEL,LSR,BURST,FLR,180CT,ASTD"," ",22.52,26,{"$f":"VLOOKUP(M6508,DFL!A:H,8,0)","v":0.44},{"$f":"P6508-(P6508/1.0025)","v":3.14463840398993E-2},12.61]
[{"$error":"#N/A"},null,null,null,null,218404,"BSD","BSD","EA","CARTRIDGE,TAPE,BLK ON CLR"," ",28.82,26,{"$f":"VLOOKUP(M6523,DFL!A:E,5,0)","v":0.56000000000000005},{"$f":"P6523-(P6523/1.0025)","v":3.1620947630921492E-2},12.68]
[{"$error":"#N/A"},null,null,null,null,764545,"BSD","BSD","EA","STAPLER,PPRPRO,CMPCT,BLK/GRY"," ",36.299999999999997,37,{"$f":"VLOOKUP(M6538,DFL!A:E,5,0)","v":0.65},{"$f":"P6538-(P6538/1.0025)","v":3.1695760598502432E-2},12.71]
[{"$error":"#N/A"},null,null,null,null,563300,"BSD","BSD","PK","NOTES,3X3,REC,24PK,PASTEL","030/030,EPP (eVine),CPG,30% post-consumer,SFI Certified Product",47.23,30,{"$f":"VLOOKUP(M6549,DFL!A:E,5,0)","v":0.73},{"$f":"P6549-(P6549/1.0025)","v":3.1795511221943684E-2},12.75]
[{"$error":"#N/A"},null,null,null,null,446810,"BSD","BSD","PK","NOTES,POST-IT,3X3,CABINET,18PK","SFI Certified Product",47.42,30,{"$f":"VLOOKUP(M6573,DFL!A:E,5,0)","v":0.73},{"$f":"P6573-(P6573/1.0025)","v":3.1920199501247026E-2},12.8]
[{"$error":"#N/A"},null,null,null,null,5548550,"BSD","BSD","EA","TOTE,FILE,LL,COPENBLUE",null,34.26,3,{"$f":"VLOOKUP(M6588,DFL!A:E,5,0)","v":0.61},{"$f":"P6588-(P6588/1.0025)","v":3.3316708229426339E-2},13.36]
[{"$error":"#N/A"},null,null,null,null,9719581,null,"SPR","BD","BINDER,ECONOMY,RND,0.5\",RD",null,28.64,8,{"$f":"VLOOKUP(M6593,DFL!A:H,8,0)","v":0.55000000000000004},{"$f":"P6593-(P6593/1.0025)","v":3.2144638403989845E-2},12.89]
[{"$error":"#N/A"},null,null,null,null,3653088,"SPR","SPR","PK","PEN,FLAIR,FINE,RETRO ACENT,12P",null,28.73,33,{"$f":"VLOOKUP(M6608,DFL!A:H,8,0)","v":0.55000000000000004},{"$f":"P6608-(P6608/1.0025)","v":3.2244389027431097E-2},12.93]
[{"$error":"#N/A"},null,null,null,null,9566168,"BSD","BSD","EA","STAPLER;PLIER;LX890;WHT",null,37.3499027027027,37,{"$f":"VLOOKUP(M6622,DFL!A:E,5,0)","v":0.65},{"$f":"P6622-(P6622/1.0025)","v":3.2593516209475482E-2},13.07]
[{"$error":"#N/A"},null,null,null,null,478119,null,"SPR","BX","ENVELOPE,CRD,24#,IJ,100BX,WHT"," ",43.63,27,{"$f":"VLOOKUP(M6643,DFL!A:H,8,0)","v":0.57999999999999996},{"$f":"P6643-(P6643/1.0025)","v":4.5685785536157653E-2},18.32]
[{"$error":"#N/A"},null,null,null,null,485977,"SPR","SPR","EA","BINDER SECURE EO D-R 2\" WHITE"," ",33.36,8,{"$f":"VLOOKUP(M6658,DFL!A:H,8,0)","v":0.55000000000000004},{"$f":"P6658-(P6658/1.0025)","v":3.7431421446383339E-2},15.01]
[{"$error":"#N/A"},null,null,null,null,7259992,"SPR","SPR","PK","CUP,HOT,W LID,16OZ,HEFTY",null,20.27,48,{"$f":"VLOOKUP(M6663,DFL!A:H,8,0)","v":0.3},{"$f":"P6663-(P6663/1.0025)","v":3.5386533665834108E-2},14.19]
[{"$error":"#N/A"},null,null,null,null,330997,null,"SPR","EA","GLASSES;UVEX;GENIS",null,22.27,22,{"$f":"VLOOKUP(M6678,DFL!A:H,8,0)","v":0.41},{"$f":"P6678-(P6678/1.0025)","v":3.2768079800497674E-2},13.14]
[{"$error":"#N/A"},null,null,null,null,801403,"SPR","SPR","BX","PACKETS,SWEETENER,TRUVIA"," ",18.84,48,{"$f":"VLOOKUP(M6695,DFL!A:H,8,0)","v":0.3},{"$f":"P6695-(P6695/1.0025)","v":3.2892768079799239E-2},13.19]
[{"$error":"#N/A"},null,null,null,null,9171537,"SPR","SPR","CA","DISPENSER, CS4, WHITE, SOAP",null,24.04,19,{"$f":"VLOOKUP(M6713,DFL!A:H,8,0)","v":0.45},{"$f":"P6713-(P6713/1.0025)","v":3.2967581047380179E-2},{"$f":"ROUND(L6713*(1-N6713),2)","v":13.22}]
[{"$error":"#N/A"},null,null,null,null,5591766,"SPR","SPR","PK","BLADE,CRAFT,CERAMIC",null,32.99,25,{"$f":"VLOOKUP(M6728,DFL!A:H,8,0)","v":0.49},{"$f":"P6728-(P6728/1.0025)","v":4.1945137157107126E-2},16.82]
[{"$error":"#N/A"},null,null,null,null,843442,null,"SPR","RL","CUSHION,BUBBLE,24 X 25 ROLL"," ",22.86,48,{"$f":"VLOOKUP(M6733,DFL!A:H,8,0)","v":0.3},{"$f":"P6733-(P6733/1.0025)","v":3.9900249376557895E-2},16]
[{"$error":"#N/A"},null,null,null,null,458890,"SPR","SPR","EA","CARTRIDGE,BROTHER LC51YS,YELLW"," ",22.46,43,{"$f":"VLOOKUP(M6753,DFL!A:H,8,0)","v":0.3},{"$f":"P6753-(P6753/1.0025)","v":3.920199501246735E-2},15.72]
[{"$error":"#N/A"},null,null,null,null,354455,"SPR","SPR","EA","SORTER,INCLINE,SMALL"," ",19.03,48,{"$f":"VLOOKUP(M6764,DFL!A:H,8,0)","v":0.3},{"$f":"P6764-(P6764/1.0025)","v":3.3216957605985087E-2},13.32]
[{"$error":"#N/A"},null,null,null,null,421385,"BSD","BSD","EA","LABEL,1/2\",PERM,POLY,WE"," ",31.908445792266864,26,{"$f":"VLOOKUP(M6783,DFL!A:E,5,0)","v":0.56000000000000005},{"$f":"P6783-(P6783/1.0025)","v":3.5012468827929411E-2},14.04]
[{"$error":"#N/A"},null,null,null,null,756065,"BSD","BSD","EA","STAPLER,DESK,ECO,MOSS1PK","013/013,EPP (eVine),13% post-consumer (handle, base and housing)",40.83,37,{"$f":"VLOOKUP(M6798,DFL!A:E,5,0)","v":0.65},{"$f":"P6798-(P6798/1.0025)","v":3.5635910224439016E-2},14.29]
[{"$error":"#N/A"},null,null,null,null,5491300,null,"SPR","PK","POSTER;BE-YOUR-BEST;6/PK",null,20.99,36,{"$f":"VLOOKUP(M6803,DFL!A:H,8,0)","v":0.36},{"$f":"P6803-(P6803/1.0025)","v":3.3491271820448532E-2},13.43]
[{"$error":"#N/A"},null,null,null,null,803842,"SPR","SPR","EA","STRIPPER,FLOOR,ZEP,128OZ.",null,24.59,19,{"$f":"VLOOKUP(M6826,DFL!A:H,8,0)","v":0.45},{"$f":"P6826-(P6826/1.0025)","v":3.371571072319135E-2},13.52]
[{"$error":"#N/A"},null,null,null,null,402861,"BSD","BSD","PK","Q1 MOTRIN IB CAPLETS,50CT"," ",28.22,22,{"$f":"VLOOKUP(M6834,DFL!A:E,5,0)","v":0.52},{"$f":"P6834-(P6834/1.0025)","v":3.3790523690772289E-2},13.55]
[{"$error":"#N/A"},null,null,null,null,969471,"SPR","SPR","BX","CRYSTAL LIGHT ICED TEA"," ",23,48,{"$f":"VLOOKUP(M6853,DFL!A:H,8,0)","v":0.3},{"$f":"P6853-(P6853/1.0025)","v":4.0149625935161026E-2},16.100000000000001]
[{"$error":"#N/A"},null,null,null,null,289227,"SPR","SPR","RL","PAPER;RL;FADELSS;48\"X50;OE",null,32.299999999999997,30,{"$f":"VLOOKUP(M6868,DFL!A:H,8,0)","v":0.57999999999999996},{"$f":"P6868-(P6868/1.0025)","v":3.3840399002492916E-2},13.57]
[{"$error":"#N/A"},null,null,null,null,8014361,"BSD","BSD","DZ","SHARPIE,RB,BLACK,.5MM,12CT,BOX",null,36.72,28,{"$f":"VLOOKUP(M6873,DFL!A:E,5,0)","v":0.63},{"$f":"P6873-(P6873/1.0025)","v":3.3890274314213542E-2},13.59]
[{"$error":"#N/A"},null,null,null,null,8261143,null,"SPR","EA"," PLANNER RY24 RECY MTHLY LRG",null,32.49,11,{"$f":"VLOOKUP(M6899,DFL!A:H,8,0)","v":0.46},{"$f":"P6899-(P6899/1.0025)","v":4.3740648379049674E-2},17.54]
[{"$error":"#N/A"},null,null,null,null,9799338,"SPR","SPR","ST","CADDIES;ART;ASSORTED;5PC",null,27.31,47,{"$f":"VLOOKUP(M6904,DFL!A:H,8,0)","v":0.5},{"$f":"P6904-(P6904/1.0025)","v":3.4064837905235734E-2},13.66]
[{"$error":"#N/A"},null,null,null,null,148903,"SPR","SPR","PK","LABEL,MP,6UP,NEON,REMV"," ",24.51,26,{"$f":"VLOOKUP(M6923,DFL!A:H,8,0)","v":0.44},{"$f":"P6923-(P6923/1.0025)","v":3.4239401496257926E-2},13.73]
[{"$error":"#N/A"},null,null,null,null,9800701,"SPR","SPR","BX","LEAD,0.5MM,HB/BLACK,30CT",null,30.6,33,{"$f":"VLOOKUP(M6938,DFL!A:H,8,0)","v":0.55000000000000004},{"$f":"P6938-(P6938/1.0025)","v":3.4339152119699179E-2},13.77]
[{"$error":"#N/A"},null,null,null,null,8612887,"SPR","SPR","PK","NOTEBOOK,3SBJ,150SH,2/PK",null,35.520000000000003,30,{"$f":"VLOOKUP(M6953,DFL!A:H,8,0)","v":0.57999999999999996},{"$f":"P6953-(P6953/1.0025)","v":3.7206982543640521E-2},14.92]
[{"$error":"#N/A"},null,null,null,null,604610,"SPR","SPR","CT","BAG,GARBAGE,30X36,20-30G"," ",23.08,12,{"$f":"VLOOKUP(M6972,DFL!A:H,8,0)","v":0.4},{"$f":"P6972-(P6972/1.0025)","v":3.4538653366583461E-2},13.85]
[{"$error":"#N/A"},null,null,null,null,227710,"SPR","SPR","EA","WRISTREST,PILLOW,BLK"," ",23.99,29,{"$f":"VLOOKUP(M6974,DFL!A:H,8,0)","v":0.3},{"$f":"P6974-(P6974/1.0025)","v":4.187032418952441E-2},16.79]
[{"$error":"#N/A"},null,null,null,null,825464,"SPR","SPR","PK","LABEL,TRANS,TSHRT,IJ,LGHT,18CT"," ",39.83,32,{"$f":"VLOOKUP(M6993,DFL!A:H,8,0)","v":0.65},{"$f":"P6993-(P6993/1.0025)","v":3.4763092269326279E-2},13.94]
[{"$error":"#N/A"},null,null,null,null,6114537,"SPR","SPR","EA","CRTDG,INK,PG-243",null,23.21,43,{"$f":"VLOOKUP(M7008,DFL!A:H,8,0)","v":0.3},{"$f":"P7008-(P7008/1.0025)","v":4.05236907730675E-2},16.25]
[{"$error":"#N/A"},null,null,null,null,216951,"SPR","SPR","DZ","PEN,VBALL,ROLLERBL,0.7MM,BK",null,31.08,33,{"$f":"VLOOKUP(M7023,DFL!A:H,8,0)","v":0.55000000000000004},{"$f":"P7023-(P7023/1.0025)","v":3.4887780548627845E-2},13.99]
[{"$error":"#N/A"},null,null,null,null,6176222,"SPR","SPR","EA","DISPENSER;HAND CLEANER;4L",null,20,48,{"$f":"VLOOKUP(M7030,DFL!A:H,8,0)","v":0.3},{"$f":"P7030-(P7030/1.0025)","v":3.4912718204488158E-2},{"$f":"ROUND(L7030*(1-N7030),2)","v":14}]
[{"$error":"#N/A"},null,null,null,null,9910294,null,"SPR","EA"," WALL RY24 SCENIC MTHLY LRG",null,33.369999999999997,11,{"$f":"VLOOKUP(M7044,DFL!A:H,8,0)","v":0.46},{"$f":"P7044-(P7044/1.0025)","v":4.4937655860348258E-2},18.02]
[{"$error":"#N/A"},null,null,null,null,1386442,"SPR","SPR","DZ","ENERGEL NV MEDIUM BLACK 12PK"," ",31.3,33,{"$f":"VLOOKUP(M7059,DFL!A:H,8,0)","v":0.55000000000000004},{"$f":"P7059-(P7059/1.0025)","v":3.5137157107230976E-2},14.09]
[{"$error":"#N/A"},null,null,null,null,825624,"SPR","SPR","PK","LABEL,TSHIRT TRANS,IJ,DARK,5CT"," ",25.31,26,{"$f":"VLOOKUP(M7078,DFL!A:H,8,0)","v":0.44},{"$f":"P7078-(P7078/1.0025)","v":3.5336658354113482E-2},14.17]
[{"$error":"#N/A"},null,null,null,null,8449609,"SPR","SPR","PK","3 Pack Recycled Clipboards",null,26.3,7,{"$f":"VLOOKUP(M7093,DFL!A:H,8,0)","v":0.46},{"$f":"P7093-(P7093/1.0025)","v":3.5411471321694421E-2},14.2]
[{"$error":"#N/A"},null,null,null,null,7618760,"SPR","SPR","BX","FOLDER,2-POCKET,LETTER,BLK",null,36.619999999999997,35,{"$f":"VLOOKUP(M7103,DFL!A:H,8,0)","v":0.6},{"$f":"P7103-(P7103/1.0025)","v":3.6533665835410289E-2},14.65]
[{"$error":"#N/A"},null,null,null,null,748243,"SPR","SPR","EA","STAPLER, DESK, CLEAR"," ",28.62,37,{"$f":"VLOOKUP(M7128,DFL!A:H,8,0)","v":0.5},{"$f":"P7128-(P7128/1.0025)","v":3.5685785536159642E-2},14.31]
[{"$error":"#N/A"},null,null,null,null,144375,"SPR","SPR","ST","GUIDE,FILE,LTR,A-Z,CLRTAB,MNLA"," ",37.28,35,{"$f":"VLOOKUP(M7129,DFL!A:H,8,0)","v":0.6},{"$f":"P7129-(P7129/1.0025)","v":3.7182044887780208E-2},14.91]
[{"$error":"#N/A"},null,null,null,null,3043128,"SPR","SPR","BX","CARBON FILTER,4/BX",null,21.68,21,{"$f":"VLOOKUP(M7148,DFL!A:H,8,0)","v":0.28999999999999998},{"$f":"P7148-(P7148/1.0025)","v":3.8379052369077016E-2},15.39]
[{"$error":"#N/A"},null,null,null,null,931162,"SPR","SPR","EA","BINDER,RING,11X8.5,3IN,RED",null,35.32,8,{"$f":"VLOOKUP(M7163,DFL!A:H,8,0)","v":0.55000000000000004},{"$f":"P7163-(P7163/1.0025)","v":3.962593516209445E-2},15.89]
[{"$error":"#N/A"},null,null,null,null,617602,"BSD","BSD","EA","LUBRICANT,BOTTLE,SHREDDER,12OZ",null,24.95,21,{"$f":"VLOOKUP(M7176,DFL!A:E,5,0)","v":0.42},{"$f":"P7176-(P7176/1.0025)","v":3.6084788029924653E-2},14.47]
[{"$error":"#N/A"},null,null,null,null,676118,null,"SPR","PK","CLOTH,MICROFBR,16\"SQ, YEL,12PK"," ",26.4,19,{"$f":"VLOOKUP(M7198,DFL!A:H,8,0)","v":0.45},{"$f":"P7198-(P7198/1.0025)","v":3.6209476309226218E-2},14.52]
[{"$error":"#N/A"},null,null,null,null,330768,"BSD","BSD","BX","ENVELOPE,CLASP,28LB,#63,100BX"," ",44.23,27,{"$f":"VLOOKUP(M7213,DFL!A:E,5,0)","v":0.67},{"$f":"P7213-(P7213/1.0025)","v":3.6408977556108724E-2},14.6]
[{"$error":"#N/A"},null,null,null,null,600674,null,"SPR","DZ","PEN,UNIBALL,307,0.5MM,BK",null,41.73,33,{"$f":"VLOOKUP(M7218,DFL!A:H,8,0)","v":0.55000000000000004},{"$f":"P7218-(P7218/1.0025)","v":4.6832917705735611E-2},18.78]
[{"$error":"#N/A"},null,null,null,null,836592,"SPR","SPR","PK","CREDIT CARD SALES SLIP",null,28.06,11,{"$f":"VLOOKUP(M7234,DFL!A:H,8,0)","v":0.46},{"$f":"P7234-(P7234/1.0025)","v":3.7780548628427724E-2},15.15]
[{"$error":"#N/A"},null,null,null,null,838777,"SPR","SPR","EA","32GB METAL EXECUTIVE USB 2.0",null,17.989999999999998,46,{"$f":"VLOOKUP(M7249,DFL!A:H,8,0)","v":0.18},{"$f":"P7249-(P7249/1.0025)","v":3.6783042394013421E-2},14.75]
[{"$error":"#N/A"},null,null,null,null,774483,"BSD","BSD","BX","CREAM,HLF&HLF,INTDLT,9ML,180CT"," ",27.61,48,{"$f":"VLOOKUP(M7268,DFL!A:E,5,0)","v":0.42},{"$f":"P7268-(P7268/1.0025)","v":3.9925187032418208E-2},16.010000000000002]
[{"$error":"#N/A"},null,null,null,null,200832,"SPR","SPR","EA","BINDER;EXPNDABL;PRESSBRD;BE",null,32.979999999999997,8,{"$f":"VLOOKUP(M7283,DFL!A:H,8,0)","v":0.55000000000000004},{"$f":"P7283-(P7283/1.0025)","v":3.7007481296758016E-2},14.84]
[{"$error":"#N/A"},null,null,null,null,177295,null,"SPR","EA","BOOK;COLUMNAR;9X7;BLK;80PG",null,28,11,{"$f":"VLOOKUP(M7288,DFL!A:H,8,0)","v":0.46},{"$f":"P7288-(P7288/1.0025)","v":3.7705735660846784E-2},15.12]
[{"$error":"#N/A"},null,null,null,null,980939,"SPR","SPR","DZ","PEN,LIQ,ROLLER,07,BLK"," ",33.19,33,{"$f":"VLOOKUP(M7307,DFL!A:H,8,0)","v":0.55000000000000004},{"$f":"P7307-(P7307/1.0025)","v":3.7256857855361147E-2},14.94]
[{"$error":"#N/A"},null,null,null,null,542245,null,"SPR","RM","PAPER,COLOR COPIER,8.5X11",null,42.81,32,{"$f":"VLOOKUP(M7319,DFL!A:H,8,0)","v":0.65},{"$f":"P7319-(P7319/1.0025)","v":3.73566084788024E-2},14.98]
[{"$error":"#N/A"},null,null,null,null,9107908,"SPR","SPR","EA","CALCULATOR,SCNTF,FX300MS2,PLS2",null,21.19,21,{"$f":"VLOOKUP(M7338,DFL!A:H,8,0)","v":0.28999999999999998},{"$f":"P7338-(P7338/1.0025)","v":3.7506234413964279E-2},15.04]
[{"$error":"#N/A"},null,null,null,null,883917,"SPR","SPR","BX","FOLDER,TWNPOCKET,BCRF,PK"," ",38.659999999999997,35,{"$f":"VLOOKUP(M7353,DFL!A:H,8,0)","v":0.6},{"$f":"P7353-(P7353/1.0025)","v":3.8553615960099208E-2},15.46]
[{"$error":"#N/A"},null,null,null,null,193080,"BSD","BSD","DZ","PEN,ROLRB,UNI-BALL VISION,FINE"," ",46.02,33,{"$f":"VLOOKUP(M7358,DFL!A:E,5,0)","v":0.65},{"$f":"P7358-(P7358/1.0025)","v":4.0174563591023116E-2},16.11]
[{"$error":"#N/A"},null,null,null,null,198374,"SPR","SPR","BX","REINFORCEMENT,SHT,P/S,10.75X1"," ",27.01,26,{"$f":"VLOOKUP(M7380,DFL!A:H,8,0)","v":0.44},{"$f":"P7380-(P7380/1.0025)","v":3.7730673316707097E-2},15.13]
[{"$error":"#N/A"},null,null,null,null,420785,"BSD","BSD","BX","FOOD,GRANOLA BAR, ALMOND"," ",26.15,48,{"$f":"VLOOKUP(M7389,DFL!A:E,5,0)","v":0.42},{"$f":"P7389-(P7389/1.0025)","v":3.783042394014835E-2},15.17]
[{"$error":"#N/A"},null,null,null,null,490867,"SPR","SPR","EA","INK,EPSON 200,BLACK"," ",21.76,43,{"$f":"VLOOKUP(M7408,DFL!A:H,8,0)","v":0.3},{"$f":"P7408-(P7408/1.0025)","v":3.7980049875310229E-2},15.23]
[{"$error":"#N/A"},null,null,null,null,6120202,"SPR","SPR","PK","PEN;SLIDER MEMO XB;1.4MM;BK",null,34.9,33,{"$f":"VLOOKUP(M7423,DFL!A:H,8,0)","v":0.55000000000000004},{"$f":"P7423-(P7423/1.0025)","v":3.9177057356607037E-2},15.71]
[{"$error":"#N/A"},null,null,null,null,7862793,null,"SPR","EA"," PLANNER RY24 RECY WKLY MED",null,36.49,11,{"$f":"VLOOKUP(M7438,DFL!A:H,8,0)","v":0.46},{"$f":"P7438-(P7438/1.0025)","v":4.9127182044887974E-2},19.7]
[{"$error":"#N/A"},null,null,null,null,3586055,"SPR","SPR","BX","ALMONDS,SMOKEHOUSE,1.5Z,12C",null,21.97,48,{"$f":"VLOOKUP(M7453,DFL!A:H,8,0)","v":0.3},{"$f":"P7453-(P7453/1.0025)","v":3.8354114713216703E-2},15.38]
[{"$error":"#N/A"},null,null,null,null,241626,"SPR","SPR","EA","PHONE,AT&T 210 TRIMLINE W/MEM"," ",39.99,48,{"$f":"VLOOKUP(M7459,DFL!A:H,8,0)","v":0.3},{"$f":"P7459-(P7459/1.0025)","v":6.9800498753114226E-2},27.99]
[{"$error":"#N/A"},null,null,null,null,619976,"BSD","BSD","BX","BAR,NUTRIGRAIN,BLUBERRY,16BX"," ",26.810018066847334,48,{"$f":"VLOOKUP(M7478,DFL!A:E,5,0)","v":0.42},{"$f":"P7478-(P7478/1.0025)","v":3.8778054862842026E-2},15.55]
[{"$error":"#N/A"},null,null,null,null,246884,"SPR","SPR","EA","DISPENSER,TAPE,HANDHELD,3\""," ",30.89,39,{"$f":"VLOOKUP(M7493,DFL!A:H,8,0)","v":0.5},{"$f":"P7493-(P7493/1.0025)","v":3.8528678304238895E-2},15.45]
[{"$error":"#N/A"},null,null,null,null,632212,"SPR","SPR","BX","PORTFOLIO,LTR,2PCKT,BY"," ",39.85,35,{"$f":"VLOOKUP(M7508,DFL!A:H,8,0)","v":0.6},{"$f":"P7508-(P7508/1.0025)","v":3.9750623441396016E-2},15.94]
[{"$error":"#N/A"},null,null,null,null,451309,"SPR","SPR","EA","HLDR,GRIP-A-STRIP,PERS,SAT,24\""," ",25.2,10,{"$f":"VLOOKUP(M7526,DFL!A:H,8,0)","v":0.36},{"$f":"P7526-(P7526/1.0025)","v":4.0224438902743742E-2},16.13]
[{"$error":"#N/A"},null,null,null,null,508562,"BSD","BSD","PK","BOWL,PRINTED,EASY WARE,125PK"," ",38.04,18,{"$f":"VLOOKUP(M7529,DFL!A:E,5,0)","v":0.55000000000000004},{"$f":"P7529-(P7529/1.0025)","v":4.2693266832916521E-2},17.12]
[{"$error":"#N/A"},null,null,null,null,506838,"BSD","BSD","CT","WATER,LACROIX,GRAPFRIT,2/12PKS",null,28.33,48,{"$f":"VLOOKUP(M7544,DFL!A:E,5,0)","v":0.42},{"$f":"P7544-(P7544/1.0025)","v":4.0972568578553137E-2},16.43]
[{"$error":"#N/A"},null,null,null,null,9626660,"SPR","SPR","EA","FILE;MAGAZINE;ANTIMICROBIAL",null,30.66,31,{"$f":"VLOOKUP(M7563,DFL!A:H,8,0)","v":0.49},{"$f":"P7563-(P7563/1.0025)","v":3.9002493765584845E-2},15.64]
[{"$error":"#N/A"},null,null,null,null,5930576,null,"SPR","BD","SANITIZER,HAND,PURELL,8OZ",null,26.6,22,{"$f":"VLOOKUP(M7578,DFL!A:H,8,0)","v":0.41},{"$f":"P7578-(P7578/1.0025)","v":3.912718204488641E-2},15.69]
[{"$error":"#N/A"},null,null,null,null,150474,"SPR","SPR","RL","LABELS,\"M\",LTGRN,1.25X1,500/RL"," ",28.03,26,{"$f":"VLOOKUP(M7584,DFL!A:H,8,0)","v":0.44},{"$f":"P7584-(P7584/1.0025)","v":3.9152119700746724E-2},15.7]
[{"$error":"#N/A"},null,null,null,null,150409,"SPR","SPR","RL","LABELS,\"F\",BLUE,1.25X1,500/RL"," ",28.03,26,{"$f":"VLOOKUP(M7599,DFL!A:H,8,0)","v":0.44},{"$f":"P7599-(P7599/1.0025)","v":3.9152119700746724E-2},15.7]
[{"$error":"#N/A"},null,null,null,null,947834,"SPR","SPR","PR","BOOKEND, MESH"," ",23.4,9,{"$f":"VLOOKUP(M7614,DFL!A:H,8,0)","v":0.37},{"$f":"P7614-(P7614/1.0025)","v":3.6758104738153108E-2},14.74]
[{"$error":"#N/A"},null,null,null,null,212239,"BSD","BSD","PK","RINGS,BOOK,100PK,1'',SILVER",null,50.01,8,{"$f":"VLOOKUP(M7633,DFL!A:E,5,0)","v":0.65},{"$f":"P7633-(P7633/1.0025)","v":4.3640897755608421E-2},17.5]
[{"$error":"#N/A"},null,null,null,null,168704,"SPR","SPR","RL","LABEL C/CODE NUM-0,500/ROLL"," ",28.28,26,{"$f":"VLOOKUP(M7648,DFL!A:H,8,0)","v":0.44},{"$f":"P7648-(P7648/1.0025)","v":3.9501246882792884E-2},15.84]
[{"$error":"#N/A"},null,null,null,null,482941,null,"SPR","EA","RIBBON,AX10/12/EM30,NYLON"," ",22.99,14,{"$f":"VLOOKUP(M7657,DFL!A:H,8,0)","v":0.31},{"$f":"P7657-(P7657/1.0025)","v":3.9551122194513511E-2},15.86]
[{"$error":"#N/A"},null,null,null,null,151495,"SPR","SPR","EA","TRIPP LITE PROTECT IT! TLP606",null,29.99,6,{"$f":"VLOOKUP(M7669,DFL!A:H,8,0)","v":0.47},{"$f":"P7669-(P7669/1.0025)","v":3.962593516209445E-2},15.89]
[{"$error":"#N/A"},null,null,null,null,6355615,"SPR","SPR","DZ","VISION,RLRBALL,BOLD,BLK,1.0MM",null,48.54,33,{"$f":"VLOOKUP(M7684,DFL!A:H,8,0)","v":0.55000000000000004},{"$f":"P7684-(P7684/1.0025)","v":5.4463840399002095E-2},21.84]
[{"$error":"#N/A"},null,null,null,null,7647591,"SPR","SPR","PK","WIPES,SURFACEKLEEN,100/PK",null,30.16,19,{"$f":"VLOOKUP(M7703,DFL!A:H,8,0)","v":0.45},{"$f":"P7703-(P7703/1.0025)","v":4.1371571072318147E-2},16.59]
[{"$error":"#N/A"},null,null,null,null,778012,null,"SPR","EA"," SHEETS LUBRICANT OD SHRDR 12PK",null,22.55,21,{"$f":"VLOOKUP(M7715,DFL!A:H,8,0)","v":0.28999999999999998},{"$f":"P7715-(P7715/1.0025)","v":3.9925187032418208E-2},16.010000000000002]
[{"$error":"#N/A"},null,null,null,null,644937,null,"SPR","EA"," ERASABLE UND 24x36 WALLMATE",null,38.29,11,{"$f":"VLOOKUP(M7734,DFL!A:H,8,0)","v":0.46},{"$f":"P7734-(P7734/1.0025)","v":5.1571072319202216E-2},20.68]
[{"$error":"#N/A"},null,null,null,null,9766698,null,"SPR","EA"," PLANNER RY24 SIG WKLY/MO LRG",null,38.49,11,{"$f":"VLOOKUP(M7753,DFL!A:H,8,0)","v":0.46},{"$f":"P7753-(P7753/1.0025)","v":5.1820448877805347E-2},20.78]
[{"$error":"#N/A"},null,null,null,null,753858,"SPR","SPR","EA","CASE,BINDING,HIGHARCH,LEGAL",null,37.049999999999997,8,{"$f":"VLOOKUP(M7754,DFL!A:H,8,0)","v":0.55000000000000004},{"$f":"P7754-(P7754/1.0025)","v":4.1571072319200653E-2},16.670000000000002]
[{"$error":"#N/A"},null,null,null,null,108610,"BSD","BSD","PK","THERMAL ROLL,2-1/4,OD,6/PK"," ",43.89,24,{"$f":"VLOOKUP(M7773,DFL!A:E,5,0)","v":0.63},{"$f":"P7773-(P7773/1.0025)","v":4.049875311720541E-2},16.239999999999998]
[{"$error":"#N/A"},null,null,null,null,738961,"BSD","BSD","EA","DIRECTOR,DESK,MESH,EXP,BLK",null,49.96,31,{"$f":"VLOOKUP(M7788,DFL!A:E,5,0)","v":0.64},{"$f":"P7788-(P7788/1.0025)","v":4.4862842892765542E-2},17.989999999999998]
[{"$error":"#N/A"},null,null,null,null,754068,"SPR","SPR","EA","64GB METAL EXECUTIVE USB 3.0",null,19.989999999999998,46,{"$f":"VLOOKUP(M7804,DFL!A:H,8,0)","v":0.18},{"$f":"P7804-(P7804/1.0025)","v":4.0872817955111884E-2},16.39]
[{"$error":"#N/A"},null,null,null,null,526896,"SPR","SPR","EA","CLIPBOARD,ALUM WRITE PLATE"," ",41.12,35,{"$f":"VLOOKUP(M7823,DFL!A:H,8,0)","v":0.6},{"$f":"P7823-(P7823/1.0025)","v":4.1022443890273763E-2},16.45]
[{"$error":"#N/A"},null,null,null,null,1336798,null,"SPR","BX"," GLOVES NITRILE EXAM XL BLU BX",null,29.84,22,{"$f":"VLOOKUP(M7838,DFL!A:H,8,0)","v":0.41},{"$f":"P7838-(P7838/1.0025)","v":4.3915211970073642E-2},17.61]
[{"$error":"#N/A"},null,null,null,null,828620,"BSD","BSD","EA","CABLE,USB,A/B,6',ATIVA"," ",30.31,48,{"$f":"VLOOKUP(M7839,DFL!A:E,5,0)","v":0.42},{"$f":"P7839-(P7839/1.0025)","v":4.3840399002494479E-2},17.579999999999998]
[{"$error":"#N/A"},null,null,null,null,893277,"BSD","BSD","EA","CASE,17 CLASSC SLEEVE,BK",null,31.050547667342805,14,{"$f":"VLOOKUP(M7861,DFL!A:E,5,0)","v":0.46},{"$f":"P7861-(P7861/1.0025)","v":4.1820448877803784E-2},16.77]
[{"$error":"#N/A"},null,null,null,null,1402867,null,"SPR","PK","CLSS FLDR LTR 1DIV GRN 5PK"," ",54.43,35,{"$f":"VLOOKUP(M7874,DFL!A:H,8,0)","v":0.6},{"$f":"P7874-(P7874/1.0025)","v":5.4289276807978126E-2},21.77]
[{"$error":"#N/A"},null,null,null,null,9889636,"SPR","SPR","PK","TAPE,PKG,1.88\"X110YD,CL,6PK",null,31.32,39,{"$f":"VLOOKUP(M7893,DFL!A:H,8,0)","v":0.5},{"$f":"P7893-(P7893/1.0025)","v":3.9052369077305471E-2},15.66]
[{"$error":"#N/A"},null,null,null,null,4592185,null,"SPR","EA"," WALL RY24 TRAD DAILY SML",null,39.99,11,{"$f":"VLOOKUP(M7908,DFL!A:H,8,0)","v":0.46},{"$f":"P7908-(P7908/1.0025)","v":5.3840399002492489E-2},21.59]
[{"$error":"#N/A"},null,null,null,null,427281,"BSD","BSD","EA","PUNCH,2HOLE,50SHEETS,BLACK"," ",83.05,37,{"$f":"VLOOKUP(M7923,DFL!A:E,5,0)","v":0.65},{"$f":"P7923-(P7923/1.0025)","v":7.24937655860316E-2},{"$f":"ROUND(L7923*(1-N7923),2)","v":29.07}]
[{"$error":"#N/A"},null,null,null,null,3601024,"BSD","BSD","EA","INK,BROTHER,LC3037C,CYAN",null,40.391813397129184,43,{"$f":"VLOOKUP(M7934,DFL!A:E,5,0)","v":0.35},{"$f":"P7934-(P7934/1.0025)","v":6.5461346633416184E-2},26.25]
[{"$error":"#N/A"},null,null,null,null,8297024,null,"SPR","EA"," PLANNER RY24 CORE DAILY SML",null,40.33,11,{"$f":"VLOOKUP(M7944,DFL!A:H,8,0)","v":0.46},{"$f":"P7944-(P7944/1.0025)","v":5.4314214463840216E-2},21.78]
[{"$error":"#N/A"},null,null,null,null,9122865,"SPR","SPR","EA","SOAP, FOAM CERTIFIED",null,30.92,19,{"$f":"VLOOKUP(M7963,DFL!A:H,8,0)","v":0.45},{"$f":"P7963-(P7963/1.0025)","v":4.24189526184513E-2},17.010000000000002]
[{"$error":"#N/A"},null,null,null,null,621024,"BSD","BSD","BX","WRAPPER,FLAT,COIN,NCKL,BE"," ",34.130000000000003,48,{"$f":"VLOOKUP(M7978,DFL!A:E,5,0)","v":0.42},{"$f":"P7978-(P7978/1.0025)","v":4.9376558603491105E-2},19.8]
[{"$error":"#N/A"},null,null,null,null,267329,"BSD","BSD","EA","SPEAKERS,Z150,LOGITECH,BLACK"," ",34.99,29,{"$f":"VLOOKUP(M7993,DFL!A:E,5,0)","v":0.43},{"$f":"P7993-(P7993/1.0025)","v":4.9725685785535489E-2},19.940000000000001]
[{"$error":"#N/A"},null,null,null,null,727980,null,"SPR","PK","LID,CUP,PLSTC,WT 100PK"," ",30.62,18,{"$f":"VLOOKUP(M8007,DFL!A:H,8,0)","v":0.44},{"$f":"P8007-(P8007/1.0025)","v":4.2768079800499237E-2},17.149999999999999]
[{"$error":"#N/A"},null,null,null,null,7709434,"SPR","SPR","EA","LID,CLOSED,SLIMJIM,GREEN",null,35.380000000000003,19,{"$f":"VLOOKUP(M8014,DFL!A:H,8,0)","v":0.45},{"$f":"P8014-(P8014/1.0025)","v":4.8528678304236905E-2},19.46]
[{"$error":"#N/A"},null,null,null,null,7341243,null,"SPR","EA"," Plr 8x10 NavyStripe RY24 Daily",null,40.99,11,{"$f":"VLOOKUP(M8029,DFL!A:H,8,0)","v":0.46},{"$f":"P8029-(P8029/1.0025)","v":5.5187032418952953E-2},22.13]
[{"$error":"#N/A"},null,null,null,null,481452,"SPR","SPR","EA","INK,T126320,126,EPSON,MGNTA"," ",24.69,43,{"$f":"VLOOKUP(M8048,DFL!A:H,8,0)","v":0.3},{"$f":"P8048-(P8048/1.0025)","v":4.3092269326681532E-2},17.28]
[{"$error":"#N/A"},null,null,null,null,6237279,null,"SPR","EA"," PLANNER RY24 DYMDR WKLY MED",null,41.29,11,{"$f":"VLOOKUP(M8063,DFL!A:H,8,0)","v":0.46},{"$f":"P8063-(P8063/1.0025)","v":5.56109725685765E-2},22.3]
[{"$error":"#N/A"},null,null,null,null,9111455,"BSD","BSD","BX"," 4x6FC PC Wht14ptC2S UVFront",null,31.64,48,{"$f":"VLOOKUP(M8080,DFL!A:E,5,0)","v":0.42},{"$f":"P8080-(P8080/1.0025)","v":4.5760598503740368E-2},18.350000000000001]
[{"$error":"#N/A"},null,null,null,null,208483,"SPR","SPR","RL","PAPER,ROLL,EASEL,18\"X200'"," ",34.799999999999997,47,{"$f":"VLOOKUP(M8084,DFL!A:H,8,0)","v":0.5},{"$f":"P8084-(P8084/1.0025)","v":4.3391521197005289E-2},17.399999999999999]
[{"$error":"#N/A"},null,null,null,null,4455911,"SPR","SPR","EA","BATTERY PENCIL SHARPENER",null,24.58,21,{"$f":"VLOOKUP(M8099,DFL!A:H,8,0)","v":0.28999999999999998},{"$f":"P8099-(P8099/1.0025)","v":4.3516209476308632E-2},17.45]
[{"$error":"#N/A"},null,null,null,null,913174,"BSD","BSD","BX","ENVELOPE,#10,CLEAN SEAL,500BX",null,53.01,27,{"$f":"VLOOKUP(M8118,DFL!A:E,5,0)","v":0.67},{"$f":"P8118-(P8118/1.0025)","v":4.3615960099749884E-2},17.489999999999998]
[{"$error":"#N/A"},null,null,null,null,366249,"BSD","BSD","EA","Ativa¬Æ Premium HDMI Cable with Ethernet, 6‚Äô, Black, 36550",null,32.270000000000003,48,{"$f":"VLOOKUP(M8133,DFL!A:E,5,0)","v":0.42},{"$f":"P8133-(P8133/1.0025)","v":4.6683291770573732E-2},18.72]
[{"$error":"#N/A"},null,null,null,null,951910,"BSD","BSD","DZ","PAD,PERF,RECY,8.5X11,WHT,LGL"," ",65.12,30,{"$f":"VLOOKUP(M8138,DFL!A:E,5,0)","v":0.73},{"$f":"P8138-(P8138/1.0025)","v":4.3840399002494479E-2},17.579999999999998]
[{"$error":"#N/A"},null,null,null,null,894755,"BSD","BSD","DZ","PEN,BP,RT,JETSTREAM,FN,DZ,BLU"," ",53.81,33,{"$f":"VLOOKUP(M8154,DFL!A:E,5,0)","v":0.65},{"$f":"P8154-(P8154/1.0025)","v":4.69576059850354E-2},18.829999999999998]
[{"$error":"#N/A"},null,null,null,null,9103153,"SPR","SPR","BX","PASTRYCRISPS;VARIETY;60CT",null,25.3,48,{"$f":"VLOOKUP(M8169,DFL!A:H,8,0)","v":0.3},{"$f":"P8169-(P8169/1.0025)","v":4.4164588528676774E-2},17.71]
[{"$error":"#N/A"},null,null,null,null,7182062,"SPR","SPR","BX","CLIP,GRIP,MAGNETIC,#1",null,37.92,7,{"$f":"VLOOKUP(M8188,DFL!A:H,8,0)","v":0.46},{"$f":"P8188-(P8188/1.0025)","v":5.10723192019924E-2},20.48]
[{"$error":"#N/A"},null,null,null,null,8966734,null,"SPR","EA"," PLANNER RY24 QN WKLY LRG",null,42.49,11,{"$f":"VLOOKUP(M8196,DFL!A:H,8,0)","v":0.46},{"$f":"P8196-(P8196/1.0025)","v":5.7206982543640095E-2},22.94]
[{"$error":"#N/A"},null,null,null,null,9842583,null,"SPR","EA"," PLANNER TUL 8.5X5.5 UNDT LT TL",null,42.78,11,{"$f":"VLOOKUP(M8219,DFL!A:H,8,0)","v":0.46},{"$f":"P8219-(P8219/1.0025)","v":5.7605985037405105E-2},23.1]
[{"$error":"#N/A"},null,null,null,null,295365,"SPR","SPR","BX"," BATTERY DURACELL PROCELL 12/BX",null,33.950000000000003,6,{"$f":"VLOOKUP(M8224,DFL!A:H,8,0)","v":0.47},{"$f":"P8224-(P8224/1.0025)","v":4.4862842892765542E-2},17.989999999999998]
[{"$error":"#N/A"},null,null,null,null,573684,"SPR","SPR","EA","LABEL TAPE,SHPPNG,PLY,LBLWRTR"," ",32.22,26,{"$f":"VLOOKUP(M8239,DFL!A:H,8,0)","v":0.44},{"$f":"P8239-(P8239/1.0025)","v":4.4987531172068884E-2},18.04]
[{"$error":"#N/A"},null,null,null,null,747195,"BSD","BSD","PK","PENCIL,TICONDEROGA,#2,8DZ/PK"," ",57.36,33,{"$f":"VLOOKUP(M8258,DFL!A:E,5,0)","v":0.65},{"$f":"P8258-(P8258/1.0025)","v":5.0074812967579874E-2},20.079999999999998]
[{"$error":"#N/A"},null,null,null,null,541091,"SPR","SPR","BX","REFILL,ALIEVE,30/PK"," ",30.87,22,{"$f":"VLOOKUP(M8269,DFL!A:H,8,0)","v":0.41},{"$f":"P8269-(P8269/1.0025)","v":4.5411471321695984E-2},18.21]
[{"$error":"#N/A"},null,null,null,null,306882,null,"SPR","EA"," LABELS NAME BADGE LW 2PK DYMO",null,32.729999999999997,26,{"$f":"VLOOKUP(M8289,DFL!A:H,8,0)","v":0.44},{"$f":"P8289-(P8289/1.0025)","v":4.5710723192019742E-2},18.329999999999998]
[{"$error":"#N/A"},null,null,null,null,8010427,"BSD","BSD","PK","PM,PROFILE,BP,1.0MM,36P,OS,BLK",null,52.42,33,{"$f":"VLOOKUP(M8294,DFL!A:E,5,0)","v":0.65},{"$f":"P8294-(P8294/1.0025)","v":4.5760598503740368E-2},18.350000000000001]
[{"$error":"#N/A"},null,null,null,null,314904,"BSD","BSD","PK","DVD+RW, VERBATIM, 30PK"," ",36.119999999999997,14,{"$f":"VLOOKUP(M8309,DFL!A:E,5,0)","v":0.46},{"$f":"P8309-(P8309/1.0025)","v":4.8628428927678158E-2},19.5]
[{"$error":"#N/A"},null,null,null,null,466231,"SPR","SPR","PK","HOLDER;CERT;GOLDFOIL;5PK;GN",null,31.19,4,{"$f":"VLOOKUP(M8324,DFL!A:H,8,0)","v":0.39},{"$f":"P8324-(P8324/1.0025)","v":4.7456359102241663E-2},19.03]
[{"$error":"#N/A"},null,null,null,null,740786,"SPR","SPR","EA","HOLDER, GLOVE-BOX, SINGLE"," ",31.45,22,{"$f":"VLOOKUP(M8342,DFL!A:H,8,0)","v":0.41},{"$f":"P8342-(P8342/1.0025)","v":4.6284289276808721E-2},18.559999999999999]
[{"$error":"#N/A"},null,null,null,null,883344,"SPR","SPR","EA","FILE,ACCRDN,HVYDTY,LGL,A-Z"," ",47.86,35,{"$f":"VLOOKUP(M8359,DFL!A:H,8,0)","v":0.6},{"$f":"P8359-(P8359/1.0025)","v":4.7730673316706884E-2},19.14]
[{"$error":"#N/A"},null,null,null,null,721395,"BSD","BSD","EA","HOLDER,COPY,ADJ,BLK"," ",35.264969450101837,36,{"$f":"VLOOKUP(M8378,DFL!A:E,5,0)","v":0.6},{"$f":"P8378-(P8378/1.0025)","v":3.5187032418951603E-2},14.11]
[{"$error":"#N/A"},null,null,null,null,246142,"SPR","SPR","DZ","MARKER,PERM,BOLD PT,RD"," ",35.880000000000003,28,{"$f":"VLOOKUP(M8379,DFL!A:H,8,0)","v":0.48},{"$f":"P8379-(P8379/1.0025)","v":4.6533665835411853E-2},18.66]
[{"$error":"#N/A"},null,null,null,null,833205,"BSD","BSD","EA","CABLE,USB,5-PIN,MINI,6',ATIVA"," ",34.39,48,{"$f":"VLOOKUP(M8394,DFL!A:E,5,0)","v":0.42},{"$f":"P8394-(P8394/1.0025)","v":4.9750623441394026E-2},19.95]
[{"$error":"#N/A"},null,null,null,null,556013,"SPR","SPR","EA","CARTRIDGE,INK,600 PG,BK"," ",39.32,43,{"$f":"VLOOKUP(M8415,DFL!A:H,8,0)","v":0.3},{"$f":"P8415-(P8415/1.0025)","v":6.8628428927677732E-2},27.52]
[{"$error":"#N/A"},null,null,null,null,6071522,"SPR","SPR","EA","FILE;BOX;PORTABLE;BK",null,37.81,3,{"$f":"VLOOKUP(M8429,DFL!A:H,8,0)","v":0.5},{"$f":"P8429-(P8429/1.0025)","v":4.7157107231917905E-2},18.91]
[{"$error":"#N/A"},null,null,null,null,330992,"BSD","BSD","BX","ENVELOPE,GRIP-SEAL,9X12,100BX",null,57.5,27,{"$f":"VLOOKUP(M8448,DFL!A:E,5,0)","v":0.67},{"$f":"P8448-(P8448/1.0025)","v":4.7331670822941874E-2},18.98]
[{"$error":"#N/A"},null,null,null,null,372311,"SPR","SPR","EA","CALCULATOR,SCIENTIFIC,TI-34MV"," ",29.99,21,{"$f":"VLOOKUP(M8463,DFL!A:H,8,0)","v":0.28999999999999998},{"$f":"P8463-(P8463/1.0025)","v":5.3092269326683095E-2},21.29]
[{"$error":"#N/A"},null,null,null,null,463966,"SPR","SPR","ST","POCKET,WALL,3/PK,STACK,SMK"," ",37.35,31,{"$f":"VLOOKUP(M8464,DFL!A:H,8,0)","v":0.49},{"$f":"P8464-(P8464/1.0025)","v":4.7506234413965842E-2},19.05]
[{"$error":"#N/A"},null,null,null,null,197203,"SPR","SPR","PK","CUPS,LIDS,10 OZ"," ",34.22,18,{"$f":"VLOOKUP(M8488,DFL!A:H,8,0)","v":0.44},{"$f":"P8488-(P8488/1.0025)","v":4.778054862842751E-2},19.16]
[{"$error":"#N/A"},null,null,null,null,913694,"BSD","BSD","BX","BIGELOW GREEN TEA K-CUP"," ",38.619999999999997,48,{"$f":"VLOOKUP(M8499,DFL!A:E,5,0)","v":0.42},{"$f":"P8499-(P8499/1.0025)","v":5.5860349127179632E-2},22.4]
[{"$error":"#N/A"},null,null,null,null,8218961,"SPR","SPR","PK","TAPE,LBL,LTAG,PLAS,.5\"\",WE,",null,34.44,26,{"$f":"VLOOKUP(M8514,DFL!A:H,8,0)","v":0.44},{"$f":"P8514-(P8514/1.0025)","v":4.8104738154613358E-2},19.29]
[{"$error":"#N/A"},null,null,null,null,919598,null,"SPR","PR","GLOVE;S;HIGHABRSN;820",null,32.85,22,{"$f":"VLOOKUP(M8533,DFL!A:H,8,0)","v":0.41},{"$f":"P8533-(P8533/1.0025)","v":4.83291770573544E-2},19.38]
[{"$error":"#N/A"},null,null,null,null,5089461,"SPR","SPR","EA","SHARPENER,PENCIL,ELECTRIC",null,42.18,19,{"$f":"VLOOKUP(M8548,DFL!A:H,8,0)","v":0.45},{"$f":"P8548-(P8548/1.0025)","v":5.7855361596008237E-2},23.2]
[{"$error":"#N/A"},null,null,null,null,9550464,"SPR","SPR","PK","MASK,DAILY FACE, 5PK",null,33.020000000000003,22,{"$f":"VLOOKUP(M8561,DFL!A:H,8,0)","v":0.41},{"$f":"P8561-(P8561/1.0025)","v":4.8578553615957532E-2},19.48]
[{"$error":"#N/A"},null,null,null,null,644922,"SPR","SPR","EA","COVER,REPORT,EASEL STYLE,BLACK",null,33.020000000000003,48,{"$f":"VLOOKUP(M8569,DFL!A:H,8,0)","v":0.3},{"$f":"P8569-(P8569/1.0025)","v":5.7630922693267195E-2},23.11]
[{"$error":"#N/A"},null,null,null,null,603490,"SPR","SPR","PK","CLOTH,MICROFIBER,WYPALL"," ",35.01,19,{"$f":"VLOOKUP(M8584,DFL!A:H,8,0)","v":0.45},{"$f":"P8584-(P8584/1.0025)","v":4.8029925187030642E-2},19.260000000000002]
[{"$error":"#N/A"},null,null,null,null,359247,"BSD","BSD","PK","THERMAL ROLL 2 1/4 X 50FT\"",null,53.13,24,{"$f":"VLOOKUP(M8603,DFL!A:E,5,0)","v":0.63},{"$f":"P8603-(P8603/1.0025)","v":4.9027431421446721E-2},19.66]
[{"$error":"#N/A"},null,null,null,null,6989114,"SPR","SPR","DZ","PEN,GEL,RTX,NEEDLE,0.5MM,VT",null,43.8,33,{"$f":"VLOOKUP(M8618,DFL!A:H,8,0)","v":0.55000000000000004},{"$f":"P8618-(P8618/1.0025)","v":4.915211970074651E-2},19.71]
[{"$error":"#N/A"},null,null,null,null,498017,"BSD","BSD","EA","WRISTREST,KYBD,PLUSH TOUCH"," ",39.89,29,{"$f":"VLOOKUP(M8633,DFL!A:E,5,0)","v":0.43},{"$f":"P8633-(P8633/1.0025)","v":5.6708229426433832E-2},22.74]
[{"$error":"#N/A"},null,null,null,null,188340,"SPR","SPR","EA","FILE,WALL,SECURITY"," ",40.58,31,{"$f":"VLOOKUP(M8639,DFL!A:H,8,0)","v":0.49},{"$f":"P8639-(P8639/1.0025)","v":5.1620947630922842E-2},20.7]
[{"$error":"#N/A"},null,null,null,null,639490,"BSD","BSD","PK","BAG,TAMP EVD,9X12,100PK,CLR",null,44.55,48,{"$f":"VLOOKUP(M8654,DFL!A:E,5,0)","v":0.42},{"$f":"P8654-(P8654/1.0025)","v":6.4438902743141568E-2},25.84]
[{"$error":"#N/A"},null,null,null,null,104409,"SPR","SPR","EA","FILE,STADIUM,12PKT,LTR,NAVY"," ",52.47,35,{"$f":"VLOOKUP(M8673,DFL!A:H,8,0)","v":0.6},{"$f":"P8673-(P8673/1.0025)","v":5.2344139650870147E-2},20.99]
[{"$error":"#N/A"},null,null,null,null,544821,"BSD","BSD","PK","BATTERY,RECHARGABLE,AAA,4PK","EPP (eVine),rechargeable",46.53,6,{"$f":"VLOOKUP(M8677,DFL!A:E,5,0)","v":0.56999999999999995},{"$f":"P8677-(P8677/1.0025)","v":4.9900249376555905E-2},20.010000000000002]
[{"$error":"#N/A"},null,null,null,null,271527,"BSD","BSD","BX","GUM,ORBIT SPEARMNT 12EA/BX"," ",35.108247422680414,48,{"$f":"VLOOKUP(M8704,DFL!A:E,5,0)","v":0.42},{"$f":"P8704-(P8704/1.0025)","v":5.0773067331668642E-2},20.36]
[{"$error":"#N/A"},null,null,null,null,543037,"BSD","BSD","BX","MANILA FF,LTR,POSITION 1","010/010,EPP (eVine),10% post-consumer,SFI Certified Sourcing (Black)",65.94,35,{"$f":"VLOOKUP(M8709,DFL!A:E,5,0)","v":0.7},{"$f":"P8709-(P8709/1.0025)","v":4.9326683291770479E-2},19.78]
[{"$error":"#N/A"},null,null,null,null,687293,"SPR","SPR","DZ","MARKER,PERM,FELT,KING SIZE,RED"," ",38.880000000000003,28,{"$f":"VLOOKUP(M8724,DFL!A:H,8,0)","v":0.48},{"$f":"P8724-(P8724/1.0025)","v":5.0423940149624258E-2},20.22]
[{"$error":"#N/A"},null,null,null,null,330920,"BSD","BSD","BX","ENVELOPE,CLASP,10X15,100BX"," ",61.49,27,{"$f":"VLOOKUP(M8743,DFL!A:E,5,0)","v":0.67},{"$f":"P8743-(P8743/1.0025)","v":5.0598503740648226E-2},20.29]
[{"$error":"#N/A"},null,null,null,null,764819,"SPR","SPR","BX","STAPLES,CROWN"," ",43.67,37,{"$f":"VLOOKUP(M8750,DFL!A:H,8,0)","v":0.5},{"$f":"P8750-(P8750/1.0025)","v":5.4463840399002095E-2},21.84]
[{"$error":"#N/A"},null,null,null,null,714151,"SPR","SPR","EA","CRTDG,INK,DYE,T786,BK",null,29.19,43,{"$f":"VLOOKUP(M8774,DFL!A:H,8,0)","v":0.3},{"$f":"P8774-(P8774/1.0025)","v":5.0947630922692611E-2},20.43]
[{"$error":"#N/A"},null,null,null,null,5218924,null,"SPR","EA","TABLET,2/PK,50CT,DISPENSER",null,37.39,22,{"$f":"VLOOKUP(M8779,DFL!A:H,8,0)","v":0.41},{"$f":"P8779-(P8779/1.0025)","v":5.5012468827928984E-2},22.06]
[{"$error":"#N/A"},null,null,null,null,3404088,null,"SPR","EA","64GB SDHC CLASS 10 600X PRO",null,25,46,{"$f":"VLOOKUP(M8794,DFL!A:H,8,0)","v":0.18},{"$f":"P8794-(P8794/1.0025)","v":5.1122194513713026E-2},20.5]
[{"$error":"#N/A"},null,null,null,null,460040,"SPR","SPR","BX","REFILL,ALBUM,PLAST,11X9"," ",33.700000000000003,4,{"$f":"VLOOKUP(M8809,DFL!A:H,8,0)","v":0.39},{"$f":"P8809-(P8809/1.0025)","v":5.1271820448878458E-2},20.56]
[{"$error":"#N/A"},null,null,null,null,726035,"SPR","SPR","EA","OVER-THE-PANEL COAT HOOK; WOOD",null,32.200000000000003,16,{"$f":"VLOOKUP(M8823,DFL!A:H,8,0)","v":0.36},{"$f":"P8823-(P8823/1.0025)","v":5.1396508728178247E-2},20.61]
[{"$error":"#N/A"},null,null,null,null,266189,"BSD","BSD","BX","INDEX,3-RG,11X8.5,5-DIV,WHITE","030/030,EPP (eVine),CPG,30% post-consumer (paper)",69.02,35,{"$f":"VLOOKUP(M8844,DFL!A:E,5,0)","v":0.7},{"$f":"P8844-(P8844/1.0025)","v":5.1645885286781379E-2},20.71]
[{"$error":"#N/A"},null,null,null,null,247328,"SPR","SPR","PK","HOOK;PARTITION;GY",null,32.409999999999997,16,{"$f":"VLOOKUP(M8849,DFL!A:H,8,0)","v":0.36},{"$f":"P8849-(P8849/1.0025)","v":5.1720698254364095E-2},20.74]
[{"$error":"#N/A"},null,null,null,null,913466,"SPR","SPR","PK","DIVIDERS,8TAB,INSERTABLE,AVERY","030/030,EPP (eVine),CPG,30% post-consumer (paper)",51.97,35,{"$f":"VLOOKUP(M8864,DFL!A:H,8,0)","v":0.6},{"$f":"P8864-(P8864/1.0025)","v":5.1845386533663884E-2},20.79]
[{"$error":"#N/A"},null,null,null,null,698811,"BSD","BSD","BX","COVER,PORTFOLIO,11.75X9.5,DBLU",null,59.7,8,{"$f":"VLOOKUP(M8879,DFL!A:E,5,0)","v":0.65},{"$f":"P8879-(P8879/1.0025)","v":5.2119700748129105E-2},20.9]
[{"$error":"#N/A"},null,null,null,null,8829979,"SPR","SPR","CT","MIX;OMEGA3;20Z;14/CT",null,34.950000000000003,48,{"$f":"VLOOKUP(M8896,DFL!A:H,8,0)","v":0.3},{"$f":"P8896-(P8896/1.0025)","v":6.1022443890273337E-2},24.47]
[{"$error":"#N/A"},null,null,null,null,8179050,"SPR","SPR","EA","CLEANER,ROLL,50MMX2M,CL",null,29.99,43,{"$f":"VLOOKUP(M8914,DFL!A:H,8,0)","v":0.3},{"$f":"P8914-(P8914/1.0025)","v":5.2344139650870147E-2},20.99]
[{"$error":"#N/A"},null,null,null,null,6367846,"SPR","SPR","BX","TOY;SRPRSE;PLAYFOAM;6PK",null,29.99,48,{"$f":"VLOOKUP(M8919,DFL!A:H,8,0)","v":0.3},{"$f":"P8919-(P8919/1.0025)","v":5.2344139650870147E-2},20.99]
[{"$error":"#N/A"},null,null,null,null,102210,"SPR","SPR","BX","FOLDER;LTR;11PT;MAN;1/3;SGL",null,54.19,35,{"$f":"VLOOKUP(M8934,DFL!A:H,8,0)","v":0.6},{"$f":"P8934-(P8934/1.0025)","v":5.4064837905237084E-2},21.68]
[{"$error":"#N/A"},null,null,null,null,5485828,"BSD","BSD","CT","PISTACHIOS,WONDERFUL,1.5OZ24CT",null,36.369999999999997,48,{"$f":"VLOOKUP(M8949,DFL!A:E,5,0)","v":0.42},{"$f":"P8949-(P8949/1.0025)","v":5.2593516209476832E-2},21.09]
[{"$error":"#N/A"},null,null,null,null,877056,"SPR","SPR","CT","WASTEBAGS, AUTOMAX,500CAND300C"," ",35.29,12,{"$f":"VLOOKUP(M8969,DFL!A:H,8,0)","v":0.4},{"$f":"P8969-(P8969/1.0025)","v":5.2793017456359337E-2},21.17]
[{"$error":"#N/A"},null,null,null,null,103752,"BSD","BSD","BX","CARAMEL ALMOND, SEA SALT,12BX"," ",36.947055460263009,48,{"$f":"VLOOKUP(M8984,DFL!A:E,5,0)","v":0.42},{"$f":"P8984-(P8984/1.0025)","v":5.3441396508727479E-2},21.43]
[{"$error":"#N/A"},null,null,null,null,667566,"SPR","SPR","EA","CALCULATOR,WTR RESISTNT,12 DGT"," ",29.99,21,{"$f":"VLOOKUP(M8999,DFL!A:H,8,0)","v":0.28999999999999998},{"$f":"P8999-(P8999/1.0025)","v":5.3092269326683095E-2},21.29]
[{"$error":"#N/A"},null,null,null,null,4221490,"SPR","SPR","CT","BOX;PENCIL;LG;AST;6CT",null,41.78,31,{"$f":"VLOOKUP(M9004,DFL!A:H,8,0)","v":0.49},{"$f":"P9004-(P9004/1.0025)","v":5.3142144638403721E-2},21.31]
[{"$error":"#N/A"},null,null,null,null,127651,"SPR","SPR","BX","FOLDER;LTR;11PT;STRT;SGL",null,54.99,35,{"$f":"VLOOKUP(M9019,DFL!A:H,8,0)","v":0.6},{"$f":"P9019-(P9019/1.0025)","v":5.4862842892767105E-2},22]
[{"$error":"#N/A"},null,null,null,null,917146,"BSD","BSD","PK","DVD+R,4.7GB,16X,50PK SPINDLE"," ",46.58,14,{"$f":"VLOOKUP(M9042,DFL!A:E,5,0)","v":0.46},{"$f":"P9042-(P9042/1.0025)","v":6.2718204488778184E-2},25.15]
[{"$error":"#N/A"},null,null,null,null,627703,"SPR","SPR","BX","PAPER,LASER,25%,24#,RM,WHT"," ",64.42,32,{"$f":"VLOOKUP(M9054,DFL!A:H,8,0)","v":0.65},{"$f":"P9054-(P9054/1.0025)","v":5.6234413965086105E-2},22.55]
[{"$error":"#N/A"},null,null,null,null,503309,"SPR","SPR","EA","DESKPAD19X24,CLEAR"," ",40,11,{"$f":"VLOOKUP(M9069,DFL!A:H,8,0)","v":0.46},{"$f":"P9069-(P9069/1.0025)","v":5.3865336658354579E-2},21.6]
[{"$error":"#N/A"},null,null,null,null,295005,"SPR","SPR","EA","CHART;POCKET;STANDARD;BE",null,30.99,48,{"$f":"VLOOKUP(M9088,DFL!A:H,8,0)","v":0.3},{"$f":"P9088-(P9088/1.0025)","v":5.4089775561095621E-2},21.69]
[{"$error":"#N/A"},null,null,null,null,768473,"SPR","SPR","ST","SET;SPROUTS CAMPOUT",null,31.04,48,{"$f":"VLOOKUP(M9100,DFL!A:H,8,0)","v":0.3},{"$f":"P9100-(P9100/1.0025)","v":5.4189526184536874E-2},21.73]
[{"$error":"#N/A"},null,null,null,null,3111892,"BSD","BSD","EA","INK,HP 62XL,COLOR",null,45.32,44,{"$f":"VLOOKUP(M9105,DFL!A:E,5,0)","v":0.52},{"$f":"P9105-(P9105/1.0025)","v":5.42394014962575E-2},21.75]
[{"$error":"#N/A"},null,null,null,null,263166,"SPR","SPR","ST","FILE,WALL,RECYC 3PKT LTR",null,42.87,31,{"$f":"VLOOKUP(M9124,DFL!A:H,8,0)","v":0.49},{"$f":"P9124-(P9124/1.0025)","v":5.4513715710722721E-2},21.86]
[{"$error":"#N/A"},null,null,null,null,717936,"SPR","SPR","PK","MARKER,SHARPIE,FINE,24/CD,ASST",null,42.17,28,{"$f":"VLOOKUP(M9139,DFL!A:H,8,0)","v":0.48},{"$f":"P9139-(P9139/1.0025)","v":5.4688279301743137E-2},21.93]
[{"$error":"#N/A"},null,null,null,null,5772699,"SPR","SPR","BX","FOLDER,HNG,LTR,1/5,BE",null,56.63,35,{"$f":"VLOOKUP(M9158,DFL!A:H,8,0)","v":0.6},{"$f":"P9158-(P9158/1.0025)","v":5.6483790523689237E-2},22.65]
[{"$error":"#N/A"},null,null,null,null,7070704,"SPR","SPR","BX","FOLDER,HANG,RCYC,LGL,NO TAB",null,56.75,35,{"$f":"VLOOKUP(M9173,DFL!A:H,8,0)","v":0.6},{"$f":"P9173-(P9173/1.0025)","v":5.6608478802992579E-2},22.7]
[{"$error":"#N/A"},null,null,null,null,545071,"BSD","BSD","BX","EXPAND PKT,LETTER,5 1/4\" EXP",null,73.489999999999995,35,{"$f":"VLOOKUP(M9175,DFL!A:E,5,0)","v":0.7},{"$f":"P9175-(P9175/1.0025)","v":5.4987531172066895E-2},22.05]
[{"$error":"#N/A"},null,null,null,null,1260901,"SPR","SPR","CT","SYNDERS 1.5OZ MINI PRETZEL BAG",null,31.58,48,{"$f":"VLOOKUP(M9194,DFL!A:H,8,0)","v":0.3},{"$f":"P9194-(P9194/1.0025)","v":5.5137157107232326E-2},22.11]
[{"$error":"#N/A"},null,null,null,null,582197,"SPR","SPR","RM","PAPER,LINEN,25%,24#,500RM,WHIT","030/030,EPP (eVine),CPG,30% post-consumer (paper),FSC",88.46,30,{"$f":"VLOOKUP(M9209,DFL!A:H,8,0)","v":0.57999999999999996},{"$f":"P9209-(P9209/1.0025)","v":9.2643391521193053E-2},37.15]
[{"$error":"#N/A"},null,null,null,null,4773742,null,"SPR","DZ","SCREEN,URNL,HIFRG,OCN BRZ",null,40.43,19,{"$f":"VLOOKUP(M9228,DFL!A:H,8,0)","v":0.45},{"$f":"P9228-(P9228/1.0025)","v":5.5461346633414621E-2},22.24]
[{"$error":"#N/A"},null,null,null,null,918029,"BSD","BSD","CT","BAG,SHREDDER,F/#110,150,100/CT"," ",42.370861678004538,12,{"$f":"VLOOKUP(M9231,DFL!A:E,5,0)","v":0.47},{"$f":"P9231-(P9231/1.0025)","v":5.600997506234151E-2},22.46]
[{"$error":"#N/A"},null,null,null,null,579460,"SPR","SPR","EA","STAPLER,FL STRP,RDCD EFFRT,BLK"," ",47.84,37,{"$f":"VLOOKUP(M9259,DFL!A:H,8,0)","v":0.5},{"$f":"P9259-(P9259/1.0025)","v":5.9650872817954337E-2},23.92]
[{"$error":"#N/A"},null,null,null,null,406074,null,"SPR","BX"," FOLDER BXBTM 2  LTR 25BX GRN",null,77.73,35,{"$f":"VLOOKUP(M9264,DFL!A:H,8,0)","v":0.6},{"$f":"P9264-(P9264/1.0025)","v":7.7531172069825516E-2},31.09]
[{"$error":"#N/A"},null,null,null,null,316356,"SPR","SPR","BX","FOLDER,LTR,1/5CUT,100BX,MANILA"," ",58.42,35,{"$f":"VLOOKUP(M9279,DFL!A:H,8,0)","v":0.6},{"$f":"P9279-(P9279/1.0025)","v":5.8279301745635337E-2},23.37]
[{"$error":"#N/A"},null,null,null,null,8275662,null,"SPR","EA"," WALL RY24 EXECUTIVE MTHLY LRG",null,53.6,11,{"$f":"VLOOKUP(M9294,DFL!A:H,8,0)","v":0.46},{"$f":"P9294-(P9294/1.0025)","v":7.2169576059849305E-2},28.94]
[{"$error":"#N/A"},null,null,null,null,568846,"SPR","SPR","PK","LABEL,FILING,450PK,CLEAR"," ",40.25,26,{"$f":"VLOOKUP(M9304,DFL!A:H,8,0)","v":0.44},{"$f":"P9304-(P9304/1.0025)","v":5.6209476309224016E-2},22.54]
[{"$error":"#N/A"},null,null,null,null,543924,"SPR","SPR","ST","GUIDE,FILE,PSBD,A-Z,52376"," ",59.03,35,{"$f":"VLOOKUP(M9329,DFL!A:H,8,0)","v":0.6},{"$f":"P9329-(P9329/1.0025)","v":5.8877805486282853E-2},23.61]
[{"$error":"#N/A"},null,null,null,null,897413,"SPR","SPR","BX","FOLDER;FILE;1/3;LTR;MLA",null,58.46,35,{"$f":"VLOOKUP(M9334,DFL!A:H,8,0)","v":0.6},{"$f":"P9334-(P9334/1.0025)","v":5.8304239401493874E-2},23.38]
[{"$error":"#N/A"},null,null,null,null,598335,"SPR","SPR","EA","SIGN,OPEN/CLOSED,5X13\""," ",35.67,36,{"$f":"VLOOKUP(M9349,DFL!A:H,8,0)","v":0.36},{"$f":"P9349-(P9349/1.0025)","v":5.6932668329174874E-2},22.83]
[{"$error":"#N/A"},null,null,null,null,752680,"SPR","SPR","BX","TAG,MARKING,2-1/8X1.5,WE"," ",40.99,26,{"$f":"VLOOKUP(M9364,DFL!A:H,8,0)","v":0.44},{"$f":"P9364-(P9364/1.0025)","v":5.7231920199498632E-2},22.95]
[{"$error":"#N/A"},null,null,null,null,671395,"SPR","SPR","ST","SIGN,RESTROOM,M/W"," ",35.950000000000003,36,{"$f":"VLOOKUP(M9377,DFL!A:H,8,0)","v":0.36},{"$f":"P9377-(P9377/1.0025)","v":5.738154613466051E-2},23.01]
[{"$error":"#N/A"},null,null,null,null,996215,"BSD","BSD","BX","PAPER,FINE BUS,25%,20#,RM,WHT"," ",98.969016566795915,30,{"$f":"VLOOKUP(M9399,DFL!A:E,5,0)","v":0.73},{"$f":"P9399-(P9399/1.0025)","v":6.6633416458852679E-2},26.72]
[{"$error":"#N/A"},null,null,null,null,9013561,null,"SPR","BD"," CRAYONS WASH LARGE 16CT 6BX",null,53.79,47,{"$f":"VLOOKUP(M9404,DFL!A:H,8,0)","v":0.5},{"$f":"P9404-(P9404/1.0025)","v":6.7082294264338316E-2},26.9]
[{"$error":"#N/A"},null,null,null,null,332396,"BSD","BSD","EA","RECORDER,DIGITAL,VN-541PC ,BLK",null,39.99,21,{"$f":"VLOOKUP(M9419,DFL!A:E,5,0)","v":0.42},{"$f":"P9419-(P9419/1.0025)","v":5.78304239401497E-2},23.19]
[{"$error":"#N/A"},null,null,null,null,634016,"BSD","BSD","BX","ENVELOPE,SEC,#10,2WIN,500CT,WH"," ",70.400000000000006,27,{"$f":"VLOOKUP(M9434,DFL!A:E,5,0)","v":0.67},{"$f":"P9434-(P9434/1.0025)","v":5.7930174563590953E-2},23.23]
[{"$error":"#N/A"},null,null,null,null,7269246,"SPR","SPR","BD","BOOK,RECORD,MONTHLY,BEIGE",null,43.26,11,{"$f":"VLOOKUP(M9450,DFL!A:H,8,0)","v":0.46},{"$f":"P9450-(P9450/1.0025)","v":5.8254364089773247E-2},23.36]
[{"$error":"#N/A"},null,null,null,null,863487,"BSD","BSD","BX","BATTERY,C CELL BULK PKG"," ",54.57,6,{"$f":"VLOOKUP(M9469,DFL!A:E,5,0)","v":0.56999999999999995},{"$f":"P9469-(P9469/1.0025)","v":5.8528678304238468E-2},23.47]
[{"$error":"#N/A"},null,null,null,null,649833,"SPR","SPR","EA","INK,676XL220,CYAN,DURABRITE"," ",33.72,43,{"$f":"VLOOKUP(M9484,DFL!A:H,8,0)","v":0.3},{"$f":"P9484-(P9484/1.0025)","v":5.8852867830424316E-2},23.6]
[{"$error":"#N/A"},null,null,null,null,767949,"SPR","SPR","EA","REST;WRIST;GEL;PINK FLWR",null,39.86,48,{"$f":"VLOOKUP(M9489,DFL!A:H,8,0)","v":0.3},{"$f":"P9489-(P9489/1.0025)","v":6.9576059850373184E-2},27.9]
[{"$error":"#N/A"},null,null,null,null,533720,"SPR","SPR","EA","FORM;PURCHS ORDER;2-PT;VERT",null,45,11,{"$f":"VLOOKUP(M9504,DFL!A:H,8,0)","v":0.46},{"$f":"P9504-(P9504/1.0025)","v":6.0598503740646237E-2},24.3]
[{"$error":"#N/A"},null,null,null,null,998245,"BSD","BSD","BX","FOLDER,LTR,DBL,11PT,1/3,GREEN"," ",82.87,35,{"$f":"VLOOKUP(M9523,DFL!A:E,5,0)","v":0.7},{"$f":"P9523-(P9523/1.0025)","v":6.1995012468827326E-2},24.86]
[{"$error":"#N/A"},null,null,null,null,9954725,"SPR","SPR","BX","FOLDER,FILE,LTR,1/3,RED",null,61.64,35,{"$f":"VLOOKUP(M9539,DFL!A:H,8,0)","v":0.6},{"$f":"P9539-(P9539/1.0025)","v":6.1496259351621063E-2},24.66]
[{"$error":"#N/A"},null,null,null,null,9064907,"SPR","SPR","DZ","GLOVE,FMCTD,NITRILE,2XG",null,40.74,22,{"$f":"VLOOKUP(M9554,DFL!A:H,8,0)","v":0.41},{"$f":"P9554-(P9554/1.0025)","v":5.9950124688278095E-2},24.04]
[{"$error":"#N/A"},null,null,null,null,7849739,"SPR","SPR","BD","BOOK,BUDGET,HOME,64PG,TEAL",null,59.96,11,{"$f":"VLOOKUP(M9559,DFL!A:H,8,0)","v":0.46},{"$f":"P9559-(P9559/1.0025)","v":8.0748129675811242E-2},32.380000000000003]
[{"$error":"#N/A"},null,null,null,null,520231,"SPR","SPR","RL","TABLECOVER,PLSTIC,40X300,WE"," ",42.62,48,{"$f":"VLOOKUP(M9581,DFL!A:H,8,0)","v":0.3},{"$f":"P9581-(P9581/1.0025)","v":7.4389027431418953E-2},29.83]
[{"$error":"#N/A"},null,null,null,null,529718,null,"SPR","EA"," PIGTAIL HDMI VGA FEMALE MALE",null,44.47,48,{"$f":"VLOOKUP(M9590,DFL!A:H,8,0)","v":0.3},{"$f":"P9590-(P9590/1.0025)","v":7.7630922693266768E-2},31.13]
[{"$error":"#N/A"},null,null,null,null,271545,"SPR","SPR","BX","GUM,ORBIT PPRMNT 12EA/BX"," ",34.75,48,{"$f":"VLOOKUP(M9609,DFL!A:H,8,0)","v":0.3},{"$f":"P9609-(P9609/1.0025)","v":6.0673316708228953E-2},24.33]
[{"$error":"#N/A"},null,null,null,null,660305,"BSD","BSD","EA","MAT,FLOOR,ANTIFATIG 2'X3',GRAY"," ",81.489999999999995,15,{"$f":"VLOOKUP(M9624,DFL!A:E,5,0)","v":0.7},{"$f":"P9624-(P9624/1.0025)","v":6.0972568578552711E-2},24.45]
[{"$error":"#N/A"},null,null,null,null,9756209,"SPR","SPR","EA","BROOM,24\",TAMPICO",null,44.5,19,{"$f":"VLOOKUP(M9629,DFL!A:H,8,0)","v":0.45},{"$f":"P9629-(P9629/1.0025)","v":6.1047381546131874E-2},24.48]
[{"$error":"#N/A"},null,null,null,null,6623583,"SPR","SPR","EA","DRIVE,USB,128GB,3.0,ERGO,BE",null,29.99,46,{"$f":"VLOOKUP(M9654,DFL!A:H,8,0)","v":0.18},{"$f":"P9654-(P9654/1.0025)","v":6.1321695760597095E-2},24.59]
[{"$error":"#N/A"},null,null,null,null,908881,"SPR","SPR","PK","POCKET,4PK,3-1/2EXP,AST",null,64.63,35,{"$f":"VLOOKUP(M9660,DFL!A:H,8,0)","v":0.6},{"$f":"P9660-(P9660/1.0025)","v":6.4463840399000105E-2},25.85]
[{"$error":"#N/A"},null,null,null,null,5347310,"BSD","BSD","EA","CRTDG,TANK,INKVESTMT,BK,3K",null,50.485796853625182,43,{"$f":"VLOOKUP(M9679,DFL!A:E,5,0)","v":0.35},{"$f":"P9679-(P9679/1.0025)","v":8.1845386533665021E-2},32.82]
[{"$error":"#N/A"},null,null,null,null,7359115,"SPR","SPR","EA","ENZYME, DRAIN MAINTENANCE,",null,45.76,19,{"$f":"VLOOKUP(M9694,DFL!A:H,8,0)","v":0.45},{"$f":"P9694-(P9694/1.0025)","v":6.2768079800498811E-2},25.17]
[{"$error":"#N/A"},null,null,null,null,764050,"SPR","SPR","EA","SWEEPER;ALL PURPOSE;24\"",null,53.45,19,{"$f":"VLOOKUP(M9713,DFL!A:H,8,0)","v":0.45},{"$f":"P9713-(P9713/1.0025)","v":7.331670822942371E-2},29.4]
[{"$error":"#N/A"},null,null,null,null,938548,"SPR","SPR","BX","FOLDER;EARTHWISE;HNG;LTR;GN",null,64.2,35,{"$f":"VLOOKUP(M9727,DFL!A:H,8,0)","v":0.6},{"$f":"P9727-(P9727/1.0025)","v":6.4039900249376558E-2},25.68]
[{"$error":"#N/A"},null,null,null,null,1916599,null,"SPR","EA","CLOCK;WALL;ANTIQUE",null,39,16,{"$f":"VLOOKUP(M9730,DFL!A:H,8,0)","v":0.36},{"$f":"P9730-(P9730/1.0025)","v":6.2244389027430458E-2},24.96]
[{"$error":"#N/A"},null,null,null,null,9657176,"SPR","SPR","CT","SPONGE,SCOTCHBRITE,MULTIPRP",null,45.6,19,{"$f":"VLOOKUP(M9749,DFL!A:H,8,0)","v":0.45},{"$f":"P9749-(P9749/1.0025)","v":6.2543640897754216E-2},{"$f":"ROUND(L9749*(1-N9749),2)","v":25.08}]
[{"$error":"#N/A"},null,null,null,null,7830752,null,"SPR","DZ","VISION,RB,ULTMICRO,BLK,.38MM",null,55.94,33,{"$f":"VLOOKUP(M9764,DFL!A:H,8,0)","v":0.55000000000000004},{"$f":"P9764-(P9764/1.0025)","v":6.2768079800498811E-2},25.17]
[{"$error":"#N/A"},null,null,null,null,725932,"SPR","SPR","EA","HOLDER,CUP,LID,BLK",null,36.01,48,{"$f":"VLOOKUP(M9779,DFL!A:H,8,0)","v":0.3},{"$f":"P9779-(P9779/1.0025)","v":6.2867830423940063E-2},25.21]
[{"$error":"#N/A"},null,null,null,null,545125,"BSD","BSD","BX","EXPAND PKT,LEGAL,5 1/4\" EXP",null,84.16,35,{"$f":"VLOOKUP(M9785,DFL!A:E,5,0)","v":0.7},{"$f":"P9785-(P9785/1.0025)","v":6.2967581047381316E-2},25.25]
[{"$error":"#N/A"},null,null,null,null,384951,"SPR","SPR","ST","SET;BEADS;ABC;LTR;SWEETS",null,37.58,48,{"$f":"VLOOKUP(M9800,DFL!A:H,8,0)","v":0.3},{"$f":"P9800-(P9800/1.0025)","v":6.5610972568578063E-2},26.31]
[{"$error":"#N/A"},null,null,null,null,221515,"BSD","BSD","EA","WASTEBASKET,RECT,41 QT CAP,BLK"," ",48.03,12,{"$f":"VLOOKUP(M9819,DFL!A:E,5,0)","v":0.47},{"$f":"P9819-(P9819/1.0025)","v":6.3491271820446116E-2},25.46]
[{"$error":"#N/A"},null,null,null,null,4465645,"BSD","BSD","BD"," CLAY MODELING ASST 4CT 12EA",null,59.49,47,{"$f":"VLOOKUP(M9834,DFL!A:E,5,0)","v":0.56999999999999995},{"$f":"P9834-(P9834/1.0025)","v":6.3790523690773426E-2},25.58]
[{"$error":"#N/A"},null,null,null,null,945876,"BSD","BSD","EA","KIT,FIRST AID, 25 PERSON"," ",55.384470158343483,22,{"$f":"VLOOKUP(M9849,DFL!A:E,5,0)","v":0.52},{"$f":"P9849-(P9849/1.0025)","v":6.6284289276808295E-2},26.58]
[{"$error":"#N/A"},null,null,null,null,679527,"BSD","BSD","BX","ENVELOPE,#9,2WIN,SEC,C/S,250BX"," ",77.95,27,{"$f":"VLOOKUP(M9858,DFL!A:E,5,0)","v":0.67},{"$f":"P9858-(P9858/1.0025)","v":6.4139650872817811E-2},25.72]
[{"$error":"#N/A"},null,null,null,null,208546,"BSD","BSD","BX","FOLDER,ET FSTNR,LTR,50BX,MNLA"," ",90.2,35,{"$f":"VLOOKUP(M9884,DFL!A:E,5,0)","v":0.7},{"$f":"P9884-(P9884/1.0025)","v":6.7481296758103326E-2},27.06]
[{"$error":"#N/A"},null,null,null,null,278733,"BSD","BSD","EA","TRIMMER,LIGHTWEIGHT,12IN",null,100.59,7,{"$f":"VLOOKUP(M9885,DFL!A:E,5,0)","v":0.72},{"$f":"P9885-(P9885/1.0025)","v":7.0249376558603416E-2},28.17]
[{"$error":"#N/A"},null,null,null,null,5324198,"SPR","SPR","BX","FOLDER,INTERIOR,LTR,1/3,RED",null,66.81,35,{"$f":"VLOOKUP(M9904,DFL!A:H,8,0)","v":0.6},{"$f":"P9904-(P9904/1.0025)","v":6.6633416458852679E-2},26.72]
[{"$error":"#N/A"},null,null,null,null,6478614,"BSD","BSD","EA","Epson¬Æ 812XL DuraBrite¬Æ Ultra High-Yield Black Ink Cartridge, T812XL120-S",null,46.19,43,{"$f":"VLOOKUP(M9919,DFL!A:E,5,0)","v":0.35},{"$f":"P9919-(P9919/1.0025)","v":7.4862842892766679E-2},30.02]
[{"$error":"#N/A"},null,null,null,null,9763800,"SPR","SPR","CT","SPONGE,SCRB DOT,NO SCRCH,6",null,47.4,19,{"$f":"VLOOKUP(M9931,DFL!A:H,8,0)","v":0.45},{"$f":"P9931-(P9931/1.0025)","v":6.5012468827930547E-2},26.07]
[{"$error":"#N/A"},null,null,null,null,6086903,"SPR","SPR","EA","SIGN,INFO,ACRYL,4.375,SLV",null,40.97,36,{"$f":"VLOOKUP(M9954,DFL!A:H,8,0)","v":0.36},{"$f":"P9954-(P9954/1.0025)","v":6.5386533665833468E-2},26.22]
[{"$error":"#N/A"},null,null,null,null,830759,"SPR","SPR","CT","FRESHENER,AIR,SPA"," ",52.2,19,{"$f":"VLOOKUP(M9969,DFL!A:H,8,0)","v":0.45},{"$f":"P9969-(P9969/1.0025)","v":7.1596009975060326E-2},28.71]
[{"$error":"#N/A"},null,null,null,null,542281,"BSD","BSD","BX","COLOR FF,LTR,1/3 CUT - ORNGE","010/010,EPP (eVine),10% post-consumer",85.91,35,{"$f":"VLOOKUP(M9974,DFL!A:E,5,0)","v":0.7},{"$f":"P9974-(P9974/1.0025)","v":6.42643391521176E-2},25.77]
[{"$error":"#N/A"},null,null,null,null,746048,"SPR","SPR","EA","PUNCH,SLOT,9/16X1/8,7\"HNDL"," ",118.34,7,{"$f":"VLOOKUP(M9989,DFL!A:H,8,0)","v":0.46},{"$f":"P9989-(P9989/1.0025)","v":0.15935162094762489},63.9]
[{"$error":"#N/A"},null,null,null,null,6282895,"SPR","SPR","PR","BATTERY,2,LXT600/T50/T60",null,49.99,6,{"$f":"VLOOKUP(M10004,DFL!A:H,8,0)","v":0.47},{"$f":"P10004-(P10004/1.0025)","v":6.60598503740637E-2},26.49]
[{"$error":"#N/A"},null,null,null,null,9708222,"SPR","SPR","EA","CALCULATOR,SCIENTIFIC",null,37.99,48,{"$f":"VLOOKUP(M10024,DFL!A:H,8,0)","v":0.3},{"$f":"P10024-(P10024/1.0025)","v":6.6309226932666832E-2},26.59]
[{"$error":"#N/A"},null,null,null,null,6469290,"BSD","BSD","CT","DETERGENT;LQ;MTNBRZ;6/50OZ",null,53.795931465868911,19,{"$f":"VLOOKUP(M10039,DFL!A:E,5,0)","v":0.5},{"$f":"P10039-(P10039/1.0025)","v":6.7082294264338316E-2},26.9]
[{"$error":"#N/A"},null,null,null,null,296278,"BSD","BSD","BX","ENVELOPE,CLASP,9X12,32LB,100BX",null,89.25,27,{"$f":"VLOOKUP(M10044,DFL!A:E,5,0)","v":0.67},{"$f":"P10044-(P10044/1.0025)","v":7.3441396508727053E-2},29.45]
[{"$error":"#N/A"},null,null,null,null,543577,"BSD","BSD","BX","COLOR FAST FLDR,1/3,LTR,YEL","010/010,EPP (eVine),10% post-consumer (paper stock),SFI Certified Sourcing (Black)",87.6,35,{"$f":"VLOOKUP(M10062,DFL!A:E,5,0)","v":0.7},{"$f":"P10062-(P10062/1.0025)","v":6.5536159600995347E-2},26.28]
[{"$error":"#N/A"},null,null,null,null,272577,"SPR","SPR","EA","DESKPAD,ANTISLIP,PC, 20X36"," ",49.79,11,{"$f":"VLOOKUP(M10075,DFL!A:H,8,0)","v":0.46},{"$f":"P10075-(P10075/1.0025)","v":6.7057356608476226E-2},26.89]
[{"$error":"#N/A"},null,null,null,null,620109,"SPR","SPR","PK","FILE,WALL,3-POCKET,LTR,CR",null,52.98,31,{"$f":"VLOOKUP(M10094,DFL!A:H,8,0)","v":0.49},{"$f":"P10094-(P10094/1.0025)","v":6.7381546134662074E-2},27.02]
[{"$error":"#N/A"},null,null,null,null,793952,"BSD","BSD","CA","LINER,IS,LL,30.5X43,1.2M,R,100"," ",51.38,12,{"$f":"VLOOKUP(M10109,DFL!A:E,5,0)","v":0.47},{"$f":"P10109-(P10109/1.0025)","v":6.7905236907730426E-2},27.23]
[{"$error":"#N/A"},null,null,null,null,810945,"BSD","BSD","BX","FOLDER,HNG,LGL,1/3CUT,25BX,GRN","100/100,EPP (eVine),CPG,100% post-consumer (paper)",89.13,35,{"$f":"VLOOKUP(M10114,DFL!A:E,5,0)","v":0.7},{"$f":"P10114-(P10114/1.0025)","v":6.6683291770573305E-2},26.74]
[{"$error":"#N/A"},null,null,null,null,726817,"SPR","SPR","EA","SOAP;FOAM;HNDWASH;CLR/MILD",null,49.68,22,{"$f":"VLOOKUP(M10135,DFL!A:H,8,0)","v":0.41},{"$f":"P10135-(P10135/1.0025)","v":7.3092269326682668E-2},29.31]
[{"$error":"#N/A"},null,null,null,null,542488,"BSD","BSD","BX","COLOR FF,LTR,1/3 CUT - GREY","010/010,EPP (eVine),10% post-consumer",89.53,35,{"$f":"VLOOKUP(M10145,DFL!A:E,5,0)","v":0.7},{"$f":"P10145-(P10145/1.0025)","v":6.6982543640897063E-2},26.86]
[{"$error":"#N/A"},null,null,null,null,716433,"SPR","SPR","EA","DUSTER;WAND;FLEXI;W;MI",null,58.18,19,{"$f":"VLOOKUP(M10164,DFL!A:H,8,0)","v":0.45},{"$f":"P10164-(P10164/1.0025)","v":7.9800498753115789E-2},32]
[{"$error":"#N/A"},null,null,null,null,246423,"SPR","SPR","CT","DEODORIZER,ODOR,SPRORANGE",null,50.16,19,{"$f":"VLOOKUP(M10179,DFL!A:H,8,0)","v":0.45},{"$f":"P10179-(P10179/1.0025)","v":6.88029925187017E-2},27.59]
[{"$error":"#N/A"},null,null,null,null,1376398,"BSD","BSD","BX","FOLDERS HANG LTR-SIZE YELLOW","010/010,EPP (eVine),10% post-consumer (paper)",90.37,35,{"$f":"VLOOKUP(M10184,DFL!A:E,5,0)","v":0.7},{"$f":"P10184-(P10184/1.0025)","v":6.7605985037406668E-2},27.11]
[{"$error":"#N/A"},null,null,null,null,203378,"BSD","BSD","EA","BOARD,MAG,DE,24X18,BLKFRM",null,71.040000000000006,10,{"$f":"VLOOKUP(M10208,DFL!A:E,5,0)","v":0.55000000000000004},{"$f":"P10208-(P10208/1.0025)","v":7.9725685785533074E-2},31.97]
[{"$error":"#N/A"},null,null,null,null,4525924,null,"SPR","EA","SANITIZER,HAND,GEL,67.6OZ",null,47.23,22,{"$f":"VLOOKUP(M10215,DFL!A:H,8,0)","v":0.41},{"$f":"P10215-(P10215/1.0025)","v":6.9501246882790468E-2},27.87]
[{"$error":"#N/A"},null,null,null,null,8268647,"SPR","SPR","EA","HEADSET,DESKTOP,UNVSL,MONAL",null,39.99,23,{"$f":"VLOOKUP(M10234,DFL!A:H,8,0)","v":0.3},{"$f":"P10234-(P10234/1.0025)","v":6.9800498753114226E-2},27.99]
[{"$error":"#N/A"},null,null,null,null,900040,"SPR","SPR","EA","HOLDER,FORM,STORAGE,8.5X12"," ",77.09,35,{"$f":"VLOOKUP(M10249,DFL!A:H,8,0)","v":0.6},{"$f":"P10249-(P10249/1.0025)","v":7.6907730673315911E-2},30.84]
[{"$error":"#N/A"},null,null,null,null,543559,"BSD","BSD","BX","COLOR FAST FLDR,1/3,LTR,RED","010/010,EPP (eVine),10% post-consumer (paper stock),SFI Certified Sourcing (Black)",91.97,35,{"$f":"VLOOKUP(M10264,DFL!A:E,5,0)","v":0.7},{"$f":"P10264-(P10264/1.0025)","v":6.88029925187017E-2},27.59]
[{"$error":"#N/A"},null,null,null,null,756680,"SPR","SPR","BX","PKT,FILE,ET,LTR,STRT,EXP-7"," ",73.599999999999994,35,{"$f":"VLOOKUP(M10281,DFL!A:H,8,0)","v":0.6},{"$f":"P10281-(P10281/1.0025)","v":7.3416458852864963E-2},29.44]
[{"$error":"#N/A"},null,null,null,null,452922,"BSD","BSD","PK","TAPE,ECO,MAGIC,3/4\"X900\",16PK"," ",70.8,39,{"$f":"VLOOKUP(M10285,DFL!A:E,5,0)","v":0.6},{"$f":"P10285-(P10285/1.0025)","v":7.0623441396506337E-2},28.32]
[{"$error":"#N/A"},null,null,null,null,756690,"SPR","SPR","PK","TABLECOVR,PLASTIC,RND,84\""," ",43.96,48,{"$f":"VLOOKUP(M10304,DFL!A:H,8,0)","v":0.3},{"$f":"P10304-(P10304/1.0025)","v":7.6733167082291942E-2},30.77]
[{"$error":"#N/A"},null,null,null,null,231133,"SPR","SPR","EA","REFILL;SANITIZER;HAND;FOAM",null,50.49,22,{"$f":"VLOOKUP(M10319,DFL!A:H,8,0)","v":0.41},{"$f":"P10319-(P10319/1.0025)","v":7.42892768079777E-2},29.79]
[{"$error":"#N/A"},null,null,null,null,935437,"SPR","SPR","BX","FLDR,LTR,1/3,PINK"," ",73.59,35,{"$f":"VLOOKUP(M10334,DFL!A:H,8,0)","v":0.6},{"$f":"P10334-(P10334/1.0025)","v":7.3416458852864963E-2},29.44]
[{"$error":"#N/A"},null,null,null,null,288704,"SPR","SPR","EA","FILE,DESK.TOP,9.5X12.25X6,PTY"," ",66.430000000000007,31,{"$f":"VLOOKUP(M10339,DFL!A:H,8,0)","v":0.49},{"$f":"P10339-(P10339/1.0025)","v":8.4488778054861768E-2},33.880000000000003]
[{"$error":"#N/A"},null,null,null,null,948486,"SPR","SPR","PK","5PK 8GB USB 2.0 FLASH DRIVE",null,34.99,46,{"$f":"VLOOKUP(M10355,DFL!A:H,8,0)","v":0.18},{"$f":"P10355-(P10355/1.0025)","v":7.15461346633397E-2},28.69]
[{"$error":"#N/A"},null,null,null,null,1376425,"BSD","BSD","BX","HANGING FLDR 1/5 LGL ASST 25BX","010/010,EPP (eVine),10% post-consumer (paper)",94.05,35,{"$f":"VLOOKUP(M10370,DFL!A:E,5,0)","v":0.7},{"$f":"P10370-(P10370/1.0025)","v":7.0374064837903205E-2},28.22]
[{"$error":"#N/A"},null,null,null,null,855718,null,"SPR","PK","PEN,MEDIUM,36PK,BLACK"," ",82.62,33,{"$f":"VLOOKUP(M10389,DFL!A:H,8,0)","v":0.55000000000000004},{"$f":"P10389-(P10389/1.0025)","v":9.2718204488775768E-2},37.18]
[{"$error":"#N/A"},null,null,null,null,133988,"SPR","SPR","EA","COVER,TABLE,6',BE"," ",49.94,48,{"$f":"VLOOKUP(M10404,DFL!A:H,8,0)","v":0.3},{"$f":"P10404-(P10404/1.0025)","v":8.7182044887775589E-2},34.96]
[{"$error":"#N/A"},null,null,null,null,9233944,"SPR","SPR","EA","STAND,MONITOR,CORNER,GLASS",null,41.41,48,{"$f":"VLOOKUP(M10412,DFL!A:H,8,0)","v":0.3},{"$f":"P10412-(P10412/1.0025)","v":7.2294264339149095E-2},28.99]
[{"$error":"#N/A"},null,null,null,null,938647,"SPR","SPR","BX","FOLDER,HANG,BB,LTR,2\"EXP,GREEN","010/010,EPP (eVine),10% post-consumer (paper),SFI Certified Sourcing (Black)",74.78,35,{"$f":"VLOOKUP(M10425,DFL!A:H,8,0)","v":0.6},{"$f":"P10425-(P10425/1.0025)","v":7.4588528678301458E-2},29.91]
[{"$error":"#N/A"},null,null,null,null,9440174,"SPR","SPR","BD","TAPE,ROLL,TRNS,1/2X1296,6PK",null,58.26,39,{"$f":"VLOOKUP(M10440,DFL!A:H,8,0)","v":0.5},{"$f":"P10440-(P10440/1.0025)","v":7.2643391521197032E-2},29.13]
[{"$error":"#N/A"},null,null,null,null,8086705,"SPR","SPR","EA","CADDY;DESK;MTL;MOD PERF;WHT",null,79.33,31,{"$f":"VLOOKUP(M10459,DFL!A:H,8,0)","v":0.49},{"$f":"P10459-(P10459/1.0025)","v":0.10089775561097269},40.46]
[{"$error":"#N/A"},null,null,null,null,7626992,"SPR","SPR","EA","DESK,STEERING WHL,BK",null,35.69,29,{"$f":"VLOOKUP(M10474,DFL!A:H,8,0)","v":0.3},{"$f":"P10474-(P10474/1.0025)","v":6.2294264339151084E-2},24.98]
[28.71,null,null,null,null,8577323,"BSD","BSD","CT","REFILL,FRESHMATIC,LAVN/CAML",null,58.92,19,{"$f":"VLOOKUP(M10485,DFL!A:E,5,0)","v":0.5},{"$f":"P10485-(P10485/1.0025)","v":7.3466334164585589E-2},29.46]
[{"$error":"#N/A"},null,null,null,null,538789,"SPR","SPR","EA","HOLDER,FORM,ALUM,8.5X14"," ",73.86,35,{"$f":"VLOOKUP(M10509,DFL!A:H,8,0)","v":0.6},{"$f":"P10509-(P10509/1.0025)","v":7.3665835411468095E-2},29.54]
[{"$error":"#N/A"},null,null,null,null,657717,null,"SPR","EA","SOAP,DIAL,FOAM,1GAL EA"," ",59.09,19,{"$f":"VLOOKUP(M10510,DFL!A:H,8,0)","v":0.45},{"$f":"P10510-(P10510/1.0025)","v":8.1047381546135E-2},{"$f":"ROUND(L10510*(1-N10510),2)","v":32.5}]
[{"$error":"#N/A"},null,null,null,null,293020,"SPR","SPR","RM","PAPER,COPY,COLOR,12X18"," ",88.46,32,{"$f":"VLOOKUP(M10529,DFL!A:H,8,0)","v":0.65},{"$f":"P10529-(P10529/1.0025)","v":7.7206982543639668E-2},30.96]
[{"$error":"#N/A"},null,null,null,null,347115,"SPR","SPR","BX","EYEWEAR, SAFETY, ADJUSTABLE"," ",52.16,22,{"$f":"VLOOKUP(M10543,DFL!A:H,8,0)","v":0.41},{"$f":"P10543-(P10543/1.0025)","v":7.6733167082291942E-2},30.77]
[{"$error":"#N/A"},null,null,null,null,544255,"BSD","BSD","BX","FLDR,CLASS,PRSBRD,1D,LTR,YW"," ",104.1,35,{"$f":"VLOOKUP(M10560,DFL!A:E,5,0)","v":0.7},{"$f":"P10560-(P10560/1.0025)","v":7.78802992518699E-2},31.23]
[{"$error":"#N/A"},null,null,null,null,491221,"BSD","BSD","BX","ENVELOPE,COIN,GUM,#3,500/BX",null,100.06,27,{"$f":"VLOOKUP(M10579,DFL!A:E,5,0)","v":0.67},{"$f":"P10579-(P10579/1.0025)","v":8.2344139650871284E-2},33.020000000000003]
[{"$error":"#N/A"},null,null,null,null,219481,"BSD","BSD","EA","Custom ECO-GREEN Xstamper¬Æ Pre-Inked Stamp, N14, 66% Recycled, 5/8\" x 2-3/8\" Impression",null,83.32,24,{"$f":"VLOOKUP(M10594,DFL!A:E,5,0)","v":0.63},{"$f":"P10594-(P10594/1.0025)","v":7.6882793017453821E-2},30.83]
[{"$error":"#N/A"},null,null,null,null,9323247,"SPR","SPR","PK","LABEL,TAG,ASSET,WHT,64PK",null,53.75,26,{"$f":"VLOOKUP(M10599,DFL!A:H,8,0)","v":0.44},{"$f":"P10599-(P10599/1.0025)","v":7.5062344139649184E-2},30.1]
[{"$error":"#N/A"},null,null,null,null,252593,"SPR","SPR","PK","DIVIDER,SET,LTR,1/5C,MAN,50/PK"," ",78.72,35,{"$f":"VLOOKUP(M10616,DFL!A:H,8,0)","v":0.6},{"$f":"P10616-(P10616/1.0025)","v":7.8528678304238042E-2},31.49]
[{"$error":"#N/A"},null,null,null,null,9948344,null,"SPR","CT"," LAMINATE POUCH LTR 3MIL 250PK",null,91.83,45,{"$f":"VLOOKUP(M10630,DFL!A:H,8,0)","v":0.35},{"$f":"P10630-(P10630/1.0025)","v":0.14885286783042062},59.69]
[{"$error":"#N/A"},null,null,null,null,976288,"SPR","SPR","EA","STAPLER,PAPERPRO,HI-CAPACITY"," ",65.62,37,{"$f":"VLOOKUP(M10649,DFL!A:H,8,0)","v":0.5},{"$f":"P10649-(P10649/1.0025)","v":8.1820448877806484E-2},32.81]
[{"$error":"#N/A"},null,null,null,null,8108124,"BSD","BSD","EA","INK,REPL,HP,902XL,CMY",null,63.79,44,{"$f":"VLOOKUP(M10664,DFL!A:E,5,0)","v":0.52},{"$f":"P10664-(P10664/1.0025)","v":7.6359102244389021E-2},30.62]
[{"$error":"#N/A"},null,null,null,null,9817000,"BSD","BSD","BX","PEN,GEL,PILOT,G2,FN,BE,36PC",null,87.84,33,{"$f":"VLOOKUP(M10679,DFL!A:E,5,0)","v":0.65},{"$f":"P10679-(P10679/1.0025)","v":7.6658354114712779E-2},30.74]
[{"$error":"#N/A"},null,null,null,null,589868,"SPR","SPR","CT","DETERGENT,DISH,CLEMENTINE",null,55.98,19,{"$f":"VLOOKUP(M10689,DFL!A:H,8,0)","v":0.45},{"$f":"P10689-(P10689/1.0025)","v":7.6783042394012568E-2},30.79]
[{"$error":"#N/A"},null,null,null,null,8246540,"SPR","SPR","EA","ORGANIZER,ACRYLIC,FILE,SORT",null,60.57,31,{"$f":"VLOOKUP(M10700,DFL!A:H,8,0)","v":0.49},{"$f":"P10700-(P10700/1.0025)","v":7.70324189526157E-2},{"$f":"ROUND(L10700*(1-N10700),2)","v":30.89}]
[{"$error":"#N/A"},null,null,null,null,911247,null,"SPR","EA","RECORD BK, BLK ULTIMA, 300 PG",null,116.71,30,{"$f":"VLOOKUP(M10719,DFL!A:H,8,0)","v":0.57999999999999996},{"$f":"P10719-(P10719/1.0025)","v":0.12224438902742918},49.02]
[{"$error":"#N/A"},null,null,null,null,9940967,"BSD","BSD","PK","Red Baron Deep Dish Pizza Singles Variety Pack, 4-Cheese/Pepperoni, 70.56-Oz, Box Of 12",null,60.37,48,{"$f":"VLOOKUP(M10734,DFL!A:E,5,0)","v":0.42},{"$f":"P10734-(P10734/1.0025)","v":8.7306733167082484E-2},35.01]
[{"$error":"#N/A"},null,null,null,null,459735,"SPR","SPR","DZ","MARKER,UNIPAINT,OIL,FINE,RD",null,63.6,28,{"$f":"VLOOKUP(M10749,DFL!A:H,8,0)","v":0.48},{"$f":"P10749-(P10749/1.0025)","v":8.2468827930171074E-2},33.07]
[{"$error":"#N/A"},null,null,null,null,597196,"BSD","BSD","EA","DVD-R,4.7GB,16X,100 SPINDLE"," ",64.180000000000007,14,{"$f":"VLOOKUP(M10762,DFL!A:E,5,0)","v":0.46},{"$f":"P10762-(P10762/1.0025)","v":8.6433915211969747E-2},34.659999999999997]
[{"$error":"#N/A"},null,null,null,null,677017,"SPR","SPR","EA","ADAPTER,3.0 TO ETHERNET",null,44.99,48,{"$f":"VLOOKUP(M10770,DFL!A:H,8,0)","v":0.3},{"$f":"P10770-(P10770/1.0025)","v":7.8528678304238042E-2},31.49]
[{"$error":"#N/A"},null,null,null,null,712888,"BSD","BSD","CA","PLATE,COATED,WHITE,8.5\""," ",78.69,18,{"$f":"VLOOKUP(M10789,DFL!A:E,5,0)","v":0.55000000000000004},{"$f":"P10789-(P10789/1.0025)","v":8.830423940149501E-2},35.409999999999997]
[{"$error":"#N/A"},null,null,null,null,950171,"SPR","SPR","EA","SURGE,12OUT,TEL,DSS,3960J",null,59.99,6,{"$f":"VLOOKUP(M10804,DFL!A:H,8,0)","v":0.47},{"$f":"P10804-(P10804/1.0025)","v":7.9276807980047437E-2},31.79]
[{"$error":"#N/A"},null,null,null,null,8384278,"SPR","SPR","BX","SNACK,PRTZL,NUTELLA&GO",null,49.35,48,{"$f":"VLOOKUP(M10819,DFL!A:H,8,0)","v":0.3},{"$f":"P10819-(P10819/1.0025)","v":8.6159600997504526E-2},34.549999999999997]
[{"$error":"#N/A"},null,null,null,null,6420801,null,"SPR","CT","CLEANER;B.RM;NO ACID;RTU;QT",null,68.37,19,{"$f":"VLOOKUP(M10835,DFL!A:H,8,0)","v":0.45},{"$f":"P10835-(P10835/1.0025)","v":9.3765586034912474E-2},37.6]
[{"$error":"#N/A"},null,null,null,null,1895446,"SPR","SPR","EA","BOARD,CORK,2X1.5"," ",49.97,10,{"$f":"VLOOKUP(M10840,DFL!A:H,8,0)","v":0.36},{"$f":"P10840-(P10840/1.0025)","v":7.9750623441395163E-2},31.98]
[{"$error":"#N/A"},null,null,null,null,1385290,"BSD","BSD","PK","COPPERTOP AA ALKALINE 36 PK"," ",74.53,6,{"$f":"VLOOKUP(M10855,DFL!A:E,5,0)","v":0.56999999999999995},{"$f":"P10855-(P10855/1.0025)","v":7.9925187032415579E-2},32.049999999999997]
[{"$error":"#N/A"},null,null,null,null,8481233,"SPR","SPR","PK","BOOK,STENO,GREGG,60SH,WE",null,76.8,30,{"$f":"VLOOKUP(M10874,DFL!A:H,8,0)","v":0.57999999999999996},{"$f":"P10874-(P10874/1.0025)","v":8.0448877805487484E-2},32.26]
[{"$error":"#N/A"},null,null,null,null,295383,null,"SPR","ST","KIT;BASE;STARTER;10;150PC",null,44.39,48,{"$f":"VLOOKUP(M10889,DFL!A:H,8,0)","v":0.3},{"$f":"P10889-(P10889/1.0025)","v":7.7481296758101337E-2},31.07]
[{"$error":"#N/A"},null,null,null,null,600635,null,"SPR","CT","BOX,MOVING,LARGE,5PK"," ",83.09,3,{"$f":"VLOOKUP(M10893,DFL!A:H,8,0)","v":0.5},{"$f":"P10893-(P10893/1.0025)","v":0.10361596009974505},41.55]
[{"$error":"#N/A"},null,null,null,null,938498,"SPR","SPR","BX","FOLDER,HANG,LGL,PINK,1/5 CUT"," ",83.73,35,{"$f":"VLOOKUP(M10910,DFL!A:H,8,0)","v":0.6},{"$f":"P10910-(P10910/1.0025)","v":8.3516209476307779E-2},33.49]
[{"$error":"#N/A"},null,null,null,null,463203,"SPR","SPR","BX","FOLDER,BXBTM,TUFF,LGL,18BX,GRY"," ",84.96,35,{"$f":"VLOOKUP(M10925,DFL!A:H,8,0)","v":0.6},{"$f":"P10925-(P10925/1.0025)","v":8.4738154613461347E-2},33.979999999999997]
[{"$error":"#N/A"},null,null,null,null,785191,"SPR","SPR","BX","FOLDER,W/EXT TAB,LTR,MLA"," ",85.36,35,{"$f":"VLOOKUP(M10944,DFL!A:H,8,0)","v":0.6},{"$f":"P10944-(P10944/1.0025)","v":8.5137157107233463E-2},34.14]
[{"$error":"#N/A"},null,null,null,null,268709,"SPR","SPR","CT","DUSTER,180,STARTER KIT",null,66.36,19,{"$f":"VLOOKUP(M10959,DFL!A:H,8,0)","v":0.45},{"$f":"P10959-(P10959/1.0025)","v":9.1022443890274474E-2},36.5]
[{"$error":"#N/A"},null,null,null,null,546016,"BSD","BSD","BX","MANILA JKT,LGL,2\" EXP,REINF","010/010,EPP (eVine),10% post-consumer,SFI Certified Sourcing (Black)",107.54,35,{"$f":"VLOOKUP(M10966,DFL!A:E,5,0)","v":0.7},{"$f":"P10966-(P10966/1.0025)","v":8.0448877805487484E-2},32.26]
[{"$error":"#N/A"},null,null,null,null,9112506,"BSD","BSD","BX"," 5x7FC PC WhiteGlossCover100#",null,60.12,48,{"$f":"VLOOKUP(M10980,DFL!A:E,5,0)","v":0.42},{"$f":"P10980-(P10980/1.0025)","v":8.6957605985034547E-2},34.869999999999997]
[{"$error":"#N/A"},null,null,null,null,1239085,null,"SPR","EA"," AC 600 Mini Wifi USB Adapter",null,47.49,48,{"$f":"VLOOKUP(M10995,DFL!A:H,8,0)","v":0.3},{"$f":"P10995-(P10995/1.0025)","v":8.2892768079801726E-2},33.24]
[{"$error":"#N/A"},null,null,null,null,298956,"SPR","SPR","EA","COVER,TABLE,8',BK"," ",57.61,48,{"$f":"VLOOKUP(M11014,DFL!A:H,8,0)","v":0.3},{"$f":"P11014-(P11014/1.0025)","v":0.10057356608478329},{"$f":"ROUND(L11014*(1-N11014),2)","v":40.33}]
[{"$error":"#N/A"},null,null,null,null,5730892,"SPR","SPR","BX","HOLDER,BADGE,LOOP,BK",null,60.94,5,{"$f":"VLOOKUP(M11024,DFL!A:H,8,0)","v":0.45},{"$f":"P11024-(P11024/1.0025)","v":8.3591022443890495E-2},33.520000000000003]
[{"$error":"#N/A"},null,null,null,null,7005996,"SPR","SPR","PK","TAPE,ROLL,INVIS,3/4X1296\"",null,67.319999999999993,39,{"$f":"VLOOKUP(M11045,DFL!A:H,8,0)","v":0.5},{"$f":"P11045-(P11045/1.0025)","v":8.3940149625931326E-2},33.659999999999997]
[{"$error":"#N/A"},null,null,null,null,5310734,"SPR","SPR","CT","FRESHENER,MAXOIL,COOLCLEAN",null,66.900000000000006,19,{"$f":"VLOOKUP(M11050,DFL!A:H,8,0)","v":0.45},{"$f":"P11050-(P11050/1.0025)","v":9.1770573566080316E-2},36.799999999999997]
[{"$error":"#N/A"},null,null,null,null,807958,"SPR","SPR","EA","FRAMELESS 15.6W9 ANTI GLARE"," ",64.739999999999995,48,{"$f":"VLOOKUP(M11065,DFL!A:H,8,0)","v":0.3},{"$f":"P11065-(P11065/1.0025)","v":0.11301745635910265},45.32]
[{"$error":"#N/A"},null,null,null,null,645927,"BSD","BSD","BX","FOLDER,LTR,1/3,250BX,MANILA",null,111.14,35,{"$f":"VLOOKUP(M11084,DFL!A:E,5,0)","v":0.7},{"$f":"P11084-(P11084/1.0025)","v":8.3142144638401305E-2},33.340000000000003]
[{"$error":"#N/A"},null,null,null,null,397712,null,"SPR","EA","MOP,SPONGE,ROLLER"," ",61.96,19,{"$f":"VLOOKUP(M11097,DFL!A:H,8,0)","v":0.45},{"$f":"P11097-(P11097/1.0025)","v":8.4987531172068032E-2},34.08]
[{"$error":"#N/A"},null,null,null,null,6035036,"BSD","BSD","EA","INK,HP 63XL,63,BLACK,COLOR",null,71.27,44,{"$f":"VLOOKUP(M11115,DFL!A:E,5,0)","v":0.52},{"$f":"P11115-(P11115/1.0025)","v":8.5311720698250326E-2},34.21]
[{"$error":"#N/A"},null,null,null,null,7240823,"SPR","SPR","BX","ENVELOPE,CLASP,HVD,9.5X12.5",null,81.78,27,{"$f":"VLOOKUP(M11134,DFL!A:H,8,0)","v":0.57999999999999996},{"$f":"P11134-(P11134/1.0025)","v":8.5660847880298263E-2},34.35]
[{"$error":"#N/A"},null,null,null,null,7009855,"SPR","SPR","PK","LABEL,IJ/LSR,2X4,WE,1000",null,63.3,26,{"$f":"VLOOKUP(M11135,DFL!A:H,8,0)","v":0.44},{"$f":"P11135-(P11135/1.0025)","v":8.8403990024936263E-2},35.450000000000003]
[{"$error":"#N/A"},null,null,null,null,7781702,"SPR","SPR","BX","FOLDER,HANG,BXBTM,3\"EXP,LGL",null,88.85,35,{"$f":"VLOOKUP(M11150,DFL!A:H,8,0)","v":0.6},{"$f":"P11150-(P11150/1.0025)","v":8.8628428927677305E-2},35.54]
[{"$error":"#N/A"},null,null,null,null,303361,"SPR","SPR","CT","PAPER,TOWEL,ROLL,2PLY,15/CA",null,64.59,40,{"$f":"VLOOKUP(M11170,DFL!A:H,8,0)","v":0.44},{"$f":"P11170-(P11170/1.0025)","v":9.019950124687881E-2},36.17]
[{"$error":"#N/A"},null,null,null,null,680177,"SPR","SPR","EA","BADGE,VSTR,REGSTR LOG,WH",null,63.36,5,{"$f":"VLOOKUP(M11185,DFL!A:H,8,0)","v":0.45},{"$f":"P11185-(P11185/1.0025)","v":8.6907730673317474E-2},34.85]
[{"$error":"#N/A"},null,null,null,null,979302,"BSD","BSD","BX","simplehuman¬Æ Custom Fit Can Liners, J, 30-40L/8-10G, White, Pack Of 240",null,66,12,{"$f":"VLOOKUP(M11204,DFL!A:E,5,0)","v":0.47},{"$f":"P11204-(P11204/1.0025)","v":8.7231920199499768E-2},34.979999999999997]
[{"$error":"#N/A"},null,null,null,null,8268950,"SPR","SPR","EA","HEADSET,DESKTOP,UNVSL,BINAL",null,49.99,23,{"$f":"VLOOKUP(M11219,DFL!A:H,8,0)","v":0.3},{"$f":"P11219-(P11219/1.0025)","v":8.7256857855358305E-2},34.99]
[{"$error":"#N/A"},null,null,null,null,531638,null,"SPR","EA"," WIRELESS COMBO MK345",null,49.99,29,{"$f":"VLOOKUP(M11220,DFL!A:H,8,0)","v":0.3},{"$f":"P11220-(P11220/1.0025)","v":8.7256857855358305E-2},34.99]
[{"$error":"#N/A"},null,null,null,null,901635,"SPR","SPR","CT","BOARD;POSTER;22X28;FLUR AST",null,54.91,10,{"$f":"VLOOKUP(M11243,DFL!A:H,8,0)","v":0.36},{"$f":"P11243-(P11243/1.0025)","v":8.7630922693264779E-2},35.14]
[{"$error":"#N/A"},null,null,null,null,9763413,"SPR","SPR","CT","CREAMER,CREME,SWT,ITALIAN",null,50.24,48,{"$f":"VLOOKUP(M11255,DFL!A:H,8,0)","v":0.3},{"$f":"P11255-(P11255/1.0025)","v":8.7705735660847495E-2},35.17]
[{"$error":"#N/A"},null,null,null,null,226218,"BSD","BSD","EA"," NUTRIGRAIN BFAST ASST 48CT",null,60.82,48,{"$f":"VLOOKUP(M11274,DFL!A:E,5,0)","v":0.42},{"$f":"P11274-(P11274/1.0025)","v":8.7980049875312716E-2},35.28]
[{"$error":"#N/A"},null,null,null,null,7537142,"BSD","BSD","BX"," 5x7FC2SPCWhiteGlossCover100#",null,64.34,48,{"$f":"VLOOKUP(M11289,DFL!A:E,5,0)","v":0.42},{"$f":"P11289-(P11289/1.0025)","v":9.3067331670823705E-2},37.32]
[{"$error":"#N/A"},null,null,null,null,9728168,"SPR","SPR","BD","PAPER,FILLER,CLG,11X8.5,200",null,84.7,30,{"$f":"VLOOKUP(M11304,DFL!A:H,8,0)","v":0.57999999999999996},{"$f":"P11304-(P11304/1.0025)","v":8.8703241895260021E-2},35.57]
[{"$error":"#N/A"},null,null,null,null,565571,"SPR","SPR","EA","DISPENSER;TISSUE;BATH;CHRM",null,52.45,48,{"$f":"VLOOKUP(M11316,DFL!A:H,8,0)","v":0.3},{"$f":"P11316-(P11316/1.0025)","v":9.157107231919781E-2},36.72]
[{"$error":"#N/A"},null,null,null,null,5406125,"SPR","SPR","EA","CRTDG,LSR,HP17A,BK",null,80.22,44,{"$f":"VLOOKUP(M11325,DFL!A:H,8,0)","v":0.5},{"$f":"P11325-(P11325/1.0025)","v":0.10002493765585996},40.11]
[{"$error":"#N/A"},null,null,null,null,8269530,"BSD","BSD","PK","BOX,L/L,OD,STANDARD,12PK",null,99.66,3,{"$f":"VLOOKUP(M11340,DFL!A:E,5,0)","v":0.61},{"$f":"P11340-(P11340/1.0025)","v":9.6932668329174021E-2},38.869999999999997]
[{"$error":"#N/A"},null,null,null,null,945261,"BSD","BSD","BX","BADGE,NAME,LASER,PLAIN,WHITE"," ",89.8,5,{"$f":"VLOOKUP(M11359,DFL!A:E,5,0)","v":0.6},{"$f":"P11359-(P11359/1.0025)","v":8.9576059850372758E-2},35.92]
[{"$error":"#N/A"},null,null,null,null,791414,"BSD","BSD","CA","LINER,HD,30X37,16MIC,NAT,250"," ",67.91,12,{"$f":"VLOOKUP(M11374,DFL!A:E,5,0)","v":0.47},{"$f":"P11374-(P11374/1.0025)","v":8.9750623441396726E-2},35.99]
[{"$error":"#N/A"},null,null,null,null,717271,"SPR","SPR","EA","GAME;MAT;CHALLENGE;MATH",null,51.53,48,{"$f":"VLOOKUP(M11389,DFL!A:H,8,0)","v":0.3},{"$f":"P11389-(P11389/1.0025)","v":8.9950124688279232E-2},36.07]
[{"$error":"#N/A"},null,null,null,null,6753276,"SPR","SPR","BD","NOTEBOOK,WIRE,CLLG,1SUB,100",null,86.04,30,{"$f":"VLOOKUP(M11395,DFL!A:H,8,0)","v":0.57999999999999996},{"$f":"P11395-(P11395/1.0025)","v":9.01246882793032E-2},36.14]
[{"$error":"#N/A"},null,null,null,null,596710,"SPR","SPR","EA","HOLDER,DESKTOP,REFERENCE"," ",75.97,31,{"$f":"VLOOKUP(M11410,DFL!A:H,8,0)","v":0.49},{"$f":"P11410-(P11410/1.0025)","v":9.6608478802991726E-2},38.74]
[{"$error":"#N/A"},null,null,null,null,548092,"BSD","BSD","PK","16 X 12 X 12  CORRUGATED CARTO",null,105.83,3,{"$f":"VLOOKUP(M11429,DFL!A:E,5,0)","v":0.61},{"$f":"P11429-(P11429/1.0025)","v":0.10291770573565628},41.27]
[{"$error":"#N/A"},null,null,null,null,380746,"SPR","SPR","EA","FLAG,INDICATOR,6-FLAG,PRIM",null,52.06,48,{"$f":"VLOOKUP(M11444,DFL!A:H,8,0)","v":0.3},{"$f":"P11444-(P11444/1.0025)","v":9.0872817955109042E-2},36.44]
[{"$error":"#N/A"},null,null,null,null,896083,"BSD","BSD","PK","WASTEBASKETS,OD,28QT,3PK,BLK"," ",68.78,12,{"$f":"VLOOKUP(M11447,DFL!A:E,5,0)","v":0.47},{"$f":"P11447-(P11447/1.0025)","v":9.0897755610967579E-2},36.450000000000003]
[{"$error":"#N/A"},null,null,null,null,532543,"SPR","SPR","BX","ENVELOPE,COIN,#1,28#,KT"," ",87.01,27,{"$f":"VLOOKUP(M11465,DFL!A:H,8,0)","v":0.57999999999999996},{"$f":"P11465-(P11465/1.0025)","v":9.1122194513715726E-2},36.54]
[{"$error":"#N/A"},null,null,null,null,633033,"BSD","BSD","BX","POCKET,TB5.25\"LTR"," ",119.86,35,{"$f":"VLOOKUP(M11480,DFL!A:E,5,0)","v":0.7},{"$f":"P11480-(P11480/1.0025)","v":8.967581047381401E-2},35.96]
[{"$error":"#N/A"},null,null,null,null,290776,"SPR","SPR","CA"," PNT RTU TEMPERA 12 16OZ ASST",null,73.67,47,{"$f":"VLOOKUP(M11499,DFL!A:H,8,0)","v":0.5},{"$f":"P11499-(P11499/1.0025)","v":9.1870324189521568E-2},36.840000000000003]
[{"$error":"#N/A"},null,null,null,null,923476,"BSD","BSD","EA"," Centon DataStick Pro ",null,44.99,46,{"$f":"VLOOKUP(M11505,DFL!A:E,5,0)","v":0.35},{"$f":"P11505-(P11505/1.0025)","v":7.29177057356587E-2},29.24]
[{"$error":"#N/A"},null,null,null,null,2486045,"SPR","SPR","CT","CLEANER;DEGREASER;RTU;QUART",null,76.489999999999995,19,{"$f":"VLOOKUP(M11530,DFL!A:H,8,0)","v":0.45},{"$f":"P11530-(P11530/1.0025)","v":0.10491271820448844},42.07]
[{"$error":"#N/A"},null,null,null,null,5972695,"SPR","SPR","EA","7 OUTLET ECO SURGE PROTECTOR",null,71.989999999999995,6,{"$f":"VLOOKUP(M11535,DFL!A:H,8,0)","v":0.47},{"$f":"P11535-(P11535/1.0025)","v":9.5137157107231474E-2},38.15]
[{"$error":"#N/A"},null,null,null,null,8253463,"SPR","SPR","EA","SIGN,8\"X8\",ADA,UNISEX,RR",null,58.19,36,{"$f":"VLOOKUP(M11550,DFL!A:H,8,0)","v":0.36},{"$f":"P11550-(P11550/1.0025)","v":9.28678304239412E-2},37.24]
[{"$error":"#N/A"},null,null,null,null,5817308,"SPR","SPR","CT","SUGAR,SWEET-N-LOW",null,53.04,48,{"$f":"VLOOKUP(M11569,DFL!A:H,8,0)","v":0.3},{"$f":"P11569-(P11569/1.0025)","v":9.2593516209475979E-2},37.130000000000003]
[36.119999999999997,null,null,null,null,604075,"BSD","BSD","CT","CLEANER,FOAM,LYSOL"," ",74.64,19,{"$f":"VLOOKUP(M11578,DFL!A:E,5,0)","v":0.5},{"$f":"P11578-(P11578/1.0025)","v":9.3067331670823705E-2},37.32]
[{"$error":"#N/A"},null,null,null,null,281708,"SPR","SPR","BX","CFLDR LTR REC 2DIV BR"," ",97.7,35,{"$f":"VLOOKUP(M11600,DFL!A:H,8,0)","v":0.6},{"$f":"P11600-(P11600/1.0025)","v":9.7456359102238821E-2},39.08]
[{"$error":"#N/A"},null,null,null,null,223294,"SPR","SPR","BX","C/FLDR LTR 2/5 ROC RECYC 2-DIV",null,97.7,35,{"$f":"VLOOKUP(M11605,DFL!A:H,8,0)","v":0.6},{"$f":"P11605-(P11605/1.0025)","v":9.7456359102238821E-2},39.08]
[{"$error":"#N/A"},null,null,null,null,3830510,"BSD","BSD","CA","Purell¬Æ Healthcare Advanced Gel Hand Sanitizer Refills, For ES4 Push-Style Dispensers, Citrus Scent, 40.6 Oz, Case Of 2 Refills",null,75.28,19,{"$f":"VLOOKUP(M11620,DFL!A:E,5,0)","v":0.5},{"$f":"P11620-(P11620/1.0025)","v":9.3865336658353726E-2},37.64]
[{"$error":"#N/A"},null,null,null,null,129571,"SPR","SPR","BX","COLOR TAB,ASS'T,1-8(24PK)"," ",101.34,35,{"$f":"VLOOKUP(M11635,DFL!A:H,8,0)","v":0.6},{"$f":"P11635-(P11635/1.0025)","v":0.1010972568578552},40.54]
[{"$error":"#N/A"},null,null,null,null,596815,"SPR","SPR","ST","CASTERS,DUET,HARD FLOOR"," ",54.15,48,{"$f":"VLOOKUP(M11651,DFL!A:H,8,0)","v":0.3},{"$f":"P11651-(P11651/1.0025)","v":9.4538653366583958E-2},37.909999999999997]
[{"$error":"#N/A"},null,null,null,null,935759,"BSD","BSD","BX","FOLDER,PRSBD,W/FASTENER,25/BX"," ",132.69999999999999,35,{"$f":"VLOOKUP(M11670,DFL!A:E,5,0)","v":0.7},{"$f":"P11670-(P11670/1.0025)","v":9.927680798004701E-2},39.81]
[{"$error":"#N/A"},null,null,null,null,532188,"SPR","SPR","BX","ENVELOPE,CATALOG,17X22"," ",97.96,27,{"$f":"VLOOKUP(M11675,DFL!A:H,8,0)","v":0.57999999999999996},{"$f":"P11675-(P11675/1.0025)","v":0.10259351620947399},41.14]
[{"$error":"#N/A"},null,null,null,null,491203,"BSD","BSD","BX","ENVELOPE,COIN,GUM,#7,KT,500/PK",null,127.6,27,{"$f":"VLOOKUP(M11690,DFL!A:E,5,0)","v":0.67},{"$f":"P11690-(P11690/1.0025)","v":0.10501246882792969},42.11]
[{"$error":"#N/A"},null,null,null,null,980095,"SPR","SPR","BX","LABEL,SHPG,RCY,2X4,1000BX,WHT","100/100,EPP (eVine),CPG,100% post-consumer (paper),FSC",68.48,26,{"$f":"VLOOKUP(M11705,DFL!A:H,8,0)","v":0.44},{"$f":"P11705-(P11705/1.0025)","v":9.5635910224437737E-2},38.35]
[{"$error":"#N/A"},null,null,null,null,362019,null,"SPR","EA"," INK REPLACE HP 970 BK",null,76.95,44,{"$f":"VLOOKUP(M11724,DFL!A:H,8,0)","v":0.5},{"$f":"P11724-(P11724/1.0025)","v":9.5960099750620032E-2},38.479999999999997]
[{"$error":"#N/A"},null,null,null,null,8367458,"SPR","SPR","CT","BINDER;DV;2\";WHITE;4PK",null,94.4,8,{"$f":"VLOOKUP(M11740,DFL!A:H,8,0)","v":0.55000000000000004},{"$f":"P11740-(P11740/1.0025)","v":0.10593516209475951},42.48]
[{"$error":"#N/A"},null,null,null,null,305027,"SPR","SPR","EA","CLEANSER;SKIN;FOAM;GRN;1.5L",null,74.11,19,{"$f":"VLOOKUP(M11759,DFL!A:H,8,0)","v":0.45},{"$f":"P11759-(P11759/1.0025)","v":0.10164588528677854},40.76]
[{"$error":"#N/A"},null,null,null,null,5006274,"SPR","SPR","PK","PENS,ROLLING BALL,V5,RT,TUB",null,86.1,33,{"$f":"VLOOKUP(M11760,DFL!A:H,8,0)","v":0.55000000000000004},{"$f":"P11760-(P11760/1.0025)","v":9.6633416458850263E-2},38.75]
[{"$error":"#N/A"},null,null,null,null,3473909,"SPR","SPR","PK","WRISTBANDS, TYVEK, NEON PNK",null,57.68,48,{"$f":"VLOOKUP(M11775,DFL!A:H,8,0)","v":0.3},{"$f":"P11775-(P11775/1.0025)","v":0.10069825436409019},40.380000000000003]
[{"$error":"#N/A"},null,null,null,null,464620,"SPR","SPR","BX","FLDR,ET LTR,W/FAST1&3,MLA"," ",100.61,35,{"$f":"VLOOKUP(M11797,DFL!A:H,8,0)","v":0.6},{"$f":"P11797-(P11797/1.0025)","v":0.10034912718204225},40.24]
[{"$error":"#N/A"},null,null,null,null,728405,"SPR","SPR","PK","CVER,BIND,LINEN,EXPRSN,LTR",null,100.03,8,{"$f":"VLOOKUP(M11810,DFL!A:H,8,0)","v":0.55000000000000004},{"$f":"P11810-(P11810/1.0025)","v":0.11224438902743117},45.01]
[{"$error":"#N/A"},null,null,null,null,384611,"BSD","BSD","EA"," CARTRIDGE INK #15 810C/812C",null,71.489999999999995,41,{"$f":"VLOOKUP(M11825,DFL!A:E,5,0)","v":0.45},{"$f":"P11825-(P11825/1.0025)","v":9.8054862842893442E-2},39.32]
[{"$error":"#N/A"},null,null,null,null,269754,"SPR","SPR","EA","LABEL,RHINO3/8\"X5'HEATSHRK"," ",70.61,26,{"$f":"VLOOKUP(M11844,DFL!A:H,8,0)","v":0.44},{"$f":"P11844-(P11844/1.0025)","v":9.8603491271816779E-2},39.54]
[{"$error":"#N/A"},null,null,null,null,394993,null,"SPR","PK","PAD,LGLRLD,WRBND8.5X11.75CA"," ",94.15,30,{"$f":"VLOOKUP(M11845,DFL!A:H,8,0)","v":0.57999999999999996},{"$f":"P11845-(P11845/1.0025)","v":9.8603491271816779E-2},39.54]
[{"$error":"#N/A"},null,null,null,null,546898,"BSD","BSD","BX","EXPANDING PKT,LEGAL,3 1/2\"",null,129.91,35,{"$f":"VLOOKUP(M11870,DFL!A:E,5,0)","v":0.7},{"$f":"P11870-(P11870/1.0025)","v":9.7182044887780705E-2},38.97]
[{"$error":"#N/A"},null,null,null,null,6610507,"SPR","SPR","BX","JACKET,FILE,LGL,1\"EXP,MLA",null,102.67,35,{"$f":"VLOOKUP(M11880,DFL!A:H,8,0)","v":0.6},{"$f":"P11880-(P11880/1.0025)","v":0.10241895261845002},41.07]
[{"$error":"#N/A"},null,null,null,null,354513,"SPR","SPR","EA","ORGANIZER,CONDIMENT,6,BK"," ",81.52,18,{"$f":"VLOOKUP(M11895,DFL!A:H,8,0)","v":0.44},{"$f":"P11895-(P11895/1.0025)","v":0.11384039900249121},45.65]
[{"$error":"#N/A"},null,null,null,null,157104,"BSD","BSD","BX","MRKER ,FINE TIP,CLSPK,CRAYOLA","Less Harsh Chemicals,ACMI certified",122.56,28,{"$f":"VLOOKUP(M11914,DFL!A:E,5,0)","v":0.63},{"$f":"P11914-(P11914/1.0025)","v":0.11309226932667826},45.35]
[{"$error":"#N/A"},null,null,null,null,464300,"SPR","SPR","BX","FLDR,LGL,W/FAST1&3,1/3,GN"," ",103.58,35,{"$f":"VLOOKUP(M11929,DFL!A:H,8,0)","v":0.6},{"$f":"P11929-(P11929/1.0025)","v":0.10331670822942129},41.43]
[{"$error":"#N/A"},null,null,null,null,337615,"BSD","BSD","CA","CUTLERY,SPOONS,WRAPPED,BLACK",null,89.55,18,{"$f":"VLOOKUP(M11942,DFL!A:E,5,0)","v":0.55000000000000004},{"$f":"P11942-(P11942/1.0025)","v":0.10049875311720768},40.299999999999997]
[{"$error":"#N/A"},null,null,null,null,562051,"SPR","SPR","BX","FOLDER,LGL,ET,CLASS,MAN"," ",105.2,35,{"$f":"VLOOKUP(M11950,DFL!A:H,8,0)","v":0.6},{"$f":"P11950-(P11950/1.0025)","v":0.10493765586034698},42.08]
[{"$error":"#N/A"},null,null,null,null,1240462,null,"SPR","EA","Targus¬Æ Strata Slip Case Sleeve For 15.6\" Laptops, Pewter",null,60.47,14,{"$f":"VLOOKUP(M11965,DFL!A:H,8,0)","v":0.31},{"$f":"P11965-(P11965/1.0025)","v":0.10403990024937571},41.72]
[{"$error":"#N/A"},null,null,null,null,784041,"SPR","SPR","BX","FOLDER,LGL,11PT,DBL,1/3,WHITE."," ",105.78,35,{"$f":"VLOOKUP(M11984,DFL!A:H,8,0)","v":0.6},{"$f":"P11984-(P11984/1.0025)","v":0.10551122194513596},42.31]
[{"$error":"#N/A"},null,null,null,null,378485,"SPR","SPR","PK","BADGE,ID REEL,HVYDTY,BKSR",null,88.98,5,{"$f":"VLOOKUP(M12001,DFL!A:H,8,0)","v":0.45},{"$f":"P12001-(P12001/1.0025)","v":0.12204488778054667},48.94]
[{"$error":"#N/A"},null,null,null,null,4829399,"SPR","SPR","EA","MOUSE,DUAL WIRELESS,ERGO",null,62.71,29,{"$f":"VLOOKUP(M12015,DFL!A:H,8,0)","v":0.3},{"$f":"P12015-(P12015/1.0025)","v":0.10947630922692753},43.9]
[{"$error":"#N/A"},null,null,null,null,3991327,"SPR","SPR","BX","ENVELOPE,DIAG SEAM,REG,#6",null,97.48,27,{"$f":"VLOOKUP(M12020,DFL!A:H,8,0)","v":0.57999999999999996},{"$f":"P12020-(P12020/1.0025)","v":0.10209476309226773},40.94]
[{"$error":"#N/A"},null,null,null,null,8367744,"SPR","SPR","PK","LABEL,TAG,METLC,SLV,64PK",null,73.27,26,{"$f":"VLOOKUP(M12035,DFL!A:H,8,0)","v":0.44},{"$f":"P12035-(P12035/1.0025)","v":0.10231920199500877},41.03]
[{"$error":"#N/A"},null,null,null,null,6911699,null,"SPR","CT"," SNACK BAR AGED CHEDDAR CHEESE",null,58.99,48,{"$f":"VLOOKUP(M12054,DFL!A:H,8,0)","v":0.3},{"$f":"P12054-(P12054/1.0025)","v":0.10296758104738046},41.29]
[{"$error":"#N/A"},null,null,null,null,877467,"SPR","SPR","CT","REFILL,WARMR,SCNTDOIL,TURQO",null,75.180000000000007,19,{"$f":"VLOOKUP(M12059,DFL!A:H,8,0)","v":0.45},{"$f":"P12059-(P12059/1.0025)","v":0.10311720698253879},41.35]
[{"$error":"#N/A"},null,null,null,null,440375,"SPR","SPR","CT","NAPKIN;9.5X9.5;WE",null,74.08,40,{"$f":"VLOOKUP(M12085,DFL!A:H,8,0)","v":0.44},{"$f":"P12085-(P12085/1.0025)","v":0.10344139650872819},41.48]
[{"$error":"#N/A"},null,null,null,null,991240,"SPR","SPR","BX","FOLDER,LGL,TT,2-PLY,50/BX,RED"," ",108.15,35,{"$f":"VLOOKUP(M12090,DFL!A:H,8,0)","v":0.6},{"$f":"P12090-(P12090/1.0025)","v":0.10788029925186748},43.26]
[{"$error":"#N/A"},null,null,null,null,714295,"BSD","BSD","EA","INK,EPSON,T786,STD,CAP,COLOR"," ",64.09,43,{"$f":"VLOOKUP(M12105,DFL!A:E,5,0)","v":0.35},{"$f":"P12105-(P12105/1.0025)","v":0.10389027431421027},41.66]
[{"$error":"#N/A"},null,null,null,null,126540,"SPR","SPR","BX","FOLDER,CLASS,LTR,2/5,2-DIV,GRY"," ",108.9,35,{"$f":"VLOOKUP(M12120,DFL!A:H,8,0)","v":0.6},{"$f":"P12120-(P12120/1.0025)","v":0.10862842892768043},43.56]
[{"$error":"#N/A"},null,null,null,null,570073,"SPR","SPR","EA","CLEANER;OXIVIRFIVE16;CONCEN",null,99.35,19,{"$f":"VLOOKUP(M12132,DFL!A:H,8,0)","v":0.45},{"$f":"P12132-(P12132/1.0025)","v":0.13625935162094294},54.64]
[{"$error":"#N/A"},null,null,null,null,9732787,"SPR","SPR","PK","REEL,ID CARD,TRNSLUCENT,4PK",null,91.84,5,{"$f":"VLOOKUP(M12155,DFL!A:H,8,0)","v":0.45},{"$f":"P12155-(P12155/1.0025)","v":0.12596009975062117},50.51]
[{"$error":"#N/A"},null,null,null,null,4898851,"SPR","SPR","ST","SET;LAB;SCNCE;PRMRY;DELUXE",null,60.13,48,{"$f":"VLOOKUP(M12160,DFL!A:H,8,0)","v":0.3},{"$f":"P12160-(P12160/1.0025)","v":0.10496259351620552},42.09]
[{"$error":"#N/A"},null,null,null,null,937706,"SPR","SPR","BX","FOLDER,LTR,2PLY,STRT-END,RED."," ",110.01,35,{"$f":"VLOOKUP(M12175,DFL!A:H,8,0)","v":0.6},{"$f":"P12175-(P12175/1.0025)","v":0.10972568578553421},44]
[{"$error":"#N/A"},null,null,null,null,692005,"SPR","SPR","EA","TONER,STANDARD YLD,BK",null,69.849999999999994,43,{"$f":"VLOOKUP(M12190,DFL!A:H,8,0)","v":0.3},{"$f":"P12190-(P12190/1.0025)","v":0.12194513715710542},48.9]
[{"$error":"#N/A"},null,null,null,null,557115,null,"SPR","BX","WRAPPING,BRN KRAFT,18\"WD40#"," ",101.1,27,{"$f":"VLOOKUP(M12205,DFL!A:H,8,0)","v":0.57999999999999996},{"$f":"P12205-(P12205/1.0025)","v":0.10588528678304243},42.46]
[{"$error":"#N/A"},null,null,null,null,943084,"SPR","SPR","EA","BOOK,RECORD,9-3/4X8,150-PAGE"," ",113.08,30,{"$f":"VLOOKUP(M12225,DFL!A:H,8,0)","v":0.57999999999999996},{"$f":"P12225-(P12225/1.0025)","v":0.11842892768079594},47.49]
[{"$error":"#N/A"},null,null,null,null,9833600,null,"SPR","PK"," PLNR RY24 CORE DLY LRG 2VOLSET",null,79.17,11,{"$f":"VLOOKUP(M12230,DFL!A:H,8,0)","v":0.46},{"$f":"P12230-(P12230/1.0025)","v":0.10660847880298974},42.75]
[{"$error":"#N/A"},null,null,null,null,7656379,"SPR","SPR","CT","SOAP,RFL,FIT,GTL,MNL,1.2L",null,77.94,19,{"$f":"VLOOKUP(M12245,DFL!A:H,8,0)","v":0.45},{"$f":"P12245-(P12245/1.0025)","v":0.10690773067331349},42.87]
[{"$error":"#N/A"},null,null,null,null,8222086,"SPR","SPR","EA","CRTDG,LSR,HP 83A,BK,EY",null,96.62,44,{"$f":"VLOOKUP(M12260,DFL!A:H,8,0)","v":0.5},{"$f":"P12260-(P12260/1.0025)","v":0.12047381546134517},48.31]
[{"$error":"#N/A"},null,null,null,null,9678175,"Deviated Item","SPR","EA","TONER,REPL,HP,M254,YL",null,86.45,44,{"$f":"VLOOKUP(M12278,DFL!A:H,8,0)","v":0.5},{"$f":"P12278-(P12278/1.0025)","v":0.10780548628428477},43.23]
[{"$error":"#N/A"},null,null,null,null,544531,"BSD","BSD","BX","PRESSBOARD,3 DIV,2\",LTR,RED"," ",142.02000000000001,35,{"$f":"VLOOKUP(M12295,DFL!A:E,5,0)","v":0.7},{"$f":"P12295-(P12295/1.0025)","v":0.10625935162094891},42.61]
[{"$error":"#N/A"},null,null,null,null,420219,null,"SPR","EA","PADFLIO,RNG,ZIP,HNDL,13X2X13,B"," ",75.349999999999994,48,{"$f":"VLOOKUP(M12310,DFL!A:H,8,0)","v":0.3},{"$f":"P12310-(P12310/1.0025)","v":0.13154613466333842},52.75]
[{"$error":"#N/A"},null,null,null,null,3626438,"SPR","SPR","BX","POCKET,FILE,3.5\"EXPND,LTR",null,112.63,35,{"$f":"VLOOKUP(M12315,DFL!A:H,8,0)","v":0.6},{"$f":"P12315-(P12315/1.0025)","v":0.11234413965087242},45.05]
[{"$error":"#N/A"},null,null,null,null,580782,"SPR","SPR","BX","LABELS,GHS,CHEMICAL,500 PK"," ",99.75,26,{"$f":"VLOOKUP(M12330,DFL!A:H,8,0)","v":0.44},{"$f":"P12330-(P12330/1.0025)","v":0.13930174563590469},55.86]
[{"$error":"#N/A"},null,null,null,null,9792162,"SPR","SPR","EA","LOCK,LAPTOP,CLICKSAFE",null,75.260000000000005,48,{"$f":"VLOOKUP(M12351,DFL!A:H,8,0)","v":0.3},{"$f":"P12351-(P12351/1.0025)","v":0.13137157107231445},52.68]
[{"$error":"#N/A"},null,null,null,null,1633231,"SPR","SPR","CT","CLEANER,TOILET BOWL,",null,80.16,19,{"$f":"VLOOKUP(M12365,DFL!A:H,8,0)","v":0.45},{"$f":"P12365-(P12365/1.0025)","v":0.10995012468827525},44.09]
[{"$error":"#N/A"},null,null,null,null,5770331,"BSD","BSD","CT"," WIPE FLUSHABLE FRESHCARE",null,89.588438709677405,19,{"$f":"VLOOKUP(M12380,DFL!A:E,5,0)","v":0.5},{"$f":"P12380-(P12380/1.0025)","v":0.11169576059850073},44.79]
[{"$error":"#N/A"},null,null,null,null,8194021,"SPR","SPR","EA","SCREEN,PRIVACY,LAPTOP,14",null,68.38,48,{"$f":"VLOOKUP(M12385,DFL!A:H,8,0)","v":0.3},{"$f":"P12385-(P12385/1.0025)","v":0.11937655860349139},47.87]
[{"$error":"#N/A"},null,null,null,null,463175,"SPR","SPR","BX","FLDR,PSBD,FAST,LTR,1/3,1\""," ",114.72,35,{"$f":"VLOOKUP(M12400,DFL!A:H,8,0)","v":0.6},{"$f":"P12400-(P12400/1.0025)","v":0.11443890274313873},45.89]
[{"$error":"#N/A"},null,null,null,null,794555,"SPR","SPR","BX","ENVELOPE,CLASP,10X13,97#,GY"," ",106.76,27,{"$f":"VLOOKUP(M12423,DFL!A:H,8,0)","v":0.57999999999999996},{"$f":"P12423-(P12423/1.0025)","v":0.11182044887780052},44.84]
[{"$error":"#N/A"},null,null,null,null,6645055,"SPR","SPR","EA","CRTRG,TONER,HP 30A,BK",null,101.11,44,{"$f":"VLOOKUP(M12435,DFL!A:H,8,0)","v":0.5},{"$f":"P12435-(P12435/1.0025)","v":0.12608478802992096},50.56]
[{"$error":"#N/A"},null,null,null,null,756776,"SPR","SPR","BX","FOLDER,CLAS,TP TAB,LGL,BE"," ",117.5,35,{"$f":"VLOOKUP(M12450,DFL!A:H,8,0)","v":0.6},{"$f":"P12450-(P12450/1.0025)","v":0.11720698254363526},47]
[{"$error":"#N/A"},null,null,null,null,785271,"SPR","SPR","BX","FOLDER,ENDTAB,LGL,RD50BX"," ",118.05,35,{"$f":"VLOOKUP(M12469,DFL!A:H,8,0)","v":0.6},{"$f":"P12469-(P12469/1.0025)","v":0.11775561097256571},47.22]
[{"$error":"#N/A"},null,null,null,null,322036,"BSD","BSD","EA","FILM,STRETCH,18\"X1500' BLOWN"," ",78.400000000000006,48,{"$f":"VLOOKUP(M12482,DFL!A:E,5,0)","v":0.42},{"$f":"P12482-(P12482/1.0025)","v":0.11339152119700202},45.47]
[{"$error":"#N/A"},null,null,null,null,758509,"SPR","SPR","EA","STAND,NOTEBK,ADJUST,BKSV",null,64.989999999999995,48,{"$f":"VLOOKUP(M12486,DFL!A:H,8,0)","v":0.3},{"$f":"P12486-(P12486/1.0025)","v":0.1134413965087262},45.49]
[{"$error":"#N/A"},null,null,null,null,9835990,"SPR","SPR","BX","ENVELOPE,PEELTOSEAL,PLN,REG",null,108.69,27,{"$f":"VLOOKUP(M12505,DFL!A:H,8,0)","v":0.57999999999999996},{"$f":"P12505-(P12505/1.0025)","v":0.11384039900249121},45.65]
[{"$error":"#N/A"},null,null,null,null,807420,"SPR","SPR","EA","REFILL,WIPES,FORCE,900CT",null,83.37,19,{"$f":"VLOOKUP(M12520,DFL!A:H,8,0)","v":0.45},{"$f":"P12520-(P12520/1.0025)","v":0.11433915211969747},45.85]
[{"$error":"#N/A"},null,null,null,null,791513,"BSD","BSD","EA","INK,EPSON,T252XL-BCS,BLK/COLOR",null,81.349999999999994,43,{"$f":"VLOOKUP(M12539,DFL!A:E,5,0)","v":0.35},{"$f":"P12539-(P12539/1.0025)","v":0.13187032418952072},52.88]
[{"$error":"#N/A"},null,null,null,null,606992,"BSD","BSD","CT","Diversey‚Ñ¢ Crew¬Æ Super Blue Mild Acid Bowl Cleaner, Citrus Scent, 32 Oz Bottle, Case Of 12",null,103.28,19,{"$f":"VLOOKUP(M12555,DFL!A:E,5,0)","v":0.5},{"$f":"P12555-(P12555/1.0025)","v":0.12877805486284188},51.64]
[{"$error":"#N/A"},null,null,null,null,570963,"Deviated Item","SPR","EA"," TONER REPLACE DELL 2150 YL",null,92.55,44,{"$f":"VLOOKUP(M12556,DFL!A:H,8,0)","v":0.5},{"$f":"P12556-(P12556/1.0025)","v":0.11541147132169272},46.28]
[{"$error":"#N/A"},null,null,null,null,719015,"SPR","SPR","EA","DOCUMENT HOLDER PRO IN-LINE"," ",104.65,31,{"$f":"VLOOKUP(M12575,DFL!A:H,8,0)","v":0.49},{"$f":"P12575-(P12575/1.0025)","v":0.13309226932668139},53.37]
[{"$error":"#N/A"},null,null,null,null,461470,"SPR","SPR","BX","FLDR,CLASS,PSBD,2DIV,LTR,DB"," ",119.92,35,{"$f":"VLOOKUP(M12590,DFL!A:H,8,0)","v":0.6},{"$f":"P12590-(P12590/1.0025)","v":0.11962593516209097},47.97]
[{"$error":"#N/A"},null,null,null,null,6828735,"SPR","SPR","EA","DISPENSER,COUNTER,BLACK",null,73.5,48,{"$f":"VLOOKUP(M12605,DFL!A:H,8,0)","v":0.3},{"$f":"P12605-(P12605/1.0025)","v":0.12830423940149416},51.45]
[{"$error":"#N/A"},null,null,null,null,1384813,"BSD","BSD","EA","AIRPOT,2.5LITER,SST"," ",80.760000000000005,48,{"$f":"VLOOKUP(M12613,DFL!A:E,5,0)","v":0.42},{"$f":"P12613-(P12613/1.0025)","v":0.11680798004987025},46.84]
[{"$error":"#N/A"},null,null,null,null,8375699,"SPR","SPR","CT","REFILL,FIT,TF,1L,PEACH",null,85.68,19,{"$f":"VLOOKUP(M12640,DFL!A:H,8,0)","v":0.45},{"$f":"P12640-(P12640/1.0025)","v":0.11750623441396613},47.12]
[{"$error":"#N/A"},null,null,null,null,400810,"SPR","SPR","EA","SHELF,MESH OFF-SURFACE,BK"," ",109,31,{"$f":"VLOOKUP(M12645,DFL!A:H,8,0)","v":0.49},{"$f":"P12645-(P12645/1.0025)","v":0.13862842892767446},55.59]
[{"$error":"#N/A"},null,null,null,null,5016466,"BSD","BSD","CA","Highmark¬Æ 1-Ply Paper Towels, 100% Recycled, Natural, 1050' Per Roll, Pack Of 6 Rolls",null,98.74,40,{"$f":"VLOOKUP(M12660,DFL!A:E,5,0)","v":0.52},{"$f":"P12660-(P12660/1.0025)","v":0.11820448877805489},47.4]
[{"$error":"#N/A"},null,null,null,null,3956252,null,"SPR","EA","DRIVE,USB3.0,FNGRPRT,32GB",null,58,46,{"$f":"VLOOKUP(M12675,DFL!A:H,8,0)","v":0.18},{"$f":"P12675-(P12675/1.0025)","v":0.11860349127181991},47.56]
[{"$error":"#N/A"},null,null,null,null,3662584,null,"SPR","PK","POUCHES;EZALGN;LTR;3MIL;200",null,73.3,45,{"$f":"VLOOKUP(M12686,DFL!A:H,8,0)","v":0.35},{"$f":"P12686-(P12686/1.0025)","v":0.11882793017456095},47.65]
[{"$error":"#N/A"},null,null,null,null,8422136,"SPR","SPR","PK","LABEL,REFLECT,5X7",null,85.59,26,{"$f":"VLOOKUP(M12710,DFL!A:H,8,0)","v":0.44},{"$f":"P12710-(P12710/1.0025)","v":0.11952618453864972},47.93]
[{"$error":"#N/A"},null,null,null,null,671764,"SPR","SPR","BX","ENVELOPE,TYK,6X9, RDSTP, FC,14"," ",114.24,27,{"$f":"VLOOKUP(M12715,DFL!A:H,8,0)","v":0.57999999999999996},{"$f":"P12715-(P12715/1.0025)","v":0.11965087281794951},47.98]
[{"$error":"#N/A"},null,null,null,null,1409121,"SPR","SPR","CT","TISSUE,BATH,RECYL,24RLS",null,86.02,40,{"$f":"VLOOKUP(M12730,DFL!A:H,8,0)","v":0.44},{"$f":"P12730-(P12730/1.0025)","v":0.12012468827929723},48.17]
[{"$error":"#N/A"},null,null,null,null,887614,"BSD","BSD","CA","PAPER,IMAGEPRINT,LETTER,5RM",null,208.32,32,{"$f":"VLOOKUP(M12745,DFL!A:E,5,0)","v":0.75},{"$f":"P12745-(P12745/1.0025)","v":0.12987531172069566},52.08]
[{"$error":"#N/A"},null,null,null,null,9978231,"SPR","SPR","EA","SHARPENER, ELEC, EPS8CHROME",null,68.260000000000005,21,{"$f":"VLOOKUP(M12759,DFL!A:H,8,0)","v":0.28999999999999998},{"$f":"P12759-(P12759/1.0025)","v":0.12084788029925164},48.46]
[{"$error":"#N/A"},null,null,null,null,218282,"BSD","BSD","CA","COFFEE,MRNING RST,ALTRA,FLVA",null,100.81,48,{"$f":"VLOOKUP(M12780,DFL!A:E,5,0)","v":0.42},{"$f":"P12780-(P12780/1.0025)","v":0.14581047381545886},58.47]
[{"$error":"#N/A"},null,null,null,null,825809,"SPR","SPR","BX","INDEX,CHART,MEDICAL,SET",null,128,35,{"$f":"VLOOKUP(M12795,DFL!A:H,8,0)","v":0.6},{"$f":"P12795-(P12795/1.0025)","v":0.12768079800498811},51.2]
[{"$error":"#N/A"},null,null,null,null,366660,null,"SPR","EA","BOX,CASH,PROFILE,LOW"," ",92.8,48,{"$f":"VLOOKUP(M12800,DFL!A:H,8,0)","v":0.3},{"$f":"P12800-(P12800/1.0025)","v":0.16199501246882164},64.959999999999994]
[{"$error":"#N/A"},null,null,null,null,961609,"BSD","BSD","EA","BOARD,FORAY,CORK,24X36,DECOR",null,120.58,10,{"$f":"VLOOKUP(M12815,DFL!A:E,5,0)","v":0.55000000000000004},{"$f":"P12815-(P12815/1.0025)","v":0.13531172069825459},54.26]
[{"$error":"#N/A"},null,null,null,null,280806,"SPR","SPR","EA","CRTDG, HEW CB436A",null,110.1,44,{"$f":"VLOOKUP(M12832,DFL!A:H,8,0)","v":0.5},{"$f":"P12832-(P12832/1.0025)","v":0.13728179551122111},55.05]
[{"$error":"#N/A"},null,null,null,null,5660969,"SPR","SPR","EA","CRTDG,LSR,BK,RP",null,77.02,43,{"$f":"VLOOKUP(M12850,DFL!A:H,8,0)","v":0.3},{"$f":"P12850-(P12850/1.0025)","v":0.13443890274314185},53.91]
[{"$error":"#N/A"},null,null,null,null,914362,"BSD","BSD","CT","BAGS,FREEZER,ZIP,1GAL,250CT"," ",85.41,48,{"$f":"VLOOKUP(M12865,DFL!A:E,5,0)","v":0.42},{"$f":"P12865-(P12865/1.0025)","v":0.12354114713216546},49.54]
[{"$error":"#N/A"},null,null,null,null,920502,"SPR","SPR","BX","POCKET,SUPERTAB REDROP,RD",null,129.19999999999999,35,{"$f":"VLOOKUP(M12870,DFL!A:H,8,0)","v":0.6},{"$f":"P12870-(P12870/1.0025)","v":0.12887780548628314},51.68]
[{"$error":"#N/A"},null,null,null,null,8515151,null,"SPR","EA"," TONER REMAN CANON CNM GPR38",null,99.69,44,{"$f":"VLOOKUP(M12890,DFL!A:H,8,0)","v":0.5},{"$f":"P12890-(P12890/1.0025)","v":0.12431421446383695},49.85]
[{"$error":"#N/A"},null,null,null,null,1257202,"BSD","BSD","PK"," BATTERY COPPRTOP 9V 12PK",null,112.28,6,{"$f":"VLOOKUP(M12901,DFL!A:E,5,0)","v":0.56999999999999995},{"$f":"P12901-(P12901/1.0025)","v":0.12039900249376245},48.28]
[{"$error":"#N/A"},null,null,null,null,308959,"SPR","SPR","ST","DIVIDERS,PRINT-ON,WHT,5T,25ST"," ",167.41,35,{"$f":"VLOOKUP(M12920,DFL!A:H,8,0)","v":0.6},{"$f":"P12920-(P12920/1.0025)","v":0.16698254364089848},66.959999999999994]
[{"$error":"#N/A"},null,null,null,null,161159,"SPR","SPR","CT","WIPE,DISINF,LL,35CT-3PK",null,91.6,19,{"$f":"VLOOKUP(M12935,DFL!A:H,8,0)","v":0.45},{"$f":"P12935-(P12935/1.0025)","v":0.12563591022443887},50.38]
[{"$error":"#N/A"},null,null,null,null,791508,"BSD","BSD","CA","LINER,HD,40X48,22MIC,BLK,150"," ",95.1,12,{"$f":"VLOOKUP(M12940,DFL!A:E,5,0)","v":0.47},{"$f":"P12940-(P12940/1.0025)","v":0.12568578553615595},50.4]
[{"$error":"#N/A"},null,null,null,null,693502,"SPR","SPR","EA","HOOK,MAGNETIC,COAT"," ",84.71,16,{"$f":"VLOOKUP(M12963,DFL!A:H,8,0)","v":0.36},{"$f":"P12963-(P12963/1.0025)","v":0.13518703241894769},54.21]
[{"$error":"#N/A"},null,null,null,null,464485,"SPR","SPR","BX","FLDR,PSBD,FAST1&3,LGL,1/3"," ",130.69999999999999,35,{"$f":"VLOOKUP(M12971,DFL!A:H,8,0)","v":0.6},{"$f":"P12971-(P12971/1.0025)","v":0.13037406483790193},52.28]
[{"$error":"#N/A"},null,null,null,null,1751482,"SPR","SPR","CT"," LTX CLR/MLD FM SP 2/1200ML",null,99.36,19,{"$f":"VLOOKUP(M12990,DFL!A:H,8,0)","v":0.45},{"$f":"P12990-(P12990/1.0025)","v":0.13628428927680858},54.65]
[{"$error":"#N/A"},null,null,null,null,5323380,"BSD","BSD","CA","3M‚Ñ¢ Gel Wrist Rest For Standing Desks, 1.33\" x 30\"W x 3\"D, Black",null,114.79,29,{"$f":"VLOOKUP(M13005,DFL!A:E,5,0)","v":0.43},{"$f":"P13005-(P13005/1.0025)","v":0.16316708229426524},65.430000000000007]
[{"$error":"#N/A"},null,null,null,null,265718,null,"SPR","PK","MAILER,POLY,#0,W/PERF,100/PK"," ",155.43,27,{"$f":"VLOOKUP(M13010,DFL!A:H,8,0)","v":0.57999999999999996},{"$f":"P13010-(P13010/1.0025)","v":0.16279301745635166},65.28]
[{"$error":"#N/A"},null,null,null,null,403256,"SPR","SPR","CT","TOWEL MULTI-FOLD,1PLY",null,92.18,40,{"$f":"VLOOKUP(M13036,DFL!A:H,8,0)","v":0.44},{"$f":"P13036-(P13036/1.0025)","v":0.12872817955111771},51.62]
[{"$error":"#N/A"},null,null,null,null,731846,"SPR","SPR","CT","CUP,STRYOFOAM,20-OZ"," ",92.3,18,{"$f":"VLOOKUP(M13041,DFL!A:H,8,0)","v":0.44},{"$f":"P13041-(P13041/1.0025)","v":0.12890274314214167},51.69]
[{"$error":"#N/A"},null,null,null,null,806671,"SPR","SPR","BX","ENVELOPE,R/STRIP,#10,WE"," ",123.67,27,{"$f":"VLOOKUP(M13060,DFL!A:H,8,0)","v":0.57999999999999996},{"$f":"P13060-(P13060/1.0025)","v":0.12952618453864773},51.94]
[{"$error":"#N/A"},null,null,null,null,677288,"SPR","SPR","CT","BAG,MAIL,JIFYLT,SS,9.5X14.5",null,123.97,27,{"$f":"VLOOKUP(M13075,DFL!A:H,8,0)","v":0.57999999999999996},{"$f":"P13075-(P13075/1.0025)","v":0.12985037406483713},52.07]
[{"$error":"#N/A"},null,null,null,null,9605407,"BSD","BSD","EA","LAMINATOR,HD95,BLK",null,108.23,21,{"$f":"VLOOKUP(M13090,DFL!A:E,5,0)","v":0.42},{"$f":"P13090-(P13090/1.0025)","v":0.15653366583541128},62.77]
[{"$error":"#N/A"},null,null,null,null,169688,null,"SPR","EA","BOARD,MAGNTIC,MATRIX,23X16",null,82.04,10,{"$f":"VLOOKUP(M13109,DFL!A:H,8,0)","v":0.36},{"$f":"P13109-(P13109/1.0025)","v":0.13094763092269091},52.51]
[{"$error":"#N/A"},null,null,null,null,280860,"SPR","SPR","EA","CRTDG, HEW CB542A YELLOW",null,105.07,44,{"$f":"VLOOKUP(M13111,DFL!A:H,8,0)","v":0.5},{"$f":"P13111-(P13111/1.0025)","v":0.13102244389027362},52.54]
[{"$error":"#N/A"},null,null,null,null,1751473,"SPR","SPR","CT","PAPER CUP 8OZ HOT 500/CS",null,94.2,18,{"$f":"VLOOKUP(M13130,DFL!A:H,8,0)","v":0.44},{"$f":"P13130-(P13130/1.0025)","v":0.13154613466333842},52.75]
[{"$error":"#N/A"},null,null,null,null,200458,"BSD","BSD","CA","PAPER,COMPUTER,1PT,PERF,20LB"," ",213.45,30,{"$f":"VLOOKUP(M13145,DFL!A:E,5,0)","v":0.73},{"$f":"P13145-(P13145/1.0025)","v":0.14371571072318545},57.63]
[{"$error":"#N/A"},null,null,null,null,686969,"Deviated Item","SPR","EA"," TONER REPL DELL B5460",null,106.2,44,{"$f":"VLOOKUP(M13160,DFL!A:H,8,0)","v":0.5},{"$f":"P13160-(P13160/1.0025)","v":0.13241895261845116},53.1]
[{"$error":"#N/A"},null,null,null,null,495549,"BSD","BSD","EA","STAPLER,HEAVY DUTY,PLT"," ",173.19,37,{"$f":"VLOOKUP(M13167,DFL!A:E,5,0)","v":0.65},{"$f":"P13167-(P13167/1.0025)","v":0.15117206982543507},60.62]
[{"$error":"#N/A"},null,null,null,null,669885,"SPR","SPR","EA","BOARDS;DE;MEL;36X24;SLV FR",null,101.23,10,{"$f":"VLOOKUP(M13181,DFL!A:H,8,0)","v":0.36},{"$f":"P13181-(P13181/1.0025)","v":0.1615710723192052},64.790000000000006]
[{"$error":"#N/A"},null,null,null,null,110284,"BSD","BSD","PK","DUSTER,OFFICE DEPOT,10OZ,6PK"," ",101.81,48,{"$f":"VLOOKUP(M13196,DFL!A:E,5,0)","v":0.42},{"$f":"P13196-(P13196/1.0025)","v":0.14725685785536058},59.05]
[{"$error":"#N/A"},null,null,null,null,2793599,"SPR","SPR","EA","CHAIRMAT,ECO,HF,ANTSLP,3X4",null,107.88,15,{"$f":"VLOOKUP(M13215,DFL!A:H,8,0)","v":0.5},{"$f":"P13215-(P13215/1.0025)","v":0.13451371571071746},53.94]
[{"$error":"#N/A"},null,null,null,null,842605,"SPR","SPR","EA","GAVEL,WITH SOUND BLOCK"," ",92.26,48,{"$f":"VLOOKUP(M13230,DFL!A:H,8,0)","v":0.3},{"$f":"P13230-(P13230/1.0025)","v":0.16104738154612619},64.58]
[{"$error":"#N/A"},null,null,null,null,5256607,"SPR","SPR","EA","TABLET STAND;UNIVERSAL;SILVER",null,77.45,48,{"$f":"VLOOKUP(M13240,DFL!A:H,8,0)","v":0.3},{"$f":"P13240-(P13240/1.0025)","v":0.13521197007481334},54.22]
[{"$error":"#N/A"},null,null,null,null,223517,"SPR","SPR","EA","CRTDG,HP CE2785A,EY,BK,2.3K",null,122.29,44,{"$f":"VLOOKUP(M13265,DFL!A:H,8,0)","v":0.5},{"$f":"P13265-(P13265/1.0025)","v":0.15249376558602989},61.15]
[{"$error":"#N/A"},null,null,null,null,406050,"SPR","SPR","CT","TISSUE,FACIAL,SURPASS,36CA/WHT"," ",97.2,40,{"$f":"VLOOKUP(M13266,DFL!A:H,8,0)","v":0.44},{"$f":"P13266-(P13266/1.0025)","v":0.13573566084787814},54.43]
[{"$error":"#N/A"},null,null,null,null,716937,"BSD","BSD","EA","TONER,SAMSUNG,407S,BLK",null,84.07,43,{"$f":"VLOOKUP(M13285,DFL!A:E,5,0)","v":0.35},{"$f":"P13285-(P13285/1.0025)","v":0.13628428927680858},54.65]
[{"$error":"#N/A"},null,null,null,null,919753,"SPR","SPR","EA","BOARD,CORK,ALUM FRAME,24\"X36\"."," ",85.63,10,{"$f":"VLOOKUP(M13300,DFL!A:H,8,0)","v":0.36},{"$f":"P13300-(P13300/1.0025)","v":0.13665835411470795},54.8]
[{"$error":"#N/A"},null,null,null,null,8842325,"BSD","BSD","EA","BOARD DRYERASE MDF 35X23 BLK",null,95.47,10,{"$f":"VLOOKUP(M13313,DFL!A:E,5,0)","v":0.55000000000000004},{"$f":"P13313-(P13313/1.0025)","v":0.10713216957605454},42.96]
[{"$error":"#N/A"},null,null,null,null,5305813,"SPR","SPR","CT","CREAMER,CFFEEMTE,FRNVN,1.5L",null,78.900000000000006,48,{"$f":"VLOOKUP(M13335,DFL!A:H,8,0)","v":0.3},{"$f":"P13335-(P13335/1.0025)","v":0.13773067331670319},55.23]
[{"$error":"#N/A"},null,null,null,null,154458,"SPR","SPR","EA","ECOGUARD CHARCOAL 3X5"," ",110.91,15,{"$f":"VLOOKUP(M13350,DFL!A:H,8,0)","v":0.5},{"$f":"P13350-(P13350/1.0025)","v":0.13830423940149217},55.46]
[{"$error":"#N/A"},null,null,null,null,5867503,"SPR","SPR","BX","WALLET,XWIDE,5.25\"EXPND,LTR",null,143,35,{"$f":"VLOOKUP(M13355,DFL!A:H,8,0)","v":0.6},{"$f":"P13355-(P13355/1.0025)","v":0.14264339152119732},57.2]
[{"$error":"#N/A"},null,null,null,null,6072846,"SPR","SPR","EA","STAPLER,ELECTRIC,20SHT,BLK",null,111.35,37,{"$f":"VLOOKUP(M13371,DFL!A:H,8,0)","v":0.5},{"$f":"P13371-(P13371/1.0025)","v":0.13885286783042261},55.68]
[{"$error":"#N/A"},null,null,null,null,4000167,"SPR","SPR","EA","BACK SUPPORT, MESH, BLACK",null,91.99,48,{"$f":"VLOOKUP(M13386,DFL!A:H,8,0)","v":0.3},{"$f":"P13386-(P13386/1.0025)","v":0.16057356608477846},64.39]
[{"$error":"#N/A"},null,null,null,null,877185,"BSD","BSD","EA","TONER,C54X/X543/X544,1K,CYAN"," ",94.28,43,{"$f":"VLOOKUP(M13405,DFL!A:E,5,0)","v":0.35},{"$f":"P13405-(P13405/1.0025)","v":0.15281795511221929},61.28]
[{"$error":"#N/A"},null,null,null,null,111331,"SPR","SPR","BX","INDEX  MAKR,INKJT,5TAB,AST","030/030,EPP (eVine),CPG,30% post-consumer (paper)",187.56,35,{"$f":"VLOOKUP(M13420,DFL!A:H,8,0)","v":0.6},{"$f":"P13420-(P13420/1.0025)","v":0.18708229426432865},75.02]
[{"$error":"#N/A"},null,null,null,null,621040,"SPR","SPR","BX","WRAPPER,PREF,COIN,PNNY,RD"," ",80.42,48,{"$f":"VLOOKUP(M13425,DFL!A:H,8,0)","v":0.3},{"$f":"P13425-(P13425/1.0025)","v":0.14037406483789994},56.29]
[{"$error":"#N/A"},null,null,null,null,1406295,"SPR","SPR","CT"," SOAP GOJO ANTIBAC FOAM PP",null,109.23,19,{"$f":"VLOOKUP(M13444,DFL!A:H,8,0)","v":0.45},{"$f":"P13444-(P13444/1.0025)","v":0.14982543640897461},60.08]
[{"$error":"#N/A"},null,null,null,null,895310,"SPR","SPR","CT","TOWELS,PAPER,JR.CENTERPULL",null,101.1,40,{"$f":"VLOOKUP(M13456,DFL!A:H,8,0)","v":0.44},{"$f":"P13456-(P13456/1.0025)","v":0.1411970074812956},56.62]
[{"$error":"#N/A"},null,null,null,null,281498,null,"SPR","CT","BOWL,PAPER"," ",101.44,40,{"$f":"VLOOKUP(M13475,DFL!A:H,8,0)","v":0.44},{"$f":"P13475-(P13475/1.0025)","v":0.14167082294264333},56.81]
[{"$error":"#N/A"},null,null,null,null,3750366,"BSD","BSD","EA"," MX Anywher 3 for Biz Grey BOLT",null,99.99,29,{"$f":"VLOOKUP(M13490,DFL!A:E,5,0)","v":0.43},{"$f":"P13490-(P13490/1.0025)","v":0.14211970074812541},56.99]
[{"$error":"#N/A"},null,null,null,null,870909,"SPR","SPR","BX","5C IMP R/SEAL ENV #10",null,136.03,27,{"$f":"VLOOKUP(M13495,DFL!A:H,8,0)","v":0.57999999999999996},{"$f":"P13495-(P13495/1.0025)","v":0.14246882793017335},57.13]
[{"$error":"#N/A"},null,null,null,null,9092830,null,"SPR","CT","DISPENSER;SOAP;FOAM;BLK",null,82.04,48,{"$f":"VLOOKUP(M13517,DFL!A:H,8,0)","v":0.3},{"$f":"P13517-(P13517/1.0025)","v":0.14321695760597919},57.43]
[{"$error":"#N/A"},null,null,null,null,107702,"SPR","SPR","BX","FLOORMAT ANTIFATIGUE 20X39 BLK",null,115.07,15,{"$f":"VLOOKUP(M13526,DFL!A:H,8,0)","v":0.5},{"$f":"P13526-(P13526/1.0025)","v":0.14349127182044441},57.54]
[{"$error":"#N/A"},null,null,null,null,317001,"BSD","BSD","EA","Custom ECO-GREEN Xstamper¬Æ Pre-Inked Stamp, N22, 65% Recycled, 1-15/16\" x 2-5/16\" Impression",null,159,24,{"$f":"VLOOKUP(M13545,DFL!A:E,5,0)","v":0.63},{"$f":"P13545-(P13545/1.0025)","v":0.14670822942643014},58.83]
[{"$error":"#N/A"},null,null,null,null,6286415,"SPR","SPR","EA","STAND,MNTR,SHELF,CLAMP,WIDE",null,82.77,48,{"$f":"VLOOKUP(M13560,DFL!A:H,8,0)","v":0.3},{"$f":"P13560-(P13560/1.0025)","v":0.14448877805485694},57.94]
[{"$error":"#N/A"},null,null,null,null,800515,"SPR","SPR","EA","FRAMELESS 21.5W9 ANTI GLARE"," ",100.02,48,{"$f":"VLOOKUP(M13575,DFL!A:H,8,0)","v":0.3},{"$f":"P13575-(P13575/1.0025)","v":0.17458852867829933},70.010000000000005]
[{"$error":"#N/A"},null,null,null,null,3659198,null,"SPR","EA"," TNR REPL SAMSUNG C2620 YLW",null,116.4,44,{"$f":"VLOOKUP(M13590,DFL!A:H,8,0)","v":0.5},{"$f":"P13590-(P13590/1.0025)","v":0.14513715710722863},58.2]
[{"$error":"#N/A"},null,null,null,null,9385127,"SPR","SPR","BX","ENVELOPE,SECURTNT,DIAG,WNDW",null,138.72,27,{"$f":"VLOOKUP(M13596,DFL!A:H,8,0)","v":0.57999999999999996},{"$f":"P13596-(P13596/1.0025)","v":0.14528678304239406},58.26]
[{"$error":"#N/A"},null,null,null,null,589910,"SPR","SPR","CT","CLEANER,GLASS,ZEP,32OZ.",null,106.32,19,{"$f":"VLOOKUP(M13615,DFL!A:H,8,0)","v":0.45},{"$f":"P13615-(P13615/1.0025)","v":0.1458354114713174},58.48]
[{"$error":"#N/A"},null,null,null,null,9731382,null,"SPR","EA","FILTER,PRIVACY,MACBOOK PRO,15\"",null,83.99,48,{"$f":"VLOOKUP(M13630,DFL!A:H,8,0)","v":0.3},{"$f":"P13630-(P13630/1.0025)","v":0.14660847880298888},58.79]
[{"$error":"#N/A"},null,null,null,null,6795419,"SPR","SPR","CT","CLEANER,JOB,TOUGH,ENVRO-CAR",null,111.6,19,{"$f":"VLOOKUP(M13645,DFL!A:H,8,0)","v":0.45},{"$f":"P13645-(P13645/1.0025)","v":0.15306733167081887},61.38]
[{"$error":"#N/A"},null,null,null,null,6853765,null,"SPR","EA","CHOCOLATE,MMS,FUN SZ,85.23OZ",null,102.19,48,{"$f":"VLOOKUP(M13663,DFL!A:H,8,0)","v":0.3},{"$f":"P13663-(P13663/1.0025)","v":0.17837905236906693},71.53]
[{"$error":"#N/A"},null,null,null,null,8188886,"SPR","SPR","CT","COFFEE,PK,DEC,EOC,2OZ,48CT",null,84.7,48,{"$f":"VLOOKUP(M13666,DFL!A:H,8,0)","v":0.3},{"$f":"P13666-(P13666/1.0025)","v":0.14785536159600809},59.29]
[{"$error":"#N/A"},null,null,null,null,498617,"SPR","SPR","CT","TOWELS,WINDSHIELD,9.1X10.25",null,114.59,40,{"$f":"VLOOKUP(M13681,DFL!A:H,8,0)","v":0.44},{"$f":"P13681-(P13681/1.0025)","v":0.16002493765586223},64.17]
[{"$error":"#N/A"},null,null,null,null,459095,"SPR","SPR","BX","ENV,REVEAL-N-SEAL#10TINT500"," ",153.4,27,{"$f":"VLOOKUP(M13700,DFL!A:H,8,0)","v":0.57999999999999996},{"$f":"P13700-(P13700/1.0025)","v":0.16067331670822682},64.430000000000007]
[{"$error":"#N/A"},null,null,null,null,747320,"BSD","BSD","EA","TONER,HP 201X,HIGH YIELD,CYAN",null,124.85,44,{"$f":"VLOOKUP(M13715,DFL!A:E,5,0)","v":0.52},{"$f":"P13715-(P13715/1.0025)","v":0.14945137157106814},59.93]
[{"$error":"#N/A"},null,null,null,null,603115,"Deviated Item","SPR","EA","DISPENSER,COUNTER,SOAP,CXI",null,161.19,19,{"$f":"VLOOKUP(M13721,DFL!A:H,8,0)","v":0.45},{"$f":"P13721-(P13721/1.0025)","v":0.22107231920199411},{"$f":"ROUND(L13721*(1-N13721),2)","v":88.65}]
[{"$error":"#N/A"},null,null,null,null,184188,"SPR","SPR","PK","PEN,UNI,0.5MM,72CT,BLACK",null,132.51,33,{"$f":"VLOOKUP(M13736,DFL!A:H,8,0)","v":0.55000000000000004},{"$f":"P13736-(P13736/1.0025)","v":0.14870324189525519},59.63]
[{"$error":"#N/A"},null,null,null,null,8069107,"SPR","SPR","EA","CALC,PRINT,12DGT,5LN DSPLAY",null,84.99,21,{"$f":"VLOOKUP(M13751,DFL!A:H,8,0)","v":0.28999999999999998},{"$f":"P13751-(P13751/1.0025)","v":0.15047381546134631},60.34]
[{"$error":"#N/A"},null,null,null,null,1393741,"SPR","SPR","EA","SBRUTE CONTAINER YELLOW",null,86.58,48,{"$f":"VLOOKUP(M13770,DFL!A:H,8,0)","v":0.3},{"$f":"P13770-(P13770/1.0025)","v":0.15114713216956943},60.61]
[{"$error":"#N/A"},null,null,null,null,7626413,"SPR","SPR","CT","CREAMER,SALTED CARML CHOCLT",null,86.9,48,{"$f":"VLOOKUP(M13785,DFL!A:H,8,0)","v":0.3},{"$f":"P13785-(P13785/1.0025)","v":0.15169576059849987},60.83]
[{"$error":"#N/A"},null,null,null,null,8712897,null,"SPR","EA","CUSHION,MINIPED",null,87,48,{"$f":"VLOOKUP(M13794,DFL!A:H,8,0)","v":0.3},{"$f":"P13794-(P13794/1.0025)","v":0.15187032418952384},60.9]
[{"$error":"#N/A"},null,null,null,null,349346,"SPR","SPR","PK","POUCH,LAMINATING,5MIL,LTR"," ",105.26,45,{"$f":"VLOOKUP(M13806,DFL!A:H,8,0)","v":0.35},{"$f":"P13806-(P13806/1.0025)","v":0.17062344139650065},68.42]
[{"$error":"#N/A"},null,null,null,null,626264,"SPR","SPR","BX","POCKET,FILE,3.5EXP\",LTR,25BX"," ",159.68,35,{"$f":"VLOOKUP(M13821,DFL!A:H,8,0)","v":0.6},{"$f":"P13821-(P13821/1.0025)","v":0.15927680798004928},63.87]
[{"$error":"#N/A"},null,null,null,null,203605,"SPR","SPR","EA","SUPPORT,FOOT,ULTIMATE"," ",98.54,48,{"$f":"VLOOKUP(M13840,DFL!A:H,8,0)","v":0.3},{"$f":"P13840-(P13840/1.0025)","v":0.17201995012467819},68.98]
[{"$error":"#N/A"},null,null,null,null,7314794,null,"SPR","CT","SHAMPOO;PCK;BSC;.35OZ;500CS",null,104.46,22,{"$f":"VLOOKUP(M13852,DFL!A:H,8,0)","v":0.41},{"$f":"P13852-(P13852/1.0025)","v":0.15369077306732493},61.63]
[{"$error":"#N/A"},null,null,null,null,8220109,"SPR","SPR","CT","OEM Tnr",null,88.28,43,{"$f":"VLOOKUP(M13871,DFL!A:H,8,0)","v":0.3},{"$f":"P13871-(P13871/1.0025)","v":0.15411471321695558},61.8]
[{"$error":"#N/A"},null,null,null,null,965537,null,"SPR","EA"," TONER REPL LEX C540/C544 MG HY",null,124.1,44,{"$f":"VLOOKUP(M13890,DFL!A:H,8,0)","v":0.5},{"$f":"P13890-(P13890/1.0025)","v":0.15473815461346163},62.05]
[{"$error":"#N/A"},null,null,null,null,943817,null,"SPR","EA"," TONER REPL LEX C540/C544 CY HY",null,124.1,44,{"$f":"VLOOKUP(M13891,DFL!A:H,8,0)","v":0.5},{"$f":"P13891-(P13891/1.0025)","v":0.15473815461346163},62.05]
[{"$error":"#N/A"},null,null,null,null,606258,"SPR","SPR","EA","VTECH, PHONE, 2LINE, DS6151"," ",119.99,48,{"$f":"VLOOKUP(M13910,DFL!A:H,8,0)","v":0.3},{"$f":"P13910-(P13910/1.0025)","v":0.20945137157106331},83.99]
[{"$error":"#N/A"},null,null,null,null,389656,"SPR","SPR","EA","TONER,C7115A,HP LJ1200/1220",null,132.11000000000001,44,{"$f":"VLOOKUP(M13925,DFL!A:H,8,0)","v":0.5},{"$f":"P13925-(P13925/1.0025)","v":0.16473815461345964},66.06]
[{"$error":"#N/A"},null,null,null,null,8855255,"SPR","SPR","CT","TOWEL,ROLL,UNIV,WHT,800",null,111.77,40,{"$f":"VLOOKUP(M13941,DFL!A:H,8,0)","v":0.44},{"$f":"P13941-(P13941/1.0025)","v":0.15608478802992209},62.59]
[{"$error":"#N/A"},null,null,null,null,994577,"BSD","BSD","CT","PHOTO,GLOSS,8MIL,WHITE",null,232.63,30,{"$f":"VLOOKUP(M13960,DFL!A:E,5,0)","v":0.73},{"$f":"P13960-(P13960/1.0025)","v":0.15663341645885254},62.81]
[{"$error":"#N/A"},null,null,null,null,2968646,"SPR","SPR","CT","CLEANER;WOOD;ORIGINAL;145Z",null,114.52,19,{"$f":"VLOOKUP(M13975,DFL!A:H,8,0)","v":0.45},{"$f":"P13975-(P13975/1.0025)","v":0.15708229426433462},{"$f":"ROUND(L13975*(1-N13975),2)","v":62.99}]
[{"$error":"#N/A"},null,null,null,null,276927,"BSD","BSD","CT","PAPER,PASTEL,CTN,BLUE",null,268.91000000000003,32,{"$f":"VLOOKUP(M13976,DFL!A:E,5,0)","v":0.75},{"$f":"P13976-(P13976/1.0025)","v":0.16765586034912872},67.23]
[{"$error":"#N/A"},null,null,null,null,824489,null,"SPR","EA","LOCKER,ADDON,DOUBLE",null,99,38,{"$f":"VLOOKUP(M13998,DFL!A:H,8,0)","v":0.36},{"$f":"P13998-(P13998/1.0025)","v":0.15800498753117154},63.36]
[{"$error":"#N/A"},null,null,null,null,563165,"SPR","SPR","EA","SHARPENER,CRAYON PRO,OE",null,102.94,21,{"$f":"VLOOKUP(M14011,DFL!A:H,8,0)","v":0.28999999999999998},{"$f":"P14011-(P14011/1.0025)","v":0.18226932668328288},73.09]
[{"$error":"#N/A"},null,null,null,null,898401,"BSD","BSD","CT","TISSUE,TOILET,JRT JR,12CT","040/040,EPP (eVine),CPG,40% post-consumer content",133.29,40,{"$f":"VLOOKUP(M14030,DFL!A:E,5,0)","v":0.52},{"$f":"P14030-(P14030/1.0025)","v":0.1595511221945074},63.98]
[{"$error":"#N/A"},null,null,null,null,1697239,"SPR","SPR","CT","TISSUE,FACIAL,ADV,FLBOX",null,114.87,40,{"$f":"VLOOKUP(M14045,DFL!A:H,8,0)","v":0.44},{"$f":"P14045-(P14045/1.0025)","v":0.16042394014962724},64.33]
[{"$error":"#N/A"},null,null,null,null,916429,"BSD","BSD","BX","LABEL,LSR,ADDR,WHT,3500CT","FSC",146.38999999999999,26,{"$f":"VLOOKUP(M14060,DFL!A:E,5,0)","v":0.56000000000000005},{"$f":"P14060-(P14060/1.0025)","v":0.16062344139650975},64.41]
[{"$error":"#N/A"},null,null,null,null,219329,"SPR","SPR","CT","AIR FRESHNR;WHOLE RM;SUNSCP",null,117.52,19,{"$f":"VLOOKUP(M14071,DFL!A:H,8,0)","v":0.45},{"$f":"P14071-(P14071/1.0025)","v":0.16119700748129162},64.64]
[{"$error":"#N/A"},null,null,null,null,675724,"SPR","SPR","BX","ENVELOPE,TYVEK,12X16X2,OE,14#"," ",154.37,27,{"$f":"VLOOKUP(M14081,DFL!A:H,8,0)","v":0.57999999999999996},{"$f":"P14081-(P14081/1.0025)","v":0.16169576059850499},64.84]
[{"$error":"#N/A"},null,null,null,null,9189812,"BSD","BSD","EA","BOARD DRYERASE GLASS 35X23 BLK",null,166.39,10,{"$f":"VLOOKUP(M14100,DFL!A:E,5,0)","v":0.55000000000000004},{"$f":"P14100-(P14100/1.0025)","v":0.18673316708229493},{"$f":"ROUND(L14100*(1-N14100),2)","v":74.88}]
[{"$error":"#N/A"},null,null,null,null,7625540,"SPR","SPR","CT","CLEANER,ALL-PURPOSE,9/32FO",null,118.71,19,{"$f":"VLOOKUP(M14115,DFL!A:H,8,0)","v":0.45},{"$f":"P14115-(P14115/1.0025)","v":0.16281795511221731},65.290000000000006]
[{"$error":"#N/A"},null,null,null,null,557142,null,"SPR","BX","WRAPPING,BRN KRAFT,36\"WD50#"," ",156.13999999999999,27,{"$f":"VLOOKUP(M14130,DFL!A:H,8,0)","v":0.57999999999999996},{"$f":"P14130-(P14130/1.0025)","v":0.16354114713216461},65.58]
[{"$error":"#N/A"},null,null,null,null,6961472,"BSD","BSD","CT"," BTY 24/1DR SAS WH 90CT KDF XN",null,137,40,{"$f":"VLOOKUP(M14144,DFL!A:E,5,0)","v":0.52},{"$f":"P14144-(P14144/1.0025)","v":0.16399002493764669},65.760000000000005]
[{"$error":"#N/A"},null,null,null,null,989468,"Deviated Item","SPR","EA"," TONER XEROX 6500 HY CYAN",null,131.75,44,{"$f":"VLOOKUP(M14151,DFL!A:H,8,0)","v":0.5},{"$f":"P14151-(P14151/1.0025)","v":0.16428927680797756},65.88]
[{"$error":"#N/A"},null,null,null,null,969093,"SPR","SPR","CT","PAPER,EXAM TABLE,STANDARD,C"," ",94.33,48,{"$f":"VLOOKUP(M14166,DFL!A:H,8,0)","v":0.3},{"$f":"P14166-(P14166/1.0025)","v":0.16466334164587693},66.03]
[{"$error":"#N/A"},null,null,null,null,502711,"SPR","SPR","RL","PAPER,KRAFT,RNBW,36X1000,YW"," ",132.82,47,{"$f":"VLOOKUP(M14185,DFL!A:H,8,0)","v":0.5},{"$f":"P14185-(P14185/1.0025)","v":0.16561097256857238},66.41]
[{"$error":"#N/A"},null,null,null,null,9718960,"BSD","BSD","CT","PAPER,CPY,CLR,8.5X11,100+WE,CS",null,283.06,32,{"$f":"VLOOKUP(M14200,DFL!A:E,5,0)","v":0.75},{"$f":"P14200-(P14200/1.0025)","v":0.17648379052369023},70.77]
[{"$error":"#N/A"},null,null,null,null,640085,"SPR","SPR","CT","TOWEL,MAXIROLL",null,124.92,40,{"$f":"VLOOKUP(M14217,DFL!A:H,8,0)","v":0.44},{"$f":"P14217-(P14217/1.0025)","v":0.17446384039899954},69.959999999999994]
[{"$error":"#N/A"},null,null,null,null,785342,"SPR","SPR","BX","FOLDER,PSBD2FSTNR,LTR,GY"," ",175.05,35,{"$f":"VLOOKUP(M14221,DFL!A:H,8,0)","v":0.6},{"$f":"P14221-(P14221/1.0025)","v":0.17461346633416497},70.02]
[{"$error":"#N/A"},null,null,null,null,7911908,"SPR","SPR","CA","DISPENSER, CS8, SAN, WHITE",null,122.58,19,{"$f":"VLOOKUP(M14236,DFL!A:H,8,0)","v":0.45},{"$f":"P14236-(P14236/1.0025)","v":0.16812967581047644},67.42]
[{"$error":"#N/A"},null,null,null,null,9301237,null,"SPR","CT","TISSUE,FACIAL,PUFFS,BASIC",null,130.88,40,{"$f":"VLOOKUP(M14255,DFL!A:H,8,0)","v":0.44},{"$f":"P14255-(P14255/1.0025)","v":0.18276807980049625},73.290000000000006]
[{"$error":"#N/A"},null,null,null,null,6832249,"BSD","BSD","EA","Fellowes¬Æ Reflex Single Monitor Arm For Monitors Up To 32\", 17-1/2\"H x 4-5/8\"W x 16-5/8\"D, Black",null,134.54,48,{"$f":"VLOOKUP(M14270,DFL!A:E,5,0)","v":0.42},{"$f":"P14270-(P14270/1.0025)","v":0.19458852867829535},78.03]
[{"$error":"#N/A"},null,null,null,null,9702662,"SPR","SPR","EA","CRTDG,LSR,MPC2503,BK,15K",null,97.09,43,{"$f":"VLOOKUP(M14275,DFL!A:H,8,0)","v":0.3},{"$f":"P14275-(P14275/1.0025)","v":0.16947630922692269},67.959999999999994]
[{"$error":"#N/A"},null,null,null,null,411464,"SPR","SPR","BX","FOLDER,CLASS,LTR,2/5C,GN"," ",177.7,35,{"$f":"VLOOKUP(M14291,DFL!A:H,8,0)","v":0.6},{"$f":"P14291-(P14291/1.0025)","v":0.17725685785535461},71.08]
[{"$error":"#N/A"},null,null,null,null,991368,"SPR","SPR","EA","CRTDG,LSR,CNMFX8",null,136.79,44,{"$f":"VLOOKUP(M14306,DFL!A:H,8,0)","v":0.5},{"$f":"P14306-(P14306/1.0025)","v":0.17057356608478358},68.400000000000006]
[{"$error":"#N/A"},null,null,null,null,322278,null,"SPR","EA","ORGANIZER,LIT,24 COMPARTMENT"," ",171.99,36,{"$f":"VLOOKUP(M14325,DFL!A:H,8,0)","v":0.36},{"$f":"P14325-(P14325/1.0025)","v":0.27448877805485949},110.07]
[{"$error":"#N/A"},null,null,null,null,4153980,null,"SPR","CT","DETERGENT,TIDE,46 OZ,32 USE",null,125.34,19,{"$f":"VLOOKUP(M14333,DFL!A:H,8,0)","v":0.45},{"$f":"P14333-(P14333/1.0025)","v":0.17192019950124404},68.94]
[{"$error":"#N/A"},null,null,null,null,278093,null,"SPR","BX","SHIPPER,SS,6X9.375,250BX"," ",119.43,48,{"$f":"VLOOKUP(M14356,DFL!A:H,8,0)","v":0.3},{"$f":"P14356-(P14356/1.0025)","v":0.20847880299251642},83.6]
[{"$error":"#N/A"},null,null,null,null,5337185,"SPR","SPR","EA","CRTDG,LSR,TN322,224,284,24K",null,99,43,{"$f":"VLOOKUP(M14361,DFL!A:H,8,0)","v":0.3},{"$f":"P14361-(P14361/1.0025)","v":0.17281795511222242},69.3]
[{"$error":"#N/A"},null,null,null,null,401307,"SPR","SPR","ST","SET;PRISMACOLOR;72CLR",null,154.82,33,{"$f":"VLOOKUP(M14376,DFL!A:H,8,0)","v":0.55000000000000004},{"$f":"P14376-(P14376/1.0025)","v":0.17374064837905223},69.67]
[{"$error":"#N/A"},null,null,null,null,8270570,"SPR","SPR","EA","RADIOS,2WAY,BUSINSS,2PK,CHG",null,109.99,48,{"$f":"VLOOKUP(M14395,DFL!A:H,8,0)","v":0.3},{"$f":"P14395-(P14395/1.0025)","v":0.19199501246882278},76.989999999999995]
[{"$error":"#N/A"},null,null,null,null,4989168,"SPR","SPR","EA","DESK;LAPTOP;WOOD;FOLDING",null,99.99,48,{"$f":"VLOOKUP(M14406,DFL!A:H,8,0)","v":0.3},{"$f":"P14406-(P14406/1.0025)","v":0.17453865336658225},69.989999999999995]
[{"$error":"#N/A"},null,null,null,null,7565007,"BSD","BSD","CA","Purell¬Æ Healthcare Advanced Hand Sanitizer Gentle & Free Foam Refills, For ES8 Touch-Free Dispensers, Fragrance Free, 40.6 Oz, Case Of 2 Refills",null,140.63999999999999,19,{"$f":"VLOOKUP(M14426,DFL!A:E,5,0)","v":0.5},{"$f":"P14426-(P14426/1.0025)","v":0.17536159600997792},70.319999999999993]
[{"$error":"#N/A"},null,null,null,null,8374278,"SPR","SPR","CT","BAGS,TRSH,KITCHENPRO,20GAL",null,117.3,12,{"$f":"VLOOKUP(M14431,DFL!A:H,8,0)","v":0.4},{"$f":"P14431-(P14431/1.0025)","v":0.17551122194512914},70.38]
[{"$error":"#N/A"},null,null,null,null,561016,"BSD","BSD","EA","CALCULATOR,PRINTING,EL-1801V"," ",132.99,21,{"$f":"VLOOKUP(M14446,DFL!A:E,5,0)","v":0.42},{"$f":"P14446-(P14446/1.0025)","v":0.19234413965087072},77.13]
[{"$error":"#N/A"},null,null,null,null,6780355,"SPR","SPR","BX","RULER,STAINLESS STEEL,15\"",null,171.6,34,{"$f":"VLOOKUP(M14461,DFL!A:H,8,0)","v":0.55000000000000004},{"$f":"P14461-(P14461/1.0025)","v":0.19256857855361886},77.22]
[{"$error":"#N/A"},null,null,null,null,7257255,"BSD","BSD","EA","BOARD CHALK MAGNETIC 40X30 WHT",null,182.08,10,{"$f":"VLOOKUP(M14479,DFL!A:E,5,0)","v":0.55000000000000004},{"$f":"P14479-(P14479/1.0025)","v":0.20433915211970088},81.94]
[{"$error":"#N/A"},null,null,null,null,938787,"SPR","SPR","BX","FOLDER,HANG,LGL,2IN,EXP,BLUE"," ",184.18,35,{"$f":"VLOOKUP(M14496,DFL!A:H,8,0)","v":0.6},{"$f":"P14496-(P14496/1.0025)","v":0.18371571072319171},73.67]
[{"$error":"#N/A"},null,null,null,null,662830,"BSD","BSD","CT","TOWEL,PPR,CFLD,150SLV,16CT,WHT"," ",153.29,40,{"$f":"VLOOKUP(M14515,DFL!A:E,5,0)","v":0.52},{"$f":"P14515-(P14515/1.0025)","v":0.18349127182044356},73.58]
[{"$error":"#N/A"},null,null,null,null,5164611,null,"SPR","CT","BAG;VACUUM;FILTRATION;WNDTL",null,119.88,12,{"$f":"VLOOKUP(M14516,DFL!A:H,8,0)","v":0.4},{"$f":"P14516-(P14516/1.0025)","v":0.17937655860349366},71.930000000000007]
[{"$error":"#N/A"},null,null,null,null,818390,"SPR","SPR","CT","PAPER,EXMTBLE,STND,CREP,21X125"," ",103.02,48,{"$f":"VLOOKUP(M14531,DFL!A:H,8,0)","v":0.3},{"$f":"P14531-(P14531/1.0025)","v":0.17982543640897575},72.11]
[{"$error":"#N/A"},null,null,null,null,825962,"SPR","SPR","CT","WIPES,GERMICIDAL,REG,70CT",null,131.46,19,{"$f":"VLOOKUP(M14552,DFL!A:H,8,0)","v":0.45},{"$f":"P14552-(P14552/1.0025)","v":0.18029925187032347},72.3]
[{"$error":"#N/A"},null,null,null,null,6535590,"SPR","SPR","CT","SANITIZER,HLTCRE,FOAM",null,132.26,19,{"$f":"VLOOKUP(M14566,DFL!A:H,8,0)","v":0.45},{"$f":"P14566-(P14566/1.0025)","v":0.18139650872817015},72.739999999999995]
[{"$error":"#N/A"},null,null,null,null,240040,"SPR","SPR","CT","TOWEL,HRDWND,7-7/8X800,2\"CR"," ",130.4,40,{"$f":"VLOOKUP(M14585,DFL!A:H,8,0)","v":0.44},{"$f":"P14585-(P14585/1.0025)","v":0.18209476309226602},73.02]
[{"$error":"#N/A"},null,null,null,null,348507,"SPR","SPR","EA","CRTDG,Q6002A,YW"," ",146.57,44,{"$f":"VLOOKUP(M14600,DFL!A:H,8,0)","v":0.5},{"$f":"P14600-(P14600/1.0025)","v":0.18276807980049625},73.290000000000006]
[{"$error":"#N/A"},null,null,null,null,164118,"SPR","SPR","EA","POLE,EXTENSON,CONNECT,QUICK",null,153.33000000000001,19,{"$f":"VLOOKUP(M14601,DFL!A:H,8,0)","v":0.45},{"$f":"P14601-(P14601/1.0025)","v":0.21029925187032461},84.33]
[{"$error":"#N/A"},null,null,null,null,223922,"SPR","SPR","EA","CRTDG,CNMCRTDG118BK,350",null,147.6,44,{"$f":"VLOOKUP(M14625,DFL!A:H,8,0)","v":0.5},{"$f":"P14625-(P14625/1.0025)","v":0.184039900249374},73.8]
[{"$error":"#N/A"},null,null,null,null,821122,"BSD","BSD","CA","RECYCLED FORK,100%BLK,1000CA","100/100,EPP (eVine),CPG,100% post-consumer",136.08058171745151,18,{"$f":"VLOOKUP(M14636,DFL!A:E,5,0)","v":0.55000000000000004},{"$f":"P14636-(P14636/1.0025)","v":0.15271820448877804},61.24]
[{"$error":"#N/A"},null,null,null,null,833345,"BSD","BSD","EA","Ativa¬Æ Cat 6 Network Cable, 100', Blue",null,136.28,48,{"$f":"VLOOKUP(M14651,DFL!A:E,5,0)","v":0.42},{"$f":"P14651-(P14651/1.0025)","v":0.19710723192019941},79.040000000000006]
[{"$error":"#N/A"},null,null,null,null,628363,"BSD","BSD","PK","BAGS,SELF-SEALING COIN,50/PK",null,310.5,48,{"$f":"VLOOKUP(M14670,DFL!A:E,5,0)","v":0.42},{"$f":"P14670-(P14670/1.0025)","v":0.44910224438902446},180.09]
[{"$error":"#N/A"},null,null,null,null,626288,"SPR","SPR","BX","POCKET,FILE,LGL,2/5R,3.5\",25BX"," ",195.18,35,{"$f":"VLOOKUP(M14685,DFL!A:H,8,0)","v":0.6},{"$f":"P14685-(P14685/1.0025)","v":0.19468827930174371},78.069999999999993]
[{"$error":"#N/A"},null,null,null,null,4722285,"SPR","SPR","EA","AIR-PURIFIER,SMALL",null,105.66,21,{"$f":"VLOOKUP(M14698,DFL!A:H,8,0)","v":0.28999999999999998},{"$f":"P14698-(P14698/1.0025)","v":0.18708229426432865},75.02]
[{"$error":"#N/A"},null,null,null,null,303358,"BSD","BSD","EA","CONTAINER,RND,55GAL,GY"," ",129.53,48,{"$f":"VLOOKUP(M14706,DFL!A:E,5,0)","v":0.42},{"$f":"P14706-(P14706/1.0025)","v":0.18735660847879387},75.13]
[{"$error":"#N/A"},null,null,null,null,7821187,null,"SPR","EA","DRIVE,USB3.0,FNGRPRT,128GB",null,92,46,{"$f":"VLOOKUP(M14721,DFL!A:H,8,0)","v":0.18},{"$f":"P14721-(P14721/1.0025)","v":0.18812967581047246},75.44]
[{"$error":"#N/A"},null,null,null,null,5291579,"SPR","SPR","CT","SWEETENER,STEVIA,IN-THE-RAW",null,108.12,48,{"$f":"VLOOKUP(M14740,DFL!A:H,8,0)","v":0.3},{"$f":"P14740-(P14740/1.0025)","v":0.18872817955111998},75.680000000000007]
[{"$error":"#N/A"},null,null,null,null,200476,"BSD","BSD","CT","FILE,R-KIVE,KRAFT,HVDTY,12CT","100/100,EPP (eVine),CPG,100% post-consumer",204.6,3,{"$f":"VLOOKUP(M14755,DFL!A:E,5,0)","v":0.61},{"$f":"P14755-(P14755/1.0025)","v":0.19897755610972467},79.790000000000006]
[{"$error":"#N/A"},null,null,null,null,9814567,"SPR","SPR","CT","TOWELS,SCRUBBING,GOJO",null,148.74,40,{"$f":"VLOOKUP(M14771,DFL!A:H,8,0)","v":0.44},{"$f":"P14771-(P14771/1.0025)","v":0.20770573566083783},83.29]
[{"$error":"#N/A"},null,null,null,null,1588465,null,"SPR","CT","SANITIZER,HAND,FOAM,18OZ",null,131.47,22,{"$f":"VLOOKUP(M14776,DFL!A:H,8,0)","v":0.41},{"$f":"P14776-(P14776/1.0025)","v":0.19344139650871739},77.569999999999993]
[{"$error":"#N/A"},null,null,null,null,8799369,"SPR","SPR","EA","BIZTALK BUSINESS RADIO BLK 2W",null,109.99,48,{"$f":"VLOOKUP(M14791,DFL!A:H,8,0)","v":0.3},{"$f":"P14791-(P14791/1.0025)","v":0.19199501246882278},76.989999999999995]
[{"$error":"#N/A"},null,null,null,null,1241893,"SPR","SPR","EA","CRTDG,LSR,2660,2665,BK,1.2K",null,135.22999999999999,43,{"$f":"VLOOKUP(M14810,DFL!A:H,8,0)","v":0.3},{"$f":"P14810-(P14810/1.0025)","v":0.23605985037406185},94.66]
[{"$error":"#N/A"},null,null,null,null,645348,"SPR","SPR","EA","WIPER,X80,JUMBO,WYPALL"," ",149.43,19,{"$f":"VLOOKUP(M14814,DFL!A:H,8,0)","v":0.45},{"$f":"P14814-(P14814/1.0025)","v":0.20496259351619983},82.19]
[{"$error":"#N/A"},null,null,null,null,9257602,"Deviated Item","SPR","EA"," INK REPL HP 981XL CYN",null,155.85,44,{"$f":"VLOOKUP(M14841,DFL!A:H,8,0)","v":0.5},{"$f":"P14841-(P14841/1.0025)","v":0.19433915211969577},77.930000000000007]
[{"$error":"#N/A"},null,null,null,null,6821380,"SPR","SPR","CT","REFILL;FOAM;CERT;GREEN;ADV",null,148.58000000000001,19,{"$f":"VLOOKUP(M14846,DFL!A:H,8,0)","v":0.45},{"$f":"P14846-(P14846/1.0025)","v":0.20379052369077044},81.72]
[{"$error":"#N/A"},null,null,null,null,252950,null,"SPR","EA"," NETGEAR GS108 Gigabit Ethernet",null,49.99,48,{"$f":"VLOOKUP(M14861,DFL!A:H,8,0)","v":0.3},{"$f":"P14861-(P14861/1.0025)","v":8.7256857855358305E-2},34.99]
[{"$error":"#N/A"},null,null,null,null,6779036,"SPR","SPR","EA","LAMP;DSK;ORG;WLNS;USB;MULTI",null,145.13999999999999,16,{"$f":"VLOOKUP(M14880,DFL!A:H,8,0)","v":0.36},{"$f":"P14880-(P14880/1.0025)","v":0.23164588528678109},92.89]
[{"$error":"#N/A"},null,null,null,null,280118,null,"SPR","EA","CART,2SHELF,TUBSHELF,BLACK",null,153.47,13,{"$f":"VLOOKUP(M14887,DFL!A:H,8,0)","v":0.32},{"$f":"P14887-(P14887/1.0025)","v":0.26024937655860469},104.36]
[{"$error":"#N/A"},null,null,null,null,8380283,"SPR","SPR","EA","CRTDG,LSR,HEWCF412A,YW",null,179.64,44,{"$f":"VLOOKUP(M14911,DFL!A:H,8,0)","v":0.5},{"$f":"P14911-(P14911/1.0025)","v":0.22399002493764897},89.82]
[{"$error":"#N/A"},null,null,null,null,9061756,"SPR","SPR","CT","INSECTICIDE,FLYNGINSCT,RAID",null,145.44,19,{"$f":"VLOOKUP(M14916,DFL!A:H,8,0)","v":0.45},{"$f":"P14916-(P14916/1.0025)","v":0.19947630922692383},79.989999999999995]
[{"$error":"#N/A"},null,null,null,null,190802,"SPR","SPR","EA","BOARD,GLASS,DE,2X1.5,WHT,FRST"," ",131.57,10,{"$f":"VLOOKUP(M14931,DFL!A:H,8,0)","v":0.36},{"$f":"P14931-(P14931/1.0025)","v":0.2099750623441281},84.2]
[{"$error":"#N/A"},null,null,null,null,676139,"BSD","BSD","EA","TONER HP 81A LJ M604 BLACK"," ",167.79,44,{"$f":"VLOOKUP(M14946,DFL!A:E,5,0)","v":0.52},{"$f":"P14946-(P14946/1.0025)","v":0.20084788029924994},80.540000000000006]
[{"$error":"#N/A"},null,null,null,null,666033,"SPR","SPR","EA","SORTER;FILE;24PCKTS;SR/GY",null,158.77000000000001,31,{"$f":"VLOOKUP(M14960,DFL!A:H,8,0)","v":0.49},{"$f":"P14960-(P14960/1.0025)","v":0.20192019950124518},80.97]
[{"$error":"#N/A"},null,null,null,null,9789622,null,"SPR","EA","BARRIER,ACRYLIC,24X30",null,116,48,{"$f":"VLOOKUP(M14981,DFL!A:H,8,0)","v":0.3},{"$f":"P14981-(P14981/1.0025)","v":0.20249376558602705},81.2]
[{"$error":"#N/A"},null,null,null,null,6144866,null,"SPR","CA","PAPER,TOWEL,EPA,1PLY,WHITE",null,169.33,40,{"$f":"VLOOKUP(M14986,DFL!A:H,8,0)","v":0.44},{"$f":"P14986-(P14986/1.0025)","v":0.23645885286782686},94.82]
[{"$error":"#N/A"},null,null,null,null,857723,null,"SPR","EA","ARM,MONITOR,SINGLE,F/STS800"," ",116.82,48,{"$f":"VLOOKUP(M15001,DFL!A:H,8,0)","v":0.3},{"$f":"P15001-(P15001/1.0025)","v":0.20391521197007023},81.77]
[{"$error":"#N/A"},null,null,null,null,1260199,null,"SPR","CT","KIT TRSH BAG 13GAL WH 6/45 CT",null,138.09675941080198,12,{"$f":"VLOOKUP(M15016,DFL!A:H,8,0)","v":0.4},{"$f":"P15016-(P15016/1.0025)","v":0.20663341645884259},82.86]
[{"$error":"#N/A"},null,null,null,null,1618921,"SPR","SPR","CT","CLEANER,DISINFECT,S9,22OZ",null,151.80000000000001,19,{"$f":"VLOOKUP(M15033,DFL!A:H,8,0)","v":0.45},{"$f":"P15033-(P15033/1.0025)","v":0.2082044887780512},83.49]
[{"$error":"#N/A"},null,null,null,null,224450,"SPR","SPR","EA","STAND,MONITOR,CORNER SHELF"," ",118.64,48,{"$f":"VLOOKUP(M15051,DFL!A:H,8,0)","v":0.3},{"$f":"P15051-(P15051/1.0025)","v":0.20710723192019032},83.05]
[{"$error":"#N/A"},null,null,null,null,2004306,"SPR","SPR","EA","COMBO,MOUSE,KYBD,WIRELESS",null,127.65,29,{"$f":"VLOOKUP(M15056,DFL!A:H,8,0)","v":0.3},{"$f":"P15056-(P15056/1.0025)","v":0.22284289276807101},89.36]
[{"$error":"#N/A"},null,null,null,null,8245713,"SPR","SPR","CT","TISSUE,BATH,80 RL",null,149.15,40,{"$f":"VLOOKUP(M15071,DFL!A:H,8,0)","v":0.44},{"$f":"P15071-(P15071/1.0025)","v":0.20827930174563392},83.52]
[{"$error":"#N/A"},null,null,null,null,758581,"SPR","SPR","EA","HEATER,COMPACT,DIGITAL"," ",119.91,48,{"$f":"VLOOKUP(M15086,DFL!A:H,8,0)","v":0.3},{"$f":"P15086-(P15086/1.0025)","v":0.20932668329176352},83.94]
[{"$error":"#N/A"},null,null,null,null,310958,"SPR","SPR","CT","WIPES,TWL,CLNR,SSTEEL,6CT",null,155.46,19,{"$f":"VLOOKUP(M15106,DFL!A:H,8,0)","v":0.45},{"$f":"P15106-(P15106/1.0025)","v":0.21321695760597947},85.5]
[{"$error":"#N/A"},null,null,null,null,7838567,"SPR","SPR","CT","MAT,ECO,HARD,FLR,36X48,LIP",null,169.86,15,{"$f":"VLOOKUP(M15121,DFL!A:H,8,0)","v":0.5},{"$f":"P15121-(P15121/1.0025)","v":0.21179551122193629},84.93]
[{"$error":"#N/A"},null,null,null,null,689730,null,"SPR","EA","TABLE,FOLDING,5',RESIN"," ",147,48,{"$f":"VLOOKUP(M15136,DFL!A:H,8,0)","v":0.3},{"$f":"P15136-(P15136/1.0025)","v":0.25660847880298832},102.9]
[{"$error":"#N/A"},null,null,null,null,5006426,"SPR","SPR","CT","ABSORBENT,DEODORANT,1.5LB",null,155.16,19,{"$f":"VLOOKUP(M15141,DFL!A:H,8,0)","v":0.45},{"$f":"P15141-(P15141/1.0025)","v":0.21281795511221446},85.34]
[{"$error":"#N/A"},null,null,null,null,909543,"SPR","SPR","EA","CHRMAT,HRDFLR,RECT,48X60"," ",171.36,15,{"$f":"VLOOKUP(M15156,DFL!A:H,8,0)","v":0.5},{"$f":"P15156-(P15156/1.0025)","v":0.21366583541146156},85.68]
[{"$error":"#N/A"},null,null,null,null,842460,"BSD","BSD","CT","TOWEL,PPR,ROLL,KLNX PRMR,24/CA"," ",179.49,40,{"$f":"VLOOKUP(M15179,DFL!A:E,5,0)","v":0.52},{"$f":"P15179-(P15179/1.0025)","v":0.21486284289275659},86.16]
[{"$error":"#N/A"},null,null,null,null,177149,"BSD","BSD","CT","TOWELS,KLENX,MOD,6CA,700',WHT"," ",182.38707564241764,40,{"$f":"VLOOKUP(M15191,DFL!A:E,5,0)","v":0.52},{"$f":"P15191-(P15191/1.0025)","v":0.21832917705735611},87.55]
[{"$error":"#N/A"},null,null,null,null,222602,"SPR","SPR","CT","BATTERIES,PRO,ULTRA,C",null,168.96,6,{"$f":"VLOOKUP(M15206,DFL!A:H,8,0)","v":0.47},{"$f":"P15206-(P15206/1.0025)","v":0.22331670822941874},89.55]
[{"$error":"#N/A"},null,null,null,null,196697,null,"SPR","CA","PAPER,POLARIS,8.5X11,20LB,CA"," ",357.33,32,{"$f":"VLOOKUP(M15225,DFL!A:H,8,0)","v":0.65},{"$f":"P15225-(P15225/1.0025)","v":0.31189526184537897},125.07]
[{"$error":"#N/A"},null,null,null,null,4935496,"SPR","SPR","EA","WEBCAM, C922",null,122.93,21,{"$f":"VLOOKUP(M15226,DFL!A:H,8,0)","v":0.28999999999999998},{"$f":"P15226-(P15226/1.0025)","v":0.21765586034912587},87.28]
[{"$error":"#N/A"},null,null,null,null,6672960,"SPR","SPR","EA","CRTDG,LSR,HP410X,BK.HY",null,197.7,44,{"$f":"VLOOKUP(M15251,DFL!A:H,8,0)","v":0.5},{"$f":"P15251-(P15251/1.0025)","v":0.24650872817954905},98.85]
[{"$error":"#N/A"},null,null,null,null,8163967,"SPR","SPR","CT","CADDY,SPONGE,WE",null,178.08,19,{"$f":"VLOOKUP(M15261,DFL!A:H,8,0)","v":0.45},{"$f":"P15261-(P15261/1.0025)","v":0.24423940149625878},97.94]
[{"$error":"#N/A"},null,null,null,null,698542,"BSD","BSD","EA","BOARD,FORAY,D/E,36X48,ALUM",null,218.21,10,{"$f":"VLOOKUP(M15276,DFL!A:E,5,0)","v":0.55000000000000004},{"$f":"P15276-(P15276/1.0025)","v":0.24486284289275773},98.19]
[{"$error":"#N/A"},null,null,null,null,215918,"SPR","SPR","CT","AFINISH,FLOOR,HIGH TRAFFIC",null,162,19,{"$f":"VLOOKUP(M15295,DFL!A:H,8,0)","v":0.45},{"$f":"P15295-(P15295/1.0025)","v":0.22219451371570642},89.1]
[{"$error":"#N/A"},null,null,null,null,284748,"SPR","SPR","EA","CRTDG,LSR,2150,2155,MA,2.5K",null,141.76,43,{"$f":"VLOOKUP(M15310,DFL!A:H,8,0)","v":0.3},{"$f":"P15310-(P15310/1.0025)","v":0.24745635910224451},99.23]
[{"$error":"#N/A"},null,null,null,null,102917,"SPR","SPR","PR","ARMS, ADJUSTABLE WIDTH SET"," ",136,48,{"$f":"VLOOKUP(M15312,DFL!A:H,8,0)","v":0.3},{"$f":"P15312-(P15312/1.0025)","v":0.23740648379052232},95.2]
[{"$error":"#N/A"},null,null,null,null,330535,"SPR","SPR","BX","PKT,LTR,EXP 3.5,REDROPE"," ",234.7,35,{"$f":"VLOOKUP(M15331,DFL!A:H,8,0)","v":0.6},{"$f":"P15331-(P15331/1.0025)","v":0.23411471321695387},93.88]
[{"$error":"#N/A"},null,null,null,null,352417,"SPR","SPR","CT","TOWEL,PAPR,SOFPULL,BROWN","040/040,EPP (eVine),CPG,40% post-consumer content",161.53,40,{"$f":"VLOOKUP(M15346,DFL!A:H,8,0)","v":0.44},{"$f":"P15346-(P15346/1.0025)","v":0.22558603491270901},90.46]
[{"$error":"#N/A"},null,null,null,null,1947659,"SPR","SPR","EA","SPLITTER,HDMI,4K,2 PORT",null,136.99,48,{"$f":"VLOOKUP(M15365,DFL!A:H,8,0)","v":0.3},{"$f":"P15365-(P15365/1.0025)","v":0.23912718204488215},95.89]
[{"$error":"#N/A"},null,null,null,null,6659950,"SPR","SPR","EA","SURFACE,GAMG,MADCTZ GLIDE38",null,129.99,29,{"$f":"VLOOKUP(M15368,DFL!A:H,8,0)","v":0.3},{"$f":"P15368-(P15368/1.0025)","v":0.22690773067331804},90.99]
[{"$error":"#N/A"},null,null,null,null,919920,"SPR","SPR","PK","PAD,PERF,DKTGLD,8.5X14,WHT,LGL"," ",218.25,30,{"$f":"VLOOKUP(M15396,DFL!A:H,8,0)","v":0.57999999999999996},{"$f":"P15396-(P15396/1.0025)","v":0.22860349127181223},91.67]
[{"$error":"#N/A"},null,null,null,null,788913,null,"SPR","EA","TONER,LJ P2055,BLACK","EPP (eVine),Remanufactured toner cartridge",191.37,44,{"$f":"VLOOKUP(M15401,DFL!A:H,8,0)","v":0.5},{"$f":"P15401-(P15401/1.0025)","v":0.23862842892766878},95.69]
[{"$error":"#N/A"},null,null,null,null,571271,"SPR","SPR","BX","ENVELOPE,#8,DBL WNDW,SS"," ",219.76,27,{"$f":"VLOOKUP(M15416,DFL!A:H,8,0)","v":0.57999999999999996},{"$f":"P15416-(P15416/1.0025)","v":0.23017456359102084},92.3]
[{"$error":"#N/A"},null,null,null,null,9070978,"SPR","SPR","CT","LUBRICANT,EZRCH,WD40,14.4OZ",null,168.48,19,{"$f":"VLOOKUP(M15431,DFL!A:H,8,0)","v":0.45},{"$f":"P15431-(P15431/1.0025)","v":0.23107231920198501},92.66]
[{"$error":"#N/A"},null,null,null,null,8254759,"SPR","SPR","EA","SIGN,8.5X6.75,ADA,WOMEN,ACC",null,145.36000000000001,36,{"$f":"VLOOKUP(M15441,DFL!A:H,8,0)","v":0.36},{"$f":"P15441-(P15441/1.0025)","v":0.23199501246882903},93.03]
[{"$error":"#N/A"},null,null,null,null,536786,"SPR","SPR","EA","PUNCH,2HOLE,100SHT BE/GY",null,173.6,7,{"$f":"VLOOKUP(M15466,DFL!A:H,8,0)","v":0.46},{"$f":"P15466-(P15466/1.0025)","v":0.23376558603490594},93.74]
[{"$error":"#N/A"},null,null,null,null,568219,"SPR","SPR","CA","PAPER,MULTIPURP,HAMMERM,LETTER",null,284.57,32,{"$f":"VLOOKUP(M15471,DFL!A:H,8,0)","v":0.65},{"$f":"P15471-(P15471/1.0025)","v":0.24837905236907432},99.6]
[{"$error":"#N/A"},null,null,null,null,762822,"BSD","BSD","EA","TONER,REPLACES HP 05X,BLK","EPP (eVine),CPG,Remanufactured laser cartridge",197.39,44,{"$f":"VLOOKUP(M15486,DFL!A:E,5,0)","v":0.52},{"$f":"P15486-(P15486/1.0025)","v":0.23628428927681},94.75]
[{"$error":"#N/A"},null,null,null,null,7531891,"SPR","SPR","CT","FOLDER,2-POCKET,LETTER,DBE",null,153.6,45,{"$f":"VLOOKUP(M15501,DFL!A:H,8,0)","v":0.35},{"$f":"P15501-(P15501/1.0025)","v":0.24897755610972183},99.84]
[{"$error":"#N/A"},null,null,null,null,350989,null,"SPR","EA","DESK,COMPUTER,LMNATE"," ",136,48,{"$f":"VLOOKUP(M15514,DFL!A:H,8,0)","v":0.3},{"$f":"P15514-(P15514/1.0025)","v":0.23740648379052232},95.2]
[{"$error":"#N/A"},null,null,null,null,114381,"BSD","BSD","EA","ARM,MONITOR,FRESTND,STCK,DUAL",null,164.99,48,{"$f":"VLOOKUP(M15536,DFL!A:E,5,0)","v":0.42},{"$f":"P15536-(P15536/1.0025)","v":0.23862842892766878},95.69]
[{"$error":"#N/A"},null,null,null,null,444758,"BSD","BSD","EA","TONER HP 26X LJ M402 BLACK",null,199.99,44,{"$f":"VLOOKUP(M15541,DFL!A:E,5,0)","v":0.52},{"$f":"P15541-(P15541/1.0025)","v":0.23940149625934737},96]
[{"$error":"#N/A"},null,null,null,null,599249,"SPR","SPR","EA","DELL - TONER CARTRIDGE - BLACK",null,164.54,43,{"$f":"VLOOKUP(M15556,DFL!A:H,8,0)","v":0.3},{"$f":"P15556-(P15556/1.0025)","v":0.2872319201994884},115.18]
[{"$error":"#N/A"},null,null,null,null,2865388,"BSD","BSD","EA","LAMINATOR HALO 9.5IN",null,168.6246162110541,21,{"$f":"VLOOKUP(M15571,DFL!A:E,5,0)","v":0.42},{"$f":"P15571-(P15571/1.0025)","v":0.24389027431421084},97.8]
[{"$error":"#N/A"},null,null,null,null,6472469,"SPR","SPR","CT","PAD,EASEL,RULED,27X34,4PK",null,250.57,30,{"$f":"VLOOKUP(M15587,DFL!A:H,8,0)","v":0.57999999999999996},{"$f":"P15587-(P15587/1.0025)","v":0.26244389027431225},105.24]
[{"$error":"#N/A"},null,null,null,null,3019600,"SPR","SPR","EA","4X3 MELAMINE BLACK ALUMINUM",null,153.35,10,{"$f":"VLOOKUP(M15606,DFL!A:H,8,0)","v":0.36},{"$f":"P15606-(P15606/1.0025)","v":0.24473815461345794},98.14]
[{"$error":"#N/A"},null,null,null,null,5942513,"SPR","SPR","CT","PAPER,COPY,20#,8.5X11,SALMN",null,297,32,{"$f":"VLOOKUP(M15621,DFL!A:H,8,0)","v":0.65},{"$f":"P15621-(P15621/1.0025)","v":0.25922693266832653},{"$f":"ROUND(L15621*(1-N15621),2)","v":103.95}]
[{"$error":"#N/A"},null,null,null,null,946624,"SPR","SPR","BX","ENVELOPE,TAMPER,SEAL,PLN,9X12"," ",234.09,27,{"$f":"VLOOKUP(M15626,DFL!A:H,8,0)","v":0.57999999999999996},{"$f":"P15626-(P15626/1.0025)","v":0.24518703241895423},98.32]
[{"$error":"#N/A"},null,null,null,null,5433981,"BSD","BSD","CT"," TISSUE FACIAL ANTIVIRAL UPRGHT",null,207.81756883311482,40,{"$f":"VLOOKUP(M15641,DFL!A:E,5,0)","v":0.52},{"$f":"P15641-(P15641/1.0025)","v":0.24875311720697368},99.75]
[{"$error":"#N/A"},null,null,null,null,666684,"SPR","SPR","EA","CALCULATOR,PRINTING,1310"," ",139.99,21,{"$f":"VLOOKUP(M15660,DFL!A:H,8,0)","v":0.28999999999999998},{"$f":"P15660-(P15660/1.0025)","v":0.24785536159600952},99.39]
[{"$error":"#N/A"},null,null,null,null,9141771,"SPR","SPR","EA","FILE;VRT;MBL;2DR;18\";SR",null,161.25,38,{"$f":"VLOOKUP(M15676,DFL!A:H,8,0)","v":0.36},{"$f":"P15676-(P15676/1.0025)","v":0.25735660847880126},103.2]
[{"$error":"#N/A"},null,null,null,null,9478101,"BSD","BSD","EA","IPW Preserve 545-451-ODP Remanufactured Cyan Toner Cartridge Replacement For HP 655A / CF451A",null,209.99,44,{"$f":"VLOOKUP(M15691,DFL!A:E,5,0)","v":0.52},{"$f":"P15691-(P15691/1.0025)","v":0.25137157107231189},100.8]
[{"$error":"#N/A"},null,null,null,null,516651,"BSD","BSD","BX","ENVELOPE,BUSN,5X11.5,KT"," ",305.76,27,{"$f":"VLOOKUP(M15696,DFL!A:E,5,0)","v":0.67},{"$f":"P15696-(P15696/1.0025)","v":0.25162094763091147},100.9]
[{"$error":"#N/A"},null,null,null,null,9875097,"SPR","SPR","BX","ENVELOPE,CATALOG,11.5X14.5",null,241.33,27,{"$f":"VLOOKUP(M15711,DFL!A:H,8,0)","v":0.57999999999999996},{"$f":"P15711-(P15711/1.0025)","v":0.25276807980048943},101.36]
[{"$error":"#N/A"},null,null,null,null,283732,"SPR","SPR","EA","TONER,FSC2026MFP,CN",null,145.32,43,{"$f":"VLOOKUP(M15732,DFL!A:H,8,0)","v":0.3},{"$f":"P15732-(P15732/1.0025)","v":0.25366583541146781},101.72]
[{"$error":"#N/A"},null,null,null,null,1698130,"SPR","SPR","CT","TWL,PERF,CTR,1PLY,WHI,250"," ",199.02,40,{"$f":"VLOOKUP(M15746,DFL!A:H,8,0)","v":0.44},{"$f":"P15746-(P15746/1.0025)","v":0.27793017456357916},111.45]
[{"$error":"#N/A"},null,null,null,null,9381201,"SPR","SPR","CT","POLISH,CLEANER,STAINLSS STL",null,186.24,19,{"$f":"VLOOKUP(M15761,DFL!A:H,8,0)","v":0.45},{"$f":"P15761-(P15761/1.0025)","v":0.25543640897754472},102.43]
[{"$error":"#N/A"},null,null,null,null,853482,"SPR","SPR","CT","CLEANER,EZMIX,CNCTRT,PROXI",null,199.14,19,{"$f":"VLOOKUP(M15766,DFL!A:H,8,0)","v":0.45},{"$f":"P15766-(P15766/1.0025)","v":0.27314214463839903},109.53]
[{"$error":"#N/A"},null,null,null,null,5079053,"SPR","SPR","EA","CAN;BRUTE;55G;BLA",null,187.74,19,{"$f":"VLOOKUP(M15791,DFL!A:H,8,0)","v":0.45},{"$f":"P15791-(P15791/1.0025)","v":0.25750623441396669},103.26]
[{"$error":"#N/A"},null,null,null,null,1402480,null,"SPR","EA","FILE,SOHO,CASTERS,2DRW,BLACK",null,217.19847859989605,38,{"$f":"VLOOKUP(M15797,DFL!A:H,8,0)","v":0.36},{"$f":"P15797-(P15797/1.0025)","v":0.3466583541147088},139.01]
[{"$error":"#N/A"},null,null,null,null,452326,"BSD","BSD","CT","Diversey‚Ñ¢ Crew¬Æ Nonacid Bowl And Bathroom Cleaner, 2.5L, J-Fill, 2/CT",null,218.57,19,{"$f":"VLOOKUP(M15816,DFL!A:E,5,0)","v":0.5},{"$f":"P15816-(P15816/1.0025)","v":0.27254364089775152},109.29]
[{"$error":"#N/A"},null,null,null,null,502643,"SPR","SPR","EA","CRTDG,TONER,RTN P,601"," ",163.52000000000001,43,{"$f":"VLOOKUP(M15831,DFL!A:H,8,0)","v":0.3},{"$f":"P15831-(P15831/1.0025)","v":0.28543640897754585},114.46]
[{"$error":"#N/A"},null,null,null,null,716199,"SPR","SPR","EA","SWEEPER;BRUSHLESS",null,223.54,19,{"$f":"VLOOKUP(M15850,DFL!A:H,8,0)","v":0.45},{"$f":"P15850-(P15850/1.0025)","v":0.30660847880298547},122.95]
[{"$error":"#N/A"},null,null,null,null,511648,"SPR","SPR","EA","TRASHCAN,38-GALLON,PLASTIC,BLK"," ",207,31,{"$f":"VLOOKUP(M15864,DFL!A:H,8,0)","v":0.49},{"$f":"P15864-(P15864/1.0025)","v":0.2632668329176937},105.57]
[{"$error":"#N/A"},null,null,null,null,827598,"BSD","BSD","EA","TONER,508X,LSRJT,M553,BLACK",null,219.99,44,{"$f":"VLOOKUP(M15867,DFL!A:E,5,0)","v":0.52},{"$f":"P15867-(P15867/1.0025)","v":0.26334164588527642},105.6]
[{"$error":"#N/A"},null,null,null,null,342073,"BSD","BSD","CT","FILE,STRG/BTNECN,LTR,12CT","050/050,EPP (eVine),CPG,50% post-consumer (linerboard)",285.60000000000002,3,{"$f":"VLOOKUP(M15886,DFL!A:E,5,0)","v":0.61},{"$f":"P15886-(P15886/1.0025)","v":0.27775561097256229},111.38]
[{"$error":"#N/A"},null,null,null,null,5953972,null,"SPR","CT","DEODORIZER,CLIP,OCEANBREEZE",null,194.07,19,{"$f":"VLOOKUP(M15901,DFL!A:H,8,0)","v":0.45},{"$f":"P15901-(P15901/1.0025)","v":0.26618453865336278},106.74]
[{"$error":"#N/A"},null,null,null,null,623461,"SPR","SPR","CT","CLEANER,GLASS,AEROSOL,19OZ"," ",195,19,{"$f":"VLOOKUP(M15916,DFL!A:H,8,0)","v":0.45},{"$f":"P15916-(P15916/1.0025)","v":0.26745635910224053},107.25]
[{"$error":"#N/A"},null,null,null,null,4591132,"SPR","SPR","CT","SAN, VF PLUS, CS4, REFILL",null,195.44,19,{"$f":"VLOOKUP(M15922,DFL!A:H,8,0)","v":0.45},{"$f":"P15922-(P15922/1.0025)","v":0.26805486284288804},107.49]
[{"$error":"#N/A"},null,null,null,null,9272639,"BSD","BSD","CA","PAPER,DGTL,28#,BOND,TXT,CS",null,455.38,32,{"$f":"VLOOKUP(M15937,DFL!A:E,5,0)","v":0.75},{"$f":"P15937-(P15937/1.0025)","v":0.28391521197006853},113.85]
[{"$error":"#N/A"},null,null,null,null,919845,"SPR","SPR","EA","BOARD,CORK,OAK-FRAME,36\"X48\""," ",170.23,10,{"$f":"VLOOKUP(M15956,DFL!A:H,8,0)","v":0.36},{"$f":"P15956-(P15956/1.0025)","v":0.27169576059850442},108.95]
[{"$error":"#N/A"},null,null,null,null,581569,"SPR","SPR","EA","TRIPP LITE B130-101-U VGA OVER",null,206.99,6,{"$f":"VLOOKUP(M15971,DFL!A:H,8,0)","v":0.47},{"$f":"P15971-(P15971/1.0025)","v":0.27356608478802968},109.7]
[{"$error":"#N/A"},null,null,null,null,9026522,"SPR","SPR","CT","DISINFECTANT,MAXCVR,LAV",null,200.4,19,{"$f":"VLOOKUP(M15986,DFL!A:H,8,0)","v":0.45},{"$f":"P15986-(P15986/1.0025)","v":0.27486284289275886},110.22]
[{"$error":"#N/A"},null,null,null,null,651785,"SPR","SPR","EA","SCALE,250 LB. PORT DIG,BK",null,167.59,48,{"$f":"VLOOKUP(M15995,DFL!A:H,8,0)","v":0.3},{"$f":"P15995-(P15995/1.0025)","v":0.29254364089774754},117.31]
[{"$error":"#N/A"},null,null,null,null,907081,"SPR","SPR","EA","HOOK,6 NAIL HEAD COAT,SAM","EPP (eVine),Greenguard",174,16,{"$f":"VLOOKUP(M16021,DFL!A:H,8,0)","v":0.36},{"$f":"P16021-(P16021/1.0025)","v":0.27770573566084522},111.36]
[{"$error":"#N/A"},null,null,null,null,139084,"SPR","SPR","CT","MAILER,BUBBLE,14.25X20"," ",266.08999999999997,27,{"$f":"VLOOKUP(M16026,DFL!A:H,8,0)","v":0.57999999999999996},{"$f":"P16026-(P16026/1.0025)","v":0.27870324189525775},111.76]
[{"$error":"#N/A"},null,null,null,null,5879027,"SPR","SPR","CT","MAT,SUPER,CARPET, 45X53,W/LIP",null,224.15,15,{"$f":"VLOOKUP(M16041,DFL!A:H,8,0)","v":0.5},{"$f":"P16041-(P16041/1.0025)","v":0.27950124688278777},112.08]
[{"$error":"#N/A"},null,null,null,null,1251289,"SPR","SPR","CT","SELECT A LENGTH DUST MOP",null,235.2,19,{"$f":"VLOOKUP(M16056,DFL!A:H,8,0)","v":0.45},{"$f":"P16056-(P16056/1.0025)","v":0.32259351620947996},129.36000000000001]
[{"$error":"#N/A"},null,null,null,null,729602,"SPR","SPR","EA","REFILL PACK, WITH MEDS",null,216.51,22,{"$f":"VLOOKUP(M16068,DFL!A:H,8,0)","v":0.41},{"$f":"P16068-(P16068/1.0025)","v":0.31855361596009857},127.74]
[{"$error":"#N/A"},null,null,null,null,747319,"SPR","SPR","EA","MICR TONER HEWQ7553X",null,228.99,44,{"$f":"VLOOKUP(M16091,DFL!A:H,8,0)","v":0.5},{"$f":"P16091-(P16091/1.0025)","v":0.28553615960099421},114.5]
[{"$error":"#N/A"},null,null,null,null,389099,null,"SPR","PK"," TONER CMY REMAN 125A IPW 3PK",null,229.76,44,{"$f":"VLOOKUP(M16106,DFL!A:H,8,0)","v":0.5},{"$f":"P16106-(P16106/1.0025)","v":0.28648379052368966},114.88]
[{"$error":"#N/A"},null,null,null,null,118834,null,"SPR","EA"," TONER REPLACE HP CE255A MICR",null,229.99,44,{"$f":"VLOOKUP(M16111,DFL!A:H,8,0)","v":0.5},{"$f":"P16111-(P16111/1.0025)","v":0.28678304239400632},115]
[{"$error":"#N/A"},null,null,null,null,321109,"SPR","SPR","EA","FILTER,GLARE,LCD,24\"",null,164.99,48,{"$f":"VLOOKUP(M16126,DFL!A:H,8,0)","v":0.3},{"$f":"P16126-(P16126/1.0025)","v":0.28800498753116699},{"$f":"ROUND(L16126*(1-N16126),2)","v":115.49}]
[{"$error":"#N/A"},null,null,null,null,6652012,"SPR","SPR","CT","REMOVER,GUM&ADHESIVE",null,211.32,19,{"$f":"VLOOKUP(M16141,DFL!A:H,8,0)","v":0.45},{"$f":"P16141-(P16141/1.0025)","v":0.28985037406482661},116.23]
[{"$error":"#N/A"},null,null,null,null,8816347,"SPR","SPR","CT","TWL,HARD RL,WHI,800'",null,208.98,40,{"$f":"VLOOKUP(M16161,DFL!A:H,8,0)","v":0.44},{"$f":"P16161-(P16161/1.0025)","v":0.29184538653366587},117.03]
[{"$error":"#N/A"},null,null,null,null,6450333,"SPR","SPR","EA","FILE,PED,MOB,SOHO,BBF,WE",null,237.72,31,{"$f":"VLOOKUP(M16176,DFL!A:H,8,0)","v":0.49},{"$f":"P16176-(P16176/1.0025)","v":0.30234413965087015},121.24]
[{"$error":"#N/A"},null,null,null,null,5373447,"SPR","SPR","EA","CRTDG,LSR,HP410X,YW,HY",null,264.66000000000003,44,{"$f":"VLOOKUP(M16181,DFL!A:H,8,0)","v":0.5},{"$f":"P16181-(P16181/1.0025)","v":0.32999999999998408},132.33000000000001]
[{"$error":"#N/A"},null,null,null,null,9897611,null,"SPR","EA","BOOKCASE 3 SHELF MULLED CHERRY",null,242.14,9,{"$f":"VLOOKUP(M16199,DFL!A:H,8,0)","v":0.37},{"$f":"P16199-(P16199/1.0025)","v":0.38042394014962611},152.55000000000001]
[{"$error":"#N/A"},null,null,null,null,247436,null,"SPR","EA","50' HDMI CABLE W ETHERNET",null,179.99,48,{"$f":"VLOOKUP(M16212,DFL!A:H,8,0)","v":0.3},{"$f":"P16212-(P16212/1.0025)","v":0.31418952618453488},125.99]
[{"$error":"#N/A"},null,null,null,null,875652,"SPR","SPR","CT","SOLO 12OZ PAPER HOT CUP"," ",157.97,18,{"$f":"VLOOKUP(M16231,DFL!A:H,8,0)","v":0.44},{"$f":"P16231-(P16231/1.0025)","v":0.22059850374064638},88.46]
[{"$error":"#N/A"},null,null,null,null,553965,"BSD","BSD","CT","PAPER,BANK,ROLL,3X96,50CT"," ",326.08999999999997,24,{"$f":"VLOOKUP(M16246,DFL!A:E,5,0)","v":0.63},{"$f":"P16246-(P16246/1.0025)","v":0.30087281795510989},120.65]
[{"$error":"#N/A"},null,null,null,null,6615092,"SPR","SPR","CT","PAPER,COPY,20#,8.5X14,BLUE",null,363.6,32,{"$f":"VLOOKUP(M16251,DFL!A:H,8,0)","v":0.65},{"$f":"P16251-(P16251/1.0025)","v":0.31735660847878933},127.26]
[{"$error":"#N/A"},null,null,null,null,295959,null,"SPR","CT","SCREEN,URINAL,PARA,NON",null,221.88,19,{"$f":"VLOOKUP(M16272,DFL!A:H,8,0)","v":0.45},{"$f":"P16272-(P16272/1.0025)","v":0.30431421446382956},122.03]
[{"$error":"#N/A"},null,null,null,null,118859,null,"SPR","EA","CRTDG,CE400A,BK"," ",174.79,43,{"$f":"VLOOKUP(M16282,DFL!A:H,8,0)","v":0.3},{"$f":"P16282-(P16282/1.0025)","v":0.30511221945135958},122.35]
[{"$error":"#N/A"},null,null,null,null,927534,"SPR","SPR","EA","CRTDG,LSR,6035,6535,MA,10K",null,175.62,43,{"$f":"VLOOKUP(M16301,DFL!A:H,8,0)","v":0.3},{"$f":"P16301-(P16301/1.0025)","v":0.3065586034912684},122.93]
[{"$error":"#N/A"},null,null,null,null,5745704,"SPR","SPR","CT","CHARGER,BATTERY,AA,AAA,1 HR",null,233.4,6,{"$f":"VLOOKUP(M16316,DFL!A:H,8,0)","v":0.47},{"$f":"P16316-(P16316/1.0025)","v":0.30847880299251074},{"$f":"ROUND(L16316*(1-N16316),2)","v":123.7}]
[{"$error":"#N/A"},null,null,null,null,8218032,"SPR","SPR","CT","CUP,PERFECTOUCH,20OZ",null,221.25,18,{"$f":"VLOOKUP(M16321,DFL!A:H,8,0)","v":0.44},{"$f":"P16321-(P16321/1.0025)","v":0.30897755610972411},123.9]
[{"$error":"#N/A"},null,null,null,null,485673,"SPR","SPR","EA","TONER,MICR,NEW,HPPRO P1102W"," ",189,43,{"$f":"VLOOKUP(M16345,DFL!A:H,8,0)","v":0.3},{"$f":"P16345-(P16345/1.0025)","v":0.32992518703241558},132.30000000000001]
[{"$error":"#N/A"},null,null,null,null,128027,"SPR","SPR","EA","SEIKO SLP-650 DIRECT THERMAL P",null,179.99,48,{"$f":"VLOOKUP(M16352,DFL!A:H,8,0)","v":0.3},{"$f":"P16352-(P16352/1.0025)","v":0.31418952618453488},125.99]
[{"$error":"#N/A"},null,null,null,null,1639936,"SPR","SPR","RL","WYPALL X60 WIPER 12.5X13.4 BLU",null,227.81,40,{"$f":"VLOOKUP(M16371,DFL!A:H,8,0)","v":0.44},{"$f":"P16371-(P16371/1.0025)","v":0.31812967581046792},127.57]
[{"$error":"#N/A"},null,null,null,null,934304,"BSD","BSD","EA","TONER,CS X417 517,HY RTN YLLW",null,197.86356755954588,43,{"$f":"VLOOKUP(M16386,DFL!A:E,5,0)","v":0.35},{"$f":"P16386-(P16386/1.0025)","v":0.32072319201995469},128.61000000000001]
[{"$error":"#N/A"},null,null,null,null,5738400,"SPR","SPR","CT","CONTAINER,RECYCLE,23 GAL",null,190.04,48,{"$f":"VLOOKUP(M16401,DFL!A:H,8,0)","v":0.3},{"$f":"P16401-(P16401/1.0025)","v":0.33174563591020956},133.03]
[{"$error":"#N/A"},null,null,null,null,632954,"BSD","BSD","EA","TONER,70C1HY,HY,LEXMARK,YELLOW"," ",217.12,43,{"$f":"VLOOKUP(M16418,DFL!A:E,5,0)","v":0.35},{"$f":"P16418-(P16418/1.0025)","v":0.35194513715708808},141.13]
[{"$error":"#N/A"},null,null,null,null,4371023,"Deviated Item","SPR","EA"," TONER LEXMARK E260 HGH YLD BLK",null,258.10000000000002,44,{"$f":"VLOOKUP(M16422,DFL!A:H,8,0)","v":0.5},{"$f":"P16422-(P16422/1.0025)","v":0.32182044887778716},129.05000000000001]
[{"$error":"#N/A"},null,null,null,null,195387,"BSD","BSD","EA","3M PRIVACY FILTER PF23.0W9 - D"," ",207.27,48,{"$f":"VLOOKUP(M16441,DFL!A:E,5,0)","v":0.42},{"$f":"P16441-(P16441/1.0025)","v":0.29980049875311465},120.22]
[{"$error":"#N/A"},null,null,null,null,3104459,"SPR","SPR","CT","CLOTHS, X60, WYPALL",null,239.04,19,{"$f":"VLOOKUP(M16456,DFL!A:H,8,0)","v":0.45},{"$f":"P16456-(P16456/1.0025)","v":0.3278553615959936},131.47]
[{"$error":"#N/A"},null,null,null,null,578460,"SPR","SPR","EA","CRTG,Q7553X,LASER BLACK"," ",263.77,44,{"$f":"VLOOKUP(M16471,DFL!A:H,8,0)","v":0.5},{"$f":"P16471-(P16471/1.0025)","v":0.32890274314215162},131.88999999999999]
[{"$error":"#N/A"},null,null,null,null,561713,"SPR","SPR","CT","BINDERBOX MAX LOL FF,12/PK","050/050,EPP (eVine),CPG,50% post-consumer",276.87,3,{"$f":"VLOOKUP(M16476,DFL!A:H,8,0)","v":0.5},{"$f":"P16476-(P16476/1.0025)","v":0.34523690773067983},138.44]
[{"$error":"#N/A"},null,null,null,null,8721749,"SPR","SPR","EA","SCREEN,PRIVACY,LAPTOP,27",null,197.44,48,{"$f":"VLOOKUP(M16492,DFL!A:H,8,0)","v":0.3},{"$f":"P16492-(P16492/1.0025)","v":0.34466334164588375},138.21]
[{"$error":"#N/A"},null,null,null,null,515064,"SPR","SPR","CT","ENVELOPE,TYVEK,10X13X2,OS,,14#"," ",317.91000000000003,27,{"$f":"VLOOKUP(M16507,DFL!A:H,8,0)","v":0.57999999999999996},{"$f":"P16507-(P16507/1.0025)","v":0.33296758104737023},133.52000000000001]
[{"$error":"#N/A"},null,null,null,null,9700335,"SPR","SPR","EA","CONTAINER,SLMJM,STEP,8GL,WE",null,243.67,22,{"$f":"VLOOKUP(M16526,DFL!A:H,8,0)","v":0.41},{"$f":"P16526-(P16526/1.0025)","v":0.35852867830422497},143.77000000000001]
[{"$error":"#N/A"},null,null,null,null,7432840,"SPR","SPR","CT","MARKER,PS,DE,BK,BT,BULK,200",null,259.47000000000003,28,{"$f":"VLOOKUP(M16541,DFL!A:H,8,0)","v":0.48},{"$f":"P16541-(P16541/1.0025)","v":0.33645885286782118},134.91999999999999]
[{"$error":"#N/A"},null,null,null,null,586764,"BSD","BSD","CT","PPR TOWEL,HARD ROLL,1000'",null,283.16851829634072,40,{"$f":"VLOOKUP(M16549,DFL!A:E,5,0)","v":0.52},{"$f":"P16549-(P16549/1.0025)","v":0.33895261845384539},135.91999999999999]
[{"$error":"#N/A"},null,null,null,null,8356217,"SPR","SPR","EA","HOLDER,TABLT,360D,TBL,SLV",null,194.45,48,{"$f":"VLOOKUP(M16562,DFL!A:H,8,0)","v":0.3},{"$f":"P16562-(P16562/1.0025)","v":0.33945137157107297},136.12]
[{"$error":"#N/A"},null,null,null,null,6759907,"BSD","BSD","EA","Lexmark‚Ñ¢ 78C1XK0 Extra-High-Yield Return Program Black Toner Cartridge",null,230.85,43,{"$f":"VLOOKUP(M16577,DFL!A:E,5,0)","v":0.35},{"$f":"P16577-(P16577/1.0025)","v":0.37418952618452295},150.05000000000001]
[{"$error":"#N/A"},null,null,null,null,519076,null,"SPR","BX","MAILER,BBL,4X7.375,500BX",null,420.27,27,{"$f":"VLOOKUP(M16596,DFL!A:H,8,0)","v":0.57999999999999996},{"$f":"P16596-(P16596/1.0025)","v":0.44017456359100038},176.51]
[{"$error":"#N/A"},null,null,null,null,8556586,null,"SPR","EA","STOOL;FOOT;RECT;20H;INDIGO",null,199,48,{"$f":"VLOOKUP(M16611,DFL!A:H,8,0)","v":0.3},{"$f":"P16611-(P16611/1.0025)","v":0.34738154613464189},139.30000000000001]
[{"$error":"#N/A"},null,null,null,null,8223050,"SPR","SPR","EA","CRTDG,LSR,HP 508A,YW",null,314.36,44,{"$f":"VLOOKUP(M16622,DFL!A:H,8,0)","v":0.5},{"$f":"P16622-(P16622/1.0025)","v":0.39197007481294577},157.18]
[{"$error":"#N/A"},null,null,null,null,880966,"SPR","SPR","EA","STOOL,3STEP,TYPE 1A",null,229.99,48,{"$f":"VLOOKUP(M16646,DFL!A:H,8,0)","v":0.3},{"$f":"P16646-(P16646/1.0025)","v":0.40147132169576594},160.99]
[{"$error":"#N/A"},null,null,null,null,906991,"SPR","SPR","EA","SIGN,DIRECTIONAL,BK"," ",223,36,{"$f":"VLOOKUP(M16647,DFL!A:H,8,0)","v":0.36},{"$f":"P16647-(P16647/1.0025)","v":0.35591022443890097},142.72]
[{"$error":"#N/A"},null,null,null,null,5462979,null,"SPR","CA","FIXT,LED,PANEL,2X4,40W,40K,2PK",null,219.99,16,{"$f":"VLOOKUP(M16666,DFL!A:H,8,0)","v":0.36},{"$f":"P16666-(P16666/1.0025)","v":0.3510972568578552},140.79]
[{"$error":"#N/A"},null,null,null,null,676573,"SPR","SPR","EA","CRTDG,HP CE255X, BK,HY",null,317.97000000000003,44,{"$f":"VLOOKUP(M16680,DFL!A:H,8,0)","v":0.5},{"$f":"P16680-(P16680/1.0025)","v":0.39648379052368909},158.99]
[{"$error":"#N/A"},null,null,null,null,5497548,"SPR","SPR","CT","BAG,SLIDER,GALLON,68CT",null,203.22,48,{"$f":"VLOOKUP(M16697,DFL!A:H,8,0)","v":0.3},{"$f":"P16697-(P16697/1.0025)","v":0.35473815461347158},142.25]
[{"$error":"#N/A"},null,null,null,null,593114,"SPR","SPR","EA","CRTDG,LSR,224,284,MA,25K",null,206,43,{"$f":"VLOOKUP(M16716,DFL!A:H,8,0)","v":0.3},{"$f":"P16716-(P16716/1.0025)","v":0.35960099750622021},144.19999999999999]
[{"$error":"#N/A"},null,null,null,null,184746,null,"SPR","EA","CHAIR,STACK,WITH ARMS,BLACK"," ",327.84,48,{"$f":"VLOOKUP(M16731,DFL!A:H,8,0)","v":0.3},{"$f":"P16731-(P16731/1.0025)","v":0.57229426433914909},229.49]
[{"$error":"#N/A"},null,null,null,null,597533,"SPR","SPR","EA","CRTDG,CE270A,HP ENT 5525,BK",null,290.12,44,{"$f":"VLOOKUP(M16736,DFL!A:H,8,0)","v":0.5},{"$f":"P16736-(P16736/1.0025)","v":0.36174563591021069},145.06]
[{"$error":"#N/A"},null,null,null,null,919738,"SPR","SPR","EA","BOARD,MARKER-CORK COMB,OAK,3X4"," ",240.16,10,{"$f":"VLOOKUP(M16753,DFL!A:H,8,0)","v":0.36},{"$f":"P16753-(P16753/1.0025)","v":0.38329177057354968},153.69999999999999]
[{"$error":"#N/A"},null,null,null,null,725684,"SPR","SPR","EA","CRTDG,LSR,220,280,YW,26K",null,210,43,{"$f":"VLOOKUP(M16767,DFL!A:H,8,0)","v":0.3},{"$f":"P16767-(P16767/1.0025)","v":0.36658354114712211},147]
[{"$error":"#N/A"},null,null,null,null,6169741,"SPR","SPR","CT","LID,SLIMJIM,SWINGLID",null,295.56,31,{"$f":"VLOOKUP(M16786,DFL!A:H,8,0)","v":0.49},{"$f":"P16786-(P16786/1.0025)","v":0.37591022443888278},150.74]
[{"$error":"#N/A"},null,null,null,null,373608,"SPR","SPR","EA","CABINET,KEY,54,W/LOCK,AM"," ",219.46,48,{"$f":"VLOOKUP(M16801,DFL!A:H,8,0)","v":0.3},{"$f":"P16801-(P16801/1.0025)","v":0.38309226932668139},153.62]
[{"$error":"#N/A"},null,null,null,null,396384,"SPR","SPR","EA","TABLE,BIFOLD,30X60,PM"," ",257.5,48,{"$f":"VLOOKUP(M16806,DFL!A:H,8,0)","v":0.3},{"$f":"P16806-(P16806/1.0025)","v":0.44950124688278947},180.25]
[{"$error":"#N/A"},null,null,null,null,355414,"SPR","SPR","EA","TONER,F/ HP 4250/4350,BK"," ",214.84,43,{"$f":"VLOOKUP(M16826,DFL!A:H,8,0)","v":0.3},{"$f":"P16826-(P16826/1.0025)","v":0.37503740648378425},150.38999999999999]
[{"$error":"#N/A"},null,null,null,null,641315,"SPR","SPR","EA","TONER,LSR,HEWQ7582A,YW"," ",302.14999999999998,44,{"$f":"VLOOKUP(M16837,DFL!A:H,8,0)","v":0.5},{"$f":"P16837-(P16837/1.0025)","v":0.37675810473814408},151.08000000000001]
[{"$error":"#N/A"},null,null,null,null,6654802,"SPR","SPR","EA","LAMP;DESK;LED;SANITZEPRO;WH",null,246.57,16,{"$f":"VLOOKUP(M16856,DFL!A:H,8,0)","v":0.36},{"$f":"P16856-(P16856/1.0025)","v":0.39351620947630295},157.80000000000001]
[{"$error":"#N/A"},null,null,null,null,5412073,"BSD","BSD","EA","TONER,CARTRDGE,CANON,55,HY,MGN",null,253.99,43,{"$f":"VLOOKUP(M16871,DFL!A:E,5,0)","v":0.35},{"$f":"P16871-(P16871/1.0025)","v":0.41169576059849078},165.09]
[{"$error":"#N/A"},null,null,null,null,9195771,"BSD","BSD","CT","LOTION,SCNTFREE,LUBRIDERM",null,262.71892007104793,22,{"$f":"VLOOKUP(M16886,DFL!A:E,5,0)","v":0.52},{"$f":"P16886-(P16886/1.0025)","v":0.31448877805485154},126.11]
[{"$error":"#N/A"},null,null,null,null,225667,"BSD","BSD","CA","PAPER,COMP,3PT C-LESS, W/C/P"," ",611.87,30,{"$f":"VLOOKUP(M16899,DFL!A:E,5,0)","v":0.73},{"$f":"P16899-(P16899/1.0025)","v":0.411970074812956},165.2]
[{"$error":"#N/A"},null,null,null,null,4988939,"SPR","SPR","CT","BULB,LED,BR40,13W,2700K,DIM",null,230.16,16,{"$f":"VLOOKUP(M16907,DFL!A:H,8,0)","v":0.36},{"$f":"P16907-(P16907/1.0025)","v":0.36733167082292084},147.30000000000001]
[{"$error":"#N/A"},null,null,null,null,6116714,"BSD","BSD","EA","TONER,REPL,HP,37X,HY,BLK",null,325.60000000000002,44,{"$f":"VLOOKUP(M16926,DFL!A:E,5,0)","v":0.52},{"$f":"P16926-(P16926/1.0025)","v":0.38975062344138678},156.29]
[{"$error":"#N/A"},null,null,null,null,756067,null,"SPR","BX","EARPLUGS,FLANGED,FOUR,RED",null,267.19,22,{"$f":"VLOOKUP(M16941,DFL!A:H,8,0)","v":0.41},{"$f":"P16941-(P16941/1.0025)","v":0.39311720698253794},157.63999999999999]
[{"$error":"#N/A"},null,null,null,null,932259,"BSD","BSD","BX","MARKER,EXPO,CLASS,PACK,192CT",null,429.37,28,{"$f":"VLOOKUP(M16956,DFL!A:E,5,0)","v":0.63},{"$f":"P16956-(P16956/1.0025)","v":0.39618453865335823},158.87]
[{"$error":"#N/A"},null,null,null,null,450424,"SPR","SPR","EA","CHAIRMAT,RECTANGLE,45X53"," ",532.79,15,{"$f":"VLOOKUP(M16972,DFL!A:H,8,0)","v":0.5},{"$f":"P16972-(P16972/1.0025)","v":0.66433915211968042},266.39999999999998]
[{"$error":"#N/A"},null,null,null,null,6775826,"SPR","SPR","EA","TIMECLOCK,AUTOMATIC",null,250,16,{"$f":"VLOOKUP(M16977,DFL!A:H,8,0)","v":0.36},{"$f":"P16977-(P16977/1.0025)","v":0.39900249376557895},160]
[{"$error":"#N/A"},null,null,null,null,224759,"SPR","SPR","EA","CRTDG,HP CE403A,YW,6K",null,360.51,44,{"$f":"VLOOKUP(M16992,DFL!A:H,8,0)","v":0.5},{"$f":"P16992-(P16992/1.0025)","v":0.44952618453865512},180.26]
[{"$error":"#N/A"},null,null,null,null,363821,null,"SPR","EA","CHAIR,MIRANDA,PEWTER"," ",279,48,{"$f":"VLOOKUP(M17011,DFL!A:H,8,0)","v":0.3},{"$f":"P17011-(P17011/1.0025)","v":0.48703241895259453},195.3]
[{"$error":"#N/A"},null,null,null,null,116241,"SPR","SPR","EA","RACK,LIT,VACUUM FORM,GY"," ",254.56,36,{"$f":"VLOOKUP(M17026,DFL!A:H,8,0)","v":0.36},{"$f":"P17026-(P17026/1.0025)","v":0.40628428927681171},162.91999999999999]
[{"$error":"#N/A"},null,null,null,null,9821608,null,"SPR","EA","DETECTOR,BILL,AUTO",null,233.45,48,{"$f":"VLOOKUP(M17030,DFL!A:H,8,0)","v":0.3},{"$f":"P17030-(P17030/1.0025)","v":0.4075311720698096},163.41999999999999]
[{"$error":"#N/A"},null,null,null,null,294719,null,"SPR","EA","CARTRIDGE,HP CLJ CB400A,BLACK"," ",299.39999999999998,41,{"$f":"VLOOKUP(M17047,DFL!A:H,8,0)","v":0.37},{"$f":"P17047-(P17047/1.0025)","v":0.47037406483789823},188.62]
[{"$error":"#N/A"},null,null,null,null,189912,"SPR","SPR","EA","CONTAINER,STEP,SLIM,JIM,18G"," ",319.86,19,{"$f":"VLOOKUP(M17062,DFL!A:H,8,0)","v":0.45},{"$f":"P17062-(P17062/1.0025)","v":0.43870324189524013},175.92]
[{"$error":"#N/A"},null,null,null,null,862972,"SPR","SPR","EA","CRTDG,LSR,GPR33,7055,YW,52K",null,239.99,43,{"$f":"VLOOKUP(M17081,DFL!A:H,8,0)","v":0.3},{"$f":"P17081-(P17081/1.0025)","v":0.41892768079799225},167.99]
[{"$error":"#N/A"},null,null,null,null,118969,"BSD","BSD","EA","TONER,REPLACE HP CE263A,MG","EPP (eVine),Remanufactured laser cartridge",351.26,44,{"$f":"VLOOKUP(M17096,DFL!A:E,5,0)","v":0.52},{"$f":"P17096-(P17096/1.0025)","v":0.42044887780548379},168.6]
[{"$error":"#N/A"},null,null,null,null,225739,"BSD","BSD","CA","PAPER,COMP,4PT C-LESS, W/C/P/G"," ",671.11,30,{"$f":"VLOOKUP(M17103,DFL!A:E,5,0)","v":0.73},{"$f":"P17103-(P17103/1.0025)","v":0.45187032418951389},181.2]
[{"$error":"#N/A"},null,null,null,null,6952853,"SPR","SPR","EA","FILTER,HCPRIVACY,3M,23,WDSCRN",null,244.49,48,{"$f":"VLOOKUP(M17117,DFL!A:H,8,0)","v":0.3},{"$f":"P17117-(P17117/1.0025)","v":0.42678304239399267},171.14]
[{"$error":"#N/A"},null,null,null,null,7941911,"SPR","SPR","EA","CASE;WHLD;OFC;MBLE",null,249.44,14,{"$f":"VLOOKUP(M17132,DFL!A:H,8,0)","v":0.31},{"$f":"P17132-(P17132/1.0025)","v":0.42920199501244838},172.11]
[{"$error":"#N/A"},null,null,null,null,9993831,"SPR","SPR","EA","CHAIR,MIDBACK,TASK,FAB,BLK",null,262.14,48,{"$f":"VLOOKUP(M17151,DFL!A:H,8,0)","v":0.3},{"$f":"P17151-(P17151/1.0025)","v":0.45760598503738947},183.5]
[{"$error":"#N/A"},null,null,null,null,5036317,null,"SPR","BX"," STOOL FABRIC MIDBACK DRAFTING",null,331.31,48,{"$f":"VLOOKUP(M17161,DFL!A:H,8,0)","v":0.3},{"$f":"P17161-(P17161/1.0025)","v":0.57835411471319276},231.92]
[{"$error":"#N/A"},null,null,null,null,641252,"SPR","SPR","EA","TONER,PH6600,WC6605,CN"," ",249.99,43,{"$f":"VLOOKUP(M17182,DFL!A:H,8,0)","v":0.3},{"$f":"P17182-(P17182/1.0025)","v":0.43638403990024699},174.99]
[{"$error":"#N/A"},null,null,null,null,676057,"SPR","SPR","CT","ENVELOPE,TYVEK,10X15X2,HVY,18#"," ",418.83,27,{"$f":"VLOOKUP(M17187,DFL!A:H,8,0)","v":0.57999999999999996},{"$f":"P17187-(P17187/1.0025)","v":0.43867830423940291},175.91]
[{"$error":"#N/A"},null,null,null,null,9169841,null,"SPR","EA","CHAIR,GAMING,ECON",null,253.23,48,{"$f":"VLOOKUP(M17202,DFL!A:H,8,0)","v":0.3},{"$f":"P17202-(P17202/1.0025)","v":0.44204488778052564},177.26]
[{"$error":"#N/A"},null,null,null,null,9768642,"BSD","BSD","EA","TONER,CANON,HGH YLD,052,BLACK",null,276,43,{"$f":"VLOOKUP(M17221,DFL!A:E,5,0)","v":0.35},{"$f":"P17221-(P17221/1.0025)","v":0.44738154613466463},179.4]
[{"$error":"#N/A"},null,null,null,null,526935,"SPR","SPR","CT","FORM,UB92,CUT,LSR,8.5X11,2500C",null,343.14,11,{"$f":"VLOOKUP(M17234,DFL!A:H,8,0)","v":0.46},{"$f":"P17234-(P17234/1.0025)","v":0.46209476309226716},185.3]
[{"$error":"#N/A"},null,null,null,null,9929030,null,"SPR","EA","PRINTER;LASER;COMPACT",null,259.99,48,{"$f":"VLOOKUP(M17252,DFL!A:H,8,0)","v":0.3},{"$f":"P17252-(P17252/1.0025)","v":0.4538403990024733},181.99]
[{"$error":"#N/A"},null,null,null,null,7207721,"SPR","SPR","EA","TRASH;RECEPTACLE;BK;32 GAL",null,359,31,{"$f":"VLOOKUP(M17271,DFL!A:H,8,0)","v":0.49},{"$f":"P17271-(P17271/1.0025)","v":0.45658354114712552},183.09]
[{"$error":"#N/A"},null,null,null,null,2931890,"SPR","SPR","CT","TRASH RECEPTACLE;TAN;32GAL",null,359,31,{"$f":"VLOOKUP(M17272,DFL!A:H,8,0)","v":0.49},{"$f":"P17272-(P17272/1.0025)","v":0.45658354114712552},183.09]
[{"$error":"#N/A"},null,null,null,null,421248,"SPR","SPR","CT","PAPER,COPY+,20#,92BR,8.5X14",null,542.70000000000005,32,{"$f":"VLOOKUP(M17287,DFL!A:H,8,0)","v":0.65},{"$f":"P17287-(P17287/1.0025)","v":0.4736907730673181},189.95]
[{"$error":"#N/A"},null,null,null,null,8717919,null,"SPR","EA","TOP,WALL,CABINET,MIRELLA",null,290,38,{"$f":"VLOOKUP(M17307,DFL!A:H,8,0)","v":0.36},{"$f":"P17307-(P17307/1.0025)","v":0.46284289276806589},185.6]
[{"$error":"#N/A"},null,null,null,null,473429,"SPR","SPR","EA","BOOK,RECORD,14.25X9-1/8"," ",384.27,11,{"$f":"VLOOKUP(M17322,DFL!A:H,8,0)","v":0.46},{"$f":"P17322-(P17322/1.0025)","v":0.51748129675809196},207.51]
[{"$error":"#N/A"},null,null,null,null,9392309,null,"SPR","EA","ART,CIRCLE-I",null,269,48,{"$f":"VLOOKUP(M17341,DFL!A:H,8,0)","v":0.3},{"$f":"P17341-(P17341/1.0025)","v":0.46957605985036821},188.3]
[{"$error":"#N/A"},null,null,null,null,5102516,null,"SPR","EA","FILE,VERTICAL,RS,CAB,PEPPERBLK",null,389.27,38,{"$f":"VLOOKUP(M17356,DFL!A:H,8,0)","v":0.36},{"$f":"P17356-(P17356/1.0025)","v":0.62127182044886808},249.13]
[{"$error":"#N/A"},null,null,null,null,839040,"BSD","BSD","EA","TONER,LEXMARK,STANDARD YIELD"," ",320.86,43,{"$f":"VLOOKUP(M17357,DFL!A:E,5,0)","v":0.35},{"$f":"P17357-(P17357/1.0025)","v":0.52009975062344438},208.56]
[{"$error":"#N/A"},null,null,null,null,125405,"BSD","BSD","EA","BOARD,CRK,ERTHIT4X6,FRM,STNLS"," ",383.67375766386442,10,{"$f":"VLOOKUP(M17380,DFL!A:E,5,0)","v":0.55000000000000004},{"$f":"P17380-(P17380/1.0025)","v":0.43054862842890884},172.65]
[{"$error":"#N/A"},null,null,null,null,9320664,"BSD","BSD","EA","SHREDDER,MC,UPGRADE,ATIVA,12SH",null,334.74,21,{"$f":"VLOOKUP(M17392,DFL!A:E,5,0)","v":0.42},{"$f":"P17392-(P17392/1.0025)","v":0.48416458852867095},194.15]
[{"$error":"#N/A"},null,null,null,null,876595,"SPR","SPR","EA","TONER,XEROX PHASER 3250,BLK"," ",279.99,43,{"$f":"VLOOKUP(M17411,DFL!A:H,8,0)","v":0.3},{"$f":"P17411-(P17411/1.0025)","v":0.48875311720698278},195.99]
[{"$error":"#N/A"},null,null,null,null,395733,"SPR","SPR","CT","BOWL,PLASTIC,12OZ,125CT",null,372.16,18,{"$f":"VLOOKUP(M17426,DFL!A:H,8,0)","v":0.44},{"$f":"P17426-(P17426/1.0025)","v":0.51972568578551659},208.41]
[{"$error":"#N/A"},null,null,null,null,7894982,"SPR","SPR","EA","TONER,HGHYLD,B281H00,BLACK",null,312.27999999999997,43,{"$f":"VLOOKUP(M17441,DFL!A:H,8,0)","v":0.3},{"$f":"P17441-(P17441/1.0025)","v":0.54513715710723432},218.6]
[{"$error":"#N/A"},null,null,null,null,316142,null,"SPR","EA"," Toner Repl HP 304A Multi Pk",null,403.95,44,{"$f":"VLOOKUP(M17453,DFL!A:H,8,0)","v":0.5},{"$f":"P17453-(P17453/1.0025)","v":0.50369077306731924},{"$f":"ROUND(L17453*(1-N17453),2)","v":201.98}]
[{"$error":"#N/A"},null,null,null,null,493476,"SPR","SPR","EA","CRTDG,LSR,5130CDN,YW,12K",null,358.1,43,{"$f":"VLOOKUP(M17462,DFL!A:H,8,0)","v":0.3},{"$f":"P17462-(P17462/1.0025)","v":0.62511221945135276},250.67]
[{"$error":"#N/A"},null,null,null,null,775111,"SPR","SPR","EA","BOOK,MINUTE,LTR,250 PAGE,BK"," ",378.9,11,{"$f":"VLOOKUP(M17477,DFL!A:H,8,0)","v":0.46},{"$f":"P17477-(P17477/1.0025)","v":0.51024937655859048},204.61]
[{"$error":"#N/A"},null,null,null,null,263265,"SPR","SPR","EA","MARBLETOP,ANTI-FATIGUE,3X5"," ",413.05,15,{"$f":"VLOOKUP(M17496,DFL!A:H,8,0)","v":0.5},{"$f":"P17496-(P17496/1.0025)","v":0.51503740648377061},206.53]
[{"$error":"#N/A"},null,null,null,null,915006,"SPR","SPR","EA","CRTDG,TONER,CYN,7.3K"," ",319.97000000000003,43,{"$f":"VLOOKUP(M17511,DFL!A:H,8,0)","v":0.3},{"$f":"P17511-(P17511/1.0025)","v":0.55855361596007924},223.98]
[{"$error":"#N/A"},null,null,null,null,4386904,"SPR","SPR","CT","CUP HOT INSULATED 12 OZ.",null,295.2,18,{"$f":"VLOOKUP(M17526,DFL!A:H,8,0)","v":0.44},{"$f":"P17526-(P17526/1.0025)","v":0.41224438902742122},165.31]
[{"$error":"#N/A"},null,null,null,null,8079288,"SPR","SPR","EA","CRTDG,LSR,ES5560,MAG,29.5K",null,299,43,{"$f":"VLOOKUP(M17532,DFL!A:H,8,0)","v":0.3},{"$f":"P17532-(P17532/1.0025)","v":0.521945137157104},209.3]
[{"$error":"#N/A"},null,null,null,null,688482,null,"SPR","EA","DESKTOP,M2 ADJUS,SIT-STAND,WHT",null,299.99,48,{"$f":"VLOOKUP(M17547,DFL!A:H,8,0)","v":0.3},{"$f":"P17547-(P17547/1.0025)","v":0.52366583541146383},209.99]
[{"$error":"#N/A"},null,null,null,null,495194,"SPR","SPR","EA","CRTDG;CF330X;HP ENT M651;BK",null,300.48,43,{"$f":"VLOOKUP(M17566,DFL!A:H,8,0)","v":0.3},{"$f":"P17566-(P17566/1.0025)","v":0.52453865336656236},210.34]
[{"$error":"#N/A"},null,null,null,null,8992097,"SPR","SPR","EA","CRTDG,LSR,LEX 50F1U00,BK",null,476.13,44,{"$f":"VLOOKUP(M17581,DFL!A:H,8,0)","v":0.5},{"$f":"P17581-(P17581/1.0025)","v":0.59369077306732265},238.07]
[{"$error":"#N/A"},null,null,null,null,175676,null,"SPR","CT","UNIT;DISPOSAL;SANIFLOOR",null,386.28,19,{"$f":"VLOOKUP(M17584,DFL!A:H,8,0)","v":0.45},{"$f":"P17584-(P17584/1.0025)","v":0.52980049875310442},212.45]
[{"$error":"#N/A"},null,null,null,null,468585,"SPR","SPR","EA","BOARD,DRY-ERASE,48X72,ALUMINUM"," ",334.86,10,{"$f":"VLOOKUP(M17602,DFL!A:H,8,0)","v":0.36},{"$f":"P17602-(P17602/1.0025)","v":0.53443890274311912},214.31]
[{"$error":"#N/A"},null,null,null,null,228390,"SPR","SPR","EA","CHAIR,HB,PNEUMATIC,BK"," ",597,48,{"$f":"VLOOKUP(M17617,DFL!A:H,8,0)","v":0.3},{"$f":"P17617-(P17617/1.0025)","v":1.0421446384039541},417.9]
[{"$error":"#N/A"},null,null,null,null,9852239,"SPR","SPR","EA","MONITOR ARM DUAL",null,359.93,48,{"$f":"VLOOKUP(M17636,DFL!A:H,8,0)","v":0.3},{"$f":"P17636-(P17636/1.0025)","v":0.62830423940147284},251.95]
[{"$error":"#N/A"},null,null,null,null,7008222,null,"SPR","EA","DESK,SOHO,MODERN,24\"X48\",GY",null,314,48,{"$f":"VLOOKUP(M17642,DFL!A:H,8,0)","v":0.3},{"$f":"P17642-(P17642/1.0025)","v":0.54812967581045768},{"$f":"ROUND(L17642*(1-N17642),2)","v":219.8}]
[{"$error":"#N/A"},null,null,null,null,830438,"SPR","SPR","EA","CRTDG,LSR,HP 654A,YW",null,443.69,44,{"$f":"VLOOKUP(M17667,DFL!A:H,8,0)","v":0.5},{"$f":"P17667-(P17667/1.0025)","v":0.55324189526183432},221.85]
[{"$error":"#N/A"},null,null,null,null,6176057,"BSD","BSD","CT","Diversey Virex Plus One-Step Disinfectant Cleaner Concentrate, Unscented, 2.5L Bottle, Carton Of 2 Bottles",null,469.04,19,{"$f":"VLOOKUP(M17672,DFL!A:E,5,0)","v":0.5},{"$f":"P17672-(P17672/1.0025)","v":0.58483790523689549},234.52]
[{"$error":"#N/A"},null,null,null,null,273345,"SPR","SPR","EA","RECEPTACLE,DOUBLE RECYCLING"," ",321,48,{"$f":"VLOOKUP(M17687,DFL!A:H,8,0)","v":0.3},{"$f":"P17687-(P17687/1.0025)","v":0.560349127182036},224.7]
[{"$error":"#N/A"},null,null,null,null,919106,"SPR","SPR","EA","UNIT,DRUM,MA,34K"," ",351.23,43,{"$f":"VLOOKUP(M17706,DFL!A:H,8,0)","v":0.3},{"$f":"P17706-(P17706/1.0025)","v":0.6131172069825368},{"$f":"ROUND(L17706*(1-N17706),2)","v":245.86}]
[{"$error":"#N/A"},null,null,null,null,707267,"SPR","SPR","EA","CRTDG,LSR,HP 653A,YW",null,514.27,44,{"$f":"VLOOKUP(M17715,DFL!A:H,8,0)","v":0.5},{"$f":"P17715-(P17715/1.0025)","v":0.64124688279298425},257.14]
[{"$error":"#N/A"},null,null,null,null,621909,"SPR","SPR","EA","XEROX TONER CARTRIDGE"," ",329.99,43,{"$f":"VLOOKUP(M17737,DFL!A:H,8,0)","v":0.3},{"$f":"P17737-(P17737/1.0025)","v":0.57603491271819962},230.99]
[{"$error":"#N/A"},null,null,null,null,4475180,"SPR","SPR","EA","CHAIR,GAMING,BLU/BLK",null,330.5,48,{"$f":"VLOOKUP(M17742,DFL!A:H,8,0)","v":0.3},{"$f":"P17742-(P17742/1.0025)","v":0.57693266832916379},231.35]
[{"$error":"#N/A"},null,null,null,null,763084,"SPR","SPR","EA","TRUCK,HAND,CONVRTBL,AM"," ",467,31,{"$f":"VLOOKUP(M17757,DFL!A:H,8,0)","v":0.49},{"$f":"P17757-(P17757/1.0025)","v":0.59394014962592223},238.17]
[{"$error":"#N/A"},null,null,null,null,826676,"SPR","SPR","EA","CRTDG,CE273A,HP ENT 5525,MA",null,472.12,44,{"$f":"VLOOKUP(M17772,DFL!A:H,8,0)","v":0.5},{"$f":"P17772-(P17772/1.0025)","v":0.58867830423938017},236.06]
[{"$error":"#N/A"},null,null,null,null,796503,"SPR","SPR","EA","PANEL,MODESTY,FOR 10' CONF"," ",343,48,{"$f":"VLOOKUP(M17788,DFL!A:H,8,0)","v":0.3},{"$f":"P17788-(P17788/1.0025)","v":0.598753117206968},240.1]
[{"$error":"#N/A"},null,null,null,null,283229,"SPR","SPR","EA","FILTER,PRIVACY,WIDESCR,30\"",null,346.81,48,{"$f":"VLOOKUP(M17807,DFL!A:H,8,0)","v":0.3},{"$f":"P17807-(P17807/1.0025)","v":0.60541147132167339},242.77]
[{"$error":"#N/A"},null,null,null,null,9646036,null,"SPR","EA"," CHAIR SERTA RAYNE SITTRUE GRY",null,463.38,48,{"$f":"VLOOKUP(M17812,DFL!A:H,8,0)","v":0.3},{"$f":"P17812-(P17812/1.0025)","v":0.80890274314214139},324.37]
[{"$error":"#N/A"},null,null,null,null,295202,null,"SPR","EA","CARTRIDGE,HP CLJ CB403A,MAGENT"," ",445.44,41,{"$f":"VLOOKUP(M17827,DFL!A:H,8,0)","v":0.37},{"$f":"P17827-(P17827/1.0025)","v":0.69982543640895756},280.63]
[{"$error":"#N/A"},null,null,null,null,9703070,"SPR","SPR","EA","CRTDG,LSR,MPC2503,MAG,9.5K",null,349,43,{"$f":"VLOOKUP(M17842,DFL!A:H,8,0)","v":0.3},{"$f":"P17842-(P17842/1.0025)","v":0.60922693266832084},244.3]
[{"$error":"#N/A"},null,null,null,null,402908,null,"SPR","EA","DESK,60W,CRED,RET,STORMGRAY",null,646,36,{"$f":"VLOOKUP(M17861,DFL!A:H,8,0)","v":0.36},{"$f":"P17861-(P17861/1.0025)","v":1.0310224438902651},413.44]
[{"$error":"#N/A"},null,null,null,null,288299,null,"SPR","EA"," PEDESTAL 3DWR ADV CALVA APPLE",null,393,38,{"$f":"VLOOKUP(M17877,DFL!A:H,8,0)","v":0.36},{"$f":"P17877-(P17877/1.0025)","v":0.6272319201994776},251.52]
[{"$error":"#N/A"},null,null,null,null,5663285,"BSD","BSD","EA","PRINTER,LASER,COLOR",null,439.99,48,{"$f":"VLOOKUP(M17896,DFL!A:E,5,0)","v":0.42},{"$f":"P17896-(P17896/1.0025)","v":0.63638403990023562},255.19]
[{"$error":"#N/A"},null,null,null,null,7489381,"SPR","SPR","EA","PURIFIER;HEPA; TOWER;AUTOOFF",null,359.93,21,{"$f":"VLOOKUP(M17897,DFL!A:H,8,0)","v":0.28999999999999998},{"$f":"P17897-(P17897/1.0025)","v":0.63728179551119979},255.55]
[{"$error":"#N/A"},null,null,null,null,803288,"SPR","SPR","EA","WHITE,BOARD,QUARTET,72X48",null,424.99,10,{"$f":"VLOOKUP(M17912,DFL!A:H,8,0)","v":0.36},{"$f":"P17912-(P17912/1.0025)","v":0.67827930174564699},271.99]
[{"$error":"#N/A"},null,null,null,null,652395,"SPR","SPR","EA","MAT,3X12,SAFESTEP,YW/BK"," ",524.94000000000005,15,{"$f":"VLOOKUP(M17934,DFL!A:H,8,0)","v":0.5},{"$f":"P17934-(P17934/1.0025)","v":0.65453865336655781},262.47000000000003]
[{"$error":"#N/A"},null,null,null,null,680927,"SPR","SPR","CT","DISPENSER,SOAP,FOAM-EEZE",null,396.24,48,{"$f":"VLOOKUP(M17947,DFL!A:H,8,0)","v":0.3},{"$f":"P17947-(P17947/1.0025)","v":0.69169576059846349},277.37]
[{"$error":"#N/A"},null,null,null,null,5525939,"SPR","SPR","CT","BAG,1 GAL,RECLOSABLE",null,475.2,48,{"$f":"VLOOKUP(M17962,DFL!A:H,8,0)","v":0.3},{"$f":"P17962-(P17962/1.0025)","v":0.82952618453862215},332.64]
[{"$error":"#N/A"},null,null,null,null,281635,null,"SPR","EA","DESK,60W,SHELL,STORMGRAY",null,697,36,{"$f":"VLOOKUP(M17981,DFL!A:H,8,0)","v":0.36},{"$f":"P17981-(P17981/1.0025)","v":1.1124189526184409},446.08]
[{"$error":"#N/A"},null,null,null,null,497222,"SPR","SPR","CT","NET,HAIR,NYLON,BLK,LG,21\"",null,456.7,22,{"$f":"VLOOKUP(M17982,DFL!A:H,8,0)","v":0.41},{"$f":"P17982-(P17982/1.0025)","v":0.67194513715708126},269.45]
[{"$error":"#N/A"},null,null,null,null,239770,"SPR","SPR","EA","TONER,LEXMARK,MONO"," ",427.88,43,{"$f":"VLOOKUP(M18007,DFL!A:H,8,0)","v":0.3},{"$f":"P18007-(P18007/1.0025)","v":0.74693266832917971},299.52]
[{"$error":"#N/A"},null,null,null,null,759980,"SPR","SPR","EA","TABLE,30X60,FOLDING,OK"," ",392.98,48,{"$f":"VLOOKUP(M18017,DFL!A:H,8,0)","v":0.3},{"$f":"P18017-(P18017/1.0025)","v":0.68600997506234762},275.08999999999997]
[{"$error":"#N/A"},null,null,null,null,476314,"SPR","SPR","EA","CANON FAXPHONE L100 - MULTIFUN"," ",426.74,48,{"$f":"VLOOKUP(M18032,DFL!A:H,8,0)","v":0.3},{"$f":"P18032-(P18032/1.0025)","v":0.74493765586032623},298.72000000000003]
[{"$error":"#N/A"},null,null,null,null,6939497,"SPR","SPR","EA","FLOOR DISPLAY;WIRE;  7 COMPART",null,399.2,48,{"$f":"VLOOKUP(M18051,DFL!A:H,8,0)","v":0.3},{"$f":"P18051-(P18051/1.0025)","v":0.69685785536159983},279.44]
[{"$error":"#N/A"},null,null,null,null,9286450,null,"SPR","EA"," CABINET MEGATALL 4SHF BLK 80",null,438.17,38,{"$f":"VLOOKUP(M18066,DFL!A:H,8,0)","v":0.36},{"$f":"P18066-(P18066/1.0025)","v":0.6993266832917584},280.43]
[{"$error":"#N/A"},null,null,null,null,993824,"BSD","BSD","EA","TONER,RTN,HY,17K,CYAN",null,476.76,43,{"$f":"VLOOKUP(M18080,DFL!A:E,5,0)","v":0.35},{"$f":"P18080-(P18080/1.0025)","v":0.77279301745636531},309.89]
[{"$error":"#N/A"},null,null,null,null,585748,null,"SPR","EA","CALCULATOR,PRINTING,QS-2770H"," ",395.5,21,{"$f":"VLOOKUP(M18087,DFL!A:H,8,0)","v":0.28999999999999998},{"$f":"P18087-(P18087/1.0025)","v":0.70027431421442543},280.81]
[{"$error":"#N/A"},null,null,null,null,887456,"SPR","SPR","EA","CHAIRMAT,SIT-STAND,45X53",null,498.32,48,{"$f":"VLOOKUP(M18102,DFL!A:H,8,0)","v":0.3},{"$f":"P18102-(P18102/1.0025)","v":0.86987531172070476},348.82]
[{"$error":"#N/A"},null,null,null,null,918894,null,"SPR","EA","kathy ireland¬Æ Office by Bush Business Furniture Echo 19-4/7\"D Vertical 3-Drawer Mobile File Cabinet, Pure White, Standard Delivery",null,523,48,{"$f":"VLOOKUP(M18121,DFL!A:H,8,0)","v":0.3},{"$f":"P18121-(P18121/1.0025)","v":0.91296758104738274},366.1]
[{"$error":"#N/A"},null,null,null,null,9232323,null,"SPR","EA","RECEPTACLE,RECYCL,LANDFILL",null,423.84,48,{"$f":"VLOOKUP(M18138,DFL!A:H,8,0)","v":0.3},{"$f":"P18138-(P18138/1.0025)","v":0.73987531172070931},296.69]
[{"$error":"#N/A"},null,null,null,null,681422,"SPR","SPR","CT"," BATTERY COPPERTOP 9V 6/12PK",null,565.55999999999995,6,{"$f":"VLOOKUP(M18152,DFL!A:H,8,0)","v":0.47},{"$f":"P18152-(P18152/1.0025)","v":0.74750623441394737},299.75]
[{"$error":"#N/A"},null,null,null,null,8893964,"SPR","SPR","CT","CHAIR;FOLDING;WHITE;8/CT",null,429.44,48,{"$f":"VLOOKUP(M18157,DFL!A:H,8,0)","v":0.3},{"$f":"P18157-(P18157/1.0025)","v":0.74965087281793785},300.61]
[{"$error":"#N/A"},null,null,null,null,475679,null,"SPR","CT","FILE,VERT,4DRWR,LTR,25\"D,BLACK","030/000,EPP (eVine),CPG,30% total recycled content",686.75,38,{"$f":"VLOOKUP(M18172,DFL!A:H,8,0)","v":0.36},{"$f":"P18172-(P18172/1.0025)","v":1.0960598503740471},439.52]
[{"$error":"#N/A"},null,null,null,null,919736,null,"SPR","EA","PRINTER,LASER,MFC-L2750DW,MONO",null,499.99,48,{"$f":"VLOOKUP(M18191,DFL!A:H,8,0)","v":0.3},{"$f":"P18191-(P18191/1.0025)","v":0.8727930174563312},349.99]
[{"$error":"#N/A"},null,null,null,null,439962,"SPR","SPR","EA","CRTDG,LASER,HPC9733A"," ",614.80999999999995,44,{"$f":"VLOOKUP(M18196,DFL!A:H,8,0)","v":0.5},{"$f":"P18196-(P18196/1.0025)","v":0.76660847880299343},307.41000000000003]
[{"$error":"#N/A"},null,null,null,null,274198,"SPR","SPR","EA","CREDENZA,RECT,LFT,EXT,66X24"," ",445,48,{"$f":"VLOOKUP(M18222,DFL!A:H,8,0)","v":0.3},{"$f":"P18222-(P18222/1.0025)","v":0.77680798004985263},311.5]
[{"$error":"#N/A"},null,null,null,null,632711,null,"SPR","EA","FILE,LATRL,HERITAGE,HILL,CHRRY"," ",639.57000000000005,38,{"$f":"VLOOKUP(M18227,DFL!A:H,8,0)","v":0.36},{"$f":"P18227-(P18227/1.0025)","v":1.0207481296757805},409.32]
[{"$error":"#N/A"},null,null,null,null,1260289,"SPR","SPR","EA","STEEL WORKSTATION, BLACK"," ",451,48,{"$f":"VLOOKUP(M18242,DFL!A:H,8,0)","v":0.3},{"$f":"P18242-(P18242/1.0025)","v":0.78728179551120547},315.7]
[{"$error":"#N/A"},null,null,null,null,9621975,"SPR","SPR","EA","STOOL,SHELL,EXT-HT,BK",null,581,48,{"$f":"VLOOKUP(M18257,DFL!A:H,8,0)","v":0.3},{"$f":"P18257-(P18257/1.0025)","v":1.0142144638404034},406.7]
[{"$error":"#N/A"},null,null,null,null,429713,"SPR","SPR","EA","BOARD;DE;MAG GLS;FMLS;72X36",null,702.19,10,{"$f":"VLOOKUP(M18269,DFL!A:H,8,0)","v":0.36},{"$f":"P18269-(P18269/1.0025)","v":1.120698254364072},449.4]
[{"$error":"#N/A"},null,null,null,null,6905763,null,"SPR","EA","CREDENZA,RECT,LFT,EXT,71X24",null,469,48,{"$f":"VLOOKUP(M18292,DFL!A:H,8,0)","v":0.3},{"$f":"P18292-(P18292/1.0025)","v":0.818703241895264},328.3]
[{"$error":"#N/A"},null,null,null,null,9882947,"BSD","BSD","EA","BOARD,MAG,PRCLN,72X48",null,1007.98,10,{"$f":"VLOOKUP(M18297,DFL!A:E,5,0)","v":0.55000000000000004},{"$f":"P18297-(P18297/1.0025)","v":1.1311471321695308},453.59]
[{"$error":"#N/A"},null,null,null,null,219818,null,"SPR","EA","ELECTRONIC FIRE-SAFE, 1.23"," ",574.99,48,{"$f":"VLOOKUP(M18312,DFL!A:H,8,0)","v":0.3},{"$f":"P18312-(P18312/1.0025)","v":1.0037157107231565},402.49]
[{"$error":"#N/A"},null,null,null,null,9702563,"SPR","SPR","EA","CRTDG,LSR,MPC6003,YEL,22.5K",null,469,43,{"$f":"VLOOKUP(M18327,DFL!A:H,8,0)","v":0.3},{"$f":"P18327-(P18327/1.0025)","v":0.818703241895264},328.3]
[{"$error":"#N/A"},null,null,null,null,8383135,"SPR","SPR","CT","CONTAINER,32GL,BE",null,483.18,48,{"$f":"VLOOKUP(M18342,DFL!A:H,8,0)","v":0.3},{"$f":"P18342-(P18342/1.0025)","v":0.84346633416458872},338.23]
[{"$error":"#N/A"},null,null,null,null,5970963,"SPR","SPR","CT","DOLLY,UNIVERSAL,DRUM",null,505.72,13,{"$f":"VLOOKUP(M18362,DFL!A:H,8,0)","v":0.32},{"$f":"P18362-(P18362/1.0025)","v":0.85758104738152952},343.89]
[{"$error":"#N/A"},null,null,null,null,197770,"SPR","SPR","EA","CRTDG,T650H11A,25K,BK",null,690.68,44,{"$f":"VLOOKUP(M18367,DFL!A:H,8,0)","v":0.5},{"$f":"P18367-(P18367/1.0025)","v":0.86119700748128025},345.34]
[{"$error":"#N/A"},null,null,null,null,6930012,null,"SPR","EA","TABLE,CAFE,7236,CHY",null,499,48,{"$f":"VLOOKUP(M18382,DFL!A:H,8,0)","v":0.3},{"$f":"P18382-(P18382/1.0025)","v":0.87107231920197137},349.3]
[{"$error":"#N/A"},null,null,null,null,312768,"SPR","SPR","EA"," CHAIR MANAGER AIRGRID MESH BLK",null,500,48,{"$f":"VLOOKUP(M18397,DFL!A:H,8,0)","v":0.3},{"$f":"P18397-(P18397/1.0025)","v":0.87281795511222526},{"$f":"ROUND(L18397*(1-N18397),2)","v":350}]
[{"$error":"#N/A"},null,null,null,null,2384450,"SPR","SPR","EA","PURIFIER;INSIGHT;HEPA;LED",null,505.55,21,{"$f":"VLOOKUP(M18415,DFL!A:H,8,0)","v":0.28999999999999998},{"$f":"P18415-(P18415/1.0025)","v":0.89511221945133457},358.94]
[{"$error":"#N/A"},null,null,null,null,952997,"SPR","SPR","EA","CREDENZA,1.5 TOP,60\",WAL"," ",519,48,{"$f":"VLOOKUP(M18432,DFL!A:H,8,0)","v":0.3},{"$f":"P18432-(P18432/1.0025)","v":0.90598503740648084},363.3]
[{"$error":"#N/A"},null,null,null,null,536807,"SPR","SPR","EA","BOOKCASE,6-SHELF,BK",null,593,9,{"$f":"VLOOKUP(M18447,DFL!A:H,8,0)","v":0.37},{"$f":"P18447-(P18447/1.0025)","v":0.9316458852867413},373.59]
[{"$error":"#N/A"},null,null,null,null,8553012,"SPR","SPR","EA","PEDESTAL,MBL,BF,SILVER",null,527,48,{"$f":"VLOOKUP(M18452,DFL!A:H,8,0)","v":0.3},{"$f":"P18452-(P18452/1.0025)","v":0.91995012468828463},368.9]
[{"$error":"#N/A"},null,null,null,null,8277682,"SPR","SPR","EA","CART,STORAGE,ROLLING",null,548,13,{"$f":"VLOOKUP(M18467,DFL!A:H,8,0)","v":0.32},{"$f":"P18467-(P18467/1.0025)","v":0.92927680798004531},372.64]
[{"$error":"#N/A"},null,null,null,null,5172741,null,"SPR","CT","BIN,CURBSIDE RECYCLING",null,540,48,{"$f":"VLOOKUP(M18488,DFL!A:H,8,0)","v":0.3},{"$f":"P18488-(P18488/1.0025)","v":0.94264339152118737},378]
[{"$error":"#N/A"},null,null,null,null,191036,null,"SPR","EA","BOARD,GLASS,DE,8X4,BLACK",null,938.29,10,{"$f":"VLOOKUP(M18502,DFL!A:H,8,0)","v":0.36},{"$f":"P18502-(P18502/1.0025)","v":1.4975311720697846},600.51]
[{"$error":"#N/A"},null,null,null,null,421913,null,"SPR","EA","FILE,MOBILE,PEDESTAL,BLACK","030/000,EPP (eVine),CPG,30% total recycled content",684.59063931013975,48,{"$f":"VLOOKUP(M18517,DFL!A:H,8,0)","v":0.3},{"$f":"P18517-(P18517/1.0025)","v":1.1950374064837774},479.21]
[{"$error":"#N/A"},null,null,null,null,629828,"SPR","SPR","EA","CHAIR,GUEST,SS,W ARMS,NY",null,555,48,{"$f":"VLOOKUP(M18522,DFL!A:H,8,0)","v":0.3},{"$f":"P18522-(P18522/1.0025)","v":0.96882793017454105},388.5]
[{"$error":"#N/A"},null,null,null,null,791612,null,"SPR","EA","WORKSTATION,SIT-STAND,DSKMT",null,563.09,48,{"$f":"VLOOKUP(M18537,DFL!A:H,8,0)","v":0.3},{"$f":"P18537-(P18537/1.0025)","v":0.98294264339148185},394.16]
[{"$error":"#N/A"},null,null,null,null,9264190,"SPR","SPR","EA","LATERAL,SOHO,SILVER",null,588.67999999999995,48,{"$f":"VLOOKUP(M18560,DFL!A:H,8,0)","v":0.3},{"$f":"P18560-(P18560/1.0025)","v":1.0276309226932199},412.08]
[{"$error":"#N/A"},null,null,null,null,450236,null,"SPR","CT","FILE,VERT,4DRWR,LGL,26.5\"D,PTY","030/000,EPP (eVine),CPG,30% total recycled content",846.5521481796892,38,{"$f":"VLOOKUP(M18572,DFL!A:H,8,0)","v":0.36},{"$f":"P18572-(P18572/1.0025)","v":1.3510972568577699},541.79]
[{"$error":"#N/A"},null,null,null,null,361622,null,"SPR","EA","CABINET,FILE,LTRL,2DRW,BLK",null,857.06508859411315,38,{"$f":"VLOOKUP(M18587,DFL!A:H,8,0)","v":0.36},{"$f":"P18587-(P18587/1.0025)","v":1.3678802992518513},548.52]
[{"$error":"#N/A"},null,null,null,null,653928,"SPR","SPR","EA","DESK,RVS TOP,36X28,MY/MOK"," ",594,48,{"$f":"VLOOKUP(M18606,DFL!A:H,8,0)","v":0.3},{"$f":"P18606-(P18606/1.0025)","v":1.0369077306733061},415.8]
[{"$error":"#N/A"},null,null,null,null,9094043,null,"SPR","EA"," TABLE RND CONFERENCE 36IN MAH",null,245,48,{"$f":"VLOOKUP(M18619,DFL!A:H,8,0)","v":0.3},{"$f":"P18619-(P18619/1.0025)","v":0.42768079800498526},171.5]
[{"$error":"#N/A"},null,null,null,null,708782,null,"SPR","EA","DCP-L5500DN DIGITAL COPIER"," ",599.99,48,{"$f":"VLOOKUP(M18623,DFL!A:H,8,0)","v":0.3},{"$f":"P18623-(P18623/1.0025)","v":1.0473566084787649},419.99]
[{"$error":"#N/A"},null,null,null,null,453529,"SPR","SPR","EA","WORKSTATION,HT ADJ,CHRY/BLK"," ",610,48,{"$f":"VLOOKUP(M18642,DFL!A:H,8,0)","v":0.3},{"$f":"P18642-(P18642/1.0025)","v":1.0648379052368568},427]
[{"$error":"#N/A"},null,null,null,null,751375,"SPR","SPR","EA","BOOKSHELF,1.5 TOP,6SLF,WAL"," ",693,9,{"$f":"VLOOKUP(M18657,DFL!A:H,8,0)","v":0.37},{"$f":"P18657-(P18657/1.0025)","v":1.0887531172069771},436.59]
[{"$error":"#N/A"},null,null,null,null,682685,"BSD","BSD","EA","LJPRO,M501DN,HEWLETTPACKARD",null,765.39,48,{"$f":"VLOOKUP(M18676,DFL!A:E,5,0)","v":0.42},{"$f":"P18676-(P18676/1.0025)","v":1.1070573566084363},443.93]
[{"$error":"#N/A"},null,null,null,null,9469646,null,"SPR","EA","PRINTER,MF269DWVP,CANON,IMGCLS",null,645,48,{"$f":"VLOOKUP(M18692,DFL!A:H,8,0)","v":0.3},{"$f":"P18692-(P18692/1.0025)","v":1.12593516209472},451.5]
[{"$error":"#N/A"},null,null,null,null,6362818,"SPR","SPR","CT","CONTAINER,RECYCLE,SQR,BE",null,646.20000000000005,48,{"$f":"VLOOKUP(M18693,DFL!A:H,8,0)","v":0.3},{"$f":"P18693-(P18693/1.0025)","v":1.128029925187036},452.34]
[{"$error":"#N/A"},null,null,null,null,727163,"SPR","SPR","EA","REFRIG,4.4CF,ESTAR"," ",656.5,48,{"$f":"VLOOKUP(M18712,DFL!A:H,8,0)","v":0.3},{"$f":"P18712-(P18712/1.0025)","v":1.1460099750623272},459.55]
[{"$error":"#N/A"},null,null,null,null,261227,"SPR","SPR","EA","BOARD,DE,MAG,8X4"," ",768.74,10,{"$f":"VLOOKUP(M18727,DFL!A:H,8,0)","v":0.36},{"$f":"P18727-(P18727/1.0025)","v":1.2269077306733038},491.99]
[{"$error":"#N/A"},null,null,null,null,355823,"SPR","SPR","EA","TABLE,TRAINING,60,CHY"," ",675,48,{"$f":"VLOOKUP(M18742,DFL!A:H,8,0)","v":0.3},{"$f":"P18742-(P18742/1.0025)","v":1.1783042394014842},472.5]
[{"$error":"#N/A"},null,null,null,null,112928,"SPR","SPR","EA","CHAIR,GUEST,TRADITIONAL,OXB"," ",682,48,{"$f":"VLOOKUP(M18750,DFL!A:H,8,0)","v":0.3},{"$f":"P18750-(P18750/1.0025)","v":1.1905236907730341},477.4]
[{"$error":"#N/A"},null,null,null,null,515542,"SPR","SPR","EA","TONER,4600/4620,HI CAP,BK"," ",699.99,43,{"$f":"VLOOKUP(M18777,DFL!A:H,8,0)","v":0.3},{"$f":"P18777-(P18777/1.0025)","v":1.2219201995011986},489.99]
[{"$error":"#N/A"},null,null,null,null,3470731,"SPR","SPR","EA","DISPLAY;FL;LIT;BLK;MLSV",null,704.38,48,{"$f":"VLOOKUP(M18782,DFL!A:H,8,0)","v":0.3},{"$f":"P18782-(P18782/1.0025)","v":1.2296009975062248},493.07]
[{"$error":"#N/A"},null,null,null,null,5900422,"BSD","BSD","EA","TONER,LEXMARK,UHY,58D1U00,BLK",null,838.45,43,{"$f":"VLOOKUP(M18797,DFL!A:E,5,0)","v":0.35},{"$f":"P18797-(P18797/1.0025)","v":1.3590773067331838},544.99]
[{"$error":"#N/A"},null,null,null,null,4777053,"SPR","SPR","EA","CHAIR,TASK,DELUXE,BLACK",null,772,48,{"$f":"VLOOKUP(M18812,DFL!A:H,8,0)","v":0.3},{"$f":"P18812-(P18812/1.0025)","v":1.3476309226932699},540.4]
[{"$error":"#N/A"},null,null,null,null,219566,"BSD","BSD","EA","VACUUM,DUAL,MOTOR,UPRIGHT"," ",1057.1300000000001,48,{"$f":"VLOOKUP(M18823,DFL!A:E,5,0)","v":0.42},{"$f":"P18823-(P18823/1.0025)","v":1.5290274314214685},613.14]
[{"$error":"#N/A"},null,null,null,null,890268,"SPR","SPR","EA","TONER,C792 ,RTN P,MA,20K",null,828.52,43,{"$f":"VLOOKUP(M18847,DFL!A:H,8,0)","v":0.3},{"$f":"P18847-(P18847/1.0025)","v":1.4462842892768322},579.96]
[{"$error":"#N/A"},null,null,null,null,981113,null,"SPR","EA","TABLE;36;SQ;29H;EB;TK",null,765.6,48,{"$f":"VLOOKUP(M18852,DFL!A:H,8,0)","v":0.3},{"$f":"P18852-(P18852/1.0025)","v":1.3364588528678496},535.91999999999996]
[{"$error":"#N/A"},null,null,null,null,7060790,null,"SPR","EA","CABINET,WARDROBE,FULL,PUTTY",null,1102,38,{"$f":"VLOOKUP(M18867,DFL!A:H,8,0)","v":0.36},{"$f":"P18867-(P18867/1.0025)","v":1.7588029925186675},705.28]
[{"$error":"#N/A"},null,null,null,null,438371,"SPR","SPR","EA","CHAIR;MGR;LEATHER;AIRGRID PRO",null,795,48,{"$f":"VLOOKUP(M18882,DFL!A:H,8,0)","v":0.3},{"$f":"P18882-(P18882/1.0025)","v":1.3877805486283705},556.5]
[{"$error":"#N/A"},null,null,null,null,358370,null,"SPR","EA","DESK,MGLN,PERF,ELECTRIC,HA,ESP",null,972.39,48,{"$f":"VLOOKUP(M18896,DFL!A:H,8,0)","v":0.3},{"$f":"P18896-(P18896/1.0025)","v":1.6974314214463675},680.67]
[{"$error":"#N/A"},null,null,null,null,7911231,null,"SPR","EA","DESK,ADJUSTABLE,48W,WHITE",null,794,48,{"$f":"VLOOKUP(M18917,DFL!A:H,8,0)","v":0.3},{"$f":"P18917-(P18917/1.0025)","v":1.3860349127181735},555.79999999999995]
[{"$error":"#N/A"},null,null,null,null,4829517,"BSD","BSD","EA","HP LaserJet Enterprise M554dn Color Laser Printer",null,1012.07,48,{"$f":"VLOOKUP(M18932,DFL!A:E,5,0)","v":0.42},{"$f":"P18932-(P18932/1.0025)","v":1.4638403990024926},587]
[{"$error":"#N/A"},null,null,null,null,337816,"SPR","SPR","EA","RACK,PAPER HRZ 8/36"," ",1179.79,47,{"$f":"VLOOKUP(M18937,DFL!A:H,8,0)","v":0.5},{"$f":"P18937-(P18937/1.0025)","v":1.4710723192019941},589.9]
[{"$error":"#N/A"},null,null,null,null,991294,"SPR","SPR","EA","TONER,HY,52D1X00,LEXMARK,BLK"," ",945.99,43,{"$f":"VLOOKUP(M18952,DFL!A:H,8,0)","v":0.3},{"$f":"P18952-(P18952/1.0025)","v":1.6513466334164377},662.19]
[{"$error":"#N/A"},null,null,null,null,2946804,null,"SPR","EA","Bush Business Furniture 72\"W x 36\"D Boat-Shaped Conference Table With Wood Base, White, Standard Delivery",null,1102,48,{"$f":"VLOOKUP(M18969,DFL!A:H,8,0)","v":0.3},{"$f":"P18969-(P18969/1.0025)","v":1.9236907730672783},771.4]
[{"$error":"#N/A"},null,null,null,null,4397936,"SPR","SPR","EA","OTTOMAN;LOUNGE;FABRIC;BLK",null,1089,48,{"$f":"VLOOKUP(M18987,DFL!A:H,8,0)","v":0.3},{"$f":"P18987-(P18987/1.0025)","v":1.9009975062343756},762.3]
[{"$error":"#N/A"},null,null,null,null,275036,"SPR","SPR","EA","MFC-L8610CDW CLR P/S/C/F",null,1082.93,48,{"$f":"VLOOKUP(M19002,DFL!A:H,8,0)","v":0.3},{"$f":"P19002-(P19002/1.0025)","v":1.8903990024937229},758.05]
[{"$error":"#N/A"},null,null,null,null,5624546,"SPR","SPR","EA","EASEL;PRES;MOBL;MAG;REV;4X3",null,1071.25,10,{"$f":"VLOOKUP(M19007,DFL!A:H,8,0)","v":0.36},{"$f":"P19007-(P19007/1.0025)","v":1.7097256857855427},685.6]
[{"$error":"#N/A"},null,null,null,null,370217,null,"SPR","EA","FILE CABINET, 42IN, 2DR, LGY"," ",1411.8812464032051,38,{"$f":"VLOOKUP(M19022,DFL!A:H,8,0)","v":0.36},{"$f":"P19022-(P19022/1.0025)","v":2.2533665835411512},903.6]
[{"$error":"#N/A"},null,null,null,null,772677,"SPR","SPR","EA","SCREEN,WALL/CEILING,96\"X96\""," ",1055.67,48,{"$f":"VLOOKUP(M19041,DFL!A:H,8,0)","v":0.3},{"$f":"P19041-(P19041/1.0025)","v":1.8428179551121957},738.97]
[{"$error":"#N/A"},null,null,null,null,9889184,null,"SPR","EA","TABLE,CONFERENCE,MOCHA",null,1286,48,{"$f":"VLOOKUP(M19057,DFL!A:H,8,0)","v":0.3},{"$f":"P19057-(P19057/1.0025)","v":2.2448877805485381},900.2]
[{"$error":"#N/A"},null,null,null,null,808260,null,"SPR","EA","CHAIR,SIDE,QUEEN ANNE,TRAD",null,1052,48,{"$f":"VLOOKUP(M19072,DFL!A:H,8,0)","v":0.3},{"$f":"P19072-(P19072/1.0025)","v":1.8364089775560615},736.4]
[{"$error":"#N/A"},null,null,null,null,637034,"SPR","SPR","EA","RETURN,24X42,RIGHT,ES",null,1067,48,{"$f":"VLOOKUP(M19077,DFL!A:H,8,0)","v":0.3},{"$f":"P19077-(P19077/1.0025)","v":1.862593516209472},746.9]
[{"$error":"#N/A"},null,null,null,null,832259,null,"SPR","EA"," TABLE  WOOD BASE 120 X48",null,1142,48,{"$f":"VLOOKUP(M19100,DFL!A:H,8,0)","v":0.3},{"$f":"P19100-(P19100/1.0025)","v":1.9935162094762973},799.4]
[{"$error":"#N/A"},null,null,null,null,920132,"SPR","SPR","EA","BOARD,FABRIC,DBL,GLS DOOR,3X4"," ",1345,10,{"$f":"VLOOKUP(M19108,DFL!A:H,8,0)","v":0.36},{"$f":"P19108-(P19108/1.0025)","v":2.1466334164588261},860.8]
[{"$error":"#N/A"},null,null,null,null,370532,null,"SPR","EA","CABINET,FL,3DRW,42\",BLK"," ",1807.7216614014933,38,{"$f":"VLOOKUP(M19127,DFL!A:H,8,0)","v":0.36},{"$f":"P19127-(P19127/1.0025)","v":2.8851371571072377},1156.94]
[{"$error":"#N/A"},null,null,null,null,8715146,null,"SPR","EA","TOP,TBL,CONF,STDG,MIRELLA",null,1281,48,{"$f":"VLOOKUP(M19142,DFL!A:H,8,0)","v":0.3},{"$f":"P19142-(P19142/1.0025)","v":2.2361596009974392},896.7]
[{"$error":"#N/A"},null,null,null,null,606566,null,"SPR","EA","FILE,LATERAL,42,4DR,CHAR",null,1919.9611042409251,38,{"$f":"VLOOKUP(M19147,DFL!A:H,8,0)","v":0.36},{"$f":"P19147-(P19147/1.0025)","v":3.0642892768078127},1228.78]
[{"$error":"#N/A"},null,null,null,null,596726,null,"SPR","PL"," WATER NSTL PR LIFE 28PK PALLET",null,1426.21,48,{"$f":"VLOOKUP(M19173,DFL!A:H,8,0)","v":0.3},{"$f":"P19173-(P19173/1.0025)","v":2.4896508728179469},998.35]
[{"$error":"#N/A"},null,null,null,null,832286,null,"SPR","EA","TABLE, WOOD BASE,120\"X48\"",null,1823,48,{"$f":"VLOOKUP(M19178,DFL!A:H,8,0)","v":0.3},{"$f":"P19178-(P19178/1.0025)","v":3.1822942643391343},1276.0999999999999]
[{"$error":"#N/A"},null,null,null,null,435045,null,"SPR","EA","FILE,2DR,LTR/LGL,PRCHMT,FR,WG"," ",2405,38,{"$f":"VLOOKUP(M19197,DFL!A:H,8,0)","v":0.36},{"$f":"P19197-(P19197/1.0025)","v":3.8384039900247444},1539.2]
[{"$error":"#N/A"},null,null,null,null,815765,"SPR","SPR","EA","CREDENZA,24X66,DBL,PED,ES",null,1708,48,{"$f":"VLOOKUP(M19212,DFL!A:H,8,0)","v":0.3},{"$f":"P19212-(P19212/1.0025)","v":2.9815461346631764},1195.5999999999999]
[{"$error":"#N/A"},null,null,null,null,2324393,null,"SPR","EA","DESK,PED,MPANEL,2B1FDRAWER",null,2483,31,{"$f":"VLOOKUP(M19227,DFL!A:H,8,0)","v":0.49},{"$f":"P19227-(P19227/1.0025)","v":3.1579301745634893},1266.33]
[{"$error":"#N/A"},null,null,null,null,6566980,null,"SPR","BD","CLEANER;LAVNDR;PINESOL;48OZ",null,2486.4,19,{"$f":"VLOOKUP(M19246,DFL!A:H,8,0)","v":0.45},{"$f":"P19246-(P19246/1.0025)","v":3.4102743142143481},1367.52]
[{"$error":"#N/A"},null,null,null,null,328595,null,"SPR","EA","CREDENZA,DBLPED,BF,60W,COG"," ",1961,48,{"$f":"VLOOKUP(M19248,DFL!A:H,8,0)","v":0.3},{"$f":"P19248-(P19248/1.0025)","v":3.4231920199499655},1372.7]
[{"$error":"#N/A"},null,null,null,null,833618,null,"SPR","EA"," TABLE CONF 96 X42",null,2031,48,{"$f":"VLOOKUP(M19267,DFL!A:H,8,0)","v":0.3},{"$f":"P19267-(P19267/1.0025)","v":3.5453865336658055},1421.7]
[{"$error":"#N/A"},null,null,null,null,404078,null,"SPR","EA","CREDENZA,RTPED,BF,72X24,COG"," ",2211,48,{"$f":"VLOOKUP(M19282,DFL!A:H,8,0)","v":0.3},{"$f":"P19282-(P19282/1.0025)","v":3.8596009975060497},1547.7]
[{"$error":"#N/A"},null,null,null,null,8428531,null,"SPR","EA","Bush Business Furniture 120\"W x 48\"D Boat-Shaped Conference Table With Metal Base, Platinum Gray, Standard Delivery",null,2163,48,{"$f":"VLOOKUP(M19297,DFL!A:H,8,0)","v":0.3},{"$f":"P19297-(P19297/1.0025)","v":3.7758104738154543},1514.1]
[{"$error":"#N/A"},null,null,null,null,8982650,"SPR","SPR","PL","CLEANER,ALL-PRPS,RFLL,128OZ",null,3069.36,19,{"$f":"VLOOKUP(M19304,DFL!A:H,8,0)","v":0.45},{"$f":"P19304-(P19304/1.0025)","v":4.209850374064672},1688.15]
[{"$error":"#N/A"},null,null,null,null,5780941,"SPR","SPR","BD","WIPES,DISINFECTNG,FRSH,75CT",null,3237.6,19,{"$f":"VLOOKUP(M19318,DFL!A:H,8,0)","v":0.45},{"$f":"P19318-(P19318/1.0025)","v":4.4405985037406026},1780.68]
[{"$error":"#N/A"},null,null,null,null,7616811,"SPR","SPR","BD","BAG;TRSH;KITCHN;13GAL;100CT",null,3067.2,12,{"$f":"VLOOKUP(M19333,DFL!A:H,8,0)","v":0.4},{"$f":"P19333-(P19333/1.0025)","v":4.5893266832915742},1840.32]
[{"$error":"#N/A"},null,null,null,null,9283443,"SPR","SPR","BD","SPONGE,SCRUBBER,S.O.S.3PK",null,3904.32,19,{"$f":"VLOOKUP(M19352,DFL!A:H,8,0)","v":0.45},{"$f":"P19352-(P19352/1.0025)","v":5.3550623441396965},2147.38]
[{"$error":"#N/A"},null,null,null,null,442925,null,"SPR","EA","FILE,2DR,LGL,PLTNM,FIRE,WHTGLV",null,4925,38,{"$f":"VLOOKUP(M19367,DFL!A:H,8,0)","v":0.36},{"$f":"P19367-(P19367/1.0025)","v":7.8603491271819621},3152]
[{"$error":"#N/A"},null,null,null,null,3375237,null,"SPR","PL","CLEANER,LEMON,PINE SOL",null,4504.32,19,{"$f":"VLOOKUP(M19377,DFL!A:H,8,0)","v":0.45},{"$f":"P19377-(P19377/1.0025)","v":6.1780049875310397},2477.38]
[{"$error":"#N/A"},null,null,null,null,444467,"BSD","BSD","PL","PAPER,PASTEL,YELLOW,PALLET",null,11803.34,32,{"$f":"VLOOKUP(M19402,DFL!A:E,5,0)","v":0.75},{"$f":"P19402-(P19402/1.0025)","v":7.3587032418950002},2950.84]
[{"$error":"#N/A"},null,null,null,null,444494,"BSD","BSD","PL","PAPER,PASTEL,PINK,PALLET",null,11803.34,32,{"$f":"VLOOKUP(M19403,DFL!A:E,5,0)","v":0.75},{"$f":"P19403-(P19403/1.0025)","v":7.3587032418950002},2950.84]
[{"$error":"#N/A"},null,null,null,null,383485,null,"SPR","EA","FILE,FIRE,2DR,31\"LAT,PRCHMT,WG"," ",6070,38,{"$f":"VLOOKUP(M19422,DFL!A:H,8,0)","v":0.36},{"$f":"P19422-(P19422/1.0025)","v":9.6877805486283251},3884.8]
[{"$error":"#N/A"},null,null,null,null,673463,"BSD","BSD","PL"," ASP50 92 20 11 DRIVERASIST PL",null,13019.07,32,{"$f":"VLOOKUP(M19437,DFL!A:E,5,0)","v":0.75},{"$f":"P19437-(P19437/1.0025)","v":8.116633416458626},3254.77]
[{"$error":"#N/A"},null,null,null,null,6725261,"SPR","SPR","PL","WIPE,DSNFCT,ALC FREE",null,6367.5,19,{"$f":"VLOOKUP(M19450,DFL!A:H,8,0)","v":0.45},{"$f":"P19450-(P19450/1.0025)","v":8.7334912718201849},3502.13]
[{"$error":"#N/A"},null,null,null,null,7908770,null,"SPR","PL","CLEANER;BROAD;SPECTRUM;32OZ",null,7518.24,19,{"$f":"VLOOKUP(M19472,DFL!A:H,8,0)","v":0.45},{"$f":"P19472-(P19472/1.0025)","v":10.311795511222044},4135.03]
[{"$error":"#N/A"},null,null,null,null,7399466,"SPR","SPR","PL","WIPE,GERMICDL,REFILL,110CT",null,10964,19,{"$f":"VLOOKUP(M19487,DFL!A:H,8,0)","v":0.45},{"$f":"P19487-(P19487/1.0025)","v":15.037905236907136},{"$f":"ROUND(L19487*(1-N19487),2)","v":6030.2}]
[{"$error":"#N/A"},null,null,null,null,5876780,"SPR","SPR","PL","CLEANER,AUTO BOWL,CLOROX",null,13179.6,19,{"$f":"VLOOKUP(M19492,DFL!A:H,8,0)","v":0.45},{"$f":"P19492-(P19492/1.0025)","v":18.076758104737564},7248.78]
[{"$error":"#N/A"},null,null,null,null,796288,null,"SPR","CA"," TAPE VINYL 3M471 2X36YD RED",null,2554.13,39,{"$f":"VLOOKUP(M19507,DFL!A:H,8,0)","v":0.5},{"$f":"P19507-(P19507/1.0025)","v":3.1847132169575616},1277.07]
[{"$error":"#N/A"},null,null,null,null,159506,"SPR","SPR","EA","BELL;NO YELL;ATTN GETTER",null,35.53,48,{"$f":"VLOOKUP(M19522,DFL!A:H,8,0)","v":0.3},{"$f":"P19522-(P19522/1.0025)","v":6.2019950124685863E-2},24.87]
[{"$error":"#N/A"},null,null,null,null,338392,"SPR","SPR","PK","PAPER,CONST,12X18,RLBE,50SH",null,10.29,47,{"$f":"VLOOKUP(M19542,DFL!A:H,8,0)","v":0.5},{"$f":"P19542-(P19542/1.0025)","v":1.2842892768079928E-2},5.15]
[{"$error":"#N/A"},null,null,null,null,338293,"SPR","SPR","PK","PAPER;CONST;12X18;PINK;50SH",null,10.29,47,{"$f":"VLOOKUP(M19557,DFL!A:H,8,0)","v":0.5},{"$f":"P19557-(P19557/1.0025)","v":1.2842892768079928E-2},5.15]
[{"$error":"#N/A"},null,null,null,null,909272,null,"SPR","EA","ORGANIZER,6 POCKET"," ",82.72,31,{"$f":"VLOOKUP(M19562,DFL!A:H,8,0)","v":0.49},{"$f":"P19562-(P19562/1.0025)","v":0.1052119700748122},42.19]
[{"$error":"#N/A"},null,null,null,null,781602,"BSD","BSD","PK","INK,HP,951,COMBO,ALL COLORS"," ",104.62,42,{"$f":"VLOOKUP(M19581,DFL!A:E,5,0)","v":0.42},{"$f":"P19581-(P19581/1.0025)","v":0.1513216957605934},60.68]
[{"$error":"#N/A"},null,null,null,null,2933960,"BSD","BSD","CT","SOAP,HEALTHY,PRO,BAK,FM,ES8",null,99.16,22,{"$f":"VLOOKUP(M19593,DFL!A:E,5,0)","v":0.52},{"$f":"P19593-(P19593/1.0025)","v":0.11870324189526116},47.6]
[{"$error":"#N/A"},null,null,null,null,8233640,"SPR","SPR","CT","LINER,CAN,55GAL,BLACK,55LB",null,154.08000000000001,12,{"$f":"VLOOKUP(M19612,DFL!A:H,8,0)","v":0.4},{"$f":"P19612-(P19612/1.0025)","v":0.23054862842892021},92.45]
[{"$error":"#N/A"},null,null,null,null,733463,"SPR","SPR","BX","BAR, PROTEIN, PB/DK CHOC"," ",73.06,48,{"$f":"VLOOKUP(M19627,DFL!A:H,8,0)","v":0.3},{"$f":"P19627-(P19627/1.0025)","v":0.12753117206982267},51.14]
[{"$error":"#N/A"},null,null,null,null,8679198,"SPR","SPR","BX","PEANUT,SALTED,2.5OZ",null,35.99,48,{"$f":"VLOOKUP(M19632,DFL!A:H,8,0)","v":0.3},{"$f":"P19632-(P19632/1.0025)","v":6.2817955112219437E-2},25.19]
[{"$error":"#N/A"},null,null,null,null,2782510,"SPR","SPR","BX","COOKIES,CC,ROUND,WALKERS",null,50.63,48,{"$f":"VLOOKUP(M19654,DFL!A:H,8,0)","v":0.3},{"$f":"P19654-(P19654/1.0025)","v":8.8379052369077726E-2},35.44]
[{"$error":"#N/A"},null,null,null,null,837012,"SPR","SPR","CT","LINER,CAN,30X45,23GAL"," ",75.010000000000005,12,{"$f":"VLOOKUP(M19663,DFL!A:H,8,0)","v":0.4},{"$f":"P19663-(P19663/1.0025)","v":0.11224438902743117},45.01]
[{"$error":"#N/A"},null,null,null,null,9984789,"SPR","SPR","BG","TREATS,DOGGIE,SMALL,4LB",null,26.13,48,{"$f":"VLOOKUP(M19682,DFL!A:H,8,0)","v":0.3},{"$f":"P19682-(P19682/1.0025)","v":4.5610972568578489E-2},18.29]
[{"$error":"#N/A"},null,null,null,null,551807,"SPR","SPR","CT","BAGS,TRASH,55-60GAL,TRNSPRT"," ",107.18,12,{"$f":"VLOOKUP(M19697,DFL!A:H,8,0)","v":0.4},{"$f":"P19697-(P19697/1.0025)","v":0.16037406483789596},64.31]
[{"$error":"#N/A"},null,null,null,null,120848,"SPR","SPR","CT","LINER,CAN,31-33GAL,11MIC"," ",84.25,12,{"$f":"VLOOKUP(M19712,DFL!A:H,8,0)","v":0.4},{"$f":"P19712-(P19712/1.0025)","v":0.12605985037406242},50.55]
[{"$error":"#N/A"},null,null,null,null,8595735,null,"SPR","EA","HEADSET,WIRELESS,SAVI8210",null,491.95,23,{"$f":"VLOOKUP(M19727,DFL!A:H,8,0)","v":0.3},{"$f":"P19727-(P19727/1.0025)","v":0.85877805486285297},344.37]
[{"$error":"#N/A"},null,null,null,null,553565,"SPR","SPR","CT","LINER,CAN,2PLY,55-60GL,BNBK"," ",76.52,12,{"$f":"VLOOKUP(M19733,DFL!A:H,8,0)","v":0.4},{"$f":"P19733-(P19733/1.0025)","v":0.11448877805486291},45.91]
[{"$error":"#N/A"},null,null,null,null,9691131,null,"SPR","EA","Poly Blackwire 3320-M - Microsoft Teams - 3300 Series - headset - on-ear - wired - USB-A - Certified for Microsoft Teams",null,55.95,23,{"$f":"VLOOKUP(M19752,DFL!A:H,8,0)","v":0.3},{"$f":"P19752-(P19752/1.0025)","v":9.7680798004986968E-2},39.17]
[{"$error":"#N/A"},null,null,null,null,494920,"SPR","SPR","RL","TAPE,DUCT 48MMX54.8M,SR"," ",33.03,39,{"$f":"VLOOKUP(M19767,DFL!A:H,8,0)","v":0.5},{"$f":"P19767-(P19767/1.0025)","v":4.1197007481294179E-2},16.52]
[{"$error":"#N/A"},null,null,null,null,734682,null,"SPR","EA","CREDENZA, DOUBLE PEDESTAL",null,3049,48,{"$f":"VLOOKUP(M19782,DFL!A:H,8,0)","v":0.3},{"$f":"P19782-(P19782/1.0025)","v":5.3224438902743714},2134.3000000000002]
[{"$error":"#N/A"},null,null,null,null,9830910,"SPR","SPR","EA","DESK,PED,2B1FDRAWER,72W,SA",null,1837,31,{"$f":"VLOOKUP(M19800,DFL!A:H,8,0)","v":0.49},{"$f":"P19800-(P19800/1.0025)","v":2.336334164588493},936.87]
[{"$error":"#N/A"},null,null,null,null,6933888,"SPR","SPR","EA","CREDENZA,2B1FDRAWER,72W,SA",null,1674,31,{"$f":"VLOOKUP(M19803,DFL!A:H,8,0)","v":0.49},{"$f":"P19803-(P19803/1.0025)","v":2.1290274314213775},853.74]
[{"$error":"#N/A"},null,null,null,null,821687,"SPR","SPR","CT","50 HVY-DUTY LINERS 33GAL"," ",52.66,12,{"$f":"VLOOKUP(M19818,DFL!A:H,8,0)","v":0.4},{"$f":"P19818-(P19818/1.0025)","v":7.8802992518703263E-2},31.6]
[{"$error":"#N/A"},null,null,null,null,767825,"SPR","SPR","EA","DESK,RT PED,72X36,MAH","EPP (eVine),SCS",1596,48,{"$f":"VLOOKUP(M19837,DFL!A:H,8,0)","v":0.3},{"$f":"P19837-(P19837/1.0025)","v":2.7860349127181507},1117.2]
[{"$error":"#N/A"},null,null,null,null,6116430,"SPR","SPR","CT","COFFEE,24-2.5OZ,BRKFST,BLND",null,100.09,48,{"$f":"VLOOKUP(M19852,DFL!A:H,8,0)","v":0.3},{"$f":"P19852-(P19852/1.0025)","v":0.17471321695759912},70.06]
[{"$error":"#N/A"},null,null,null,null,5149499,"SPR","SPR","EA","BRIDGE,42\"W,MAHOGANY",null,475,48,{"$f":"VLOOKUP(M19858,DFL!A:H,8,0)","v":0.3},{"$f":"P19858-(P19858/1.0025)","v":0.82917705735661684},332.5]
[{"$error":"#N/A"},null,null,null,null,669948,"SPR","SPR","EA","BOOKCASE,72\" ETA"," ",669,9,{"$f":"VLOOKUP(M19873,DFL!A:H,8,0)","v":0.37},{"$f":"P19873-(P19873/1.0025)","v":1.0510473815460841},421.47]
[{"$error":"#N/A"},null,null,null,null,564629,"SPR","SPR","EA","CHART; HUNDRED POCKET",null,22.49,48,{"$f":"VLOOKUP(M19888,DFL!A:H,8,0)","v":0.3},{"$f":"P19888-(P19888/1.0025)","v":3.9251870324187976E-2},15.74]
[{"$error":"#N/A"},null,null,null,null,100456,"BSD","BSD","BX","TABLETS,LIQUI-GEL,ADVIL,2PK"," ",83.4,22,{"$f":"VLOOKUP(M19907,DFL!A:E,5,0)","v":0.52},{"$f":"P19907-(P19907/1.0025)","v":9.9825436408977453E-2},40.03]
[{"$error":"#N/A"},null,null,null,null,516125,null,"SPR","CA","WATER,DASANI,1/2 LITER,24/CS",null,26.67,48,{"$f":"VLOOKUP(M19922,DFL!A:H,8,0)","v":0.3},{"$f":"P19922-(P19922/1.0025)","v":4.6558603491270389E-2},18.670000000000002]
[{"$error":"#N/A"},null,null,null,null,270374,"SPR","SPR","PK","CUBES;CENTIMETER;1000CT",null,39.520000000000003,16,{"$f":"VLOOKUP(M19931,DFL!A:H,8,0)","v":0.36},{"$f":"P19931-(P19931/1.0025)","v":6.3067331670822568E-2},25.29]
[{"$error":"#N/A"},null,null,null,null,9743955,"SPR","SPR","BD","BAR, BULLETIN, 48\"",null,129,48,{"$f":"VLOOKUP(M19943,DFL!A:H,8,0)","v":0.3},{"$f":"P19943-(P19943/1.0025)","v":0.225187032418944},90.3]
[{"$error":"#N/A"},null,null,null,null,780846,"SPR","SPR","EA","FILE,LAT,3DWR,W/LK,CCL","026/000,EPP (eVine),26% total recycled content",2021,38,{"$f":"VLOOKUP(M19958,DFL!A:H,8,0)","v":0.36},{"$f":"P19958-(P19958/1.0025)","v":3.2255361596010061},1293.44]
[{"$error":"#N/A"},null,null,null,null,948514,"SPR","SPR","EA","30\" 3 DWR LATRL BLK","026/000,EPP (eVine),26% total recycled content",1574,38,{"$f":"VLOOKUP(M19977,DFL!A:H,8,0)","v":0.36},{"$f":"P19977-(P19977/1.0025)","v":2.5121197007480305},1007.36]
[{"$error":"#N/A"},null,null,null,null,783177,"SPR","SPR","EA","PRESIDE CONF TABLE 14 MAHOGANY"," ",1950,48,{"$f":"VLOOKUP(M19989,DFL!A:H,8,0)","v":0.3},{"$f":"P19989-(P19989/1.0025)","v":3.4039900249376842},1365]
[{"$error":"#N/A"},null,null,null,null,572467,"SPR","SPR","EA","CHAIR,HI BACK,MESH FAB,BK"," ",849,48,{"$f":"VLOOKUP(M20008,DFL!A:H,8,0)","v":0.3},{"$f":"P20008-(P20008/1.0025)","v":1.4820448877804893},594.29999999999995]
[{"$error":"#N/A"},null,null,null,null,172543,null,"SPR","EA","EYESALINE 16 OZ PERSONALEYEWAS",null,19.989999999999998,22,{"$f":"VLOOKUP(M20027,DFL!A:H,8,0)","v":0.41},{"$f":"P20027-(P20027/1.0025)","v":2.9401496259351845E-2},11.79]
[{"$error":"#N/A"},null,null,null,null,8183913,"SPR","SPR","EA","PARTITION,PAN,60X48,GRAPHITE",null,593,48,{"$f":"VLOOKUP(M20028,DFL!A:H,8,0)","v":0.3},{"$f":"P20028-(P20028/1.0025)","v":1.0351620947630522},415.1]
[{"$error":"#N/A"},null,null,null,null,388901,"SPR","SPR","EA","BOOKCASE,4-HIGH,59\",CHARCOAL","026/000,EPP (eVine),26% total recycled content,SCS",724,9,{"$f":"VLOOKUP(M20047,DFL!A:H,8,0)","v":0.37},{"$f":"P20047-(P20047/1.0025)","v":1.1374563591022024},456.12]
[{"$error":"#N/A"},null,null,null,null,9462064,"SPR","SPR","EA","CHAIR,EXECUTIVE,FIXARMS,BLK",null,454,48,{"$f":"VLOOKUP(M20062,DFL!A:H,8,0)","v":0.3},{"$f":"P20062-(P20062/1.0025)","v":0.79251870324185347},317.8]
[{"$error":"#N/A"},null,null,null,null,8436926,"SPR","SPR","EA","TOP,ROUND,42 DIA,MPL",null,552,48,{"$f":"VLOOKUP(M20078,DFL!A:H,8,0)","v":0.3},{"$f":"P20078-(P20078/1.0025)","v":0.96359102244389305},386.4]
[{"$error":"#N/A"},null,null,null,null,6718884,"SPR","SPR","EA","TABLE, SILVER MESH, 24X72",null,962,48,{"$f":"VLOOKUP(M20097,DFL!A:H,8,0)","v":0.3},{"$f":"P20097-(P20097/1.0025)","v":1.6793017456358257},673.4]
[{"$error":"#N/A"},null,null,null,null,7970046,"SPR","SPR","EA","TABLE,NSTNG,REC,30X72,SHKR CHY",null,957,48,{"$f":"VLOOKUP(M20112,DFL!A:H,8,0)","v":0.3},{"$f":"P20112-(P20112/1.0025)","v":1.6705735660847267},669.9]
[{"$error":"#N/A"},null,null,null,null,9846966,"SPR","SPR","EA","CHAIR;TASK;BIGTALL;ADJARM;BLK",null,1391,48,{"$f":"VLOOKUP(M20117,DFL!A:H,8,0)","v":0.3},{"$f":"P20117-(P20117/1.0025)","v":2.4281795511221844},973.7]
[{"$error":"#N/A"},null,null,null,null,947597,"SPR","SPR","EA","TOP,TABLE,HLFRND,30X60,MPL",null,601,48,{"$f":"VLOOKUP(M20135,DFL!A:H,8,0)","v":0.3},{"$f":"P20135-(P20135/1.0025)","v":1.049127182044856},420.7]
[{"$error":"#N/A"},null,null,null,null,2774388,"SPR","SPR","EA","CHAIR;TASK;MESHBCK;ARMS;BLK",null,923,48,{"$f":"VLOOKUP(M20148,DFL!A:H,8,0)","v":0.3},{"$f":"P20148-(P20148/1.0025)","v":1.6112219451371175},646.1]
[{"$error":"#N/A"},null,null,null,null,103592,"SPR","SPR","EA","CHAIR,MGMT,SWIVEL,ARM"," ",441,48,{"$f":"VLOOKUP(M20167,DFL!A:H,8,0)","v":0.3},{"$f":"P20167-(P20167/1.0025)","v":0.76982543640895074},308.7]
[{"$error":"#N/A"},null,null,null,null,7762067,"SPR","SPR","EA","COUNTERWEIGHT,DISCBASE,BK",null,207,48,{"$f":"VLOOKUP(M20182,DFL!A:H,8,0)","v":0.3},{"$f":"P20182-(P20182/1.0025)","v":0.36134663341644568},144.9]
[{"$error":"#N/A"},null,null,null,null,7204045,"SPR","SPR","EA","CHAIR;REACTBCK;ADJARM;BLK",null,953,48,{"$f":"VLOOKUP(M20197,DFL!A:H,8,0)","v":0.3},{"$f":"P20197-(P20197/1.0025)","v":1.6635910224438248},667.1]
[{"$error":"#N/A"},null,null,null,null,6035058,"SPR","SPR","EA","CHAIR;TASK;ADJARM;MSHBK;BLK",null,1041,48,{"$f":"VLOOKUP(M20208,DFL!A:H,8,0)","v":0.3},{"$f":"P20208-(P20208/1.0025)","v":1.8172069825435528},728.7]
[{"$error":"#N/A"},null,null,null,null,834956,"SPR","SPR","EA","GAME;BLURT!;WORD RACE",null,28.99,48,{"$f":"VLOOKUP(M20218,DFL!A:H,8,0)","v":0.3},{"$f":"P20218-(P20218/1.0025)","v":5.0598503740648226E-2},20.29]
[{"$error":"#N/A"},null,null,null,null,272614,"SPR","SPR","EA","FILE CART LTR/LGL BLACK"," ",52,13,{"$f":"VLOOKUP(M20237,DFL!A:H,8,0)","v":0.32},{"$f":"P20237-(P20237/1.0025)","v":8.8179551122195221E-2},35.36]
[{"$error":"#N/A"},null,null,null,null,740258,"SPR","SPR","ST","CONNECTOR,PANEL,STRAIGHT"," ",17.600000000000001,48,{"$f":"VLOOKUP(M20252,DFL!A:H,8,0)","v":0.3},{"$f":"P20252-(P20252/1.0025)","v":3.0723192019950218E-2},12.32]
[{"$error":"#N/A"},null,null,null,null,9003926,null,"SPR","PK","WorkPro¬Æ Spectrum Series Stacking Guest Chair with Antimicrobial Protection, With Arms, Grape, Set Of 2 Chairs",null,599.99,48,{"$f":"VLOOKUP(M20267,DFL!A:H,8,0)","v":0.3},{"$f":"P20267-(P20267/1.0025)","v":1.0473566084787649},419.99]
[{"$error":"#N/A"},null,null,null,null,3669090,"SPR","SPR","EA","DRAWER,CENTER,WC",null,157,31,{"$f":"VLOOKUP(M20281,DFL!A:H,8,0)","v":0.49},{"$f":"P20281-(P20281/1.0025)","v":0.19967581047380634},80.069999999999993]
[{"$error":"#N/A"},null,null,null,null,975014,"SPR","SPR","EA","BOARD,MAGNETIC,DRYERASE,3X2"," ",167.25,10,{"$f":"VLOOKUP(M20288,DFL!A:H,8,0)","v":0.36},{"$f":"P20288-(P20288/1.0025)","v":0.26693266832917573},107.04]
[{"$error":"#N/A"},null,null,null,null,7742089,"SPR","SPR","EA","TOP SUPPORT,STEEL,54\",EA",null,55,48,{"$f":"VLOOKUP(M20303,DFL!A:H,8,0)","v":0.3},{"$f":"P20303-(P20303/1.0025)","v":9.6009975062344211E-2},38.5]
[{"$error":"#N/A"},null,null,null,null,4766872,"SPR","SPR","EA","PANEL,PRIVACY,ACOUSTIC,60",null,246,48,{"$f":"VLOOKUP(M20322,DFL!A:H,8,0)","v":0.3},{"$f":"P20322-(P20322/1.0025)","v":0.42942643391521074},172.2]
[{"$error":"#N/A"},null,null,null,null,2944528,null,"SPR","PK","WorkPro¬Æ Spectrum Series Stacking Guest Chair with Antimicrobial Protection, Armless, Tan, Set Of 2 Chairs",null,569.99,48,{"$f":"VLOOKUP(M20337,DFL!A:H,8,0)","v":0.3},{"$f":"P20337-(P20337/1.0025)","v":0.99498753117205752},398.99]
[{"$error":"#N/A"},null,null,null,null,503642,"SPR","SPR","PK","SLIP-ON 1.5\", FLOORSAVER"," ",30.5,48,{"$f":"VLOOKUP(M20354,DFL!A:H,8,0)","v":0.3},{"$f":"P20354-(P20354/1.0025)","v":5.3241895261844974E-2},21.35]
[{"$error":"#N/A"},null,null,null,null,354760,"SPR","SPR","EA","FILE,MOBILE,LTR,25\"DEEP,BK"," ",246,38,{"$f":"VLOOKUP(M20358,DFL!A:H,8,0)","v":0.36},{"$f":"P20358-(P20358/1.0025)","v":0.39261845386533878},157.44]
[{"$error":"#N/A"},null,null,null,null,344869,"SPR","SPR","EA","SHELVING,RIVETED,18X48X72"," ",367,38,{"$f":"VLOOKUP(M20373,DFL!A:H,8,0)","v":0.36},{"$f":"P20373-(P20373/1.0025)","v":0.58573566084785966},234.88]
[{"$error":"#N/A"},null,null,null,null,568743,"SPR","SPR","EA","RETURN,RECT,LAM,35X24\""," ",248,48,{"$f":"VLOOKUP(M20392,DFL!A:H,8,0)","v":0.3},{"$f":"P20392-(P20392/1.0025)","v":0.43291770573566168},173.6]
[{"$error":"#N/A"},null,null,null,null,130512,null,"SPR","EA","HUTCH,WALL MOUNT,36\",MAH"," ",322,48,{"$f":"VLOOKUP(M20407,DFL!A:H,8,0)","v":0.3},{"$f":"P20407-(P20407/1.0025)","v":0.56209476309226147},225.4]
[{"$error":"#N/A"},null,null,null,null,7607883,"SPR","SPR","EA","DESK;MOBILE;HEIGHT-ADJ",null,351,48,{"$f":"VLOOKUP(M20412,DFL!A:H,8,0)","v":0.3},{"$f":"P20412-(P20412/1.0025)","v":0.61271820448877179},245.7]
[{"$error":"#N/A"},null,null,null,null,685380,"SPR","SPR","EA","FILE,LETTER,26.5\",2DWR,LGY"," ",421,38,{"$f":"VLOOKUP(M20428,DFL!A:H,8,0)","v":0.36},{"$f":"P20428-(P20428/1.0025)","v":0.67192019950124404},269.44]
[{"$error":"#N/A"},null,null,null,null,740195,"SPR","SPR","EA","PANEL,FABRIC,60X48"," ",585,48,{"$f":"VLOOKUP(M20443,DFL!A:H,8,0)","v":0.3},{"$f":"P20443-(P20443/1.0025)","v":1.0211970074812484},409.5]
[{"$error":"#N/A"},null,null,null,null,6176082,"SPR","SPR","EA","3 SHELF-BOOKCASE,WCHAR",null,296,9,{"$f":"VLOOKUP(M20462,DFL!A:H,8,0)","v":0.37},{"$f":"P20462-(P20462/1.0025)","v":0.46503740648378766},186.48]
[{"$error":"#N/A"},null,null,null,null,328672,"SPR","SPR","EA","CHAIR,SIDE,LEATH,BK"," ",330,48,{"$f":"VLOOKUP(M20470,DFL!A:H,8,0)","v":0.3},{"$f":"P20470-(P20470/1.0025)","v":0.57605985037406526},231]
[{"$error":"#N/A"},null,null,null,null,946859,null,"SPR","EA","CONE;TRAFFIC;18",null,19.91,22,{"$f":"VLOOKUP(M20493,DFL!A:H,8,0)","v":0.41},{"$f":"P20493-(P20493/1.0025)","v":2.9301745635908816E-2},11.75]
[{"$error":"#N/A"},null,null,null,null,612500,null,"SPR","PR","GLOVES,COATED,DYNEEMA,XL",null,16.45,22,{"$f":"VLOOKUP(M20498,DFL!A:H,8,0)","v":0.41},{"$f":"P20498-(P20498/1.0025)","v":2.4214463840397826E-2},9.7100000000000009]
[{"$error":"#N/A"},null,null,null,null,6797439,"SPR","SPR","EA","TRAY,KEYBOARD,26,ESPRS",null,118,48,{"$f":"VLOOKUP(M20513,DFL!A:H,8,0)","v":0.3},{"$f":"P20513-(P20513/1.0025)","v":0.205985037406478},82.6]
[{"$error":"#N/A"},null,null,null,null,6942363,"SPR","SPR","EA","PEDESTAL,B/B/F,FIXED,ESPRS",null,470,48,{"$f":"VLOOKUP(M20532,DFL!A:H,8,0)","v":0.3},{"$f":"P20532-(P20532/1.0025)","v":0.82044887780546105},329]
[{"$error":"#N/A"},null,null,null,null,7053529,"SPR","SPR","EA","DOLLY,CAB,COMMERCIAL,ADJ",null,361,38,{"$f":"VLOOKUP(M20543,DFL!A:H,8,0)","v":0.36},{"$f":"P20543-(P20543/1.0025)","v":0.57615960099749941},231.04]
[{"$error":"#N/A"},null,null,null,null,131181,"SPR","SPR","EA","CHAIR,EXEC,OVR-SZD,LTHR,BK",null,705,48,{"$f":"VLOOKUP(M20563,DFL!A:H,8,0)","v":0.3},{"$f":"P20563-(P20563/1.0025)","v":1.2306733167081916},493.5]
[{"$error":"#N/A"},null,null,null,null,9975286,"SPR","SPR","CT","CHAIR, STACK, WIRE FR, BLK"," ",766,48,{"$f":"VLOOKUP(M20568,DFL!A:H,8,0)","v":0.3},{"$f":"P20568-(P20568/1.0025)","v":1.3371571072318602},536.20000000000005]
[{"$error":"#N/A"},null,null,null,null,458195,"SPR","SPR","EA","DESK,LAM,7230,MAH",null,486,48,{"$f":"VLOOKUP(M20583,DFL!A:H,8,0)","v":0.3},{"$f":"P20583-(P20583/1.0025)","v":0.84837905236906863},340.2]
[{"$error":"#N/A"},null,null,null,null,9066310,"SPR","SPR","EA","HUTCH,W/DOOR,LAM,60\" ,ESPR",null,585,48,{"$f":"VLOOKUP(M20598,DFL!A:H,8,0)","v":0.3},{"$f":"P20598-(P20598/1.0025)","v":1.0211970074812484},409.5]
[{"$error":"#N/A"},null,null,null,null,974879,"SPR","SPR","EA","TABLE,TRAINING,72\",CHY/BLK"," ",842,48,{"$f":"VLOOKUP(M20616,DFL!A:H,8,0)","v":0.3},{"$f":"P20616-(P20616/1.0025)","v":1.4698254364089962},589.4]
[{"$error":"#N/A"},null,null,null,null,9243854,"SPR","SPR","EA","CHAIR,HIGHBACK,EXE,MSH,BK",null,658,48,{"$f":"VLOOKUP(M20633,DFL!A:H,8,0)","v":0.3},{"$f":"P20633-(P20633/1.0025)","v":1.1486284289276796},460.6]
[{"$error":"#N/A"},null,null,null,null,9975637,"SPR","SPR","CT","CHAIR,STACK,GRAY/BLK,CARTON"," ",675,48,{"$f":"VLOOKUP(M20652,DFL!A:H,8,0)","v":0.3},{"$f":"P20652-(P20652/1.0025)","v":1.1783042394014842},472.5]
[{"$error":"#N/A"},null,null,null,null,4710208,"SPR","SPR","EA","HUTCH,BASE,METAL,WAL",null,667,48,{"$f":"VLOOKUP(M20653,DFL!A:H,8,0)","v":0.3},{"$f":"P20653-(P20653/1.0025)","v":1.1643391521196804},466.9]
[{"$error":"#N/A"},null,null,null,null,6144718,"SPR","SPR","EA","PENINSULA,66X30,1OF2,ESPR",null,330,48,{"$f":"VLOOKUP(M20668,DFL!A:H,8,0)","v":0.3},{"$f":"P20668-(P20668/1.0025)","v":0.57605985037406526},231]
[{"$error":"#N/A"},null,null,null,null,410948,"SPR","SPR","EA","TABLETOP,ROUND,36\",MAHOGANY"," ",420,48,{"$f":"VLOOKUP(M20689,DFL!A:H,8,0)","v":0.3},{"$f":"P20689-(P20689/1.0025)","v":0.73316708229424421},294]
[{"$error":"#N/A"},null,null,null,null,430307,"SPR","SPR","EA","CABINET,STORAGE,24X36X72,LG",null,1346,38,{"$f":"VLOOKUP(M20703,DFL!A:H,8,0)","v":0.36},{"$f":"P20703-(P20703/1.0025)","v":2.1482294264338861},861.44]
[{"$error":"#N/A"},null,null,null,null,778317,"SPR","SPR","EA","CHAIR,W/TABLET,BNDED,BLK"," ",1340,48,{"$f":"VLOOKUP(M20722,DFL!A:H,8,0)","v":0.3},{"$f":"P20722-(P20722/1.0025)","v":2.3391521197006568},938]
[{"$error":"#N/A"},null,null,null,null,293460,"SPR","SPR","EA","FILE,LATERAL,4DRW,36\",PY"," ",1644,38,{"$f":"VLOOKUP(M20737,DFL!A:H,8,0)","v":0.36},{"$f":"P20737-(P20737/1.0025)","v":2.6238403990023471},1052.1600000000001]
[{"$error":"#N/A"},null,null,null,null,293465,"SPR","SPR","EA","FILE,LATERAL,4DRW,36\",GY"," ",1644,38,{"$f":"VLOOKUP(M20738,DFL!A:H,8,0)","v":0.36},{"$f":"P20738-(P20738/1.0025)","v":2.6238403990023471},1052.1600000000001]
[{"$error":"#N/A"},null,null,null,null,1868758,"SPR","SPR","ST","BASE,CL,W/CASTERS,MS",null,471,48,{"$f":"VLOOKUP(M20762,DFL!A:H,8,0)","v":0.3},{"$f":"P20762-(P20762/1.0025)","v":0.82219451371571495},329.7]
[{"$error":"#N/A"},null,null,null,null,7944541,"SPR","SPR","EA","CHAIR;GUEST;HEALTHCARE; HIGH-B",null,654,48,{"$f":"VLOOKUP(M20773,DFL!A:H,8,0)","v":0.3},{"$f":"P20773-(P20773/1.0025)","v":1.1416458852867777},457.8]
[{"$error":"#N/A"},null,null,null,null,9795315,"SPR","SPR","EA","CHAIR,B&T,AIR TECH,WBD",null,1243,48,{"$f":"VLOOKUP(M20788,DFL!A:H,8,0)","v":0.3},{"$f":"P20788-(P20788/1.0025)","v":2.169825436408928},870.1]
[{"$error":"#N/A"},null,null,null,null,366744,null,"SPR","CT","CHAIR,MODERN,GUEST,WHITE",null,1959.8543087414755,48,{"$f":"VLOOKUP(M20807,DFL!A:H,8,0)","v":0.3},{"$f":"P20807-(P20807/1.0025)","v":3.4211970074811688},1371.9]
[{"$error":"#N/A"},null,null,null,null,738273,null,"SPR","EA","CHAIR,MID-BACK"," ",835,48,{"$f":"VLOOKUP(M20822,DFL!A:H,8,0)","v":0.3},{"$f":"P20822-(P20822/1.0025)","v":1.4576059850373895},584.5]
[{"$error":"#N/A"},null,null,null,null,9793750,"SPR","SPR","EA","CABINET,4DR,SIDE FRA,CHAR",null,901,38,{"$f":"VLOOKUP(M20835,DFL!A:H,8,0)","v":0.36},{"$f":"P20835-(P20835/1.0025)","v":1.4380049875311443},576.64]
[{"$error":"#N/A"},null,null,null,null,186069,null,"SPR","EA","CHAIR,MODERN,MID BCK,LTHR BLK"," ",704,48,{"$f":"VLOOKUP(M20843,DFL!A:H,8,0)","v":0.3},{"$f":"P20843-(P20843/1.0025)","v":1.2289276807979945},492.8]
[{"$error":"#N/A"},null,null,null,null,5346661,"SPR","SPR","EA","BRIDGE;24X48X;GE",null,493,48,{"$f":"VLOOKUP(M20858,DFL!A:H,8,0)","v":0.3},{"$f":"P20858-(P20858/1.0025)","v":0.86059850374061853},345.1]
[{"$error":"#N/A"},null,null,null,null,740046,"SPR","SPR","EA","PANEL,FABRIC,72X60"," ",761,48,{"$f":"VLOOKUP(M20877,DFL!A:H,8,0)","v":0.3},{"$f":"P20877-(P20877/1.0025)","v":1.3284289276807613},532.70000000000005]
[{"$error":"#N/A"},null,null,null,null,9649484,"SPR","SPR","EA","CHAIR,MID BACK,MESH,GRAY",null,1171,48,{"$f":"VLOOKUP(M20892,DFL!A:H,8,0)","v":0.3},{"$f":"P20892-(P20892/1.0025)","v":2.0441396508728076},819.7]
[{"$error":"#N/A"},null,null,null,null,704800,"SPR","SPR","PK","MAGNET,RARE EARTH,PLAST CAP"," ",18.7,48,{"$f":"VLOOKUP(M20908,DFL!A:H,8,0)","v":0.3},{"$f":"P20908-(P20908/1.0025)","v":3.2643391521196108E-2},13.09]
[{"$error":"#N/A"},null,null,null,null,480977,"BSD","BSD","EA","HEWLETT PACKARD,564,CMY,3 PACK"," ",73.650000000000006,42,{"$f":"VLOOKUP(M20913,DFL!A:E,5,0)","v":0.42},{"$f":"P20913-(P20913/1.0025)","v":0.10653366583540702},42.72]
[{"$error":"#N/A"},null,null,null,null,274369,"SPR","SPR","EA","DESK,CNR,42X42X24X29.5"," ",370,48,{"$f":"VLOOKUP(M20928,DFL!A:H,8,0)","v":0.3},{"$f":"P20928-(P20928/1.0025)","v":0.64588528678302737},259]
[{"$error":"#N/A"},null,null,null,null,565438,"SPR","SPR","EA","FILE,PED,MBL22\"B/B/FGY EXTPULL"," ",626,38,{"$f":"VLOOKUP(M20947,DFL!A:H,8,0)","v":0.36},{"$f":"P20947-(P20947/1.0025)","v":0.99910224438900741},400.64]
[{"$error":"#N/A"},null,null,null,null,139314,"SPR","SPR","EA","TABLE,TRAINING,60\",ESP/BLK"," ",792,48,{"$f":"VLOOKUP(M20951,DFL!A:H,8,0)","v":0.3},{"$f":"P20951-(P20951/1.0025)","v":1.3825436408977794},554.4]
[{"$error":"#N/A"},null,null,null,null,4496729,"SPR","SPR","EA","SOFA,RECLINER,BLK",null,2403,48,{"$f":"VLOOKUP(M20978,DFL!A:H,8,0)","v":0.3},{"$f":"P20978-(P20978/1.0025)","v":4.1947630922693406},1682.1]
[{"$error":"#N/A"},null,null,null,null,6698052,"SPR","SPR","EA","LOVESEAT,RECLINER,GRAY",null,1897,48,{"$f":"VLOOKUP(M20983,DFL!A:H,8,0)","v":0.3},{"$f":"P20983-(P20983/1.0025)","v":3.3114713216957625},1327.9]
[{"$error":"#N/A"},null,null,null,null,9772231,"SPR","SPR","EA","CHAIR,RECLINER,BLK",null,1265,48,{"$f":"VLOOKUP(M20998,DFL!A:H,8,0)","v":0.3},{"$f":"P20998-(P20998/1.0025)","v":2.2082294264338316},885.5]
[{"$error":"#N/A"},null,null,null,null,200587,"SPR","SPR","EA","BOARD, PORCELAIN, 4X6"," ",639,10,{"$f":"VLOOKUP(M21017,DFL!A:H,8,0)","v":0.36},{"$f":"P21017-(P21017/1.0025)","v":1.019850374064788},408.96]
[{"$error":"#N/A"},null,null,null,null,224526,"SPR","SPR","EA","DESK,24\"X72\"RHPED,CH/MH",null,2009,48,{"$f":"VLOOKUP(M21024,DFL!A:H,8,0)","v":0.3},{"$f":"P21024-(P21024/1.0025)","v":3.5069825436407882},1406.3]
[{"$error":"#N/A"},null,null,null,null,7165277,null,"SPR","EA","BASE,STSTD,3D,3 LG ADJ 24 50 B",null,1894,48,{"$f":"VLOOKUP(M21048,DFL!A:H,8,0)","v":0.3},{"$f":"P21048-(P21048/1.0025)","v":3.3062344139650577},1325.8]
[{"$error":"#N/A"},null,null,null,null,5057102,"SPR","SPR","EA"," TABLE FLIPPER 60X24 CY",null,534,48,{"$f":"VLOOKUP(M21053,DFL!A:H,8,0)","v":0.3},{"$f":"P21053-(P21053/1.0025)","v":0.93216957605983453},373.8]
[{"$error":"#N/A"},null,null,null,null,310948,"SPR","SPR","EA","CREDENZA,LEFT,24X72,MY",null,1390,48,{"$f":"VLOOKUP(M21068,DFL!A:H,8,0)","v":0.3},{"$f":"P21068-(P21068/1.0025)","v":2.4264339152118737},973]
[{"$error":"#N/A"},null,null,null,null,273923,"SPR","SPR","EA","CREDENZA,66X24,WALNUT"," ",379,48,{"$f":"VLOOKUP(M21083,DFL!A:H,8,0)","v":0.3},{"$f":"P21083-(P21083/1.0025)","v":0.66159600997502821},265.3]
[{"$error":"#N/A"},null,null,null,null,9793911,"SPR","SPR","EA","CABINET,STRG,REVELANCE,CHAR",null,316,38,{"$f":"VLOOKUP(M21097,DFL!A:H,8,0)","v":0.36},{"$f":"P21097-(P21097/1.0025)","v":0.50433915211968383},202.24]
[{"$error":"#N/A"},null,null,null,null,6391967,"SPR","SPR","EA","BASE,W/DOOR,LAMINATE,MY",null,599,48,{"$f":"VLOOKUP(M21118,DFL!A:H,8,0)","v":0.3},{"$f":"P21118-(P21118/1.0025)","v":1.0456359102244051},419.3]
[{"$error":"#N/A"},null,null,null,null,8568597,"SPR","SPR","CT","STOOL,GUEST,SLED,BLEA",null,553,48,{"$f":"VLOOKUP(M21123,DFL!A:H,8,0)","v":0.3},{"$f":"P21123-(P21123/1.0025)","v":0.9653366583540901},387.1]
[{"$error":"#N/A"},null,null,null,null,9810276,"SPR","SPR","EA","CABINET,CRDNZ,REVLANCE,CHAR",null,763,38,{"$f":"VLOOKUP(M21138,DFL!A:H,8,0)","v":0.36},{"$f":"P21138-(P21138/1.0025)","v":1.2177556109725174},488.32]
[{"$error":"#N/A"},null,null,null,null,9045966,null,"SPR","EA","BASE,SITSTAND,3D 24 TO 50, B",null,1139,48,{"$f":"VLOOKUP(M21153,DFL!A:H,8,0)","v":0.3},{"$f":"P21153-(P21153/1.0025)","v":1.9882793017455924},797.3]
[{"$error":"#N/A"},null,null,null,null,6007191,"SPR","SPR","CT","CHAIRS,NESTING",null,641,48,{"$f":"VLOOKUP(M21170,DFL!A:H,8,0)","v":0.3},{"$f":"P21170-(P21170/1.0025)","v":1.1189526184538181},448.7]
[{"$error":"#N/A"},null,null,null,null,358086,"SPR","SPR","EA","DESK,SGL,FULL,PED,30X60,MY",null,1330,48,{"$f":"VLOOKUP(M21188,DFL!A:H,8,0)","v":0.3},{"$f":"P21188-(P21188/1.0025)","v":2.3216957605984589},931]
[{"$error":"#N/A"},null,null,null,null,429019,"SPR","SPR","EA","DESK,DBL,PEDESTAL,PT/OAK"," ",1810,48,{"$f":"VLOOKUP(M21193,DFL!A:H,8,0)","v":0.3},{"$f":"P21193-(P21193/1.0025)","v":3.1596009975062316},1267]
[{"$error":"#N/A"},null,null,null,null,6749568,"SPR","SPR","EA","CREDENZA,RECT,LAM,60X24,WC",null,356,48,{"$f":"VLOOKUP(M21208,DFL!A:H,8,0)","v":0.3},{"$f":"P21208-(P21208/1.0025)","v":0.62144638403989916},249.2]
[{"$error":"#N/A"},null,null,null,null,545684,"SPR","SPR","EA","RETURN,24X42,RIGHT,MY",null,1166,48,{"$f":"VLOOKUP(M21223,DFL!A:H,8,0)","v":0.3},{"$f":"P21223-(P21223/1.0025)","v":2.0354114713217086},816.2]
[{"$error":"#N/A"},null,null,null,null,567906,"SPR","SPR","EA","TABLE,BOAT,48X96"," ",593,48,{"$f":"VLOOKUP(M21243,DFL!A:H,8,0)","v":0.3},{"$f":"P21243-(P21243/1.0025)","v":1.0351620947630522},415.1]
[{"$error":"#N/A"},null,null,null,null,739796,"SPR","SPR","EA","CHAIR, EXEC,SWIVEL,MESH"," ",566,48,{"$f":"VLOOKUP(M21258,DFL!A:H,8,0)","v":0.3},{"$f":"P21258-(P21258/1.0025)","v":0.98802992518699284},396.2]
[{"$error":"#N/A"},null,null,null,null,9097394,"SPR","SPR","EA","FILE,4DRW,2B/1F,WCHAR",null,942,38,{"$f":"VLOOKUP(M21273,DFL!A:H,8,0)","v":0.36},{"$f":"P21273-(P21273/1.0025)","v":1.5034413965087197},602.88]
[{"$error":"#N/A"},null,null,null,null,719925,"SPR","SPR","EA","CHAIR MAT W/LIP CLEATED 45X53"," ",210,15,{"$f":"VLOOKUP(M21278,DFL!A:H,8,0)","v":0.5},{"$f":"P21278-(P21278/1.0025)","v":0.26184538653366474},105]
[{"$error":"#N/A"},null,null,null,null,7193481,"SPR","SPR","EA","CHAIR,TRAINING,STORAGE",null,824,48,{"$f":"VLOOKUP(M21293,DFL!A:H,8,0)","v":0.3},{"$f":"P21293-(P21293/1.0025)","v":1.4384039900248808},576.79999999999995]
[{"$error":"#N/A"},null,null,null,null,4184283,"SPR","SPR","EA","CHAIR;MESH;TILT;CABLE MECH;BK",null,549,48,{"$f":"VLOOKUP(M21316,DFL!A:H,8,0)","v":0.3},{"$f":"P21316-(P21316/1.0025)","v":0.95835411471318821},384.3]
[{"$error":"#N/A"},null,null,null,null,356484,"SPR","SPR","ST","TFOOT,PANEL"," ",91,48,{"$f":"VLOOKUP(M21328,DFL!A:H,8,0)","v":0.3},{"$f":"P21328-(P21328/1.0025)","v":0.15885286783041863},63.7]
[{"$error":"#N/A"},null,null,null,null,388604,"SPR","SPR","EA","CHAIR,GUEST,LEATHER"," ",441,48,{"$f":"VLOOKUP(M21343,DFL!A:H,8,0)","v":0.3},{"$f":"P21343-(P21343/1.0025)","v":0.76982543640895074},308.7]
[{"$error":"#N/A"},null,null,null,null,768319,"SPR","SPR","EA","CHAIR, HI-BACK,LEATH,EXEC"," ",727,48,{"$f":"VLOOKUP(M21362,DFL!A:H,8,0)","v":0.3},{"$f":"P21362-(P21362/1.0025)","v":1.269077306733152},508.9]
[{"$error":"#N/A"},null,null,null,null,454404,null,"SPR","EA","LAMP,MAGNIFIER,LED",null,256,16,{"$f":"VLOOKUP(M21363,DFL!A:H,8,0)","v":0.36},{"$f":"P21363-(P21363/1.0025)","v":0.4085785536159392},163.84]
[{"$error":"#N/A"},null,null,null,null,9796569,"SPR","SPR","EA","TABLE,96X30,LTDUTY,PM/GY",null,357,48,{"$f":"VLOOKUP(M21389,DFL!A:H,8,0)","v":0.3},{"$f":"P21389-(P21389/1.0025)","v":0.62319201995012463},249.9]
[{"$error":"#N/A"},null,null,null,null,6360014,"SPR","SPR","EA","FILE,VERT,3DWR,22\",LGY",null,668,38,{"$f":"VLOOKUP(M21398,DFL!A:H,8,0)","v":0.36},{"$f":"P21398-(P21398/1.0025)","v":1.0661346633416429},427.52]
[{"$error":"#N/A"},null,null,null,null,6140614,"SPR","SPR","EA","ARM,MONITOR,DUAL WITH POLE,",null,320,48,{"$f":"VLOOKUP(M21413,DFL!A:H,8,0)","v":0.3},{"$f":"P21413-(P21413/1.0025)","v":0.55860349127181053},224]
[{"$error":"#N/A"},null,null,null,null,422717,"SPR","SPR","EA","BOOKCASE,5 SHELF,MAH",null,450,9,{"$f":"VLOOKUP(M21432,DFL!A:H,8,0)","v":0.37},{"$f":"P21432-(P21432/1.0025)","v":0.70698254364089053},283.5]
[{"$error":"#N/A"},null,null,null,null,7273588,null,"SPR","EA","CART;UTILITY;X-TRA;BK",null,381,13,{"$f":"VLOOKUP(M21447,DFL!A:H,8,0)","v":0.32},{"$f":"P21447-(P21447/1.0025)","v":0.64608478802989566},259.08]
[{"$error":"#N/A"},null,null,null,null,567708,"SPR","SPR","EA","4X8' DRY ERASE BRD ALUM FR"," ",510,10,{"$f":"VLOOKUP(M21449,DFL!A:H,8,0)","v":0.36},{"$f":"P21449-(P21449/1.0025)","v":0.81396508728175831},326.39999999999998]
[{"$error":"#N/A"},null,null,null,null,6212883,"SPR","SPR","EA","DESK,LAM,60X30,WC",null,379,48,{"$f":"VLOOKUP(M21468,DFL!A:H,8,0)","v":0.3},{"$f":"P21468-(P21468/1.0025)","v":0.66159600997502821},265.3]
[{"$error":"#N/A"},null,null,null,null,968229,"SPR","SPR","EA","CHAIRMAT,46X60 WD/LIP 25X12"," ",231,15,{"$f":"VLOOKUP(M21483,DFL!A:H,8,0)","v":0.5},{"$f":"P21483-(P21483/1.0025)","v":0.28802992518703263},115.5]
[{"$error":"#N/A"},null,null,null,null,200578,"SPR","SPR","EA","BOARD, PORCELAIN, 3X4"," ",319,10,{"$f":"VLOOKUP(M21502,DFL!A:H,8,0)","v":0.36},{"$f":"P21502-(P21502/1.0025)","v":0.50912718204486396},204.16]
[{"$error":"#N/A"},null,null,null,null,569598,"SPR","SPR","EA","TOP,TABLE,ROUND,42\""," ",224,48,{"$f":"VLOOKUP(M21505,DFL!A:H,8,0)","v":0.3},{"$f":"P21505-(P21505/1.0025)","v":0.39102244389027874},156.80000000000001]
[{"$error":"#N/A"},null,null,null,null,342504,"SPR","SPR","EA","TOP,ADJ, HT,7230,MAH",null,305,48,{"$f":"VLOOKUP(M21533,DFL!A:H,8,0)","v":0.3},{"$f":"P21533-(P21533/1.0025)","v":0.53241895261842842},{"$f":"ROUND(L21533*(1-N21533),2)","v":213.5}]
[{"$error":"#N/A"},null,null,null,null,7552817,"SPR","SPR","EA","SHELVING,1000RIVET,48X12X30,BK",null,157,48,{"$f":"VLOOKUP(M21538,DFL!A:H,8,0)","v":0.3},{"$f":"P21538-(P21538/1.0025)","v":0.27406483790522884},109.9]
[{"$error":"#N/A"},null,null,null,null,8212606,"SPR","SPR","EA","TABLETOP,60X24,WHT",null,218,48,{"$f":"VLOOKUP(M21553,DFL!A:H,8,0)","v":0.3},{"$f":"P21553-(P21553/1.0025)","v":0.38054862842892589},152.6]
[{"$error":"#N/A"},null,null,null,null,8212937,"SPR","SPR","EA","TABLE,END,ROUND,32,WCHAR",null,141,48,{"$f":"VLOOKUP(M21568,DFL!A:H,8,0)","v":0.3},{"$f":"P21568-(P21568/1.0025)","v":0.24613466334163547},98.7]
[{"$error":"#N/A"},null,null,null,null,129041,"SPR","SPR","EA","BOARD,CORK,2X1.5,ALUMFRM"," ",49,10,{"$f":"VLOOKUP(M21578,DFL!A:H,8,0)","v":0.36},{"$f":"P21578-(P21578/1.0025)","v":7.8204488778052195E-2},31.36]
[{"$error":"#N/A"},null,null,null,null,9884247,"SPR","SPR","EA","SUPPORT,LUMBAR,MESH",null,70,48,{"$f":"VLOOKUP(M21603,DFL!A:H,8,0)","v":0.3},{"$f":"P21603-(P21603/1.0025)","v":0.122194513715705},49]
[{"$error":"#N/A"},null,null,null,null,4874141,"SPR","SPR","EA","STORAGE,UNDRMNT,LOCK,DOOR",null,633,38,{"$f":"VLOOKUP(M21608,DFL!A:H,8,0)","v":0.36},{"$f":"P21608-(P21608/1.0025)","v":1.0102743142144277},405.12]
[{"$error":"#N/A"},null,null,null,null,101699,"SPR","SPR","RL","TAPE,STICKYBACK,HOOK,BK"," ",65.239999999999995,39,{"$f":"VLOOKUP(M21623,DFL!A:H,8,0)","v":0.5},{"$f":"P21623-(P21623/1.0025)","v":8.1346633416458758E-2},32.619999999999997]
[{"$error":"#N/A"},null,null,null,null,9776687,"BSD","BSD","CA","Minute Maid Apple Juice, 12 Oz, Pack Of 24",null,89.55,48,{"$f":"VLOOKUP(M21638,DFL!A:E,5,0)","v":0.42},{"$f":"P21638-(P21638/1.0025)","v":0.12952618453864773},51.94]
[{"$error":"#N/A"},null,null,null,null,9564388,"SPR","SPR","PK","CLIPS,GANGING,CHAIR,STACK",null,44,48,{"$f":"VLOOKUP(M21651,DFL!A:H,8,0)","v":0.3},{"$f":"P21651-(P21651/1.0025)","v":7.6807980049874658E-2},30.8]
[{"$error":"#N/A"},null,null,null,null,755836,"SPR","SPR","EA","INK,HP 971XL,MAGENTA"," ",205.63,42,{"$f":"VLOOKUP(M21673,DFL!A:H,8,0)","v":0.31},{"$f":"P21673-(P21673/1.0025)","v":0.35381546134661335},141.88]
[{"$error":"#N/A"},null,null,null,null,489214,"BSD","BSD","EA","INK,HP 980,BLACK"," ",191.4,42,{"$f":"VLOOKUP(M21678,DFL!A:E,5,0)","v":0.42},{"$f":"P21678-(P21678/1.0025)","v":0.27683291770573248},111.01]
[{"$error":"#N/A"},null,null,null,null,753433,"BSD","BSD","EA","INK,970,HP,BLACK"," ",116.08,42,{"$f":"VLOOKUP(M21693,DFL!A:E,5,0)","v":0.42},{"$f":"P21693-(P21693/1.0025)","v":0.16790523690772829},67.33]
[{"$error":"#N/A"},null,null,null,null,463396,"SPR","SPR","RL","LABEL;LW;2\"X2-5/16\";MP;250RL",null,33.65,26,{"$f":"VLOOKUP(M21708,DFL!A:H,8,0)","v":0.44},{"$f":"P21708-(P21708/1.0025)","v":4.6982543640897489E-2},18.84]
[{"$error":"#N/A"},null,null,null,null,829924,"BSD","BSD","EA","CARTRIDGE,TONER,131A,HP,YELLOW"," ",161.22999999999999,41,{"$f":"VLOOKUP(M21724,DFL!A:E,5,0)","v":0.45},{"$f":"P21724-(P21724/1.0025)","v":0.22114713216957682},{"$f":"ROUND(L21724*(1-N21724),2)","v":88.68}]
[{"$error":"#N/A"},null,null,null,null,642434,null,"SPR","EA"," TONER HP CF412XC YL",null,359.96,41,{"$f":"VLOOKUP(M21743,DFL!A:H,8,0)","v":0.37},{"$f":"P21743-(P21743/1.0025)","v":0.56551122194511549},226.77]
[{"$error":"#N/A"},null,null,null,null,6821050,"SPR","SPR","EA","TONER,CART,HP,89Y,EHY,BLACK",null,535.12,41,{"$f":"VLOOKUP(M21758,DFL!A:H,8,0)","v":0.37},{"$f":"P21758-(P21758/1.0025)","v":0.8407231920199365},337.13]
[{"$error":"#N/A"},null,null,null,null,6190342,"Deviated Item","SPR","CT"," SOAP GOJO ANTIB PP",null,123.29,19,{"$f":"VLOOKUP(M21763,DFL!A:H,8,0)","v":0.45},{"$f":"P21763-(P21763/1.0025)","v":0.16910224438902333},67.81]
[{"$error":"#N/A"},null,null,null,null,344963,"BSD","BSD","EA","DRUM,HP,828A,LJ,MAGENTA",null,480.07,41,{"$f":"VLOOKUP(M21778,DFL!A:E,5,0)","v":0.45},{"$f":"P21778-(P21778/1.0025)","v":0.65845386533663941},264.04000000000002]
[{"$error":"#N/A"},null,null,null,null,385819,"BSD","BSD","EA","TONER,HP 80X,BLACK"," ",333.67,41,{"$f":"VLOOKUP(M21797,DFL!A:E,5,0)","v":0.45},{"$f":"P21797-(P21797/1.0025)","v":0.45765586034912076},183.52]
[{"$error":"#N/A"},null,null,null,null,347098,"BSD","BSD","PK","TONER,HP 78A,DUAL PACK, BLACK"," ",266.07,41,{"$f":"VLOOKUP(M21813,DFL!A:E,5,0)","v":0.45},{"$f":"P21813-(P21813/1.0025)","v":0.36493765586033078},146.34]
[{"$error":"#N/A"},null,null,null,null,345062,"SPR","SPR","EA","TONER,LJ,HP 826A,YELLOW"," ",961.59,41,{"$f":"VLOOKUP(M21828,DFL!A:H,8,0)","v":0.37},{"$f":"P21828-(P21828/1.0025)","v":1.5107231920198956},605.79999999999995]
[{"$error":"#N/A"},null,null,null,null,487404,"BSD","BSD","EA","TONER,HP,CE260A,BLACK"," ",300.77999999999997,41,{"$f":"VLOOKUP(M21833,DFL!A:E,5,0)","v":0.45},{"$f":"P21833-(P21833/1.0025)","v":0.41254364089775208},165.43]
[{"$error":"#N/A"},null,null,null,null,467778,"BSD","BSD","PK","TONER,HP,HY LJ 87X,2PK,BLK",null,989.09,41,{"$f":"VLOOKUP(M21848,DFL!A:E,5,0)","v":0.45},{"$f":"P21848-(P21848/1.0025)","v":1.3566084788029684},544]
[{"$error":"#N/A"},null,null,null,null,9041039,"SPR","SPR","EA","CRTDG,LSR,HP 212A,BK",null,282.66000000000003,41,{"$f":"VLOOKUP(M21869,DFL!A:H,8,0)","v":0.37},{"$f":"P21869-(P21869/1.0025)","v":0.44408977556108198},178.08]
[{"$error":"#N/A"},null,null,null,null,3334964,"SPR","SPR","EA","CRTDG,LSR,HP 212X,YELLOW",null,584.32000000000005,41,{"$f":"VLOOKUP(M21883,DFL!A:H,8,0)","v":0.37},{"$f":"P21883-(P21883/1.0025)","v":0.91800498753116244},368.12]
[{"$error":"#N/A"},null,null,null,null,101292,"BSD","BSD","PK","TONER,HP LJCE273A,MAGENTA"," ",757.73,41,{"$f":"VLOOKUP(M21898,DFL!A:E,5,0)","v":0.45},{"$f":"P21898-(P21898/1.0025)","v":1.0392768079800021},416.75]
[{"$error":"#N/A"},null,null,null,null,8955860,"SPR","SPR","EA","TONER,CART,HP,89X,HY,BLACK",null,396.11,41,{"$f":"VLOOKUP(M21903,DFL!A:H,8,0)","v":0.37},{"$f":"P21903-(P21903/1.0025)","v":0.62231920199499768},249.55]
[{"$error":"#N/A"},null,null,null,null,344972,"SPR","SPR","EA","TONER,HP,826A,LJ,BLACK"," ",585.65,41,{"$f":"VLOOKUP(M21928,DFL!A:H,8,0)","v":0.37},{"$f":"P21928-(P21928/1.0025)","v":0.92009975062342164},368.96]
[{"$error":"#N/A"},null,null,null,null,932366,"SPR","SPR","EA","TONER,HP 14X,BLACK"," ",420.8,41,{"$f":"VLOOKUP(M21934,DFL!A:H,8,0)","v":0.37},{"$f":"P21934-(P21934/1.0025)","v":0.66109725685782905},265.10000000000002]
[{"$error":"#N/A"},null,null,null,null,344819,"SPR","SPR","EA","TONER,HP,827A,LJ,BLACK"," ",199.57,41,{"$f":"VLOOKUP(M21953,DFL!A:H,8,0)","v":0.37},{"$f":"P21953-(P21953/1.0025)","v":0.31354114713215608},125.73]
[{"$error":"#N/A"},null,null,null,null,490474,null,"SPR","EA"," TONER HP CE278AC BLACK",null,148.16,41,{"$f":"VLOOKUP(M21968,DFL!A:H,8,0)","v":0.37},{"$f":"P21968-(P21968/1.0025)","v":0.23276807980049341},93.34]
[{"$error":"#N/A"},null,null,null,null,487349,"SPR","SPR","EA","TONER,HP,ORIGINAL,204A,MAGENTA",null,97.73,41,{"$f":"VLOOKUP(M21987,DFL!A:H,8,0)","v":0.37},{"$f":"P21987-(P21987/1.0025)","v":0.1535411471321666},61.57]
[{"$error":"#N/A"},null,null,null,null,566037,"BSD","BSD","PK","TONER,HP,DUAL PACK,BLACK"," ",209.65,41,{"$f":"VLOOKUP(M22001,DFL!A:E,5,0)","v":0.45},{"$f":"P22001-(P22001/1.0025)","v":0.28755610972568491},115.31]
[{"$error":"#N/A"},null,null,null,null,287865,"BSD","BSD","EA","TONER,HP LJ CC533A,MAGENTA"," ",229.66,41,{"$f":"VLOOKUP(M22004,DFL!A:E,5,0)","v":0.45},{"$f":"P22004-(P22004/1.0025)","v":0.31498753117206491},126.31]
[{"$error":"#N/A"},null,null,null,null,874366,null,"SPR","EA"," TONER MPS CC530AC HP BLK",null,232.94,41,{"$f":"VLOOKUP(M22023,DFL!A:H,8,0)","v":0.37},{"$f":"P22023-(P22023/1.0025)","v":0.36596009975062316},146.75]
[{"$error":"#N/A"},null,null,null,null,928912,"BSD","BSD","EA","INK,HP,64,BLACK,OG",null,28.98,41,{"$f":"VLOOKUP(M22038,DFL!A:E,5,0)","v":0.45},{"$f":"P22038-(P22038/1.0025)","v":3.9750623441396016E-2},15.94]
[{"$error":"#N/A"},null,null,null,null,3323347,"SPR","SPR","RL","FASTENER,INDUSTRIAL,25X2",null,91.11,7,{"$f":"VLOOKUP(M22053,DFL!A:H,8,0)","v":0.46},{"$f":"P22053-(P22053/1.0025)","v":0.12269326683291837},49.2]
[{"$error":"#N/A"},null,null,null,null,7742965,"BSD","BSD","EA","HP Neverstop 143A Black Toner Reload Kit (W1143A)",null,29.16,41,{"$f":"VLOOKUP(M22059,DFL!A:E,5,0)","v":0.45},{"$f":"P22059-(P22059/1.0025)","v":3.9999999999999147E-2},16.04]
[{"$error":"#N/A"},null,null,null,null,617720,"SPR","SPR","RL","TAPE,STICKY BACK,5FT,WHITE",null,13.72,39,{"$f":"VLOOKUP(M22074,DFL!A:H,8,0)","v":0.5},{"$f":"P22074-(P22074/1.0025)","v":1.7107231920198807E-2},6.86]
[{"$error":"#N/A"},null,null,null,null,4766511,"BSD","BSD","EA","TONER,BROTHER,TN227Y,YELLOW",null,124.99,43,{"$f":"VLOOKUP(M22093,DFL!A:E,5,0)","v":0.35},{"$f":"P22093-(P22093/1.0025)","v":0.20259351620947541},81.239999999999995]
[{"$error":"#N/A"},null,null,null,null,120737,"BSD","BSD","CA","WATER,VITAMIN,XXX,16.9OZ,24CA"," ",88.27,48,{"$f":"VLOOKUP(M22108,DFL!A:E,5,0)","v":0.42},{"$f":"P22108-(P22108/1.0025)","v":0.12768079800498811},{"$f":"ROUND(L22108*(1-N22108),2)","v":51.2}]
[{"$error":"#N/A"},null,null,null,null,512291,"BSD","BSD","BX","BAND-AIDS,PLASTIC,60/BOX"," ",4.7126484018264847,22,{"$f":"VLOOKUP(M22123,DFL!A:E,5,0)","v":0.52},{"$f":"P22123-(P22123/1.0025)","v":5.6359102244387671E-3},2.2599999999999998]
[{"$error":"#N/A"},null,null,null,null,9397940,"SPR","SPR","PK","HOLDER,SIGN,STAND,BTM,LTR,C",null,40,4,{"$f":"VLOOKUP(M22132,DFL!A:H,8,0)","v":0.39},{"$f":"P22132-(P22132/1.0025)","v":6.0847880299249368E-2},24.4]
[{"$error":"#N/A"},null,null,null,null,510203,"BSD","BSD","EA","TONER,TN221M,BROTHER,MAGENTA"," ",85.49,43,{"$f":"VLOOKUP(M22158,DFL!A:E,5,0)","v":0.35},{"$f":"P22158-(P22158/1.0025)","v":0.13857855361595739},55.57]
[{"$error":"#N/A"},null,null,null,null,8753286,null,"SPR","PK","WorkPro¬Æ Spectrum Series Stacking Guest Chair with Antimicrobial Protection, With Arms, White, Set Of 2 Chairs",null,599.99,48,{"$f":"VLOOKUP(M22163,DFL!A:H,8,0)","v":0.3},{"$f":"P22163-(P22163/1.0025)","v":1.0473566084787649},419.99]
[{"$error":"#N/A"},null,null,null,null,776897,"BSD","BSD","EA","CARTRIDGE,TPE,3/8\",BLK ON WHT"," ",20.99,26,{"$f":"VLOOKUP(M22178,DFL!A:E,5,0)","v":0.56000000000000005},{"$f":"P22178-(P22178/1.0025)","v":2.3042394014961332E-2},9.24]
[{"$error":"#N/A"},null,null,null,null,8030298,"BSD","BSD","EA","INK,BROTHER,LC3037M,MAGENTA",null,28.99,43,{"$f":"VLOOKUP(M22193,DFL!A:E,5,0)","v":0.35},{"$f":"P22193-(P22193/1.0025)","v":4.6982543640897489E-2},18.84]
[{"$error":"#N/A"},null,null,null,null,758023,"BSD","BSD","EA","CARTRIDGE,TPE,1\",BK ON YW"," ",29.49,26,{"$f":"VLOOKUP(M22205,DFL!A:E,5,0)","v":0.56000000000000005},{"$f":"P22205-(P22205/1.0025)","v":3.2369077306732663E-2},12.98]
[{"$error":"#N/A"},null,null,null,null,277952,null,"SPR","EA","CHAIR,TASK,MULTIFUNCTION,BLACK"," ",349.99,48,{"$f":"VLOOKUP(M22228,DFL!A:H,8,0)","v":0.3},{"$f":"P22228-(P22228/1.0025)","v":0.61094763092268067},244.99]
[{"$error":"#N/A"},null,null,null,null,6565705,"SPR","SPR","EA","SCREEN;DESKTOP",null,305,48,{"$f":"VLOOKUP(M22243,DFL!A:H,8,0)","v":0.3},{"$f":"P22243-(P22243/1.0025)","v":0.53241895261842842},213.5]
[{"$error":"#N/A"},null,null,null,null,132884,"SPR","SPR","EA","DUSTER;EASY;TRAP;8\"X6\";250",null,106.56,19,{"$f":"VLOOKUP(M22248,DFL!A:H,8,0)","v":0.45},{"$f":"P22248-(P22248/1.0025)","v":0.14615960099749969},58.61]
[{"$error":"#N/A"},null,null,null,null,454628,"BSD","BSD","PK","INKCART,HP711,29ML,3PK,MG"," ",105.58,42,{"$f":"VLOOKUP(M22263,DFL!A:E,5,0)","v":0.42},{"$f":"P22263-(P22263/1.0025)","v":0.15271820448877804},61.24]
[{"$error":"#N/A"},null,null,null,null,335105,"SPR","SPR","EA","CREDENZA,W/KNEESPACE,72X24,MAH","EPP (eVine),SCS",1674,48,{"$f":"VLOOKUP(M22278,DFL!A:H,8,0)","v":0.3},{"$f":"P22278-(P22278/1.0025)","v":2.9221945137155672},1171.8]
[{"$error":"#N/A"},null,null,null,null,272982,"SPR","SPR","BO","DETERGENT,DAWN,LEMON,38 OZ",null,14.96,19,{"$f":"VLOOKUP(M22298,DFL!A:H,8,0)","v":0.45},{"$f":"P22298-(P22298/1.0025)","v":2.052369077306615E-2},8.23]
[{"$error":"#N/A"},null,null,null,null,281896,"SPR","SPR","EA","BOOK;COMPOSITION;GRADE 1;GN",null,5.87,30,{"$f":"VLOOKUP(M22313,DFL!A:H,8,0)","v":0.57999999999999996},{"$f":"P22313-(P22313/1.0025)","v":6.1596009975062316E-3},2.4700000000000002]
[{"$error":"#N/A"},null,null,null,null,604539,"SPR","SPR","EA","BOOK;COMP;36SHT;WIDE;BK",null,3.28,30,{"$f":"VLOOKUP(M22318,DFL!A:H,8,0)","v":0.57999999999999996},{"$f":"P22318-(P22318/1.0025)","v":3.4413965087281007E-3},1.38]
[{"$error":"#N/A"},null,null,null,null,680156,"SPR","SPR","CT","CHAIR,STUDENT,12 INCH,BLUE",null,585,48,{"$f":"VLOOKUP(M22333,DFL!A:H,8,0)","v":0.3},{"$f":"P22333-(P22333/1.0025)","v":1.0211970074812484},409.5]
[{"$error":"#N/A"},null,null,null,null,456131,"SPR","SPR","CT","CHAIR,TASK,MOBILE,4-LEG,NY",null,577,48,{"$f":"VLOOKUP(M22350,DFL!A:H,8,0)","v":0.3},{"$f":"P22350-(P22350/1.0025)","v":1.0072319201995015},403.9]
[{"$error":"#N/A"},null,null,null,null,434207,"BSD","BSD","EA","INK,951CMY/950XL,COMBO,HP",null,183.2,41,{"$f":"VLOOKUP(M22368,DFL!A:E,5,0)","v":0.45},{"$f":"P22368-(P22368/1.0025)","v":0.25127182044887775},100.76]
[{"$error":"#N/A"},null,null,null,null,148771,"SPR","SPR","EA","FILE,LAT,3DWR,42\",PY","026/025,EPP (eVine),CPG,26% total recycled content, 25% post-consumer (steel),SCS",2280,38,{"$f":"VLOOKUP(M22383,DFL!A:H,8,0)","v":0.36},{"$f":"P22383-(P22383/1.0025)","v":3.6389027431421255},1459.2]
[{"$error":"#N/A"},null,null,null,null,769486,"SPR","SPR","EA","FILE,LAT,3DRW,42\",W/LOCK,BK","026/000,EPP (eVine),26% total recycled content",2021,38,{"$f":"VLOOKUP(M22388,DFL!A:H,8,0)","v":0.36},{"$f":"P22388-(P22388/1.0025)","v":3.2255361596010061},1293.44]
[{"$error":"#N/A"},null,null,null,null,642651,"SPR","SPR","EA","FILE,LAT,4DWR,42\",PY","026/025,EPP (eVine),CPG,26% total recycled content, 25% post-consumer (steel),SCS",2782,38,{"$f":"VLOOKUP(M22409,DFL!A:H,8,0)","v":0.36},{"$f":"P22409-(P22409/1.0025)","v":4.4400997506234035},1780.48]
[{"$error":"#N/A"},null,null,null,null,779457,"SPR","SPR","EA","DESK,SNGLPED,48X30,MY/CCL","032/032,EPP (eVine),32% post-consumer (steel)",1788,48,{"$f":"VLOOKUP(M22419,DFL!A:H,8,0)","v":0.3},{"$f":"P22419-(P22419/1.0025)","v":3.1211970074812143},1251.5999999999999]
[{"$error":"#N/A"},null,null,null,null,249573,"SPR","SPR","EA","FILE,LAT,5DRAWER,36\",W/LCK,PTY","026/000,EPP (eVine),26% total recycled content",2774,38,{"$f":"VLOOKUP(M22438,DFL!A:H,8,0)","v":0.36},{"$f":"P22438-(P22438/1.0025)","v":4.4273316708229231},1775.36]
[{"$error":"#N/A"},null,null,null,null,758586,"SPR","SPR","EA","DESK,SNGPED,66X30,LFMYCCL","032/032,EPP (eVine),32% post-consumer (steel)",2008,48,{"$f":"VLOOKUP(M22453,DFL!A:H,8,0)","v":0.3},{"$f":"P22453-(P22453/1.0025)","v":3.5052369077307048},1405.6]
[{"$error":"#N/A"},null,null,null,null,794216,"SPR","SPR","EA","BOARD,BASIC,COMBO,CORK,3X4",null,160.15,10,{"$f":"VLOOKUP(M22458,DFL!A:H,8,0)","v":0.36},{"$f":"P22458-(P22458/1.0025)","v":0.25561097256857579},102.5]
[{"$error":"#N/A"},null,null,null,null,989731,"SPR","SPR","EA","CABINET,42X36X18,BLACK","026/000,26% total recycled content",1344,38,{"$f":"VLOOKUP(M22482,DFL!A:H,8,0)","v":0.36},{"$f":"P22482-(P22482/1.0025)","v":2.1450374064837661},860.16]
[{"$error":"#N/A"},null,null,null,null,309540,"SPR","SPR","EA","BOOKCASE,6-SHELF,BLACK","026/000,EPP (eVine),26% total recycled content,SCS",1191,9,{"$f":"VLOOKUP(M22489,DFL!A:H,8,0)","v":0.37},{"$f":"P22489-(P22489/1.0025)","v":1.8711471321695399},750.33]
[{"$error":"#N/A"},null,null,null,null,268522,"SPR","SPR","EA","PANEL,60X24,GY, VERSE"," ",634,48,{"$f":"VLOOKUP(M22508,DFL!A:H,8,0)","v":0.3},{"$f":"P22508-(P22508/1.0025)","v":1.1067331670822682},443.8]
[{"$error":"#N/A"},null,null,null,null,5725573,"SPR","SPR","EA","SPRAY,DISINF,19OZ,SPRNG WTR",null,17.420000000000002,19,{"$f":"VLOOKUP(M22523,DFL!A:H,8,0)","v":0.45},{"$f":"P22523-(P22523/1.0025)","v":2.3890274314213755E-2},9.58]
[{"$error":"#N/A"},null,null,null,null,7525180,"SPR","SPR","EA","SANITIZER,HAND,GEL,500ML",null,8.8699999999999992,19,{"$f":"VLOOKUP(M22538,DFL!A:H,8,0)","v":0.45},{"$f":"P22538-(P22538/1.0025)","v":1.2169576059849696E-2},4.88]
[{"$error":"#N/A"},null,null,null,null,8249460,"BSD","BSD","PK","STICKYNTE,OD,1.5X2,12PK,VIVID",null,14.64,30,{"$f":"VLOOKUP(M22555,DFL!A:E,5,0)","v":0.73},{"$f":"P22555-(P22555/1.0025)","v":9.8503740648379079E-3},3.95]
[{"$error":"#N/A"},null,null,null,null,363891,null,"SPR","EA","CHAIR,PATRIOT,PEWTER"," ",389.99,48,{"$f":"VLOOKUP(M22559,DFL!A:H,8,0)","v":0.3},{"$f":"P22559-(P22559/1.0025)","v":0.68077306733164278},272.99]
[{"$error":"#N/A"},null,null,null,null,762647,null,"SPR","EA","TONER,HIGH CAPACITY,XEROX",null,419,43,{"$f":"VLOOKUP(M22578,DFL!A:H,8,0)","v":0.3},{"$f":"P22578-(P22578/1.0025)","v":0.73142144638404716},293.3]
[{"$error":"#N/A"},null,null,null,null,5636135,"SPR","SPR","CT","FRAME;MOP;DUST;24\"",null,109.56,19,{"$f":"VLOOKUP(M22593,DFL!A:H,8,0)","v":0.45},{"$f":"P22593-(P22593/1.0025)","v":0.1502743142144638},60.26]
[{"$error":"#N/A"},null,null,null,null,256633,"SPR","SPR","EA","CHAIR,TASK,VOLT,BLACK LEATHER"," ",498,48,{"$f":"VLOOKUP(M22608,DFL!A:H,8,0)","v":0.3},{"$f":"P22608-(P22608/1.0025)","v":0.86932668329177432},348.6]
[{"$error":"#N/A"},null,null,null,null,216575,"SPR","SPR","EA","TONER,XEROX,XT,HIGH CAP,BLACK",null,309.99,43,{"$f":"VLOOKUP(M22613,DFL!A:H,8,0)","v":0.3},{"$f":"P22613-(P22613/1.0025)","v":0.54112219451369015},216.99]
[{"$error":"#N/A"},null,null,null,null,8963962,"SPR","SPR","EA","CHAIR, MID BACK,TASK,BK",null,924,48,{"$f":"VLOOKUP(M22629,DFL!A:H,8,0)","v":0.3},{"$f":"P22629-(P22629/1.0025)","v":1.6129675810473145},646.79999999999995]
[{"$error":"#N/A"},null,null,null,null,9064131,"SPR","SPR","EA","REMOVER,CLOG,32OZ",null,14.21,19,{"$f":"VLOOKUP(M22644,DFL!A:H,8,0)","v":0.45},{"$f":"P22644-(P22644/1.0025)","v":1.9501246882792422E-2},7.82]
[{"$error":"#N/A"},null,null,null,null,7247418,"SPR","SPR","EA","TONER,VSALINK C605,BK,16.9K",null,319.99,43,{"$f":"VLOOKUP(M22663,DFL!A:H,8,0)","v":0.3},{"$f":"P22663-(P22663/1.0025)","v":0.55857855361594488},223.99]
[{"$error":"#N/A"},null,null,null,null,803839,"BSD","BSD","EA","INK,PG240XL/CL241XL/PP201 PK"," ",77.989999999999995,43,{"$f":"VLOOKUP(M22678,DFL!A:E,5,0)","v":0.35},{"$f":"P22678-(P22678/1.0025)","v":0.12640897755611036},50.69]
[{"$error":"#N/A"},null,null,null,null,668139,"BSD","BSD","EA","INK,HP,62XL,TRI-COLOR"," ",75.040000000000006,42,{"$f":"VLOOKUP(M22686,DFL!A:E,5,0)","v":0.42},{"$f":"P22686-(P22686/1.0025)","v":0.10852867830423918},43.52]
[{"$error":"#N/A"},null,null,null,null,355377,"SPR","SPR","PK","ERASER; MULTI-PURPOSE 2\"X2\"",null,22.21,20,{"$f":"VLOOKUP(M22699,DFL!A:H,8,0)","v":0.47},{"$f":"P22699-(P22699/1.0025)","v":2.9351620947629442E-2},11.77]
[{"$error":"#N/A"},null,null,null,null,8390127,"SPR","SPR","PK","NOTES,ADHSV,4X6,12PK,LINED",null,56.65,30,{"$f":"VLOOKUP(M22714,DFL!A:H,8,0)","v":0.57999999999999996},{"$f":"P22714-(P22714/1.0025)","v":5.9326683291768489E-2},23.79]
[{"$error":"#N/A"},null,null,null,null,5471410,null,"SPR","EA","CHAIR,12K,ERGO,MESH,FAB,OLIVE",null,999.99,48,{"$f":"VLOOKUP(M22733,DFL!A:H,8,0)","v":0.3},{"$f":"P22733-(P22733/1.0025)","v":1.7456109725685565},699.99]
[{"$error":"#N/A"},null,null,null,null,244559,"BSD","BSD","EA","INK,CANON PG245,XL,BLACK"," ",32.99,43,{"$f":"VLOOKUP(M22748,DFL!A:E,5,0)","v":0.35},{"$f":"P22748-(P22748/1.0025)","v":5.3466334164586016E-2},{"$f":"ROUND(L22748*(1-N22748),2)","v":21.44}]
[{"$error":"#N/A"},null,null,null,null,781692,"SPR","SPR","EA","INK,HP,950,XL,BLACK"," ",83.55,42,{"$f":"VLOOKUP(M22759,DFL!A:H,8,0)","v":0.31},{"$f":"P22759-(P22759/1.0025)","v":0.14376558603490963},57.65]
[{"$error":"#N/A"},null,null,null,null,525782,"SPR","SPR","EA","EASEL,MOBILE,MELAMINE",null,636.5,10,{"$f":"VLOOKUP(M22783,DFL!A:H,8,0)","v":0.36},{"$f":"P22783-(P22783/1.0025)","v":1.0158603491271379},407.36]
[{"$error":"#N/A"},null,null,null,null,803678,"BSD","BSD","EA","INK,HP65XL,HIGHYIELD,BLK",null,53.8,42,{"$f":"VLOOKUP(M22784,DFL!A:E,5,0)","v":0.42},{"$f":"P22784-(P22784/1.0025)","v":7.7805486284287184E-2},31.2]
[{"$error":"#N/A"},null,null,null,null,4769448,"SPR","SPR","CT","DISINFECTANT,SPRY,LVNDR",null,127.37,19,{"$f":"VLOOKUP(M22803,DFL!A:H,8,0)","v":0.45},{"$f":"P22803-(P22803/1.0025)","v":0.17468827930174768},70.05]
[63.24,null,null,null,null,1258660,"SPR","SPR","CT","CLEANER;ALLPRP;W/BLCH;LYSOL",null,118.8,19,{"$f":"VLOOKUP(M22818,DFL!A:H,8,0)","v":0.45},{"$f":"P22818-(P22818/1.0025)","v":0.16294264339151709},65.34]
[{"$error":"#N/A"},null,null,null,null,2265587,"SPR","SPR","EA","TONER,VSALINK C605,YW,16.8K",null,419.99,43,{"$f":"VLOOKUP(M22831,DFL!A:H,8,0)","v":0.3},{"$f":"P22831-(P22831/1.0025)","v":0.73314214463840699},293.99]
[{"$error":"#N/A"},null,null,null,null,8421559,null,"SPR","EA","WORKPRO 9500XL MSH BCK CHR BRD",null,979.99,48,{"$f":"VLOOKUP(M22853,DFL!A:H,8,0)","v":0.3},{"$f":"P22853-(P22853/1.0025)","v":1.710698254364047},685.99]
[{"$error":"#N/A"},null,null,null,null,8785200,null,"SPR","EA","Shaquille O'Neal‚Ñ¢ Zephyrus Ergonomic Bonded Leather High-Back Executive Chair, Navy/Silver",null,799.99,48,{"$f":"VLOOKUP(M22868,DFL!A:H,8,0)","v":0.3},{"$f":"P22868-(P22868/1.0025)","v":1.3964837905236891},559.99]
[{"$error":"#N/A"},null,null,null,null,804397,"BSD","BSD","EA","INK,CL-241XL,COLOR,CANON"," ",45.99,43,{"$f":"VLOOKUP(M22873,DFL!A:E,5,0)","v":0.35},{"$f":"P22873-(P22873/1.0025)","v":7.4538653366580832E-2},29.89]
[{"$error":"#N/A"},null,null,null,null,922358,"BSD","BSD","EA"," StarTech.com HDMI to VGA Adapt",null,38.99,48,{"$f":"VLOOKUP(M22890,DFL!A:E,5,0)","v":0.42},{"$f":"P22890-(P22890/1.0025)","v":5.6384039900247984E-2},22.61]
[{"$error":"#N/A"},null,null,null,null,8217170,"SPR","SPR","EA","TOP,CONFERENCE,TABLE,REC,TEAK",null,414,48,{"$f":"VLOOKUP(M22904,DFL!A:H,8,0)","v":0.3},{"$f":"P22904-(P22904/1.0025)","v":0.72269326683289137},289.8]
[{"$error":"#N/A"},null,null,null,null,9671017,"SPR","SPR","EA","CREDENZA,SHELL,60",null,374,48,{"$f":"VLOOKUP(M22923,DFL!A:H,8,0)","v":0.3},{"$f":"P22923-(P22923/1.0025)","v":0.65286783042392926},261.8]
[{"$error":"#N/A"},null,null,null,null,9483828,"SPR","SPR","EA","DESK,SHELL,RECTANGLE,48W,MHG",null,381,48,{"$f":"VLOOKUP(M22938,DFL!A:H,8,0)","v":0.3},{"$f":"P22938-(P22938/1.0025)","v":0.66508728179547916},{"$f":"ROUND(L22938*(1-N22938),2)","v":266.7}]
[{"$error":"#N/A"},null,null,null,null,8476150,"SPR","SPR","EA","WORKSURFACE,RECTANGLE,66,TEAK",null,230,48,{"$f":"VLOOKUP(M22943,DFL!A:H,8,0)","v":0.3},{"$f":"P22943-(P22943/1.0025)","v":0.40149625935160316},161]
[{"$error":"#N/A"},null,null,null,null,9474550,"SPR","SPR","CT","CLEANER,DESK&OFFICE,15OZ",null,151.32,19,{"$f":"VLOOKUP(M22963,DFL!A:H,8,0)","v":0.45},{"$f":"P22963-(P22963/1.0025)","v":0.20755610972568661},83.23]
[{"$error":"#N/A"},null,null,null,null,9414041,"SPR","SPR","EA","HUTCH,DESK,NODOORS,60W,MHG",null,474,48,{"$f":"VLOOKUP(M22974,DFL!A:H,8,0)","v":0.3},{"$f":"P22974-(P22974/1.0025)","v":0.82743142144636295},331.8]
[{"$error":"#N/A"},null,null,null,null,8801192,"SPR","SPR","EA","LEG,ANGLED,24W,BLACK",null,221,48,{"$f":"VLOOKUP(M22993,DFL!A:H,8,0)","v":0.3},{"$f":"P22993-(P22993/1.0025)","v":0.38578553615960232},154.69999999999999]
[{"$error":"#N/A"},null,null,null,null,4185768,"SPR","SPR","EA","BASE,X,CONFERENCE,TOP,48,MHG",null,134,48,{"$f":"VLOOKUP(M23008,DFL!A:H,8,0)","v":0.3},{"$f":"P23008-(P23008/1.0025)","v":0.23391521197007137},93.8]
[{"$error":"#N/A"},null,null,null,null,257930,null,"SPR","EA","WORKPRO 4000 MESH BACK CHAIR",null,679.99,48,{"$f":"VLOOKUP(M23023,DFL!A:H,8,0)","v":0.3},{"$f":"P23023-(P23023/1.0025)","v":1.1870074812967459},475.99]
[{"$error":"#N/A"},null,null,null,null,3360239,"SPR","SPR","ST","DOORS,SETOF2,60W,WHT",null,59,48,{"$f":"VLOOKUP(M23036,DFL!A:H,8,0)","v":0.3},{"$f":"P23036-(P23036/1.0025)","v":0.102992518703239},41.3]
[{"$error":"#N/A"},null,null,null,null,9398190,"SPR","SPR","ST","DOORS,SETOF2,72W,WHT",null,59,48,{"$f":"VLOOKUP(M23044,DFL!A:H,8,0)","v":0.3},{"$f":"P23044-(P23044/1.0025)","v":0.102992518703239},41.3]
[{"$error":"#N/A"},null,null,null,null,390281,"SPR","SPR","BX","PAPER,PLAT,100%,32#,250,IVORY"," ",85.72,30,{"$f":"VLOOKUP(M23063,DFL!A:H,8,0)","v":0.57999999999999996},{"$f":"P23063-(P23063/1.0025)","v":8.9775561097255263E-2},36]
[{"$error":"#N/A"},null,null,null,null,371559,"SPR","SPR","PK","ERASER;DRY;MAGN;STUDENT;12",null,15.65,20,{"$f":"VLOOKUP(M23078,DFL!A:H,8,0)","v":0.47},{"$f":"P23078-(P23078/1.0025)","v":2.0673316708229805E-2},8.2899999999999991]
[{"$error":"#N/A"},null,null,null,null,2783231,null,"SPR","EA","WorkPro¬Æ 6000 Series Multifunction Ergonomic Mesh/Fabric High-Back Executive Chair, White Frame/Orange Seat",null,729.99,48,{"$f":"VLOOKUP(M23093,DFL!A:H,8,0)","v":0.3},{"$f":"P23093-(P23093/1.0025)","v":1.2742892768079628},510.99]
[{"$error":"#N/A"},null,null,null,null,883414,"SPR","SPR","EA","25\" VERT LTR 4DR GY","026/000,EPP (eVine),CPG,26% total recycled content,SCS",990,38,{"$f":"VLOOKUP(M23109,DFL!A:H,8,0)","v":0.36},{"$f":"P23109-(P23109/1.0025)","v":1.5800498753117154},633.6]
[{"$error":"#N/A"},null,null,null,null,989442,"SPR","SPR","EA","FILE,4 DWR,LTR,52X15,LT GRAY","026/000,EPP (eVine),CPG,26% total recycled content,SCS",1139,38,{"$f":"VLOOKUP(M23114,DFL!A:H,8,0)","v":0.36},{"$f":"P23114-(P23114/1.0025)","v":1.8178553615960027},728.96]
[{"$error":"#N/A"},null,null,null,null,9642998,null,"SPR","ST","SET;BLLTN;BRD;PETE-THE-CAT",null,47.49,48,{"$f":"VLOOKUP(M23129,DFL!A:H,8,0)","v":0.3},{"$f":"P23129-(P23129/1.0025)","v":8.2892768079801726E-2},33.24]
[{"$error":"#N/A"},null,null,null,null,5573318,null,"SPR","EA","PAPER;GLOSS;PHOTO;1.3\";20CT",null,59.99,32,{"$f":"VLOOKUP(M23148,DFL!A:H,8,0)","v":0.65},{"$f":"P23148-(P23148/1.0025)","v":5.2369077306732237E-2},21]
[{"$error":"#N/A"},null,null,null,null,8951258,"BSD","BSD","EA","Jabra Evolve2 65 Headset - Stereo - USB Type A - Wireless - Bluetooth - Over-the-head - Binaural - Supra-aural - Black",null,471,23,{"$f":"VLOOKUP(M23163,DFL!A:E,5,0)","v":0.37},{"$f":"P23163-(P23163/1.0025)","v":0.73997506234411503},296.73]
[{"$error":"#N/A"},null,null,null,null,7123764,null,"SPR","EA","SOAP,LIQ HAND,12OZ,SEA MINE",null,10.69,19,{"$f":"VLOOKUP(M23167,DFL!A:H,8,0)","v":0.45},{"$f":"P23167-(P23167/1.0025)","v":1.4663341645884564E-2},5.88]
[{"$error":"#N/A"},null,null,null,null,240209,"BSD","BSD","EA","SHREDDER,30SHT,SCUT,WHT,21G",null,2037.18,21,{"$f":"VLOOKUP(M23184,DFL!A:E,5,0)","v":0.42},{"$f":"P23184-(P23184/1.0025)","v":2.9465336658354317},1181.56]
[{"$error":"#N/A"},null,null,null,null,9025364,"SPR","SPR","CT","CLEANER,OVEN,64OZ",null,128.28,19,{"$f":"VLOOKUP(M23199,DFL!A:H,8,0)","v":0.45},{"$f":"P23199-(P23199/1.0025)","v":0.17593516209475979},70.55]
[{"$error":"#N/A"},null,null,null,null,911354,"SPR","SPR","EA","STAMP,INKED,\"COPY\",RED"," ",15.64,24,{"$f":"VLOOKUP(M23218,DFL!A:H,8,0)","v":0.55000000000000004},{"$f":"P23218-(P23218/1.0025)","v":1.7556109725685332E-2},7.04]
[{"$error":"#N/A"},null,null,null,null,911131,"BSD","BSD","EA","STAMP,INKED,RND,\"ENTERED\",RED"," ",12.608459869848158,24,{"$f":"VLOOKUP(M23233,DFL!A:E,5,0)","v":0.63},{"$f":"P23233-(P23233/1.0025)","v":1.164588528678312E-2},4.67]
[{"$error":"#N/A"},null,null,null,null,119448,"SPR","SPR","EA","INK,REFILL,2OZ.,F/STAMPS"," ",7.29,24,{"$f":"VLOOKUP(M23240,DFL!A:H,8,0)","v":0.55000000000000004},{"$f":"P23240-(P23240/1.0025)","v":8.1795511221942618E-3},3.28]
[{"$error":"#N/A"},null,null,null,null,7319626,"SPR","SPR","EA","ROUTER,VELOP, AX4200",null,399.99,48,{"$f":"VLOOKUP(M23254,DFL!A:H,8,0)","v":0.3},{"$f":"P23254-(P23254/1.0025)","v":0.69822942643389752},279.99]
[{"$error":"#N/A"},null,null,null,null,267031,"SPR","SPR","EA","SUPPORT,BACK,HIGH PERFORMNC"," ",66.94,48,{"$f":"VLOOKUP(M23269,DFL!A:H,8,0)","v":0.3},{"$f":"P23269-(P23269/1.0025)","v":0.11685785536159443},46.86]
[{"$error":"#N/A"},null,null,null,null,918140,"SPR","SPR","EA","T-SHIRT,CLASS-2,M,ORNG",null,23.22,22,{"$f":"VLOOKUP(M23288,DFL!A:H,8,0)","v":0.41},{"$f":"P23288-(P23288/1.0025)","v":3.4164588528676987E-2},13.7]
[{"$error":"#N/A"},null,null,null,null,916768,"SPR","SPR","EA","NONCERTIFIED TSH XL ORNG",null,19.22,22,{"$f":"VLOOKUP(M23298,DFL!A:H,8,0)","v":0.41},{"$f":"P23298-(P23298/1.0025)","v":2.8279301745635976E-2},11.34]
[{"$error":"#N/A"},null,null,null,null,9200462,null,"SPR","EA","SLIPCOVER,CHAIRS,19.7IN,GRN",null,29,48,{"$f":"VLOOKUP(M23319,DFL!A:H,8,0)","v":0.3},{"$f":"P23319-(P23319/1.0025)","v":5.0623441396506763E-2},20.3]
[{"$error":"#N/A"},null,null,null,null,661054,null,"SPR","EA","DRIVE;STORENSAV;USB3;2TB",null,196.35,46,{"$f":"VLOOKUP(M23324,DFL!A:H,8,0)","v":0.18},{"$f":"P23324-(P23324/1.0025)","v":0.4015211970074688},161.01]
[{"$error":"#N/A"},null,null,null,null,8181254,"SPR","SPR","EA","BREWER,WAVE 15S-APS",null,1355.26,48,{"$f":"VLOOKUP(M23339,DFL!A:H,8,0)","v":0.3},{"$f":"P23339-(P23339/1.0025)","v":2.3657855361595921},948.68]
[{"$error":"#N/A"},null,null,null,null,2735259,null,"SPR","EA"," 4X4 CHAIR HEALTHCARE GREY",null,699.99,48,{"$f":"VLOOKUP(M23358,DFL!A:H,8,0)","v":0.3},{"$f":"P23358-(P23358/1.0025)","v":1.2219201995011986},489.99]
[{"$error":"#N/A"},null,null,null,null,6677078,null,"SPR","PK","BIC¬Æ Prevaguard Round Stic Pens With Antimicrobial Additive, Medium Point, 1.0 mm, Black Barrel, Black Ink, Pack Of 60 Pens",null,19.989999999999998,33,{"$f":"VLOOKUP(M23371,DFL!A:H,8,0)","v":0.55000000000000004},{"$f":"P23371-(P23371/1.0025)","v":2.2443890274313816E-2},9]
[{"$error":"#N/A"},null,null,null,null,453957,"SPR","SPR","EA","DRUM,IMAGE,B411/B431,BK"," ",349.99,43,{"$f":"VLOOKUP(M23389,DFL!A:H,8,0)","v":0.3},{"$f":"P23389-(P23389/1.0025)","v":0.61094763092268067},244.99]
[{"$error":"#N/A"},null,null,null,null,754064,"SPR","SPR","EA","CRTDG,INK,450,IP1600,TRICLR",null,59.44,43,{"$f":"VLOOKUP(M23408,DFL!A:H,8,0)","v":0.3},{"$f":"P23408-(P23408/1.0025)","v":0.10376558603491048},41.61]
[{"$error":"#N/A"},null,null,null,null,8464478,"SPR","SPR","PK","BIC¬Æ Prevaguard Mechanical Pencil with antimicrobial additive, 0.7 mm, #2, Black Barrel, Pack Of 12 Pencils",null,22.93,33,{"$f":"VLOOKUP(M23409,DFL!A:H,8,0)","v":0.55000000000000004},{"$f":"P23409-(P23409/1.0025)","v":2.5735660847880482E-2},10.32]
[{"$error":"#N/A"},null,null,null,null,900639,"SPR","SPR","EA","RIBBON,PRINTER,ML590/591,BLACK"," ",44.99,14,{"$f":"VLOOKUP(M23428,DFL!A:H,8,0)","v":0.31},{"$f":"P23428-(P23428/1.0025)","v":7.7406483790522174E-2},31.04]
[{"$error":"#N/A"},null,null,null,null,5773315,null,"SPR","EA","SIGN,WASH HANDS,8X6,BL",null,18,36,{"$f":"VLOOKUP(M23444,DFL!A:H,8,0)","v":0.36},{"$f":"P23444-(P23444/1.0025)","v":2.8728179551121613E-2},11.52]
[{"$error":"#N/A"},null,null,null,null,933366,null,"SPR","ST","DIVIDER,PREM,CPPR,REINF,5CLEAR",null,2.36,35,{"$f":"VLOOKUP(M23459,DFL!A:H,8,0)","v":0.6},{"$f":"P23459-(P23459/1.0025)","v":2.3441396508727674E-3},0.94]
[{"$error":"#N/A"},null,null,null,null,723138,"BSD","BSD","EA","HIGHMARK MOIST AB LHS 7.5oz,EA",null,3.18,19,{"$f":"VLOOKUP(M23478,DFL!A:E,5,0)","v":0.5},{"$f":"P23478-(P23478/1.0025)","v":3.9650872817953431E-3},1.59]
[{"$error":"#N/A"},null,null,null,null,627517,null,"SPR","EA","CLEANER,COFFEE,LIQ,14OZ",null,3.99,19,{"$f":"VLOOKUP(M23493,DFL!A:H,8,0)","v":0.45},{"$f":"P23493-(P23493/1.0025)","v":5.4613466334161309E-3},2.19]
[{"$error":"#N/A"},null,null,null,null,4964701,"SPR","SPR","PR","GLOVES,HANDSAVER,SM",null,4.1900000000000004,22,{"$f":"VLOOKUP(M23494,DFL!A:H,8,0)","v":0.41},{"$f":"P23494-(P23494/1.0025)","v":6.1596009975062316E-3},2.4700000000000002]
[{"$error":"#N/A"},null,null,null,null,5465571,"SPR","SPR","EA","FLASHLIGHT,LED,2D,BK",null,4.4400000000000004,16,{"$f":"VLOOKUP(M23517,DFL!A:H,8,0)","v":0.36},{"$f":"P23517-(P23517/1.0025)","v":7.0822942643391507E-3},2.84]
[{"$error":"#N/A"},null,null,null,null,921171,null,"SPR","PK","INDEX,LTR,BOTTAB,EXHIB C,",null,7.4,35,{"$f":"VLOOKUP(M23529,DFL!A:H,8,0)","v":0.6},{"$f":"P23529-(P23529/1.0025)","v":7.3815461346633526E-3},2.96]
[{"$error":"#N/A"},null,null,null,null,196063,null,"SPR","EA","PEN,BALLPOINT,STAY-PUT,BLACK",null,8.0500000000000007,33,{"$f":"VLOOKUP(M23548,DFL!A:H,8,0)","v":0.55000000000000004},{"$f":"P23548-(P23548/1.0025)","v":9.0274314214462414E-3},3.62]
[{"$error":"#N/A"},null,null,null,null,446460,null,"SPR","EA","SCISSOR,POINT,MICROBAN,5\"",null,6.94,7,{"$f":"VLOOKUP(M23563,DFL!A:H,8,0)","v":0.46},{"$f":"P23563-(P23563/1.0025)","v":9.3516209476307566E-3},3.75]
[{"$error":"#N/A"},null,null,null,null,1696744,null,"SPR","EA","Bowl Brush & Caddy/White",null,8.84,19,{"$f":"VLOOKUP(M23578,DFL!A:H,8,0)","v":0.45},{"$f":"P23578-(P23578/1.0025)","v":1.211970074812907E-2},4.8600000000000003]
[{"$error":"#N/A"},null,null,null,null,5312175,null,"SPR","EA","DESKPAD,M,22X17,1C,OD,RY25",null,6.99,11,{"$f":"VLOOKUP(M23590,DFL!A:H,8,0)","v":0.46},{"$f":"P23590-(P23590/1.0025)","v":9.4014962593513829E-3},3.77]
[{"$error":"#N/A"},null,null,null,null,723165,"SPR","SPR","EA","POCKET,BINDER, MESHZIP AST",null,7.92,47,{"$f":"VLOOKUP(M23599,DFL!A:H,8,0)","v":0.5},{"$f":"P23599-(P23599/1.0025)","v":9.8753117206982211E-3},3.96]
[{"$error":"#N/A"},null,null,null,null,922253,null,"SPR","DZ","PENCIL,CARPENTER,RED,DZ",null,9.61,33,{"$f":"VLOOKUP(M23614,DFL!A:H,8,0)","v":0.55000000000000004},{"$f":"P23614-(P23614/1.0025)","v":1.0773067331670383E-2},4.32]
[{"$error":"#N/A"},null,null,null,null,6201782,"SPR","SPR","EA","KIT, CONVERSION, ANSI 21 A",null,8.3000000000000007,22,{"$f":"VLOOKUP(M23633,DFL!A:H,8,0)","v":0.41},{"$f":"P23633-(P23633/1.0025)","v":1.2219451371571211E-2},4.9000000000000004]
[{"$error":"#N/A"},null,null,null,null,6535579,null,"SPR","EA","COTS,FINGER,NIT,50/BX",null,7.76,22,{"$f":"VLOOKUP(M23648,DFL!A:H,8,0)","v":0.41},{"$f":"P23648-(P23648/1.0025)","v":1.1421446384039413E-2},4.58]
[{"$error":"#N/A"},null,null,null,null,208225,"BSD","BSD","EA","OD DUR VW 0.5\" BINDER BLACK",null,15.02,8,{"$f":"VLOOKUP(M23663,DFL!A:E,5,0)","v":0.65},{"$f":"P23663-(P23663/1.0025)","v":1.3117206982543372E-2},5.26]
[{"$error":"#N/A"},null,null,null,null,3773730,null,"SPR","EA","GOGGLES,3M,CHEMICAL SPLASH",null,9.18,22,{"$f":"VLOOKUP(M23669,DFL!A:H,8,0)","v":0.41},{"$f":"P23669-(P23669/1.0025)","v":1.3516209476309271E-2},5.42]
[{"$error":"#N/A"},null,null,null,null,396221,null,"SPR","EA","BINDER,OD,VIEW,RR,3\",BLACK",null,12.25,8,{"$f":"VLOOKUP(M23684,DFL!A:H,8,0)","v":0.55000000000000004},{"$f":"P23684-(P23684/1.0025)","v":1.3740648379052089E-2},5.51]
[{"$error":"#N/A"},null,null,null,null,268551,null,"SPR","PK","MARKER,EXPO 2,CHISEL,4PK,BLACK",null,10.32,28,{"$f":"VLOOKUP(M23703,DFL!A:H,8,0)","v":0.48},{"$f":"P23703-(P23703/1.0025)","v":1.3391521197006817E-2},5.37]
[{"$error":"#N/A"},null,null,null,null,185904,null,"SPR","DZ","PEN,RETRACTABLE,BALLPOINT,RED",null,12.303925233644861,33,{"$f":"VLOOKUP(M23718,DFL!A:H,8,0)","v":0.55000000000000004},{"$f":"P23718-(P23718/1.0025)","v":1.3815461346633029E-2},5.54]
[{"$error":"#N/A"},null,null,null,null,760537,null,"SPR","PK","PEN,BPNT,ROUND STIC,36PK,BLK",null,12.25,33,{"$f":"VLOOKUP(M23721,DFL!A:H,8,0)","v":0.55000000000000004},{"$f":"P23721-(P23721/1.0025)","v":1.3740648379052089E-2},5.51]
[{"$error":"#N/A"},null,null,null,null,333164,null,"SPR","EA","NOTEBOOK,LRG,PLY+PLY,OD,80SHT",null,13.98,30,{"$f":"VLOOKUP(M23739,DFL!A:H,8,0)","v":0.57999999999999996},{"$f":"P23739-(P23739/1.0025)","v":1.4638403990024251E-2},5.87]
[{"$error":"#N/A"},null,null,null,null,523622,null,"SPR","BX","STAPLESFORPHD-60",null,11.9,37,{"$f":"VLOOKUP(M23754,DFL!A:H,8,0)","v":0.5},{"$f":"P23754-(P23754/1.0025)","v":1.4837905236907645E-2},5.95]
[{"$error":"#N/A"},null,null,null,null,720628,null,"SPR","EA","ADAPTER,CABLE,HDMI,HDM,BK",null,9.99,48,{"$f":"VLOOKUP(M23773,DFL!A:H,8,0)","v":0.3},{"$f":"P23773-(P23773/1.0025)","v":1.7431421446383766E-2},6.99]
[{"$error":"#N/A"},null,null,null,null,4869918,null,"SPR","EA","PLANNR,WM,6X8,STELLAR,BLK,AY24",null,11.99,11,{"$f":"VLOOKUP(M23779,DFL!A:H,8,0)","v":0.46},{"$f":"P23779-(P23779/1.0025)","v":1.6134663341645705E-2},6.47]
[{"$error":"#N/A"},null,null,null,null,6007764,null,"SPR","EA","WIPES,DISINF,CRISP,LMN,75CT,EA",null,12.07,19,{"$f":"VLOOKUP(M23804,DFL!A:H,8,0)","v":0.45},{"$f":"P23804-(P23804/1.0025)","v":1.6558603491271029E-2},6.64]
[{"$error":"#N/A"},null,null,null,null,7182292,null,"SPR","EA","CLEANER,TOILET,PRO,32 OZ",null,12.18,19,{"$f":"VLOOKUP(M23809,DFL!A:H,8,0)","v":0.45},{"$f":"P23809-(P23809/1.0025)","v":1.6708229426433796E-2},6.7]
[{"$error":"#N/A"},null,null,null,null,123008,null,"SPR","EA","MOUSEPAD,MICROBAN,BLACK",null,9.99,29,{"$f":"VLOOKUP(M23824,DFL!A:H,8,0)","v":0.3},{"$f":"P23824-(P23824/1.0025)","v":1.7431421446383766E-2},6.99]
[{"$error":"#N/A"},null,null,null,null,760227,null,"SPR","EA","LABEL,DOT,REMOVABLE,3/4\",ASTD",null,12.86,26,{"$f":"VLOOKUP(M23843,DFL!A:H,8,0)","v":0.44},{"$f":"P23843-(P23843/1.0025)","v":1.795511221945123E-2},7.2]
[{"$error":"#N/A"},null,null,null,null,2990788,"BSD","BSD","EA","COMMAND,PICTURE HANGING ,XLG",null,14.65,16,{"$f":"VLOOKUP(M23852,DFL!A:E,5,0)","v":0.5},{"$f":"P23852-(P23852/1.0025)","v":1.8279301745635301E-2},7.33]
[{"$error":"#N/A"},null,null,null,null,6968172,"SPR","SPR","EA","REFILL,MOP,SPRAY,MICROFIBER",null,14.49,19,{"$f":"VLOOKUP(M23874,DFL!A:H,8,0)","v":0.45},{"$f":"P23874-(P23874/1.0025)","v":1.9875311720698008E-2},7.97]
[{"$error":"#N/A"},null,null,null,null,8309879,"BSD","BSD","PK","TAPE,MASKING,SCOTCH,9 PACK",null,18.989999999999998,39,{"$f":"VLOOKUP(M23879,DFL!A:E,5,0)","v":0.6},{"$f":"P23879-(P23879/1.0025)","v":1.8952618453864645E-2},7.6]
[{"$error":"#N/A"},null,null,null,null,497337,null,"SPR","EA","NoteBk,2days/pg,6x9,UN",null,18.86,30,{"$f":"VLOOKUP(M23894,DFL!A:H,8,0)","v":0.57999999999999996},{"$f":"P23894-(P23894/1.0025)","v":1.9750623441396442E-2},7.92]
[{"$error":"#N/A"},null,null,null,null,5166278,null,"SPR","EA","WallCal,11x8,Baccara,RY25,M",null,14.99,11,{"$f":"VLOOKUP(M23909,DFL!A:H,8,0)","v":0.46},{"$f":"P23909-(P23909/1.0025)","v":2.0174563591021766E-2},8.09]
[{"$error":"#N/A"},null,null,null,null,7971157,null,"SPR","EA","WalCal,11x8,SplatterDot,AY25,M",null,14.99,11,{"$f":"VLOOKUP(M23925,DFL!A:H,8,0)","v":0.46},{"$f":"P23925-(P23925/1.0025)","v":2.0174563591021766E-2},8.09]
[{"$error":"#N/A"},null,null,null,null,6506606,"SPR","SPR","EA","DISPENSER,CRTG,VRS,15Z,LGY,6",null,11.97,48,{"$f":"VLOOKUP(M23944,DFL!A:H,8,0)","v":0.3},{"$f":"P23944-(P23944/1.0025)","v":2.0897755610972624E-2},8.3800000000000008]
[{"$error":"#N/A"},null,null,null,null,4156911,"BSD","BSD","PK","SWIFFER PMOP Pad 8ct",null,14.99,19,{"$f":"VLOOKUP(M23949,DFL!A:E,5,0)","v":0.5},{"$f":"P23949-(P23949/1.0025)","v":1.8703241895261513E-2},7.5]
[{"$error":"#N/A"},null,null,null,null,5951500,null,"SPR","PK","DURACELL,LITHIUM,CR2-2pk",null,16.66,6,{"$f":"VLOOKUP(M23964,DFL!A:H,8,0)","v":0.47},{"$f":"P23964-(P23964/1.0025)","v":2.2019950124688492E-2},8.83]
[{"$error":"#N/A"},null,null,null,null,9166265,null,"SPR","EA","WRLS OPTICAL 4BUTTON MOUSE",null,12.99,29,{"$f":"VLOOKUP(M23979,DFL!A:H,8,0)","v":0.3},{"$f":"P23979-(P23979/1.0025)","v":2.2668329177056634E-2},9.09]
[{"$error":"#N/A"},null,null,null,null,5875025,"SPR","SPR","EA","DESK,RY25,CORE,MO,17-3/4X11",null,17.87,11,{"$f":"VLOOKUP(M23998,DFL!A:H,8,0)","v":0.46},{"$f":"P23998-(P23998/1.0025)","v":2.4064837905235947E-2},9.65]
[{"$error":"#N/A"},null,null,null,null,6387416,"BSD","BSD","PK","BUNDLE,TAPE,SCOTCH,6PK",null,18.989999999999998,39,{"$f":"VLOOKUP(M24014,DFL!A:E,5,0)","v":0.6},{"$f":"P24014-(P24014/1.0025)","v":1.8952618453864645E-2},7.6]
[{"$error":"#N/A"},null,null,null,null,8242870,null,"SPR","EA","DskPd,22x17,Spring,AY24,M",null,17.989999999999998,11,{"$f":"VLOOKUP(M24033,DFL!A:H,8,0)","v":0.46},{"$f":"P24033-(P24033/1.0025)","v":2.4214463840397826E-2},9.7100000000000009]
[{"$error":"#N/A"},null,null,null,null,3579683,null,"SPR","EA","DESK,AY24,MONTHLY,DKBLUE",null,17.989999999999998,11,{"$f":"VLOOKUP(M24034,DFL!A:H,8,0)","v":0.46},{"$f":"P24034-(P24034/1.0025)","v":2.4214463840397826E-2},9.7100000000000009]
[{"$error":"#N/A"},null,null,null,null,9744172,null,"SPR","EA","Dskpad,17x11,Enterprise,RY25,M",null,17.989999999999998,11,{"$f":"VLOOKUP(M24049,DFL!A:H,8,0)","v":0.46},{"$f":"P24049-(P24049/1.0025)","v":2.4214463840397826E-2},9.7100000000000009]
[{"$error":"#N/A"},null,null,null,null,8419548,null,"SPR","EA","BRUSH, UTILITY, NYLON FILL,9IN",null,18.27,19,{"$f":"VLOOKUP(M24071,DFL!A:H,8,0)","v":0.45},{"$f":"P24071-(P24071/1.0025)","v":2.506234413965025E-2},10.050000000000001]
[{"$error":"#N/A"},null,null,null,null,5988841,null,"SPR","EA","WALL,AY24,MONTHLY,STRIPE",null,18.989999999999998,11,{"$f":"VLOOKUP(M24084,DFL!A:H,8,0)","v":0.46},{"$f":"P24084-(P24084/1.0025)","v":2.5561097256856513E-2},10.25]
[{"$error":"#N/A"},null,null,null,null,9449732,null,"SPR","EA","DskPd,22x17,TeachDots,AY25,M",null,18.989999999999998,11,{"$f":"VLOOKUP(M24099,DFL!A:H,8,0)","v":0.46},{"$f":"P24099-(P24099/1.0025)","v":2.5561097256856513E-2},10.25]
[{"$error":"#N/A"},null,null,null,null,9537079,null,"SPR","EA","DskPd,22x17,RugbyStripe,AY25,M",null,18.989999999999998,11,{"$f":"VLOOKUP(M24118,DFL!A:H,8,0)","v":0.46},{"$f":"P24118-(P24118/1.0025)","v":2.5561097256856513E-2},10.25]
[{"$error":"#N/A"},null,null,null,null,8650484,null,"SPR","EA","WalCal,15x12,TeachDitsy,AY25,M",null,18.989999999999998,11,{"$f":"VLOOKUP(M24119,DFL!A:H,8,0)","v":0.46},{"$f":"P24119-(P24119/1.0025)","v":2.5561097256856513E-2},10.25]
[{"$error":"#N/A"},null,null,null,null,9034456,"BSD","BSD","BX","FOLDER LTR 1/3 100BOX BLACK",null,35.19,35,{"$f":"VLOOKUP(M24144,DFL!A:E,5,0)","v":0.7},{"$f":"P24144-(P24144/1.0025)","v":2.6334164588527997E-2},10.56]
[{"$error":"#N/A"},null,null,null,null,233287,"SPR","SPR","DZ","MARKER,DRYERASE,XL,GREEN",null,20.5,28,{"$f":"VLOOKUP(M24154,DFL!A:H,8,0)","v":0.48},{"$f":"P24154-(P24154/1.0025)","v":2.6583541147131129E-2},10.66]
[{"$error":"#N/A"},null,null,null,null,5088065,null,"SPR","EA","DESK,AY24,MONTHLY,PIPPA",null,19.989999999999998,11,{"$f":"VLOOKUP(M24169,DFL!A:H,8,0)","v":0.46},{"$f":"P24169-(P24169/1.0025)","v":2.6907730673316976E-2},10.79]
[{"$error":"#N/A"},null,null,null,null,4515474,null,"SPR","EA","PLANNER,M,AY25,8.5X11,POLY,GR",null,19.989999999999998,11,{"$f":"VLOOKUP(M24188,DFL!A:H,8,0)","v":0.46},{"$f":"P24188-(P24188/1.0025)","v":2.6907730673316976E-2},10.79]
[{"$error":"#N/A"},null,null,null,null,6842269,null,"SPR","PK","FOLDER,2PK,YELLOW,25PK",null,27.73,35,{"$f":"VLOOKUP(M24203,DFL!A:H,8,0)","v":0.6},{"$f":"P24203-(P24203/1.0025)","v":2.7655860349126371E-2},11.09]
[{"$error":"#N/A"},null,null,null,null,491802,null,"SPR","PK","SHT,PROT,CD PCKTS,10/PK",null,28.11,35,{"$f":"VLOOKUP(M24217,DFL!A:H,8,0)","v":0.6},{"$f":"P24217-(P24217/1.0025)","v":2.8029925187031068E-2},11.24]
[{"$error":"#N/A"},null,null,null,null,5031101,null,"SPR","EA","Plr,8x10,Enterprise,AY24,M",null,20.99,11,{"$f":"VLOOKUP(M24224,DFL!A:H,8,0)","v":0.46},{"$f":"P24224-(P24224/1.0025)","v":2.8254364089775663E-2},11.33]
[{"$error":"#N/A"},null,null,null,null,4918835,null,"SPR","ST","BOARD,BLTN,ST,MRQ,ALPHLINE",null,12.99,45,{"$f":"VLOOKUP(M24239,DFL!A:H,8,0)","v":0.35},{"$f":"P24239-(P24239/1.0025)","v":2.1047381546134503E-2},8.44]
[{"$error":"#N/A"},null,null,null,null,399467,null,"SPR","PK","COVER,REPORT,HEAVY DUTY,5PK,BK",null,29.27,35,{"$f":"VLOOKUP(M24258,DFL!A:H,8,0)","v":0.6},{"$f":"P24258-(P24258/1.0025)","v":2.9201995012467563E-2},11.71]
[{"$error":"#N/A"},null,null,null,null,8420144,null,"SPR","EA","DESKPAD,RY25,WKSTYL,MO,JAVA",null,21.99,11,{"$f":"VLOOKUP(M24275,DFL!A:H,8,0)","v":0.46},{"$f":"P24275-(P24275/1.0025)","v":2.960099750623435E-2},11.87]
[{"$error":"#N/A"},null,null,null,null,444770,null,"SPR","PK","CLIPS,TRNSLCNT,MTLLC,CBCL,24BX",null,24.33,7,{"$f":"VLOOKUP(M24289,DFL!A:H,8,0)","v":0.46},{"$f":"P24289-(P24289/1.0025)","v":3.2768079800497674E-2},13.14]
[{"$error":"#N/A"},null,null,null,null,8139297,"SPR","SPR","EA","SANITIZER,PCH,VRS GEL,15Z,6",null,20.48,22,{"$f":"VLOOKUP(M24294,DFL!A:H,8,0)","v":0.41},{"$f":"P24294-(P24294/1.0025)","v":3.0124688279300926E-2},12.08]
[{"$error":"#N/A"},null,null,null,null,5512660,null,"SPR","EA","DskPd,22x17,PeytonWhite,AY24,M",null,22.99,11,{"$f":"VLOOKUP(M24309,DFL!A:H,8,0)","v":0.46},{"$f":"P24309-(P24309/1.0025)","v":3.0947630922693037E-2},12.41]
[{"$error":"#N/A"},null,null,null,null,4319752,null,"SPR","EA","PLANNER,RY25,TRIAD,POLY,WM,SM",null,22.99,11,{"$f":"VLOOKUP(M24328,DFL!A:H,8,0)","v":0.46},{"$f":"P24328-(P24328/1.0025)","v":3.0947630922693037E-2},12.41]
[{"$error":"#N/A"},null,null,null,null,4439406,null,"SPR","EA","Plr,5x8,CollegeNvy,AY25,WM",null,22.99,11,{"$f":"VLOOKUP(M24333,DFL!A:H,8,0)","v":0.46},{"$f":"P24333-(P24333/1.0025)","v":3.0947630922693037E-2},12.41]
[{"$error":"#N/A"},null,null,null,null,4928300,null,"SPR","EA","PLANNER,WM,AY25,8.5X11,POLY,G",null,22.99,11,{"$f":"VLOOKUP(M24359,DFL!A:H,8,0)","v":0.46},{"$f":"P24359-(P24359/1.0025)","v":3.0947630922693037E-2},12.41]
[{"$error":"#N/A"},null,null,null,null,5539148,null,"SPR","EA","PLANNER,RY25,EL,POLY,WM,SM,BLU",null,22.99,11,{"$f":"VLOOKUP(M24364,DFL!A:H,8,0)","v":0.46},{"$f":"P24364-(P24364/1.0025)","v":3.0947630922693037E-2},12.41]
[{"$error":"#N/A"},null,null,null,null,9417149,null,"SPR","PK","VASELINE,PURE,PET JLLY,13OZ2PK",null,21.36,22,{"$f":"VLOOKUP(M24379,DFL!A:H,8,0)","v":0.41},{"$f":"P24379-(P24379/1.0025)","v":3.1421446384038987E-2},12.6]
[{"$error":"#N/A"},null,null,null,null,9041780,null,"SPR","EA","PLANNER MINI HAPPY PLN 12M FCE",null,23.99,11,{"$f":"VLOOKUP(M24394,DFL!A:H,8,0)","v":0.46},{"$f":"P24394-(P24394/1.0025)","v":3.2294264339151724E-2},12.95]
[{"$error":"#N/A"},null,null,null,null,3885892,null,"SPR","EA","PLANNER,MO,OD,RY25,9X11,BLUE",null,23.99,11,{"$f":"VLOOKUP(M24406,DFL!A:H,8,0)","v":0.46},{"$f":"P24406-(P24406/1.0025)","v":3.2294264339151724E-2},12.95]
[{"$error":"#N/A"},null,null,null,null,7341601,"BSD","BSD","PK","GUM,TRDNT,SPR MINT,12PK,WHT",null,23.01,48,{"$f":"VLOOKUP(M24429,DFL!A:E,5,0)","v":0.42},{"$f":"P24429-(P24429/1.0025)","v":3.3291770573566026E-2},13.35]
[{"$error":"#N/A"},null,null,null,null,7314711,"SPR","SPR","EA","DESK,RY25,RECY,MTHLY,21-3/4X17",null,25.82,11,{"$f":"VLOOKUP(M24434,DFL!A:H,8,0)","v":0.46},{"$f":"P24434-(P24434/1.0025)","v":3.4763092269326279E-2},13.94]
[{"$error":"#N/A"},null,null,null,null,7147384,"SPR","SPR","EA","PLANNER,RY25,DYMDR,WKLY,SML",null,26.09,11,{"$f":"VLOOKUP(M24449,DFL!A:H,8,0)","v":0.46},{"$f":"P24449-(P24449/1.0025)","v":3.5137157107230976E-2},14.09]
[{"$error":"#N/A"},null,null,null,null,9896200,"SPR","SPR","EA","PLANNER,RY25,PWR,DAILY,LRG",null,26.4,11,{"$f":"VLOOKUP(M24464,DFL!A:H,8,0)","v":0.46},{"$f":"P24464-(P24464/1.0025)","v":3.55610972568563E-2},14.26]
[{"$error":"#N/A"},null,null,null,null,8426165,"SPR","SPR","EA","PLANNER,RY25,WEEKLY,11X8,PURP",null,26.49,11,{"$f":"VLOOKUP(M24479,DFL!A:H,8,0)","v":0.46},{"$f":"P24479-(P24479/1.0025)","v":3.5660847880299329E-2},14.3]
[{"$error":"#N/A"},null,null,null,null,405978,null,"SPR","PK","PLATE,ECO,SUGARCANE,9\",50PK",null,17.71,18,{"$f":"VLOOKUP(M24499,DFL!A:H,8,0)","v":0.44},{"$f":"P24499-(P24499/1.0025)","v":2.4738154613466179E-2},9.92]
[{"$error":"#N/A"},null,null,null,null,9311082,"SPR","SPR","EA","PLANNER,RY25,TRAD,MTHLY,LRG",null,21.25,11,{"$f":"VLOOKUP(M24504,DFL!A:H,8,0)","v":0.46},{"$f":"P24504-(P24504/1.0025)","v":2.8628428927680361E-2},11.48]
[{"$error":"#N/A"},null,null,null,null,9058657,null,"SPR","EA","PLANNER,AY24,WK/MTH,CHAR",null,26.99,11,{"$f":"VLOOKUP(M24519,DFL!A:H,8,0)","v":0.46},{"$f":"P24519-(P24519/1.0025)","v":3.6334164588527784E-2},14.57]
[{"$error":"#N/A"},null,null,null,null,7036171,null,"SPR","EA","Plr,8x11,CaliPink,AY24,WM",null,26.99,11,{"$f":"VLOOKUP(M24534,DFL!A:H,8,0)","v":0.46},{"$f":"P24534-(P24534/1.0025)","v":3.6334164588527784E-2},14.57]
[{"$error":"#N/A"},null,null,null,null,6362510,null,"SPR","EA","Plnr,8x11,Mimosa,RY25,WM",null,26.99,11,{"$f":"VLOOKUP(M24552,DFL!A:H,8,0)","v":0.46},{"$f":"P24552-(P24552/1.0025)","v":3.6334164588527784E-2},14.57]
[{"$error":"#N/A"},null,null,null,null,5529165,"SPR","SPR","EA","PLANNER,RY25,CONTEMPO,W/M,LRG",null,27.3,11,{"$f":"VLOOKUP(M24569,DFL!A:H,8,0)","v":0.46},{"$f":"P24569-(P24569/1.0025)","v":3.6758104738153108E-2},14.74]
[{"$error":"#N/A"},null,null,null,null,9319188,null,"SPR","EA","Plnr,8x11,BakahBlue,RY25,WM",null,26.99,11,{"$f":"VLOOKUP(M24584,DFL!A:H,8,0)","v":0.46},{"$f":"P24584-(P24584/1.0025)","v":3.6334164588527784E-2},14.57]
[{"$error":"#N/A"},null,null,null,null,8162423,null,"SPR","EA","Plnr,8x11,Fly By,RY25,WM",null,26.99,11,{"$f":"VLOOKUP(M24589,DFL!A:H,8,0)","v":0.46},{"$f":"P24589-(P24589/1.0025)","v":3.6334164588527784E-2},14.57]
[{"$error":"#N/A"},null,null,null,null,3522944,null,"SPR","PK","RESPIRATOR,3M,SANDNG,FIBRGLSS",null,24.75,22,{"$f":"VLOOKUP(M24604,DFL!A:H,8,0)","v":0.41},{"$f":"P24604-(P24604/1.0025)","v":3.6408977556108724E-2},14.6]
[{"$error":"#N/A"},null,null,null,null,5089811,null,"SPR","EA","WALL,RY25,CONTEMPO,MTHLY,LRG",null,27.79,11,{"$f":"VLOOKUP(M24625,DFL!A:H,8,0)","v":0.46},{"$f":"P24625-(P24625/1.0025)","v":3.7431421446383339E-2},15.01]
[{"$error":"#N/A"},null,null,null,null,8018535,null,"SPR","EA","PLANNERS,SIGNATURE,WM,SML,BRN",null,27.99,11,{"$f":"VLOOKUP(M24639,DFL!A:H,8,0)","v":0.46},{"$f":"P24639-(P24639/1.0025)","v":3.7680798004986471E-2},15.11]
[{"$error":"#N/A"},null,null,null,null,263717,null,"SPR","EA","CLIPBOARD,ACRYLIC,CLEAR",null,31.9,7,{"$f":"VLOOKUP(M24654,DFL!A:H,8,0)","v":0.46},{"$f":"P24654-(P24654/1.0025)","v":4.2967581047381742E-2},17.23]
[{"$error":"#N/A"},null,null,null,null,303867,null,"SPR","EA","FCREADMICRO3 USB 3.0 EXTERNAL",null,18.989999999999998,46,{"$f":"VLOOKUP(M24659,DFL!A:H,8,0)","v":0.18},{"$f":"P24659-(P24659/1.0025)","v":3.8827930174562653E-2},15.57]
[{"$error":"#N/A"},null,null,null,null,7951403,null,"SPR","EA","WALL,AY/RY25,ERAS,BADGE GEO",null,28.99,11,{"$f":"VLOOKUP(M24674,DFL!A:H,8,0)","v":0.46},{"$f":"P24674-(P24674/1.0025)","v":3.9027431421445158E-2},15.65]
[{"$error":"#N/A"},null,null,null,null,8417213,null,"SPR","EA","6FT HIGH SPEED SLIM HDMI CABLE",null,27.59,48,{"$f":"VLOOKUP(M24697,DFL!A:H,8,0)","v":0.3},{"$f":"P24697-(P24697/1.0025)","v":4.8154613466333984E-2},19.309999999999999]
[{"$error":"#N/A"},null,null,null,null,9682566,null,"SPR","EA","PLANNERS,DIARY,DAILY,MED,RED",null,29.99,11,{"$f":"VLOOKUP(M24709,DFL!A:H,8,0)","v":0.46},{"$f":"P24709-(P24709/1.0025)","v":4.0374064837905621E-2},16.190000000000001]
[{"$error":"#N/A"},null,null,null,null,5414108,"SPR","SPR","EA","PLANNER,RY25,SIG,WKLY/MO,SML",null,31.41,11,{"$f":"VLOOKUP(M24724,DFL!A:H,8,0)","v":0.46},{"$f":"P24724-(P24724/1.0025)","v":4.2294264339151511E-2},16.96]
[{"$error":"#N/A"},null,null,null,null,3614707,null,"SPR","BX","GLOVES,NITRILE,EXAM,LG,BLU,BX",null,29.84,22,{"$f":"VLOOKUP(M24743,DFL!A:H,8,0)","v":0.41},{"$f":"P24743-(P24743/1.0025)","v":4.3915211970073642E-2},17.61]
[{"$error":"#N/A"},null,null,null,null,3362974,null,"SPR","EA","PLANNER,AY24,SML,NAVY",null,30.99,11,{"$f":"VLOOKUP(M24756,DFL!A:H,8,0)","v":0.46},{"$f":"P24756-(P24756/1.0025)","v":4.1720698254362532E-2},16.73]
[{"$error":"#N/A"},null,null,null,null,6487433,"SPR","SPR","EA","PLANNER,RY25,TRAD,DAILY,SML",null,34.74,11,{"$f":"VLOOKUP(M24760,DFL!A:H,8,0)","v":0.46},{"$f":"P24760-(P24760/1.0025)","v":4.6783042394014984E-2},18.760000000000002]
[{"$error":"#N/A"},null,null,null,null,9367213,"SPR","SPR","EA","VILEDA HANDLE HOLDER",null,31.4,19,{"$f":"VLOOKUP(M24779,DFL!A:H,8,0)","v":0.45},{"$f":"P24779-(P24779/1.0025)","v":4.3067331670822995E-2},17.27]
[{"$error":"#N/A"},null,null,null,null,6405822,"SPR","SPR","BX","COFFEE,SBC,BRKFSTBLND,KCUP",null,25,48,{"$f":"VLOOKUP(M24794,DFL!A:H,8,0)","v":0.3},{"$f":"P24794-(P24794/1.0025)","v":4.3640897755608421E-2},17.5]
[{"$error":"#N/A"},null,null,null,null,204900,null,"SPR","ST","SET,HORSESHOES,AST",null,35.51,47,{"$f":"VLOOKUP(M24813,DFL!A:H,8,0)","v":0.5},{"$f":"P24813-(P24813/1.0025)","v":4.4289276807980116E-2},17.760000000000002]
[{"$error":"#N/A"},null,null,null,null,6820744,null,"SPR","EA","Plnr,8x11,PeyonNvy,RY25,WM",null,32.99,11,{"$f":"VLOOKUP(M24829,DFL!A:H,8,0)","v":0.46},{"$f":"P24829-(P24829/1.0025)","v":4.4413965087279905E-2},17.809999999999999]
[{"$error":"#N/A"},null,null,null,null,5780924,null,"SPR","BX","TAPE,CORRECTION,DRYLINE,1PC",null,34.26,17,{"$f":"VLOOKUP(M24830,DFL!A:H,8,0)","v":0.48},{"$f":"P24830-(P24830/1.0025)","v":4.4438902743141995E-2},17.82]
[{"$error":"#N/A"},null,null,null,null,9733066,null,"SPR","EA","WALL,RY25,SCENIC,MTHLY,LRG",null,33.69,11,{"$f":"VLOOKUP(M24849,DFL!A:H,8,0)","v":0.46},{"$f":"P24849-(P24849/1.0025)","v":4.5361596009975358E-2},18.190000000000001]
[{"$error":"#N/A"},null,null,null,null,9773183,"SPR","SPR","EA","PLANNER,RY25,PL,WKLY,BLK",null,34.89,11,{"$f":"VLOOKUP(M24864,DFL!A:H,8,0)","v":0.46},{"$f":"P24864-(P24864/1.0025)","v":4.6982543640897489E-2},18.84]
[{"$error":"#N/A"},null,null,null,null,8200754,null,"SPR","EA","PLANNER,RY25,TRAD,WKLY,LRG",null,34.49,11,{"$f":"VLOOKUP(M24879,DFL!A:H,8,0)","v":0.46},{"$f":"P24879-(P24879/1.0025)","v":4.64339152119706E-2},18.62]
[{"$error":"#N/A"},null,null,null,null,9204406,"SPR","SPR","EA","SOAP,FOAM,AB,RF,SWTR,1.7L,3",null,34.130000000000003,19,{"$f":"VLOOKUP(M24887,DFL!A:H,8,0)","v":0.45},{"$f":"P24887-(P24887/1.0025)","v":4.6807980049873521E-2},18.77]
[{"$error":"#N/A"},null,null,null,null,7973688,null,"SPR","EA","LAMP,CHARGING,GRAY",null,29.99,16,{"$f":"VLOOKUP(M24914,DFL!A:H,8,0)","v":0.36},{"$f":"P24914-(P24914/1.0025)","v":4.7855361596010226E-2},19.190000000000001]
[{"$error":"#N/A"},null,null,null,null,653626,null,"SPR","PK","LABEL,LSR,DISK,REMOV,375/CT",null,34.5,26,{"$f":"VLOOKUP(M24919,DFL!A:H,8,0)","v":0.44},{"$f":"P24919-(P24919/1.0025)","v":4.8179551122192521E-2},19.32]
[{"$error":"#N/A"},null,null,null,null,1387216,null,"SPR","EA","Planters Deluxe Cashews Can",null,27.81,48,{"$f":"VLOOKUP(M24934,DFL!A:H,8,0)","v":0.3},{"$f":"P24934-(P24934/1.0025)","v":4.8553615960098995E-2},19.47]
[{"$error":"#N/A"},null,null,null,null,6339812,null,"SPR","EA","PLANNER,RY25,RECY,WKLY,MED",null,36.49,11,{"$f":"VLOOKUP(M24949,DFL!A:H,8,0)","v":0.46},{"$f":"P24949-(P24949/1.0025)","v":4.9127182044887974E-2},19.7]
[{"$error":"#N/A"},null,null,null,null,420195,null,"SPR","EA","CADDY,CARRY,BLACK",null,28.56,48,{"$f":"VLOOKUP(M24960,DFL!A:H,8,0)","v":0.3},{"$f":"P24960-(P24960/1.0025)","v":4.9850374064835279E-2},19.989999999999998]
[{"$error":"#N/A"},null,null,null,null,5275070,null,"SPR","PK","REFLL,5.5X8.5,DLY,TUL,1PG,RY24",null,37.99,11,{"$f":"VLOOKUP(M24984,DFL!A:H,8,0)","v":0.46},{"$f":"P24984-(P24984/1.0025)","v":5.1147132169575116E-2},20.51]
[{"$error":"#N/A"},null,null,null,null,7590360,null,"SPR","EA","PLANNER,RY25,EXEC,WKLY,MED",null,38.39,11,{"$f":"VLOOKUP(M24989,DFL!A:H,8,0)","v":0.46},{"$f":"P24989-(P24989/1.0025)","v":5.1695760598502005E-2},20.73]
[{"$error":"#N/A"},null,null,null,null,7328416,null,"SPR","EA","DESK,PAD,MTHLY,STANDARD,BLK",null,38.99,11,{"$f":"VLOOKUP(M25004,DFL!A:H,8,0)","v":0.46},{"$f":"P25004-(P25004/1.0025)","v":5.2493765586032026E-2},21.05]
[{"$error":"#N/A"},null,null,null,null,9127061,"BSD","BSD","BX","KCUP,COCOA,HTSPCEPMPKN",null,36.733109619686807,48,{"$f":"VLOOKUP(M25019,DFL!A:E,5,0)","v":0.42},{"$f":"P25019-(P25019/1.0025)","v":5.3142144638403721E-2},21.31]
[{"$error":"#N/A"},null,null,null,null,173109,null,"SPR","EA","HANDLE,SNAPON,FIBRGLS,60IN",null,43.88,19,{"$f":"VLOOKUP(M25033,DFL!A:H,8,0)","v":0.45},{"$f":"P25033-(P25033/1.0025)","v":6.0174563591022689E-2},24.13]
[{"$error":"#N/A"},null,null,null,null,9790105,"BSD","BSD","EA","CAN,TRSH,SEMIRND,STP,10L",null,62.53,31,{"$f":"VLOOKUP(M25054,DFL!A:E,5,0)","v":0.64},{"$f":"P25054-(P25054/1.0025)","v":5.6134663341644853E-2},22.51]
[{"$error":"#N/A"},null,null,null,null,433871,null,"SPR","CA","LINER,LL,24x32,0.7ML,CLR,250CT",null,38.58,12,{"$f":"VLOOKUP(M25069,DFL!A:H,8,0)","v":0.4},{"$f":"P25069-(P25069/1.0025)","v":5.7730673316708447E-2},23.15]
[{"$error":"#N/A"},null,null,null,null,9952115,null,"SPR","EA","PLANNER BIG HAPPY PLN 18M TRVL",null,42.99,11,{"$f":"VLOOKUP(M25074,DFL!A:H,8,0)","v":0.46},{"$f":"P25074-(P25074/1.0025)","v":5.7880299251870326E-2},23.21]
[{"$error":"#N/A"},null,null,null,null,305888,"SPR","SPR","ST","PENCIL SET,PRISMACOLOR,24/SET",null,52.69,33,{"$f":"VLOOKUP(M25089,DFL!A:H,8,0)","v":0.55000000000000004},{"$f":"P25089-(P25089/1.0025)","v":5.9127182044885984E-2},23.71]
[{"$error":"#N/A"},null,null,null,null,6722826,null,"SPR","EA","CALENDAR,RY25,24X36,NETZERCRBN",null,44.99,11,{"$f":"VLOOKUP(M25106,DFL!A:H,8,0)","v":0.46},{"$f":"P25106-(P25106/1.0025)","v":6.05735660847877E-2},24.29]
[{"$error":"#N/A"},null,null,null,null,7005069,null,"SPR","EA","COSMOPOLITAN,WASTBASKET,GOLD",null,49.99,19,{"$f":"VLOOKUP(M25124,DFL!A:H,8,0)","v":0.45},{"$f":"P25124-(P25124/1.0025)","v":6.8553615960098568E-2},27.49]
[{"$error":"#N/A"},null,null,null,null,8969875,"BSD","BSD","CA","HIGHMARK 32oz ALOE SANITIZE,CA",null,52.99,22,{"$f":"VLOOKUP(M25139,DFL!A:E,5,0)","v":0.52},{"$f":"P25139-(P25139/1.0025)","v":6.3441396508725489E-2},25.44]
[{"$error":"#N/A"},null,null,null,null,8970878,null,"SPR","EA","CART,3TIER,ROLLING,GREY",null,48.6,13,{"$f":"VLOOKUP(M25144,DFL!A:H,8,0)","v":0.32},{"$f":"P25144-(P25144/1.0025)","v":8.2418952618454E-2},33.049999999999997]
[{"$error":"#N/A"},null,null,null,null,3165586,null,"SPR","EA","BISEELL air400 Carbon Filter",null,48,19,{"$f":"VLOOKUP(M25159,DFL!A:H,8,0)","v":0.45},{"$f":"P25159-(P25159/1.0025)","v":6.5835411471319105E-2},26.4]
[{"$error":"#N/A"},null,null,null,null,1635067,null,"SPR","EA","Disp towel roll perforated",null,40.574015852047552,48,{"$f":"VLOOKUP(M25178,DFL!A:H,8,0)","v":0.3},{"$f":"P25178-(P25178/1.0025)","v":7.0822942643388842E-2},28.4]
[{"$error":"#N/A"},null,null,null,null,101529,"SPR","SPR","BX","COFFEE,ITALIAN ROAST,KCUP,24BX",null,37.07,48,{"$f":"VLOOKUP(M25194,DFL!A:H,8,0)","v":0.3},{"$f":"P25194-(P25194/1.0025)","v":6.4713216957603237E-2},25.95]
[{"$error":"#N/A"},null,null,null,null,5138316,"BSD","BSD","EA","INK,REPL,HP,82,BLK,HY",null,56.62,44,{"$f":"VLOOKUP(M25209,DFL!A:E,5,0)","v":0.52},{"$f":"P25209-(P25209/1.0025)","v":6.7780548628427084E-2},27.18]
[{"$error":"#N/A"},null,null,null,null,3296484,null,"SPR","PK","EASELPAD,NOSTCK,27X34,GRID,2PK",null,105.2,30,{"$f":"VLOOKUP(M25214,DFL!A:H,8,0)","v":0.57999999999999996},{"$f":"P25214-(P25214/1.0025)","v":0.1101745635910234},44.18]
[{"$error":"#N/A"},null,null,null,null,5726608,null,"SPR","EA","CHEEZIT,VARIETY,PACK",null,47.07,48,{"$f":"VLOOKUP(M25237,DFL!A:H,8,0)","v":0.3},{"$f":"P25237-(P25237/1.0025)","v":8.2169576059847316E-2},32.950000000000003]
[{"$error":"#N/A"},null,null,null,null,4884879,null,"SPR","EA","PLANNER,RY25,ACTION,WKLY,SML",null,54.99,11,{"$f":"VLOOKUP(M25245,DFL!A:H,8,0)","v":0.46},{"$f":"P25245-(P25245/1.0025)","v":7.4039900249374568E-2},29.69]
[{"$error":"#N/A"},null,null,null,null,7744733,"SPR","SPR","CT","BOUNTY 1/6TR WH 87CT",null,54.58,40,{"$f":"VLOOKUP(M25264,DFL!A:H,8,0)","v":0.44},{"$f":"P25264-(P25264/1.0025)","v":7.6209476309223589E-2},30.56]
[{"$error":"#N/A"},null,null,null,null,344561,null,"SPR","EA","KIT,50-PRSN,BULK,PLSTC",null,53.82,22,{"$f":"VLOOKUP(M25279,DFL!A:H,8,0)","v":0.41},{"$f":"P25279-(P25279/1.0025)","v":7.9177057356606184E-2},31.75]
[{"$error":"#N/A"},null,null,null,null,1542320,null,"SPR","BX","CANDY,NERDS MIX,12PK",null,55.13,48,{"$f":"VLOOKUP(M25284,DFL!A:H,8,0)","v":0.3},{"$f":"P25284-(P25284/1.0025)","v":9.6234413965085253E-2},38.590000000000003]
[{"$error":"#N/A"},null,null,null,null,4569935,"BSD","BSD","EA","BRIGHT SCREEN PRIVACY FILTER",null,63,48,{"$f":"VLOOKUP(M25310,DFL!A:E,5,0)","v":0.42},{"$f":"P25310-(P25310/1.0025)","v":9.1122194513715726E-2},36.54]
[{"$error":"#N/A"},null,null,null,null,4951428,null,"SPR","BG","TAPE,DRYLNE CRCTN 2PK,WE",null,63.9,17,{"$f":"VLOOKUP(M25315,DFL!A:H,8,0)","v":0.48},{"$f":"P25315-(P25315/1.0025)","v":8.2867830423936084E-2},33.229999999999997]
[{"$error":"#N/A"},null,null,null,null,8966876,"SPR","SPR","EA","PLANNER,RY25,STD DIARY,DLY,SML",null,70.91,11,{"$f":"VLOOKUP(M25334,DFL!A:H,8,0)","v":0.46},{"$f":"P25334-(P25334/1.0025)","v":9.5486284289272305E-2},38.29]
[{"$error":"#N/A"},null,null,null,null,3616705,null,"SPR","PK","Tape Celo .75x1296 16 Pack",null,75.7,39,{"$f":"VLOOKUP(M25349,DFL!A:H,8,0)","v":0.5},{"$f":"P25349-(P25349/1.0025)","v":9.4389027431418526E-2},37.85]
[{"$error":"#N/A"},null,null,null,null,8892465,"Deviated Item","SPR","EA","TONER,REPL,XEROX,3260,BK",null,70.400000000000006,44,{"$f":"VLOOKUP(M25364,DFL!A:H,8,0)","v":0.5},{"$f":"P25364-(P25364/1.0025)","v":8.7780548628430211E-2},35.200000000000003]
[{"$error":"#N/A"},null,null,null,null,591771,null,"SPR","CA","WIPE,BABY,FRAG FREE",null,65.39,19,{"$f":"VLOOKUP(M25383,DFL!A:H,8,0)","v":0.45},{"$f":"P25383-(P25383/1.0025)","v":8.967581047381401E-2},35.96]
[{"$error":"#N/A"},null,null,null,null,5033793,"SPR","SPR","CT","POLISH,EXPTCARE,ORANGE,PLDG",null,65.400000000000006,19,{"$f":"VLOOKUP(M25385,DFL!A:H,8,0)","v":0.45},{"$f":"P25385-(P25385/1.0025)","v":8.9700748129672547E-2},35.97]
[{"$error":"#N/A"},null,null,null,null,481308,"SPR","SPR","PK","CRTDGS,INK,WKFORCE,KCM&Y",null,53.27,43,{"$f":"VLOOKUP(M25404,DFL!A:H,8,0)","v":0.3},{"$f":"P25404-(P25404/1.0025)","v":9.2992518703240989E-2},37.29]
[{"$error":"#N/A"},null,null,null,null,8356730,"BSD","BSD","EA","BRIGHT SCREEN PRIVACY FILTER",null,73.599999999999994,48,{"$f":"VLOOKUP(M25419,DFL!A:E,5,0)","v":0.42},{"$f":"P25419-(P25419/1.0025)","v":0.10645885286783141},42.69]
[{"$error":"#N/A"},null,null,null,null,9109921,"BSD","BSD","BX","FOOD,PIRATES BOOTY,CHDR,16CT",null,68.03,48,{"$f":"VLOOKUP(M25434,DFL!A:E,5,0)","v":0.42},{"$f":"P25434-(P25434/1.0025)","v":9.8403990024934274E-2},39.46]
[{"$error":"#N/A"},null,null,null,null,7211443,"BSD","BSD","PK","FOOD,RXBAR,BLUB,10CT",null,68.83,48,{"$f":"VLOOKUP(M25441,DFL!A:E,5,0)","v":0.42},{"$f":"P25441-(P25441/1.0025)","v":9.9551122194512232E-2},39.92]
[{"$error":"#N/A"},null,null,null,null,1018465,"BSD","BSD","CA","TIDE PODS WTD AF 1/75CT",null,81.569999999999993,19,{"$f":"VLOOKUP(M25455,DFL!A:E,5,0)","v":0.5},{"$f":"P25455-(P25455/1.0025)","v":0.10172069825436125},40.79]
[{"$error":"#N/A"},null,null,null,null,931973,null,"SPR","EA","PUMP,SIMPH,SENSOR,8FL,BS",null,76.09,19,{"$f":"VLOOKUP(M25474,DFL!A:H,8,0)","v":0.45},{"$f":"P25474-(P25474/1.0025)","v":0.104364089775558},41.85]
[{"$error":"#N/A"},null,null,null,null,820742,null,"SPR","EA","PLANTERS,VARIETY,PACK,24CT",null,61.09,48,{"$f":"VLOOKUP(M25489,DFL!A:H,8,0)","v":0.3},{"$f":"P25489-(P25489/1.0025)","v":0.10663341645884827},42.76]
[{"$error":"#N/A"},null,null,null,null,6094779,null,"SPR","EA","DESK,PAD,DAILY,MED,RFL",null,81.69,11,{"$f":"VLOOKUP(M25504,DFL!A:H,8,0)","v":0.46},{"$f":"P25504-(P25504/1.0025)","v":0.10999999999999943},44.11]
[{"$error":"#N/A"},null,null,null,null,8412756,"SPR","SPR","CT","SOAP,DYE&FRGRNCE FREE,FOAM",null,81.400000000000006,19,{"$f":"VLOOKUP(M25514,DFL!A:H,8,0)","v":0.45},{"$f":"P25514-(P25514/1.0025)","v":0.11164588528678365},44.77]
[{"$error":"#N/A"},null,null,null,null,119239,null,"SPR","EA","TONER,REPLACE LEX X203,BK",null,92,44,{"$f":"VLOOKUP(M25539,DFL!A:H,8,0)","v":0.5},{"$f":"P25539-(P25539/1.0025)","v":0.11471321695760395},46]
[{"$error":"#N/A"},null,null,null,null,6616231,"BSD","BSD","EA","3M BRIGHT SCREEN PRIVACY FILTE",null,79.45,48,{"$f":"VLOOKUP(M25540,DFL!A:E,5,0)","v":0.42},{"$f":"P25540-(P25540/1.0025)","v":0.11491271820448645},46.08]
[{"$error":"#N/A"},null,null,null,null,3720558,"BSD","BSD","PK","INK,BROTHER,LC30373PKS,CMY",null,77.989999999999995,43,{"$f":"VLOOKUP(M25559,DFL!A:E,5,0)","v":0.35},{"$f":"P25559-(P25559/1.0025)","v":0.12640897755611036},50.69]
[{"$error":"#N/A"},null,null,null,null,5418483,"BSD","BSD","PK","FOOD,ALMDJOY,15OZ,3PK",null,83.3,48,{"$f":"VLOOKUP(M25574,DFL!A:E,5,0)","v":0.42},{"$f":"P25574-(P25574/1.0025)","v":0.12047381546134517},48.31]
[{"$error":"#N/A"},null,null,null,null,9862626,null,"SPR","EA","DISPLAYPORT TO HDMI ADAPTER M/",null,69.989999999999995,48,{"$f":"VLOOKUP(M25587,DFL!A:H,8,0)","v":0.3},{"$f":"P25587-(P25587/1.0025)","v":0.12216957605984646},48.99]
[{"$error":"#N/A"},null,null,null,null,9261715,"Deviated Item","SPR","EA","TONER,REPL,CANON,045,CY,HY",null,100.8,44,{"$f":"VLOOKUP(M25609,DFL!A:H,8,0)","v":0.5},{"$f":"P25609-(P25609/1.0025)","v":0.12568578553615595},50.4]
[{"$error":"#N/A"},null,null,null,null,229996,"BSD","BSD","EA","TONER,REPLACE HP 2600,BLACK",null,103.64,44,{"$f":"VLOOKUP(M25624,DFL!A:E,5,0)","v":0.52},{"$f":"P25624-(P25624/1.0025)","v":0.12406483790523737},49.75]
[{"$error":"#N/A"},null,null,null,null,2486217,null,"SPR","BX","CANDY,SKITTLES,STRBST",null,90.03,48,{"$f":"VLOOKUP(M25629,DFL!A:H,8,0)","v":0.3},{"$f":"P25629-(P25629/1.0025)","v":0.15715710723191734},63.02]
[{"$error":"#N/A"},null,null,null,null,4390937,"BSD","BSD","EA","TONER, TN920, BLACK",null,90.99,43,{"$f":"VLOOKUP(M25644,DFL!A:E,5,0)","v":0.35},{"$f":"P25644-(P25644/1.0025)","v":0.14748129675810162},59.14]
[{"$error":"#N/A"},null,null,null,null,8987632,"BSD","BSD","CT","1GA SS  - REFRESHING 4PK",null,109.79,19,{"$f":"VLOOKUP(M25659,DFL!A:E,5,0)","v":0.5},{"$f":"P25659-(P25659/1.0025)","v":0.13690773067331463},54.9]
[{"$error":"#N/A"},null,null,null,null,163628,null,"SPR","PK","STEVIA,SWEET,ORIG,800CT",null,80.39,48,{"$f":"VLOOKUP(M25679,DFL!A:H,8,0)","v":0.3},{"$f":"P25679-(P25679/1.0025)","v":0.14032418952618286},56.27]
[{"$error":"#N/A"},null,null,null,null,8911991,"Deviated Item","SPR","CA","WIPE,SURFACE,FOODSERVICE,110CT",null,103.29,19,{"$f":"VLOOKUP(M25694,DFL!A:H,8,0)","v":0.45},{"$f":"P25694-(P25694/1.0025)","v":0.14167082294264333},56.81]
[{"$error":"#N/A"},null,null,null,null,549145,null,"SPR","PK","20 x 20 x 20  Corrugated Carto",null,128.16,3,{"$f":"VLOOKUP(M25699,DFL!A:H,8,0)","v":0.5},{"$f":"P25699-(P25699/1.0025)","v":0.15980049875311408},64.08]
[{"$error":"#N/A"},null,null,null,null,8893991,"Deviated Item","SPR","EA","TONER,REPL,HP,58A,BK",null,117.3,44,{"$f":"VLOOKUP(M25718,DFL!A:H,8,0)","v":0.5},{"$f":"P25718-(P25718/1.0025)","v":0.14625935162094805},58.65]
[{"$error":"#N/A"},null,null,null,null,6778552,null,"SPR","EA","LAMP,DESK,LED,SHINE",null,109.32,16,{"$f":"VLOOKUP(M25730,DFL!A:H,8,0)","v":0.36},{"$f":"P25730-(P25730/1.0025)","v":0.17446384039899954},69.959999999999994]
[{"$error":"#N/A"},null,null,null,null,1391788,null,"SPR","CT","Soap Lotion DLX 8ct/1000ML",null,119.61,19,{"$f":"VLOOKUP(M25749,DFL!A:H,8,0)","v":0.45},{"$f":"P25749-(P25749/1.0025)","v":0.16406483790522941},65.790000000000006]
[{"$error":"#N/A"},null,null,null,null,750746,null,"SPR","CT","CLEANER,GEPEROX,12-1QTBOT",null,116.68063879210222,19,{"$f":"VLOOKUP(M25764,DFL!A:H,8,0)","v":0.45},{"$f":"P25764-(P25764/1.0025)","v":0.16002493765586223},64.17]
[{"$error":"#N/A"},null,null,null,null,2770387,"BSD","BSD","CA","FOOD,JOLLY RCHR SOUR,12CT",null,110.93,48,{"$f":"VLOOKUP(M25769,DFL!A:E,5,0)","v":0.42},{"$f":"P25769-(P25769/1.0025)","v":0.16044887780547867},64.34]
[{"$error":"#N/A"},null,null,null,null,4468520,null,"SPR","CA","Wipes,Oxiver Tb,Can 12X60",null,129.44999999999999,19,{"$f":"VLOOKUP(M25791,DFL!A:H,8,0)","v":0.45},{"$f":"P25791-(P25791/1.0025)","v":0.17755610972568547},71.2]
[{"$error":"#N/A"},null,null,null,null,7510728,"BSD","BSD","CA","SANITIZER,FF,FOAM,1200ML,CLEAR",null,138.81,22,{"$f":"VLOOKUP(M25800,DFL!A:E,5,0)","v":0.52},{"$f":"P25800-(P25800/1.0025)","v":0.16615960099750282},66.63]
[{"$error":"#N/A"},null,null,null,null,1696186,null,"SPR","EA","TOLT ST COVR DSPNSR,ST ST",null,101.75387645478962,48,{"$f":"VLOOKUP(M25819,DFL!A:H,8,0)","v":0.3},{"$f":"P25819-(P25819/1.0025)","v":0.17763092269326819},71.23]
[{"$error":"#N/A"},null,null,null,null,6515935,"BSD","BSD","EA","CARTRIDGE 067 H BLACK",null,108.99,43,{"$f":"VLOOKUP(M25834,DFL!A:E,5,0)","v":0.35},{"$f":"P25834-(P25834/1.0025)","v":0.17665835411470709},70.84]
[{"$error":"#N/A"},null,null,null,null,348649,null,"SPR","EA","TONER,REPLACE,HP,312A,YL",null,144.15,44,{"$f":"VLOOKUP(M25849,DFL!A:H,8,0)","v":0.5},{"$f":"P25849-(P25849/1.0025)","v":0.17975062344139303},72.08]
[{"$error":"#N/A"},null,null,null,null,6774495,"BSD","BSD","EA","High Yield Magenta Toner",null,124.99,43,{"$f":"VLOOKUP(M25864,DFL!A:E,5,0)","v":0.35},{"$f":"P25864-(P25864/1.0025)","v":0.20259351620947541},81.239999999999995]
[{"$error":"#N/A"},null,null,null,null,9161150,"Deviated Item","SPR","EA","TONER,REPL,HP,89A,BK",null,148.4,44,{"$f":"VLOOKUP(M25870,DFL!A:H,8,0)","v":0.5},{"$f":"P25870-(P25870/1.0025)","v":0.18503740648378653},74.2]
[{"$error":"#N/A"},null,null,null,null,694870,"SPR","SPR","EA","CRTG,DR 350,LASER DRUM",null,162.12,44,{"$f":"VLOOKUP(M25889,DFL!A:H,8,0)","v":0.5},{"$f":"P25889-(P25889/1.0025)","v":0.20214463840397912},81.06]
[{"$error":"#N/A"},null,null,null,null,793857,null,"SPR","CA","LINER,COMP,33X39,1M,GRN,100CA",null,129.99,12,{"$f":"VLOOKUP(M25904,DFL!A:H,8,0)","v":0.4},{"$f":"P25904-(P25904/1.0025)","v":0.1944887780548612},77.989999999999995]
[{"$error":"#N/A"},null,null,null,null,8638118,"BSD","BSD","CA","SMALL K-CYCLE BOXES",null,140,48,{"$f":"VLOOKUP(M25919,DFL!A:E,5,0)","v":0.42},{"$f":"P25919-(P25919/1.0025)","v":0.20249376558602705},81.2]
[{"$error":"#N/A"},null,null,null,null,491617,null,"SPR","CA","SOAP,ULTRABLU,ANTIBAC,1000ML,6",null,152.56,19,{"$f":"VLOOKUP(M25937,DFL!A:H,8,0)","v":0.45},{"$f":"P25937-(P25937/1.0025)","v":0.2092518703241808},83.91]
[{"$error":"#N/A"},null,null,null,null,5569747,"SPR","SPR","CT","SANITIZER,HAND,515ML,4PK",null,143.12,22,{"$f":"VLOOKUP(M25940,DFL!A:H,8,0)","v":0.41},{"$f":"P25940-(P25940/1.0025)","v":0.21057356608478983},84.44]
[{"$error":"#N/A"},null,null,null,null,5408943,"BSD","BSD","EA","OEM Toner",null,139.49,43,{"$f":"VLOOKUP(M25955,DFL!A:E,5,0)","v":0.35},{"$f":"P25955-(P25955/1.0025)","v":0.22610972568577381},90.67]
[{"$error":"#N/A"},null,null,null,null,3863395,null,"SPR","CT","COFFEE,K-CUP,CRML VANILLA",null,148.38,48,{"$f":"VLOOKUP(M25974,DFL!A:H,8,0)","v":0.3},{"$f":"P25974-(P25974/1.0025)","v":0.25902743142144402},103.87]
[{"$error":"#N/A"},null,null,null,null,9702771,null,"SPR","EA","CRTDG,LSR,557,657,BK,73.9K",null,159,43,{"$f":"VLOOKUP(M25989,DFL!A:H,8,0)","v":0.3},{"$f":"P25989-(P25989/1.0025)","v":0.27755610972567979},111.3]
[{"$error":"#N/A"},null,null,null,null,556685,"BSD","BSD","EA","STPCN,SMPH,RECT,SS,50LBS",null,253.33,31,{"$f":"VLOOKUP(M25995,DFL!A:E,5,0)","v":0.64},{"$f":"P25995-(P25995/1.0025)","v":0.22743142144638284},91.2]
[{"$error":"#N/A"},null,null,null,null,3862432,"SPR","SPR","CT","TEA,K-CUP,ENG BREAKFAST",null,131.68,48,{"$f":"VLOOKUP(M26010,DFL!A:H,8,0)","v":0.3},{"$f":"P26010-(P26010/1.0025)","v":0.22987531172068998},92.18]
[{"$error":"#N/A"},null,null,null,null,149659,"SPR","SPR","EA","CRTDG,HP CE250A, BK",null,195.89,44,{"$f":"VLOOKUP(M26025,DFL!A:H,8,0)","v":0.5},{"$f":"P26025-(P26025/1.0025)","v":0.24426433915211021},97.95]
[{"$error":"#N/A"},null,null,null,null,8915177,"SPR","SPR","CT","CLEANER,HEAVY DUTY,HOT SPR",null,181.87,19,{"$f":"VLOOKUP(M26044,DFL!A:H,8,0)","v":0.45},{"$f":"P26044-(P26044/1.0025)","v":0.24945137157106956},100.03]
[{"$error":"#N/A"},null,null,null,null,1454608,null,"SPR","CT","Green Earth Daily Floor Clner",null,187.94,19,{"$f":"VLOOKUP(M26059,DFL!A:H,8,0)","v":0.45},{"$f":"P26059-(P26059/1.0025)","v":0.25778054862841771},103.37]
[{"$error":"#N/A"},null,null,null,null,8441058,"SPR","SPR","CT","WASHER,WALL, 20OZ CAN, 12/CTN",null,203.03,19,{"$f":"VLOOKUP(M26068,DFL!A:H,8,0)","v":0.45},{"$f":"P26068-(P26068/1.0025)","v":0.2784788029925096},111.67]
[{"$error":"#N/A"},null,null,null,null,8268151,null,"SPR","CA","EASEL,PAD,TABLETOP,PRIMARY",null,258.52,30,{"$f":"VLOOKUP(M26080,DFL!A:H,8,0)","v":0.57999999999999996},{"$f":"P26080-(P26080/1.0025)","v":0.2707730673316604},108.58]
[{"$error":"#N/A"},null,null,null,null,391499,"BSD","BSD","EA","CAN,BULLET,OPEN,115L,BSS",null,310.7,31,{"$f":"VLOOKUP(M26095,DFL!A:E,5,0)","v":0.64},{"$f":"P26095-(P26095/1.0025)","v":0.27892768079800589},111.85]
[{"$error":"#N/A"},null,null,null,null,9134956,"SPR","SPR","CA","GOJO Wipes 4/130ct",null,161.93,19,{"$f":"VLOOKUP(M26114,DFL!A:H,8,0)","v":0.45},{"$f":"P26114-(P26114/1.0025)","v":0.22209476309225806},89.06]
[{"$error":"#N/A"},null,null,null,null,589438,null,"SPR","EA","WATERHOG,CLASSIC,COAL,3X10",null,225.56,19,{"$f":"VLOOKUP(M26129,DFL!A:H,8,0)","v":0.45},{"$f":"P26129-(P26129/1.0025)","v":0.30937655860348912},124.06]
[{"$error":"#N/A"},null,null,null,null,8895779,"BSD","BSD","EA","Super High Yield Toner",null,206.99,43,{"$f":"VLOOKUP(M26140,DFL!A:E,5,0)","v":0.35},{"$f":"P26140-(P26140/1.0025)","v":0.33551122194512573},134.54]
[{"$error":"#N/A"},null,null,null,null,2146991,"BSD","BSD","CA","DISP,FOAM,CLARIO2.0,BLACK,12CT",null,221.02,48,{"$f":"VLOOKUP(M26164,DFL!A:E,5,0)","v":0.42},{"$f":"P26164-(P26164/1.0025)","v":0.31967581047381088},128.19]
[{"$error":"#N/A"},null,null,null,null,119293,null,"SPR","EA","TONER,REPLACE OKI B6300,BK,HY",null,256.89999999999998,44,{"$f":"VLOOKUP(M26165,DFL!A:H,8,0)","v":0.5},{"$f":"P26165-(P26165/1.0025)","v":0.32032418952618968},128.44999999999999]
[{"$error":"#N/A"},null,null,null,null,925866,"BSD","BSD","EA","TONER,2055 MICR HIGH YLD",null,279,44,{"$f":"VLOOKUP(M26184,DFL!A:E,5,0)","v":0.52},{"$f":"P26184-(P26184/1.0025)","v":0.33396508728179697},133.91999999999999]
[{"$error":"#N/A"},null,null,null,null,428162,null,"SPR","EA","WASTEBASKET,50l ES,13G,BGE",null,273.11,31,{"$f":"VLOOKUP(M26199,DFL!A:H,8,0)","v":0.49},{"$f":"P26199-(P26199/1.0025)","v":0.34735660847880467},139.29]
[{"$error":"#N/A"},null,null,null,null,7998198,"SPR","SPR","ST","DOORS,F/48 HUTCH,GLASS",null,250,48,{"$f":"VLOOKUP(M26215,DFL!A:H,8,0)","v":0.3},{"$f":"P26215-(P26215/1.0025)","v":0.43640897755611263},175]
[{"$error":"#N/A"},null,null,null,null,749038,"SPR","SPR","EA","CRTDG,EXTEND YIELD,Q5949X",null,317.99,44,{"$f":"VLOOKUP(M26234,DFL!A:H,8,0)","v":0.5},{"$f":"P26234-(P26234/1.0025)","v":0.39650872817955474},159]
[{"$error":"#N/A"},null,null,null,null,125315,null,"SPR","EA","BOARD,EARTHIT,DR/ERS,E/CLN,WHT",null,287.67,10,{"$f":"VLOOKUP(M26249,DFL!A:H,8,0)","v":0.36},{"$f":"P26249-(P26249/1.0025)","v":0.45912718204488101},184.11]
[{"$error":"#N/A"},null,null,null,null,8595430,"SPR","SPR","CT","DISPENSER,TCELL,CHROME",null,223.32,48,{"$f":"VLOOKUP(M26254,DFL!A:H,8,0)","v":0.3},{"$f":"P26254-(P26254/1.0025)","v":0.38982543640895528},156.32]
[{"$error":"#N/A"},null,null,null,null,8571161,null,"SPR","EA","VOYAGER 4310 UC V4310 C",null,233.95,23,{"$f":"VLOOKUP(M26272,DFL!A:H,8,0)","v":0.3},{"$f":"P26272-(P26272/1.0025)","v":0.40840399002493655},163.77000000000001]
[{"$error":"#N/A"},null,null,null,null,1244134,null,"SPR","EA","GRNDSKP SMOKE RECEPTACLE",null,240.12,48,{"$f":"VLOOKUP(M26285,DFL!A:H,8,0)","v":0.3},{"$f":"P26285-(P26285/1.0025)","v":0.41915211970072619},168.08]
[{"$error":"#N/A"},null,null,null,null,5953925,"SPR","SPR","EA","CHAIR,GUEST,4LEG,ARMLESS,LTHR",null,299,48,{"$f":"VLOOKUP(M26304,DFL!A:H,8,0)","v":0.3},{"$f":"P26304-(P26304/1.0025)","v":0.521945137157104},209.3]
[{"$error":"#N/A"},null,null,null,null,4147466,"SPR","SPR","EA","CHAIR,GUEST,4LEG,W/ARM,LTHR",null,320,48,{"$f":"VLOOKUP(M26319,DFL!A:H,8,0)","v":0.3},{"$f":"P26319-(P26319/1.0025)","v":0.55860349127181053},224]
[{"$error":"#N/A"},null,null,null,null,4942979,"SPR","SPR","EA","FOLDINGTABLE,FOLDING,5FT",null,271.70999999999998,48,{"$f":"VLOOKUP(M26334,DFL!A:H,8,0)","v":0.3},{"$f":"P26334-(P26334/1.0025)","v":0.47431421446381705},190.2]
[{"$error":"#N/A"},null,null,null,null,9491710,null,"SPR","EA","LEG SET 60/72 TABLE DESK",null,283.78451902402543,48,{"$f":"VLOOKUP(M26345,DFL!A:H,8,0)","v":0.3},{"$f":"P26345-(P26345/1.0025)","v":0.49538653366582253},198.65]
[{"$error":"#N/A"},null,null,null,null,7475664,"SPR","SPR","ST","DOORS,F/72 HUTCH,GLASS",null,348,48,{"$f":"VLOOKUP(M26355,DFL!A:H,8,0)","v":0.3},{"$f":"P26355-(P26355/1.0025)","v":0.60748129675809537},243.6]
[{"$error":"#N/A"},null,null,null,null,7197083,null,"SPR","EA","COOLER,WATER,TOP LOAD,WHITE",null,302.89,48,{"$f":"VLOOKUP(M26374,DFL!A:H,8,0)","v":0.3},{"$f":"P26374-(P26374/1.0025)","v":0.52872817955110918},212.02]
[{"$error":"#N/A"},null,null,null,null,1256239,null,"SPR","EA","OMX Toner HP 5500 Magenta",null,440.99,44,{"$f":"VLOOKUP(M26389,DFL!A:H,8,0)","v":0.5},{"$f":"P26389-(P26389/1.0025)","v":0.54987531172068316},220.5]
[{"$error":"#N/A"},null,null,null,null,100000,"BSD","BSD","EA","OVERDRIVE,INTEL 150MHZ/MMX",null,399,48,{"$f":"VLOOKUP(M26404,DFL!A:E,5,0)","v":0.42},{"$f":"P26404-(P26404/1.0025)","v":0.57710723192019486},231.42]
[{"$error":"#N/A"},null,null,null,null,9466073,"SPR","SPR","EA","DESK,STUDY,STERLING ASH",null,342,48,{"$f":"VLOOKUP(M26418,DFL!A:H,8,0)","v":0.3},{"$f":"P26418-(P26418/1.0025)","v":0.59700748129674253},239.4]
[{"$error":"#N/A"},null,null,null,null,699423,null,"SPR","EA","TONER,REPLACE HP 64X, MICR",null,488.75,44,{"$f":"VLOOKUP(M26425,DFL!A:H,8,0)","v":0.5},{"$f":"P26425-(P26425/1.0025)","v":0.60942643391518914},244.38]
[{"$error":"#N/A"},null,null,null,null,828986,"SPR","SPR","EA","CRTDG,CE342A,HP ENT 700,YW",null,508.16,44,{"$f":"VLOOKUP(M26440,DFL!A:H,8,0)","v":0.5},{"$f":"P26440-(P26440/1.0025)","v":0.63361596009974619},254.08]
[{"$error":"#N/A"},null,null,null,null,1259092,null,"SPR","CT","Twisted Loop Dust Mop 36'",null,563.08000000000004,19,{"$f":"VLOOKUP(M26459,DFL!A:H,8,0)","v":0.45},{"$f":"P26459-(P26459/1.0025)","v":0.7722942643391093},309.69]
[{"$error":"#N/A"},null,null,null,null,6667204,null,"SPR","EA","SAVI 8220 UC S8220-M C USB-A",null,417.95,23,{"$f":"VLOOKUP(M26474,DFL!A:H,8,0)","v":0.3},{"$f":"P26474-(P26474/1.0025)","v":0.72960099750622476},292.57]
[{"$error":"#N/A"},null,null,null,null,7429180,null,"SPR","EA","Chair,Serta,Eco, MB,Fbrc,Gry",null,549.99,48,{"$f":"VLOOKUP(M26491,DFL!A:H,8,0)","v":0.3},{"$f":"P26491-(P26491/1.0025)","v":0.96007481296754804},384.99]
[{"$error":"#N/A"},null,null,null,null,7145763,"BSD","BSD","EA","TONER,HIGHYIELD,MICR,SECURE",null,672.25,44,{"$f":"VLOOKUP(M26495,DFL!A:E,5,0)","v":0.52},{"$f":"P26495-(P26495/1.0025)","v":0.80468827930172893},322.68]
[{"$error":"#N/A"},null,null,null,null,905305,"BSD","BSD","EA","TONER,4015/4515,MICR,HY,BLACK",null,697.62,44,{"$f":"VLOOKUP(M26510,DFL!A:E,5,0)","v":0.52},{"$f":"P26510-(P26510/1.0025)","v":0.83506234413965785},334.86]
[{"$error":"#N/A"},null,null,null,null,4655977,null,"SPR","EA","DESK,KORU,STRAIGHT,ESPRESSOOAK",null,601.19000000000005,48,{"$f":"VLOOKUP(M26529,DFL!A:H,8,0)","v":0.3},{"$f":"P26529-(P26529/1.0025)","v":1.0494513715710241},420.83]
[{"$error":"#N/A"},null,null,null,null,6638776,"SPR","SPR","EA","TOP,24X72,MY",null,522,48,{"$f":"VLOOKUP(M26544,DFL!A:H,8,0)","v":0.3},{"$f":"P26544-(P26544/1.0025)","v":0.91122194513712884},365.4]
[{"$error":"#N/A"},null,null,null,null,6778545,"BSD","BSD","EA","imageCLASS MF753Cdw",null,1400.57,48,{"$f":"VLOOKUP(M26549,DFL!A:E,5,0)","v":0.42},{"$f":"P26549-(P26549/1.0025)","v":2.0257605985036662},812.33]
[{"$error":"#N/A"},null,null,null,null,8648394,null,"SPR","EA","S8245-M UNLIMITED TALK TIME",null,583.95000000000005,23,{"$f":"VLOOKUP(M26565,DFL!A:H,8,0)","v":0.3},{"$f":"P26565-(P26565/1.0025)","v":1.0193765586034829},408.77]
[{"$error":"#N/A"},null,null,null,null,6035522,"BSD","BSD","EA","Flavai 600 Chill",null,799,48,{"$f":"VLOOKUP(M26580,DFL!A:E,5,0)","v":0.42},{"$f":"P26580-(P26580/1.0025)","v":1.1556608478802559},463.42]
[{"$error":"#N/A"},null,null,null,null,7230633,"BSD","BSD","EA","PRINTER,CANON,MAXIFY,GX7020",null,899.99,48,{"$f":"VLOOKUP(M26599,DFL!A:E,5,0)","v":0.42},{"$f":"P26599-(P26599/1.0025)","v":1.3017206982543712},521.99]
[{"$error":"#N/A"},null,null,null,null,1020064,"BSD","BSD","EA","array signal sensor puck",null,1055,48,{"$f":"VLOOKUP(M26614,DFL!A:E,5,0)","v":0.42},{"$f":"P26614-(P26614/1.0025)","v":1.5259351620946973},611.9]
[{"$error":"#N/A"},null,null,null,null,715629,"SPR","SPR","EA","TABLETOP,42IN DIAMETER,MY",null,981,48,{"$f":"VLOOKUP(M26621,DFL!A:H,8,0)","v":0.3},{"$f":"P26621-(P26621/1.0025)","v":1.7124688279301381},686.7]
[{"$error":"#N/A"},null,null,null,null,147226,null,"SPR","EA","NEO-FLEX MOBILE MEDIACENTER VH",null,1390,48,{"$f":"VLOOKUP(M26635,DFL!A:H,8,0)","v":0.3},{"$f":"P26635-(P26635/1.0025)","v":2.4264339152118737},973]
[{"$error":"#N/A"},null,null,null,null,9183542,null,"SPR","EA","DESK,HEIGHTADJ,STOR,SANDOAK",null,2514,48,{"$f":"VLOOKUP(M26650,DFL!A:H,8,0)","v":0.3},{"$f":"P26650-(P26650/1.0025)","v":4.3885286783040556},1759.8]
[{"$error":"#N/A"},null,null,null,null,6637506,"SPR","SPR","PL","DETERGENT,DAWN,PRF,HD,1G",null,9280,19,{"$f":"VLOOKUP(M26669,DFL!A:H,8,0)","v":0.45},{"$f":"P26669-(P26669/1.0025)","v":12.728179551121684},5104]
[{"$error":"#N/A"},null,null,null,null,996194,null,"SPR","CA","PAD SCRUB 5400N GREEN 14}",null,20.09,19,{"$f":"VLOOKUP(M26680,DFL!A:H,8,0)","v":0.45},{"$f":"P26680-(P26680/1.0025)","v":2.7556109725685118E-2},11.05]
[{"$error":"#N/A"},null,null,null,null,996122,null,"SPR","CA","PAD CLEAN 5300N BLUE 14}",null,31.23,19,{"$f":"VLOOKUP(M26700,DFL!A:H,8,0)","v":0.45},{"$f":"P26700-(P26700/1.0025)","v":4.28428927680784E-2},17.18]
[{"$error":"#N/A"},null,null,null,null,185015,null,"SPR","CT","PAD STRIPPER 12}-RD",null,37.82,19,{"$f":"VLOOKUP(M26705,DFL!A:H,8,0)","v":0.45},{"$f":"P26705-(P26705/1.0025)","v":5.1870324189525974E-2},20.8]
[{"$error":"#N/A"},null,null,null,null,614564,null,"SPR","CA","SPONGE SCRUB LIGHTDUTY 20",null,25.28,19,{"$f":"VLOOKUP(M26720,DFL!A:H,8,0)","v":0.45},{"$f":"P26720-(P26720/1.0025)","v":3.4663341645885026E-2},13.9]
[{"$error":"#N/A"},null,null,null,null,827757,null,"SPR","CT","PAD CLEANER 19} BE",null,69.69,19,{"$f":"VLOOKUP(M26739,DFL!A:H,8,0)","v":0.45},{"$f":"P26739-(P26739/1.0025)","v":9.5586034912713558E-2},38.33]
[{"$error":"#N/A"},null,null,null,null,995609,null,"SPR","CA","PAD BURNISHING 3300N WHITE 27}",null,70.58,19,{"$f":"VLOOKUP(M26753,DFL!A:H,8,0)","v":0.45},{"$f":"P26753-(P26753/1.0025)","v":9.6807980049874232E-2},38.82]
[{"$error":"#N/A"},null,null,null,null,995546,null,"SPR","CA","HOLDER HANDBLOCK DOODLEBUG 4.  Case of 4.",null,299.29000000000002,19,{"$f":"VLOOKUP(M26770,DFL!A:H,8,0)","v":0.45},{"$f":"P26770-(P26770/1.0025)","v":0.41049875311719575},164.61]
[39.119999999999997,null,null,null,null,642866,null,"SPR","CT","REFILL,SCENTED,OIL,0.67OZ,2PK",null,73.58,19,{"$f":"VLOOKUP(M26789,DFL!A:H,8,0)","v":0.45},{"$f":"P26789-(P26789/1.0025)","v":0.10092269326683123},40.47]
[7.19,null,null,null,null,1400122,"SPR","SPR","EA","Lysol Spy Spring WaterFall",null,13.35,19,{"$f":"VLOOKUP(M26790,DFL!A:H,8,0)","v":0.45},{"$f":"P26790-(P26790/1.0025)","v":1.8304239401495614E-2},7.34]
[null,null,null,null,null,3279180,"Deviated Item","SPR","CA","PROTECTOR,FLOOR/WALL,ES1",null,12,48,{"$f":"VLOOKUP(M26805,DFL!A:H,8,0)","v":0.3},{"$f":"P26805-(P26805/1.0025)","v":2.094763092269325E-2},8.4]
[null,null,null,null,null,1391824,"Deviated Item","SPR","CT","Multi Green cleaner 5000ml",null,228.98,19,{"$f":"VLOOKUP(M26826,DFL!A:H,8,0)","v":0.45},{"$f":"P26826-(P26826/1.0025)","v":0.31406483790523509},125.94]
[null,null,null,null,null,726673,null,"SPR","EA","SANITZER,ADX,ADV,GRN,GEL,1.2L",null,25.05,22,{"$f":"VLOOKUP(M26840,DFL!A:H,8,0)","v":0.41},{"$f":"P26840-(P26840/1.0025)","v":3.685785536159436E-2},14.78]
[null,null,null,null,null,8664583,"BSD","BSD","EA","Laminator,Thermal,TL909-50",null,146.04,21,{"$f":"VLOOKUP(M26859,DFL!A:E,5,0)","v":0.42},{"$f":"P26859-(P26859/1.0025)","v":0.21122194513715442},84.7]
[null,null,null,null,null,8363302,"BSD","BSD","EA","PEN,GEL,XF,FXYC,3PK,BLK",null,9.61,33,{"$f":"VLOOKUP(M26874,DFL!A:E,5,0)","v":0.65},{"$f":"P26874-(P26874/1.0025)","v":8.3790523690772112E-3},3.36]
[null,null,null,null,null,3474245,"BSD","BSD","EA","PEN,GEL,XF,FXYC,3PK,ASST",null,9.61,33,{"$f":"VLOOKUP(M26875,DFL!A:E,5,0)","v":0.65},{"$f":"P26875-(P26875/1.0025)","v":8.3790523690772112E-3},3.36]
[null,null,null,null,null,2043678,"BSD","BSD","EA","BOARD,GLASS,72X48",null,483.27,10,{"$f":"VLOOKUP(M26899,DFL!A:E,5,0)","v":0.55000000000000004},{"$f":"P26899-(P26899/1.0025)","v":0.5423192019950136},217.47]
[null,null,null,null,null,8136209,"BSD","BSD","EA","WHITEBOARD,MGTC,2-SD,60X40,GRY",null,615.88,10,{"$f":"VLOOKUP(M26910,DFL!A:E,5,0)","v":0.55000000000000004},{"$f":"P26910-(P26910/1.0025)","v":0.69114713216953305},277.14999999999998]
[null,null,null,null,null,681265,"BSD","BSD","BX","COFFEE,KCUP,FLGRS,BTRYCAR,24BX",null,55.84,48,{"$f":"VLOOKUP(M26925,DFL!A:E,5,0)","v":0.42},{"$f":"P26925-(P26925/1.0025)","v":8.0773067331669779E-2},32.39]
[null,null,null,null,null,5312462,"BSD","BSD","EA","MFC-L5715DW LASER ALL-IN-ONE",null,1099.99,48,{"$f":"VLOOKUP(M26944,DFL!A:E,5,0)","v":0.42},{"$f":"P26944-(P26944/1.0025)","v":1.5909975062344301},{"$f":"ROUND(L26944*(1-N26944),2)","v":637.99}]
[null,null,null,null,null,626590,"BSD","BSD","PK","BATTERY,ALKA,9V,2",null,22.13,6,{"$f":"VLOOKUP(M26959,DFL!A:E,5,0)","v":0.56999999999999995},{"$f":"P26959-(P26959/1.0025)","v":2.3740648379051876E-2},9.52]
[null,null,null,null,null,5503047,"SPR","SPR","EA","TOP;24X60;MY",null,444,48,{"$f":"VLOOKUP(M26972,DFL!A:H,8,0)","v":0.3},{"$f":"P26972-(P26972/1.0025)","v":0.77506234413965558},310.8]
[null,null,null,null,null,8347598,"SPR","SPR","PK","CHAIR;CLASSIC FOLDING;4-PK;CC",null,442.12,48,{"$f":"VLOOKUP(M26980,DFL!A:H,8,0)","v":0.3},{"$f":"P26980-(P26980/1.0025)","v":0.77177057356607293},309.48]
[null,null,null,null,null,6078604,"SPR","SPR","EA","BOARD;GLASS;INVISAMT;48X48",null,657.02,10,{"$f":"VLOOKUP(M26995,DFL!A:H,8,0)","v":0.36},{"$f":"P26995-(P26995/1.0025)","v":1.0486034912718196},420.49]
[null,null,null,null,null,9622896,"SPR","SPR","EA","BINDER;NONSTCK;D-RING;6\";BE",null,79.13,8,{"$f":"VLOOKUP(M27014,DFL!A:H,8,0)","v":0.55000000000000004},{"$f":"P27014-(P27014/1.0025)","v":8.8802992518701274E-2},35.61]
[null,null,null,null,null,728665,"SPR","SPR","EA","WIPE;BOARD;DRYERASE;50",null,12.34,48,{"$f":"VLOOKUP(M27029,DFL!A:H,8,0)","v":0.3},{"$f":"P27029-(P27029/1.0025)","v":2.1546134663340766E-2},8.64]
[null,null,null,null,null,546426,null,"SPR","BX","SPOON;BXD;HVY/MED WEIGHT;BK",null,11.29,18,{"$f":"VLOOKUP(M27045,DFL!A:H,8,0)","v":0.44},{"$f":"P27045-(P27045/1.0025)","v":1.576059850374012E-2},6.32]
[null,null,null,null,null,4339308,"SPR","SPR","EA","PLANNER;WK/MTH;VIENNA;11X9",null,29.87,11,{"$f":"VLOOKUP(M27050,DFL!A:H,8,0)","v":0.46},{"$f":"P27050-(P27050/1.0025)","v":4.0224438902743742E-2},16.13]
[null,null,null,null,null,679739,"SPR","SPR","CT","PAD;INK;FINGERPRINT;BLACK",null,125.88,24,{"$f":"VLOOKUP(M27065,DFL!A:H,8,0)","v":0.55000000000000004},{"$f":"P27065-(P27065/1.0025)","v":0.14127182044887832},{"$f":"ROUND(L27065*(1-N27065),2)","v":56.65}]
[null,null,null,null,null,354472,"SPR","SPR","EA","FILE;MAGAZINE;JUMBO",null,26.24,31,{"$f":"VLOOKUP(M27084,DFL!A:H,8,0)","v":0.49},{"$f":"P27084-(P27084/1.0025)","v":3.3366583541146966E-2},13.38]
[null,null,null,null,null,354452,"SPR","SPR","EA","CUP;PENCIL;LARGE",null,11.88,31,{"$f":"VLOOKUP(M27088,DFL!A:H,8,0)","v":0.49},{"$f":"P27088-(P27088/1.0025)","v":1.5112219451371089E-2},6.06]
[null,null,null,null,null,970227,"SPR","SPR","EA","DRAWER;LTR ARCHIVE;18\";BK",null,64.45,31,{"$f":"VLOOKUP(M27115,DFL!A:H,8,0)","v":0.49},{"$f":"P27115-(P27115/1.0025)","v":8.197007481296481E-2},32.869999999999997]
[null,null,null,null,null,6262501,"SPR","SPR","EA","STRAP;EASYHANG;MEDIUM",null,9.17,5,{"$f":"VLOOKUP(M27120,DFL!A:H,8,0)","v":0.45},{"$f":"P27120-(P27120/1.0025)","v":1.2568578553615595E-2},5.04]
[null,null,null,null,null,3380618,"SPR","SPR","PL","CLEANER;REFILL;GRMCDL;128OZ",null,7054.32,19,{"$f":"VLOOKUP(M27135,DFL!A:H,8,0)","v":0.45},{"$f":"P27135-(P27135/1.0025)","v":9.6755112219448165},3879.88]
[null,null,null,null,null,9818259,"SPR","SPR","BX","NOTEPAD;MINI;STCKY;RLD;AST",null,24.94,30,{"$f":"VLOOKUP(M27154,DFL!A:H,8,0)","v":0.57999999999999996},{"$f":"P27154-(P27154/1.0025)","v":2.6109725685785179E-2},10.47]
[null,null,null,null,null,810176,"SPR","SPR","PK","FLAGS;POST-IT;1\";100CT;WE",null,8.5299999999999994,35,{"$f":"VLOOKUP(M27161,DFL!A:H,8,0)","v":0.6},{"$f":"P27161-(P27161/1.0025)","v":8.503740648378777E-3},3.41]
[null,null,null,null,null,208798,"SPR","SPR","EA","CLEANER;ALL PURPOSE;W/BLCH",null,6.13,19,{"$f":"VLOOKUP(M27185,DFL!A:H,8,0)","v":0.45},{"$f":"P27185-(P27185/1.0025)","v":8.4039900249375243E-3},3.37]
[null,null,null,null,null,7459782,"SPR","SPR","CT","WIPES; 38CT.; WINDEX",null,87,19,{"$f":"VLOOKUP(M27190,DFL!A:H,8,0)","v":0.45},{"$f":"P27190-(P27190/1.0025)","v":0.11932668329176721},47.85]
[null,null,null,null,null,238913,"SPR","SPR","EA","MOP;LG;BLND;WDBAND;LOOP;OE",null,17.010000000000002,19,{"$f":"VLOOKUP(M27205,DFL!A:H,8,0)","v":0.45},{"$f":"P27205-(P27205/1.0025)","v":2.3341645885286866E-2},9.36]
[null,null,null,null,null,8196884,null,"SPR","PL","BAG;KTCHN;TALL;GLAD;13 GAL",null,8884.2000000000007,12,{"$f":"VLOOKUP(M27220,DFL!A:H,8,0)","v":0.4},{"$f":"P27220-(P27220/1.0025)","v":13.2930673316705},5330.52]
[null,null,null,null,null,621086,"SPR","SPR","RL","LABEL;BADGE;ADH;WE;260",null,29.39,26,{"$f":"VLOOKUP(M27234,DFL!A:H,8,0)","v":0.44},{"$f":"P27234-(P27234/1.0025)","v":4.10473815461323E-2},16.46]
[null,null,null,null,null,274515,"SPR","SPR","RL","SEAL;MAILING;1\"DIA;TL;5000",null,56.2,27,{"$f":"VLOOKUP(M27255,DFL!A:H,8,0)","v":0.57999999999999996},{"$f":"P27255-(P27255/1.0025)","v":5.8852867830424316E-2},23.6]
[null,null,null,null,null,480254,"SPR","SPR","EA","NOTEBOOK;EXEC;CASEBND;12X8",null,41.21,30,{"$f":"VLOOKUP(M27260,DFL!A:H,8,0)","v":0.57999999999999996},{"$f":"P27260-(P27260/1.0025)","v":4.3167082294264247E-2},17.309999999999999]
[null,null,null,null,null,781282,"SPR","SPR","EA","HOLDER;PAD;LTR;VINYL;BLK",null,27.73,35,{"$f":"VLOOKUP(M27275,DFL!A:H,8,0)","v":0.6},{"$f":"P27275-(P27275/1.0025)","v":2.7655860349126371E-2},11.09]
[null,null,null,null,null,969980,"SPR","SPR","PK","NOTE;POST-IT;RCYC;3X5;12PK",null,38.340000000000003,30,{"$f":"VLOOKUP(M27290,DFL!A:H,8,0)","v":0.57999999999999996},{"$f":"P27290-(P27290/1.0025)","v":4.0149625935161026E-2},{"$f":"ROUND(L27290*(1-N27290),2)","v":16.100000000000001}]
[null,null,null,null,null,5426995,"SPR","SPR","PK","PEN;DOODLERZ;GEL STK;ASST;1",null,8.93,33,{"$f":"VLOOKUP(M27307,DFL!A:H,8,0)","v":0.55000000000000004},{"$f":"P27307-(P27307/1.0025)","v":1.00249376558601E-2},4.0199999999999996]
[null,null,null,null,null,7037936,"SPR","SPR","DZ","PEN; Z-GRIP RT BP; 0.7MM.BK",null,8.35,33,{"$f":"VLOOKUP(M27325,DFL!A:H,8,0)","v":0.55000000000000004},{"$f":"P27325-(P27325/1.0025)","v":9.3765586034910697E-3},3.76]
[null,null,null,null,null,7842084,"SPR","SPR","PK","PEN;BRUSH;MLDLNR;FLUO;5PK;AST",null,15.38,33,{"$f":"VLOOKUP(M27330,DFL!A:H,8,0)","v":0.55000000000000004},{"$f":"P27330-(P27330/1.0025)","v":1.7256857855361574E-2},6.92]
[null,null,null,null,null,8371833,"SPR","SPR","BX","PORTFOLIO;POLY;HVYWT;3HL;GN",null,41.25,35,{"$f":"VLOOKUP(M27345,DFL!A:H,8,0)","v":0.6},{"$f":"P27345-(P27345/1.0025)","v":4.1147132169573553E-2},16.5]
[null,null,null,null,null,669845,"SPR","SPR","EA","CRTDG;LSR;DELL 330-4130;BK",null,181.23,44,{"$f":"VLOOKUP(M27360,DFL!A:H,8,0)","v":0.5},{"$f":"P27360-(P27360/1.0025)","v":0.22598503740647402},90.62]
[null,null,null,null,null,862085,"SPR","SPR","PK","KIT;PG210XL;CL211XL;PH PPR",null,108.45,43,{"$f":"VLOOKUP(M27380,DFL!A:H,8,0)","v":0.3},{"$f":"P27380-(P27380/1.0025)","v":0.18932668329176749},75.92]
[null,null,null,null,null,156927,"SPR","SPR","EA","CRTDG;LSR;H625;H825;BK;3K",null,139.59,43,{"$f":"VLOOKUP(M27395,DFL!A:H,8,0)","v":0.3},{"$f":"P27395-(P27395/1.0025)","v":0.24366583541146269},{"$f":"ROUND(L27395*(1-N27395),2)","v":97.71}]
[null,null,null,null,null,189788,"SPR","SPR","EA","CRTDG;C9731A;HP5500/50;CYN",null,498.96,43,{"$f":"VLOOKUP(M27410,DFL!A:H,8,0)","v":0.3},{"$f":"P27410-(P27410/1.0025)","v":0.87099750623440286},349.27]
[null,null,null,null,null,360017,"SPR","SPR","EA","CRTDG;CF382A;HP PRO M476;YW",null,144.16,44,{"$f":"VLOOKUP(M27415,DFL!A:H,8,0)","v":0.5},{"$f":"P27415-(P27415/1.0025)","v":0.17975062344139303},72.08]
[null,null,null,null,null,487146,"SPR","SPR","PK","SCISSORS;KIDS;SFT;PNTD;12PK",null,54.5,7,{"$f":"VLOOKUP(M27430,DFL!A:H,8,0)","v":0.46},{"$f":"P27430-(P27430/1.0025)","v":7.3391521197006426E-2},29.43]
[null,null,null,null,null,119384,"SPR","SPR","EA","STAMP;SLFINK;MSG;10YR;PAID",null,55.34,24,{"$f":"VLOOKUP(M27453,DFL!A:H,8,0)","v":0.55000000000000004},{"$f":"P27453-(P27453/1.0025)","v":6.2094763092268579E-2},24.9]
[null,null,null,null,null,911362,"SPR","SPR","EA","STAMP;PRE-INKED;DRAFT;RD",null,15.64,24,{"$f":"VLOOKUP(M27465,DFL!A:H,8,0)","v":0.55000000000000004},{"$f":"P27465-(P27465/1.0025)","v":1.7556109725685332E-2},7.04]
[null,null,null,null,null,957021,"SPR","SPR","EA","KIT;ORDER;STAMP;CUSTOM;AST",null,88.61,24,{"$f":"VLOOKUP(M27480,DFL!A:H,8,0)","v":0.55000000000000004},{"$f":"P27480-(P27480/1.0025)","v":9.9426433915212442E-2},39.869999999999997]
[null,null,null,null,null,139505,"SPR","SPR","PK","NOTES;3X3;18PK",null,11.39,30,{"$f":"VLOOKUP(M27499,DFL!A:H,8,0)","v":0.57999999999999996},{"$f":"P27499-(P27499/1.0025)","v":1.1920199501246564E-2},4.78]
[null,null,null,null,null,139525,"SPR","SPR","PK","NOTES;3X3;24PK",null,15.16,30,{"$f":"VLOOKUP(M27500,DFL!A:H,8,0)","v":0.57999999999999996},{"$f":"P27500-(P27500/1.0025)","v":1.5885286783041686E-2},6.37]
[null,null,null,null,null,229236,"SPR","SPR","ST","SET;GORILLA BLOCKS;66PC",null,231.09,47,{"$f":"VLOOKUP(M27526,DFL!A:H,8,0)","v":0.5},{"$f":"P27526-(P27526/1.0025)","v":0.28815461346633242},115.55]
[null,null,null,null,null,353186,"SPR","SPR","ST","BRUSH;PAINT;DOOR KNOB;4CT",null,6.97,47,{"$f":"VLOOKUP(M27535,DFL!A:H,8,0)","v":0.5},{"$f":"P27535-(P27535/1.0025)","v":8.7032418952617263E-3},3.49]
[null,null,null,null,null,450568,"SPR","SPR","EA","PAINT;PREMIER TEMPERA;16OZ",null,15.67,47,{"$f":"VLOOKUP(M27550,DFL!A:H,8,0)","v":0.5},{"$f":"P27550-(P27550/1.0025)","v":1.9551122194513049E-2},7.84]
[null,null,null,null,null,9342897,"SPR","SPR","CT","BIN;BOOK;LG;BK 6",null,24.47,30,{"$f":"VLOOKUP(M27569,DFL!A:H,8,0)","v":0.57999999999999996},{"$f":"P27569-(P27569/1.0025)","v":2.5635910224439229E-2},10.28]
[null,null,null,null,null,6481694,"SPR","SPR","BX","KCUP;COOKIE;SUGAR;CINNAMON",null,36.03,48,{"$f":"VLOOKUP(M27584,DFL!A:H,8,0)","v":0.3},{"$f":"P27584-(P27584/1.0025)","v":6.28927680797986E-2},25.22]
[null,null,null,null,null,8749336,"SPR","SPR","PL","BAG;TRSH;DRWSTRNG;BLK;30GAL",null,3057.28,12,{"$f":"VLOOKUP(M27586,DFL!A:H,8,0)","v":0.4},{"$f":"P27586-(P27586/1.0025)","v":4.5744887780547288},1834.37]
[null,null,null,null,null,5258622,"SPR","SPR","CT","LINER;16GAL;24X32;1ML;B500",null,119.74,12,{"$f":"VLOOKUP(M27605,DFL!A:H,8,0)","v":0.4},{"$f":"P27605-(P27605/1.0025)","v":0.17915211970074552},71.84]
[null,null,null,null,null,5162730,"SPR","SPR","CA","SOAP; PROVON FOAM HNDWSH",null,125.44,19,{"$f":"VLOOKUP(M27620,DFL!A:H,8,0)","v":0.45},{"$f":"P27620-(P27620/1.0025)","v":0.17204488778054383},68.989999999999995]
[null,null,null,null,null,277268,"SPR","SPR","CA","NAPKIN;2-PLY;BRWN;6.5X9.85",null,167.76,40,{"$f":"VLOOKUP(M27639,DFL!A:H,8,0)","v":0.44},{"$f":"P27639-(P27639/1.0025)","v":0.23428927680797074},93.95]
[null,null,null,null,null,752466,"SPR","SPR","DZ","SCREEN;URINAL;BLOCK;GRNAPL",null,38.770000000000003,19,{"$f":"VLOOKUP(M27642,DFL!A:H,8,0)","v":0.45},{"$f":"P27642-(P27642/1.0025)","v":5.3167082294262258E-2},21.32]
[null,null,null,null,null,8008204,"SPR","SPR","CT","DISFCLNR; TBO PRO 121FO",null,96.36,19,{"$f":"VLOOKUP(M27670,DFL!A:H,8,0)","v":0.45},{"$f":"P27670-(P27670/1.0025)","v":0.13216957605984447},53]
[null,null,null,null,null,7997906,"SPR","SPR","PL","WATER;SPRING;1GAL;NATURAL",null,602.89,48,{"$f":"VLOOKUP(M27675,DFL!A:H,8,0)","v":0.3},{"$f":"P27675-(P27675/1.0025)","v":1.0524189526184387},422.02]
[null,null,null,null,null,3658235,"SPR","SPR","EA","HORZ 4- CMPRTMT ORGNZR; BK",null,82.69,31,{"$f":"VLOOKUP(M27690,DFL!A:H,8,0)","v":0.49},{"$f":"P27690-(P27690/1.0025)","v":0.10516209476308802},42.17]
[null,null,null,null,null,7530411,"SPR","SPR","EA","CARTRIDGE;INK;PIGMENT;BK",null,42.33,43,{"$f":"VLOOKUP(M27705,DFL!A:H,8,0)","v":0.3},{"$f":"P27705-(P27705/1.0025)","v":7.3890274314212689E-2},29.63]
[null,null,null,null,null,9788765,"SPR","SPR","CA","GLOVES;NITRILE;6MIL;L",null,300,22,{"$f":"VLOOKUP(M27715,DFL!A:H,8,0)","v":0.41},{"$f":"P27715-(P27715/1.0025)","v":0.44139650872816105},177]
[null,null,null,null,null,951707,"SPR","SPR","EA","PAINT;TEMP;WASH;16OZ",null,4.25,47,{"$f":"VLOOKUP(M27740,DFL!A:H,8,0)","v":0.5},{"$f":"P27740-(P27740/1.0025)","v":5.311720698254252E-3},2.13]
[null,null,null,null,null,673554,"SPR","SPR","CA","TEA;FRESHPK;LEM;HERB",null,95.26,48,{"$f":"VLOOKUP(M27745,DFL!A:H,8,0)","v":0.3},{"$f":"P27745-(P27745/1.0025)","v":0.16628428927680261},66.680000000000007]
[null,null,null,null,null,7479455,"SPR","SPR","EA","PAD;REPLACEMENT;E4822;RED",null,6.95,24,{"$f":"VLOOKUP(M27760,DFL!A:H,8,0)","v":0.55000000000000004},{"$f":"P27760-(P27760/1.0025)","v":7.8054862842891204E-3},3.13]
[null,null,null,null,null,3736786,"SPR","SPR","EA","STAMP;ECOPRINTY;RCEIVDDATE",null,30.95,24,{"$f":"VLOOKUP(M27775,DFL!A:H,8,0)","v":0.55000000000000004},{"$f":"P27775-(P27775/1.0025)","v":3.4738154613465966E-2},13.93]
[null,null,null,null,null,9693525,"SPR","SPR","EA","TOTE;MINI;W/HANDLE;BLUE",null,3.46,31,{"$f":"VLOOKUP(M27788,DFL!A:H,8,0)","v":0.49},{"$f":"P27788-(P27788/1.0025)","v":4.3890274314213329E-3},1.76]
[null,null,null,null,null,7962872,"SPR","SPR","EA","CUP;PAINT;BLUE",null,6.3,47,{"$f":"VLOOKUP(M27810,DFL!A:H,8,0)","v":0.5},{"$f":"P27810-(P27810/1.0025)","v":7.8553615960097467E-3},3.15]
[null,null,null,null,null,6023750,"SPR","SPR","TP","PENCIL;MCH;CLRPNT;.7MM;10",null,44.7,33,{"$f":"VLOOKUP(M27815,DFL!A:H,8,0)","v":0.55000000000000004},{"$f":"P27815-(P27815/1.0025)","v":5.0174563591021126E-2},20.12]
[null,null,null,null,null,8175859,"SPR","SPR","EA","PRINTER;AIO;TS3520WH",null,99.99,48,{"$f":"VLOOKUP(M27830,DFL!A:H,8,0)","v":0.3},{"$f":"P27830-(P27830/1.0025)","v":0.17453865336658225},69.989999999999995]
[null,null,null,null,null,7383937,"SPR","SPR","BX","MKR;10CT;FL;S/SCENTS",null,5.44,47,{"$f":"VLOOKUP(M27845,DFL!A:H,8,0)","v":0.5},{"$f":"P27845-(P27845/1.0025)","v":6.7830423940149487E-3},2.72]
[null,null,null,null,null,7615330,"SPR","SPR","ST","BIN;SEE&STOR;CREATE-A-SPACE",null,29.3,3,{"$f":"VLOOKUP(M27861,DFL!A:H,8,0)","v":0.5},{"$f":"P27861-(P27861/1.0025)","v":3.6533665835410289E-2},14.65]
[null,null,null,null,null,6169964,"SPR","SPR","EA","NTEBK;5STAR;WIRE;1SUB;8.5X11",null,9.06,30,{"$f":"VLOOKUP(M27880,DFL!A:H,8,0)","v":0.57999999999999996},{"$f":"P27880-(P27880/1.0025)","v":9.5012468827926355E-3},3.81]
[null,null,null,null,null,7675833,"SPR","SPR","EA","KEYBOARD;WIRED;BK",null,24.99,29,{"$f":"VLOOKUP(M27895,DFL!A:H,8,0)","v":0.3},{"$f":"P27895-(P27895/1.0025)","v":4.3615960099749884E-2},17.489999999999998]
[null,null,null,null,null,9695456,"SPR","SPR","BX","MARKER;WASH;RET;CLICKS;10CT",null,16,28,{"$f":"VLOOKUP(M27900,DFL!A:H,8,0)","v":0.48},{"$f":"P27900-(P27900/1.0025)","v":2.0748129675810745E-2},8.32]
[null,null,null,null,null,8283697,"SPR","SPR","EA","BOOK;SKETCH;POLY;BLKCVR;12",null,9.59,35,{"$f":"VLOOKUP(M27915,DFL!A:H,8,0)","v":0.6},{"$f":"P27915-(P27915/1.0025)","v":9.5760598503740191E-3},3.84]
[null,null,null,null,null,9963495,"SPR","SPR","PK","HIGHLITER;SHARPIE;PKT;ASST",null,32.840000000000003,28,{"$f":"VLOOKUP(M27934,DFL!A:H,8,0)","v":0.48},{"$f":"P27934-(P27934/1.0025)","v":4.2593516209475268E-2},17.079999999999998]
[null,null,null,null,null,577412,"SPR","SPR","EA","BOARD;WTERS 36\"X48\";BK",null,216.45,10,{"$f":"VLOOKUP(M27950,DFL!A:H,8,0)","v":0.36},{"$f":"P27950-(P27950/1.0025)","v":0.34546134663341377},138.53]
[null,null,null,null,null,4000631,"SPR","SPR","PK","TAPE;PACKAGNG;MAX;55YD;24PK",null,330.48,39,{"$f":"VLOOKUP(M27965,DFL!A:H,8,0)","v":0.5},{"$f":"P27965-(P27965/1.0025)","v":0.41206982543639015},165.24]
[null,null,null,null,null,8214305,"SPR","SPR","EA","ORGANIZER;PEN;CUP;MODULAR",null,12.58,31,{"$f":"VLOOKUP(M27970,DFL!A:H,8,0)","v":0.49},{"$f":"P27970-(P27970/1.0025)","v":1.6009975062344139E-2},6.42]
[null,null,null,null,null,8682851,"SPR","SPR","EA","INSERT;BUMP CAP;BK",null,11.25,22,{"$f":"VLOOKUP(M27985,DFL!A:H,8,0)","v":0.41},{"$f":"P27985-(P27985/1.0025)","v":1.6558603491271029E-2},6.64]
[null,null,null,null,null,4368904,"BSD","BSD","EA","DETERGENT;TIDE;LQ;OGNL;84OZ",null,21.77,19,{"$f":"VLOOKUP(M28006,DFL!A:E,5,0)","v":0.5},{"$f":"P28006-(P28006/1.0025)","v":2.7157107231920108E-2},10.89]
[null,null,null,null,null,3907611,"SPR","SPR","EA","GLASSES;SAFETY;BLUE;ORANGE",null,27.95,22,{"$f":"VLOOKUP(M28020,DFL!A:H,8,0)","v":0.41},{"$f":"P28020-(P28020/1.0025)","v":4.1122194513715016E-2},16.489999999999998]
[null,null,null,null,null,8443246,"SPR","SPR","CT","CANDY;HOSTESSMIX;5LB",null,39.57,48,{"$f":"VLOOKUP(M28035,DFL!A:H,8,0)","v":0.3},{"$f":"P28035-(P28035/1.0025)","v":6.9077306733166921E-2},27.7]
[null,null,null,null,null,4417888,"SPR","SPR","PK","BADGE;WIDE;3.375X2.125;WH",null,51.92,5,{"$f":"VLOOKUP(M28040,DFL!A:H,8,0)","v":0.45},{"$f":"P28040-(P28040/1.0025)","v":7.1221945137153853E-2},28.56]
[null,null,null,null,null,6635026,"SPR","SPR","EA","CRTDG;LJ;HP 210X;CYN;5.5K",null,338.11,41,{"$f":"VLOOKUP(M28065,DFL!A:H,8,0)","v":0.37},{"$f":"P28065-(P28065/1.0025)","v":0.53119700748129617},213.01]
[null,null,null,null,null,5183739,"SPR","SPR","EA","ADDITIVE;EYEWASH;8Z;5-20GAL",null,14.13,22,{"$f":"VLOOKUP(M28071,DFL!A:H,8,0)","v":0.41},{"$f":"P28071-(P28071/1.0025)","v":2.0798004987531371E-2},8.34]
[null,null,null,null,null,8863383,"SPR","SPR","PK","BRZYBLMICROFBRDISHCLTH 25PK",null,51.25,19,{"$f":"VLOOKUP(M28090,DFL!A:H,8,0)","v":0.45},{"$f":"P28090-(P28090/1.0025)","v":7.0299251870324042E-2},28.19]
[null,null,null,null,null,3516530,"SPR","SPR","CT","ABUELITA;MEXICAN;HOT;CHOCOLATE",null,201,48,{"$f":"VLOOKUP(M28105,DFL!A:H,8,0)","v":0.3},{"$f":"P28105-(P28105/1.0025)","v":0.35087281795509284},140.69999999999999]
[null,null,null,null,null,7170422,"SPR","SPR","BX","PEN;BP;0.7MM;AST;25/BX",null,23.4,33,{"$f":"VLOOKUP(M28124,DFL!A:H,8,0)","v":0.55000000000000004},{"$f":"P28124-(P28124/1.0025)","v":2.6259351620947058E-2},10.53]
[null,null,null,null,null,3579368,"SPR","SPR","PK","ORIGINAL;POWDERED;CREAMER;2CT",null,36.950000000000003,48,{"$f":"VLOOKUP(M28138,DFL!A:H,8,0)","v":0.3},{"$f":"P28138-(P28138/1.0025)","v":6.4513715710720732E-2},25.87]
[null,null,null,null,null,9357897,"SPR","SPR","CA","CLEANER;MS;ORGL;40Z;YLW",null,117.44,19,{"$f":"VLOOKUP(M28141,DFL!A:H,8,0)","v":0.45},{"$f":"P28141-(P28141/1.0025)","v":0.16107231920199183},64.59]
[null,null,null,null,null,6314989,"SPR","SPR","EA","PLANNER;BADGEGEO;WM;LG",null,34.19,11,{"$f":"VLOOKUP(M28160,DFL!A:H,8,0)","v":0.46},{"$f":"P28160-(P28160/1.0025)","v":4.6034912718202037E-2},18.46]
[null,null,null,null,null,6492217,"SPR","SPR","EA","ORGANIZER;POD;DISPENSER;BLK",null,124.99,31,{"$f":"VLOOKUP(M28175,DFL!A:H,8,0)","v":0.49},{"$f":"P28175-(P28175/1.0025)","v":0.15895261845385988},63.74]
[null,null,null,null,null,5305723,"SPR","SPR","EA","CUTLERY;FORK;REFILLS;BLACK",null,42.99,18,{"$f":"VLOOKUP(M28190,DFL!A:H,8,0)","v":0.44},{"$f":"P28190-(P28190/1.0025)","v":6.0024937655860811E-2},24.07]
[null,null,null,null,null,5819532,"SPR","SPR","EA","ORGANIZER;LID;CUP;BROWN",null,92.99,31,{"$f":"VLOOKUP(M28196,DFL!A:H,8,0)","v":0.49},{"$f":"P28196-(P28196/1.0025)","v":0.11825436408977197},47.42]
[null,null,null,null,null,3850960,"SPR","SPR","PK","BINDER;DUR VW;1\"DR;4PK;AST",null,33.33,8,{"$f":"VLOOKUP(M28211,DFL!A:H,8,0)","v":0.55000000000000004},{"$f":"P28211-(P28211/1.0025)","v":3.7406483790523026E-2},15]
[null,null,null,null,null,324948,"SPR","SPR","EA","STRIPPER;FLOOR;AX-IT+;5GAL",null,122.78,19,{"$f":"VLOOKUP(M28230,DFL!A:H,8,0)","v":0.45},{"$f":"P28230-(P28230/1.0025)","v":0.16840399002492745},67.53]
[null,null,null,null,null,8375790,null,"SPR","EA","PRINTER;AIO;INKJET;COLOR",null,949.99,48,{"$f":"VLOOKUP(M28245,DFL!A:H,8,0)","v":0.3},{"$f":"P28245-(P28245/1.0025)","v":1.6583291770573396},664.99]
[null,null,null,null,null,8640758,"SPR","SPR","EA","DEGREASER;DAWNPR;MS;HD;32OZ",null,10.82,19,{"$f":"VLOOKUP(M28260,DFL!A:H,8,0)","v":0.45},{"$f":"P28260-(P28260/1.0025)","v":1.4837905236907645E-2},5.95]
[null,null,null,null,null,8222282,"SPR","SPR","EA","PRINTER;LABEL;QUICK",null,403.08,48,{"$f":"VLOOKUP(M28269,DFL!A:H,8,0)","v":0.3},{"$f":"P28269-(P28269/1.0025)","v":0.70364089775557659},282.16000000000003]
[null,null,null,null,null,9733291,"SPR","SPR","PK","BATTERY;ALKA;HI ENRGY;AAA;4PK",null,7.53,6,{"$f":"VLOOKUP(M28295,DFL!A:H,8,0)","v":0.47},{"$f":"P28295-(P28295/1.0025)","v":9.9501246882791605E-3},3.99]
[null,null,null,null,null,5978454,"SPR","SPR","EA","BINDER;DUR VW;3\"DR; RED",null,15.35,8,{"$f":"VLOOKUP(M28300,DFL!A:H,8,0)","v":0.55000000000000004},{"$f":"P28300-(P28300/1.0025)","v":1.7231920199501261E-2},6.91]
[null,null,null,null,null,5730294,"SPR","SPR","EA","PRINTER;MFM;IMGCLSS MF462DW",null,799.2,48,{"$f":"VLOOKUP(M28315,DFL!A:H,8,0)","v":0.3},{"$f":"P28315-(P28315/1.0025)","v":1.3951122194513346},559.44000000000005]
[null,null,null,null,null,5806598,"SPR","SPR","EA","CRTDG;LJ;HP 213A;MA;3K",null,267.36,41,{"$f":"VLOOKUP(M28330,DFL!A:H,8,0)","v":0.37},{"$f":"P28330-(P28330/1.0025)","v":0.42004987531171878},168.44]
[null,null,null,null,null,6935286,"SPR","SPR","EA","PRINTER;WORKFORCE WF-C4310",null,249.99,48,{"$f":"VLOOKUP(M28342,DFL!A:H,8,0)","v":0.3},{"$f":"P28342-(P28342/1.0025)","v":0.43638403990024699},174.99]
[null,null,null,null,null,9995065,"SPR","SPR","BX","VARIETYPACK;MINIS;NABISCO",null,20.55,48,{"$f":"VLOOKUP(M28365,DFL!A:H,8,0)","v":0.3},{"$f":"P28365-(P28365/1.0025)","v":3.5885286783042147E-2},14.39]
[null,null,null,null,null,9452375,"SPR","SPR","EA","OCEANMAT;ST;36X48;RC;IC",null,249.1,15,{"$f":"VLOOKUP(M28380,DFL!A:H,8,0)","v":0.5},{"$f":"P28380-(P28380/1.0025)","v":0.31059850374063558},124.55]
[null,null,null,null,null,5571858,"SPR","SPR","EA","OCEANMAT;TX;45X53;25X12;IC",null,287.58,15,{"$f":"VLOOKUP(M28385,DFL!A:H,8,0)","v":0.5},{"$f":"P28385-(P28385/1.0025)","v":0.35857855361595625},143.79]
[null,null,null,null,null,252417,"SPR","SPR","RM","PAPER;MLTI-PURPOSE;PK;500SH",null,33.35,30,{"$f":"VLOOKUP(M28400,DFL!A:H,8,0)","v":0.57999999999999996},{"$f":"P28400-(P28400/1.0025)","v":3.4937655860348471E-2},14.01]
[null,null,null,null,null,164721,"BSD","BSD","EA","REEL,F/ID CARD,BK",null,4.4800000000000004,5,{"$f":"VLOOKUP(M28415,DFL!A:E,5,0)","v":0.6},{"$f":"P28415-(P28415/1.0025)","v":4.4638403990024944E-3},1.79]
[null,null,null,null,null,398750,"BSD","BSD","EA","CASH BOX W/TRAY",null,70.55,48,{"$f":"VLOOKUP(M28435,DFL!A:E,5,0)","v":0.42},{"$f":"P28435-(P28435/1.0025)","v":0.10204488778054355},40.92]
[null,null,null,null,null,208059,"BSD","BSD","CA","SODA,7UP,12OZ,24/CA",null,21.03,48,{"$f":"VLOOKUP(M28450,DFL!A:E,5,0)","v":0.42},{"$f":"P28450-(P28450/1.0025)","v":3.0423940149624684E-2},12.2]
[null,null,null,null,null,5977134,"BSD","BSD","EA","FOOD,CHOC VRTY MINI,46.86OZ",null,99.93,48,{"$f":"VLOOKUP(M28455,DFL!A:E,5,0)","v":0.42},{"$f":"P28455-(P28455/1.0025)","v":0.14453865336658112},57.96]
[null,null,null,null,null,7162409,"BSD","BSD","EA","SCANNER,DOCUMENT,DS-410",null,399.99,48,{"$f":"VLOOKUP(M28470,DFL!A:E,5,0)","v":0.42},{"$f":"P28470-(P28470/1.0025)","v":0.57852867830422383},231.99]
[null,null,null,null,null,230077,"BSD","BSD","EA","TONER,REPLACE HP CP4005,MAGNTA",null,304.49,44,{"$f":"VLOOKUP(M28487,DFL!A:E,5,0)","v":0.52},{"$f":"P28487-(P28487/1.0025)","v":0.36448877805486291},146.16]
[null,null,null,null,null,754241,"SPR","SPR","EA","CREDENZA,SGL PED,LT,MAH",null,1775,48,{"$f":"VLOOKUP(M28505,DFL!A:H,8,0)","v":0.3},{"$f":"P28505-(P28505/1.0025)","v":3.0985037406483116},1242.5]
[null,null,null,null,null,8254282,"SPR","SPR","EA","SIGN,8.5X6.75,ADA,MEN,ACC",null,145.36000000000001,36,{"$f":"VLOOKUP(M28520,DFL!A:H,8,0)","v":0.36},{"$f":"P28520-(P28520/1.0025)","v":0.23199501246882903},93.03]
[null,null,null,null,null,8254461,"SPR","SPR","EA","SIGN,8.5X6.75,ADA,UNISX",null,145.36000000000001,36,{"$f":"VLOOKUP(M28525,DFL!A:H,8,0)","v":0.36},{"$f":"P28525-(P28525/1.0025)","v":0.23199501246882903},93.03]
[null,null,null,null,null,424774,"SPR","SPR","EA","STOOL,LAB,LIFT,SCREW,BLK VINYL",null,521,48,{"$f":"VLOOKUP(M28546,DFL!A:H,8,0)","v":0.3},{"$f":"P28546-(P28546/1.0025)","v":0.90947630922693179},364.7]
[null,null,null,null,null,604285,"SPR","SPR","EA","DRAWER,10 ORGANIZER,SKE",null,107.49,3,{"$f":"VLOOKUP(M28556,DFL!A:H,8,0)","v":0.5},{"$f":"P28556-(P28556/1.0025)","v":0.13403990024937684},53.75]
[null,null,null,null,null,9735627,"SPR","SPR","BX","BADGE,ADHSVE,RED BRDR,100CT",null,5.72,5,{"$f":"VLOOKUP(M28575,DFL!A:H,8,0)","v":0.45},{"$f":"P28575-(P28575/1.0025)","v":7.8553615960097467E-3},3.15]
[null,null,null,null,null,378545,"SPR","SPR","PK","POCKET,ZIPPER,BNDR,3PK,CR",null,10.72,35,{"$f":"VLOOKUP(M28590,DFL!A:H,8,0)","v":0.6},{"$f":"P28590-(P28590/1.0025)","v":1.0698254364089443E-2},4.29]
[null,null,null,null,null,1546543,"SPR","SPR","ST","Binder Pocket 5-Tab Asst 5/st",null,5.7,8,{"$f":"VLOOKUP(M28595,DFL!A:H,8,0)","v":0.55000000000000004},{"$f":"P28595-(P28595/1.0025)","v":6.4089775561098072E-3},2.57]
[null,null,null,null,null,510632,"SPR","SPR","EA","Q1 BINDER,EZD,2,BLK",null,25.33,8,{"$f":"VLOOKUP(M28619,DFL!A:H,8,0)","v":0.55000000000000004},{"$f":"P28619-(P28619/1.0025)","v":2.8428927680797855E-2},11.4]
[null,null,null,null,null,277954,"SPR","SPR","EA","BINDER,VIEW,HD,EZD,3,PCFC",null,38.979999999999997,8,{"$f":"VLOOKUP(M28626,DFL!A:H,8,0)","v":0.55000000000000004},{"$f":"P28626-(P28626/1.0025)","v":4.3740648379049674E-2},17.54]
[null,null,null,null,null,655610,"SPR","SPR","EA","EO,NON-STICK,CV,DR,1.5",null,21.97,35,{"$f":"VLOOKUP(M28645,DFL!A:H,8,0)","v":0.6},{"$f":"P28645-(P28645/1.0025)","v":2.1920199501247239E-2},8.7899999999999991]
[null,null,null,null,null,141884,"SPR","SPR","EA","BINDER VIEW,EO,D-RING,4,NY",null,54.54,8,{"$f":"VLOOKUP(M28660,DFL!A:H,8,0)","v":0.55000000000000004},{"$f":"P28660-(P28660/1.0025)","v":6.1197007481293753E-2},24.54]
[null,null,null,null,null,442551,"SPR","SPR","EA","BINDER,VIEW,SLANT,1.5,WE",null,18.21,8,{"$f":"VLOOKUP(M28675,DFL!A:H,8,0)","v":0.55000000000000004},{"$f":"P28675-(P28675/1.0025)","v":2.0423940149624897E-2},8.19]
[null,null,null,null,null,6823118,"SPR","SPR","EA","BINDER,VIEW,D-RING,4,WE",null,41.31,8,{"$f":"VLOOKUP(M28692,DFL!A:H,8,0)","v":0.55000000000000004},{"$f":"P28692-(P28692/1.0025)","v":4.6359102244387884E-2},18.59]
[null,null,null,null,null,7475143,"SPR","SPR","BD","BINDER,VIEW,D-RING,1,WE",null,60.28,8,{"$f":"VLOOKUP(M28696,DFL!A:H,8,0)","v":0.55000000000000004},{"$f":"P28696-(P28696/1.0025)","v":6.7655860349127295E-2},27.13]
[null,null,null,null,null,339781,"SPR","SPR","EA","BNDR,DURBLE VIEW 2IN,BE",null,23.63,8,{"$f":"VLOOKUP(M28715,DFL!A:H,8,0)","v":0.55000000000000004},{"$f":"P28715-(P28715/1.0025)","v":2.6508728179550189E-2},10.63]
[null,null,null,null,null,281320,"SPR","SPR","EA","BINDER,PL,VIEW,.5,WHITE",null,11.93,8,{"$f":"VLOOKUP(M28730,DFL!A:H,8,0)","v":0.55000000000000004},{"$f":"P28730-(P28730/1.0025)","v":1.3391521197006817E-2},5.37]
[null,null,null,null,null,240558,"SPR","SPR","PK","BINDER 2PK VIEW 2 ",null,30.56,8,{"$f":"VLOOKUP(M28745,DFL!A:H,8,0)","v":0.55000000000000004},{"$f":"P28745-(P28745/1.0025)","v":3.4289276807978553E-2},13.75]
[null,null,null,null,null,9707879,"SPR","SPR","PK","BINDER,EC,3,ASST,4-PACK",null,71.23,8,{"$f":"VLOOKUP(M28750,DFL!A:H,8,0)","v":0.55000000000000004},{"$f":"P28750-(P28750/1.0025)","v":7.9925187032415579E-2},32.049999999999997]
[null,null,null,null,null,6880123,"SPR","SPR","EA","BINDER,VIEW,2,RED",null,17.95,8,{"$f":"VLOOKUP(M28766,DFL!A:H,8,0)","v":0.55000000000000004},{"$f":"P28766-(P28766/1.0025)","v":2.0149625935161453E-2},8.08]
[null,null,null,null,null,4781768,"SPR","SPR","CT","BINDER,VIEW,ROUND,1,WE,CT",null,138.47999999999999,8,{"$f":"VLOOKUP(M28785,DFL!A:H,8,0)","v":0.55000000000000004},{"$f":"P28785-(P28785/1.0025)","v":0.15541147132169186},62.32]
[null,null,null,null,null,846403,"SPR","SPR","EA","BNDR,EASYOPEN,3,11X17,BK",null,65.53,8,{"$f":"VLOOKUP(M28800,DFL!A:H,8,0)","v":0.55000000000000004},{"$f":"P28800-(P28800/1.0025)","v":7.3541147132168305E-2},29.49]
[null,null,null,null,null,771787,"SPR","SPR","EA","BINDER,3-RNG,SLNT,LH,1-BK",null,12.9,8,{"$f":"VLOOKUP(M28815,DFL!A:H,8,0)","v":0.55000000000000004},{"$f":"P28815-(P28815/1.0025)","v":1.4488778054862372E-2},5.81]
[null,null,null,null,null,931253,"SPR","SPR","EA","BINDER,D-RG,11X8.5,1.5C,BLK",null,20.079999999999998,8,{"$f":"VLOOKUP(M28823,DFL!A:H,8,0)","v":0.55000000000000004},{"$f":"P28823-(P28823/1.0025)","v":2.2543640897755068E-2},9.0399999999999991]
[null,null,null,null,null,582981,"SPR","SPR","EA","BINDER,RING,11X8.5,3IN,BLK",null,35.32,8,{"$f":"VLOOKUP(M28836,DFL!A:H,8,0)","v":0.55000000000000004},{"$f":"P28836-(P28836/1.0025)","v":3.962593516209445E-2},15.89]
[null,null,null,null,null,8734242,"SPR","SPR","EA","BINDER,ECONOMY,RND,1,GN",null,7.33,8,{"$f":"VLOOKUP(M28851,DFL!A:H,8,0)","v":0.55000000000000004},{"$f":"P28851-(P28851/1.0025)","v":8.2294264339148882E-3},3.3]
[null,null,null,null,null,4215464,"SPR","SPR","EA","BINDER,ECONOMY,RND,2,GN",null,13.94,8,{"$f":"VLOOKUP(M28870,DFL!A:H,8,0)","v":0.55000000000000004},{"$f":"P28870-(P28870/1.0025)","v":1.5635910224438554E-2},6.27]
[null,null,null,null,null,4846767,"SPR","SPR","EA","BINDER,LBLHLDR,SLANT,3,BE",null,22.58,8,{"$f":"VLOOKUP(M28885,DFL!A:H,8,0)","v":0.55000000000000004},{"$f":"P28885-(P28885/1.0025)","v":2.5336658354113695E-2},10.16]
[null,null,null,null,null,8570852,"SPR","SPR","EA","BINDER,D-RING,LBLHLDR,5,NY",null,66.47,8,{"$f":"VLOOKUP(M28896,DFL!A:H,8,0)","v":0.55000000000000004},{"$f":"P28896-(P28896/1.0025)","v":7.4588528678301458E-2},29.91]
[null,null,null,null,null,918805,"SPR","SPR","EA","BOARD,MARKER,ALUM.FRAME,2X3",null,326.85000000000002,10,{"$f":"VLOOKUP(M28920,DFL!A:H,8,0)","v":0.36},{"$f":"P28920-(P28920/1.0025)","v":0.52164588528677314},209.18]
[null,null,null,null,null,191513,"SPR","SPR","EA","BOARD,TE,MAG,6X4,BLK,ALUM",null,752.69,10,{"$f":"VLOOKUP(M28921,DFL!A:H,8,0)","v":0.36},{"$f":"P28921-(P28921/1.0025)","v":1.2012967581047178},481.72]
[null,null,null,null,null,8222521,"SPR","SPR","CT","COFFEE,DONUT SHOP,ALTERRA",null,108.34,48,{"$f":"VLOOKUP(M28940,DFL!A:H,8,0)","v":0.3},{"$f":"P28940-(P28940/1.0025)","v":0.18912718204488499},75.84]
[null,null,null,null,null,793060,"SPR","SPR","BG","CANDY,POPS,DUM DUM,200CT BAG",null,25.55,48,{"$f":"VLOOKUP(M28955,DFL!A:H,8,0)","v":0.3},{"$f":"P28955-(P28955/1.0025)","v":4.461346633416241E-2},17.89]
[null,null,null,null,null,991024,"SPR","SPR","CT","RECLOSABLE LID 12 OZ. 16 OZ",null,317.70999999999998,18,{"$f":"VLOOKUP(M28968,DFL!A:H,8,0)","v":0.44},{"$f":"P28968-(P28968/1.0025)","v":0.44369077306731697},177.92]
[null,null,null,null,null,857178,"SPR","SPR","CT","KNIVES,SMARTSTOCK,REFILL",null,103.56,18,{"$f":"VLOOKUP(M28990,DFL!A:H,8,0)","v":0.44},{"$f":"P28990-(P28990/1.0025)","v":0.14461346633416383},57.99]
[null,null,null,null,null,9596479,"SPR","SPR","EA","SECUREFIT,11.6CHRMEBKCSE",null,70.510000000000005,14,{"$f":"VLOOKUP(M29005,DFL!A:H,8,0)","v":0.31},{"$f":"P29005-(P29005/1.0025)","v":0.12132169576059937},48.65]
[null,null,null,null,null,613054,"SPR","SPR","PK","CARD,BUS,LSR,CLEAN EDGE,200/BX",null,24.96,35,{"$f":"VLOOKUP(M29010,DFL!A:H,8,0)","v":0.6},{"$f":"P29010-(P29010/1.0025)","v":2.4887780548628058E-2},{"$f":"ROUND(L29010*(1-N29010),2)","v":9.98}]
[null,null,null,null,null,613165,"SPR","SPR","DZ","CLIP,BINDER,SMALL,12/BX",null,3.4,7,{"$f":"VLOOKUP(M29027,DFL!A:H,8,0)","v":0.46},{"$f":"P29027-(P29027/1.0025)","v":4.5885286783040602E-3},1.84]
[null,null,null,null,null,548732,"SPR","SPR","PK","CLAMP,IDEAL,BUTTERFLY,SMALL",null,23.08,39,{"$f":"VLOOKUP(M29041,DFL!A:H,8,0)","v":0.5},{"$f":"P29041-(P29041/1.0025)","v":2.8778054862842239E-2},11.54]
[null,null,null,null,null,547662,"SPR","SPR","BX","FASTENER,SELF-ADH,2.75X2",null,20.18,7,{"$f":"VLOOKUP(M29060,DFL!A:H,8,0)","v":0.46},{"$f":"P29060-(P29060/1.0025)","v":2.7182044887780421E-2},{"$f":"ROUND(L29060*(1-N29060),2)","v":10.9}]
[null,null,null,null,null,370041,"SPR","SPR","BX","RING,BOOK,INSIDE DIA 1",null,46.32,7,{"$f":"VLOOKUP(M29075,DFL!A:H,8,0)","v":0.46},{"$f":"P29075-(P29075/1.0025)","v":6.2369077306730247E-2},25.01]
[null,null,null,null,null,8832587,"SPR","SPR","BD","RING,BOOK,2,NICKEL,50PC",null,181.65,8,{"$f":"VLOOKUP(M29080,DFL!A:H,8,0)","v":0.55000000000000004},{"$f":"P29080-(P29080/1.0025)","v":0.20384039900248752},81.739999999999995]
[null,null,null,null,null,9895809,"SPR","SPR","BD","CLIP,GRIP,MAGNETIC,#2,12PC",null,280.62,7,{"$f":"VLOOKUP(M29100,DFL!A:H,8,0)","v":0.46},{"$f":"P29100-(P29100/1.0025)","v":0.37788029925187061},151.53]
[null,null,null,null,null,316043,"SPR","SPR","EA","BLUETOOTH WIRELESS MOUSE",null,24,29,{"$f":"VLOOKUP(M29111,DFL!A:H,8,0)","v":0.3},{"$f":"P29111-(P29111/1.0025)","v":4.18952618453865E-2},16.8]
[null,null,null,null,null,519021,"SPR","SPR","PK","KEEPER,CD/DVD,50PK,CLEAR",null,27.99,14,{"$f":"VLOOKUP(M29130,DFL!A:H,8,0)","v":0.31},{"$f":"P29130-(P29130/1.0025)","v":4.8154613466333984E-2},19.309999999999999]
[null,null,null,null,null,872161,"SPR","SPR","EA","WRIST REST/MOUSE PAD,CHAR",null,24.99,29,{"$f":"VLOOKUP(M29145,DFL!A:H,8,0)","v":0.3},{"$f":"P29145-(P29145/1.0025)","v":4.3615960099749884E-2},17.489999999999998]
[null,null,null,null,null,281045,"SPR","SPR","EA","DRIVE,USB,64GB,PINSTRIPE",null,12,46,{"$f":"VLOOKUP(M29160,DFL!A:H,8,0)","v":0.18},{"$f":"P29160-(P29160/1.0025)","v":2.4538653366583674E-2},9.84]
[null,null,null,null,null,4953370,"SPR","SPR","EA","DRIVE,FLASH,USB2.0,OTG,16GB",null,15.99,46,{"$f":"VLOOKUP(M29173,DFL!A:H,8,0)","v":0.18},{"$f":"P29173-(P29173/1.0025)","v":3.2693266832916734E-2},13.11]
[null,null,null,null,null,9936895,"SPR","SPR","EA","DESKMAT,DESKTEX,GLASS,20X36",null,106.57,48,{"$f":"VLOOKUP(M29181,DFL!A:H,8,0)","v":0.3},{"$f":"P29181-(P29181/1.0025)","v":0.18603491271819905},74.599999999999994]
[null,null,null,null,null,531571,"SPR","SPR","BX","ENVELOPE,CLASP,28#,6X9,BN",null,54.49,27,{"$f":"VLOOKUP(M29200,DFL!A:H,8,0)","v":0.57999999999999996},{"$f":"P29200-(P29200/1.0025)","v":5.7082294264336753E-2},22.89]
[null,null,null,null,null,964262,"SPR","SPR","BX","FOLDER,LTR,1/3,RED",null,73.59,35,{"$f":"VLOOKUP(M29215,DFL!A:H,8,0)","v":0.6},{"$f":"P29215-(P29215/1.0025)","v":7.3416458852864963E-2},29.44]
[null,null,null,null,null,4819748,"SPR","SPR","BX","FOLDER,FILE,LGL,1/3 AST,MLA",null,66.52,35,{"$f":"VLOOKUP(M29230,DFL!A:H,8,0)","v":0.6},{"$f":"P29230-(P29230/1.0025)","v":6.6359102244387458E-2},26.61]
[null,null,null,null,null,768620,"SPR","SPR","BX","FOLDER, 2FST,100%REC,LGL,1,BE",null,122.8,35,{"$f":"VLOOKUP(M29246,DFL!A:H,8,0)","v":0.6},{"$f":"P29246-(P29246/1.0025)","v":0.12249376558602876},49.12]
[null,null,null,null,null,760248,"SPR","SPR","BX","FOLDER,4SEC,2/5C,LGL,RD",null,107.6,35,{"$f":"VLOOKUP(M29251,DFL!A:H,8,0)","v":0.6},{"$f":"P29251-(P29251/1.0025)","v":0.10733167082293704},43.04]
[null,null,null,null,null,597855,"SPR","SPR","BX","FLDR,FILE,2PLI,STRT,LGL,MLA",null,85.99,35,{"$f":"VLOOKUP(M29266,DFL!A:H,8,0)","v":0.6},{"$f":"P29266-(P29266/1.0025)","v":8.5785536159598053E-2},34.4]
[null,null,null,null,null,855800,"SPR","SPR","BX","FILE,LGL,EXP 3.5,TUFPCKT,10BX",null,82.7,35,{"$f":"VLOOKUP(M29285,DFL!A:H,8,0)","v":0.6},{"$f":"P29285-(P29285/1.0025)","v":8.249376558602961E-2},33.08]
[null,null,null,null,null,370121,"SPR","SPR","PK","HOLDER,FILE,TRANSPRNT,GN",null,6.29,35,{"$f":"VLOOKUP(M29300,DFL!A:H,8,0)","v":0.6},{"$f":"P29300-(P29300/1.0025)","v":6.2842892768077974E-3},2.52]
[null,null,null,null,null,274271,"SPR","SPR","EA","FILEBOX,PORTABLE,LETTER",null,26.91,38,{"$f":"VLOOKUP(M29304,DFL!A:H,8,0)","v":0.36},{"$f":"P29304-(P29304/1.0025)","v":4.2942643391519653E-2},17.22]
[null,null,null,null,null,3748224,"SPR","SPR","CT","BOX,STORAGE,STRNG&BUTTN,LGL",null,286.41000000000003,3,{"$f":"VLOOKUP(M29321,DFL!A:H,8,0)","v":0.5},{"$f":"P29321-(P29321/1.0025)","v":0.35713216957606164},143.21]
[null,null,null,null,null,159936,"SPR","SPR","CT","FILE,PRINTOUT,10.75X11-5/8X13",null,384.84,3,{"$f":"VLOOKUP(M29336,DFL!A:H,8,0)","v":0.5},{"$f":"P29336-(P29336/1.0025)","v":0.47985037406482434},192.42]
[null,null,null,null,null,763614,"SPR","SPR","EA","HOLDER,CERTIFICATE,F/9X12",null,26.75,4,{"$f":"VLOOKUP(M29355,DFL!A:H,8,0)","v":0.39},{"$f":"P29355-(P29355/1.0025)","v":4.0698254364087916E-2},16.32]
[null,null,null,null,null,752868,"SPR","SPR","RL","TAPE,MAGNETIC,ADHSVE100X1",null,137.99,39,{"$f":"VLOOKUP(M29370,DFL!A:H,8,0)","v":0.5},{"$f":"P29370-(P29370/1.0025)","v":0.17206982543640947},69]
[null,null,null,null,null,968823,"SPR","SPR","BX","ALOETOUCH ICE NITRILE GLOVE",null,25.52,22,{"$f":"VLOOKUP(M29377,DFL!A:H,8,0)","v":0.41},{"$f":"P29377-(P29377/1.0025)","v":3.7556109725684905E-2},15.06]
[null,null,null,null,null,810061,"SPR","SPR","EA","STEP CAN,DEFENDERS,RD",null,483.62,31,{"$f":"VLOOKUP(M29391,DFL!A:H,8,0)","v":0.49},{"$f":"P29391-(P29391/1.0025)","v":0.61508728179549621},246.65]
[null,null,null,null,null,234846,"SPR","SPR","BX","MEDLINE GAUZE 4X4 8 PLY",null,9.91,22,{"$f":"VLOOKUP(M29406,DFL!A:H,8,0)","v":0.41},{"$f":"P29406-(P29406/1.0025)","v":1.4588528678303625E-2},5.85]
[null,null,null,null,null,879335,"SPR","SPR","ST","INDEX,QUICK,15TAB,WHTE,1ST",null,8.59,35,{"$f":"VLOOKUP(M29425,DFL!A:H,8,0)","v":0.6},{"$f":"P29425-(P29425/1.0025)","v":8.5785536159597164E-3},3.44]
[null,null,null,null,null,5819235,"SPR","SPR","BX","DIVIDERS,INDEX,UNPNCHD,5TAB",null,99,35,{"$f":"VLOOKUP(M29440,DFL!A:H,8,0)","v":0.6},{"$f":"P29440-(P29440/1.0025)","v":9.8753117206982211E-2},39.6]
[null,null,null,null,null,8718874,"SPR","SPR","ST","DIVIDERS,INSERT,5-TAB,CLEAR",null,1.04,35,{"$f":"VLOOKUP(M29449,DFL!A:H,8,0)","v":0.6},{"$f":"P29449-(P29449/1.0025)","v":1.0473815461346514E-3},0.42]
[null,null,null,null,null,933523,"SPR","SPR","ST","INDEX,INSERT,11X8.5,8CLRS,8/ST",null,3.37,35,{"$f":"VLOOKUP(M29461,DFL!A:H,8,0)","v":0.6},{"$f":"P29461-(P29461/1.0025)","v":3.3665835411471612E-3},1.35]
[null,null,null,null,null,462896,"SPR","SPR","ST","INDEX,WRITEN ERASE,5TAB,WE",null,2.48,35,{"$f":"VLOOKUP(M29476,DFL!A:H,8,0)","v":0.6},{"$f":"P29476-(P29476/1.0025)","v":2.4688279301745553E-3},0.99]
[null,null,null,null,null,4021129,"SPR","SPR","PK","Tabs-Prntble 1-1/4 Asrt 96pk",null,15.57,35,{"$f":"VLOOKUP(M29495,DFL!A:H,8,0)","v":0.6},{"$f":"P29495-(P29495/1.0025)","v":1.5536159600997301E-2},6.23]
[null,null,null,null,null,1257859,"SPR","SPR","CT","TCELL OIL DISP W KEY 12RCP BLA",null,223.32,48,{"$f":"VLOOKUP(M29508,DFL!A:H,8,0)","v":0.3},{"$f":"P29508-(P29508/1.0025)","v":0.38982543640895528},156.32]
[null,null,null,null,null,1409112,"SPR","SPR","CT","RCY RL-TWL 2PL 11X5.4 WHI 4/8",null,167.24,40,{"$f":"VLOOKUP(M29526,DFL!A:H,8,0)","v":0.44},{"$f":"P29526-(P29526/1.0025)","v":0.23354114713215779},93.65]
[null,null,null,null,null,1618912,"SPR","SPR","CT","MP CLNR/DISF 4/1GAL CASE",null,152.76,19,{"$f":"VLOOKUP(M29545,DFL!A:H,8,0)","v":0.45},{"$f":"P29545-(P29545/1.0025)","v":0.20952618453864602},84.02]
[null,null,null,null,null,7190511,"SPR","SPR","CT","CLEANER,ALL PURP,SSCRB,LEMN",null,72.72,19,{"$f":"VLOOKUP(M29546,DFL!A:H,8,0)","v":0.45},{"$f":"P29546-(P29546/1.0025)","v":9.9750623441394737E-2},40]
[null,null,null,null,null,628094,"SPR","SPR","CT","SPOTTER,PURPOSE,GENERAL",null,109.08,19,{"$f":"VLOOKUP(M29565,DFL!A:H,8,0)","v":0.45},{"$f":"P29565-(P29565/1.0025)","v":0.14960099750623357},59.99]
[null,null,null,null,null,211890,"SPR","SPR","EA","SCRUB BRUSH,GREEN",null,35.630000000000003,19,{"$f":"VLOOKUP(M29581,DFL!A:H,8,0)","v":0.45},{"$f":"P29581-(P29581/1.0025)","v":4.8877805486284842E-2},19.600000000000001]
[null,null,null,null,null,342488,"SPR","SPR","CT","SIGN,WET FLOOR,ENG/SPANISH",null,99.66,36,{"$f":"VLOOKUP(M29596,DFL!A:H,8,0)","v":0.36},{"$f":"P29596-(P29596/1.0025)","v":0.15905236907730114},63.78]
[null,null,null,null,null,720273,"SPR","SPR","CT","MOP,MED,ORANG,BLND,NARROW",null,143.63999999999999,19,{"$f":"VLOOKUP(M29615,DFL!A:H,8,0)","v":0.45},{"$f":"P29615-(P29615/1.0025)","v":0.19700748129675105},79]
[null,null,null,null,null,818591,"SPR","SPR","EA","MOP,SM,BLEND,NRWBAND,OE",null,11.53,19,{"$f":"VLOOKUP(M29630,DFL!A:H,8,0)","v":0.45},{"$f":"P29630-(P29630/1.0025)","v":1.5810473815460746E-2},6.34]
[null,null,null,null,null,143123,"SPR","SPR","CT","MOP,SM,BLEND,NRWBAND,OE",null,138.36000000000001,19,{"$f":"VLOOKUP(M29631,DFL!A:H,8,0)","v":0.45},{"$f":"P29631-(P29631/1.0025)","v":0.18977556109724958},76.099999999999994]
[null,null,null,null,null,300580,"SPR","SPR","PK","COVER,TOILET SEAT,LEVER,125CT",null,3.85,19,{"$f":"VLOOKUP(M29654,DFL!A:H,8,0)","v":0.45},{"$f":"P29654-(P29654/1.0025)","v":5.2867830423939388E-3},2.12]
[null,null,null,null,null,687558,"SPR","SPR","CT","LINER,38X58,1.4MIL/LD,100CT",null,101.71,12,{"$f":"VLOOKUP(M29666,DFL!A:H,8,0)","v":0.4},{"$f":"P29666-(P29666/1.0025)","v":0.15219451371570614},61.03]
[null,null,null,null,null,778915,"SPR","SPR","RL","BADGE,NAME,NONADHES,LBLWRTR",null,34.4,26,{"$f":"VLOOKUP(M29685,DFL!A:H,8,0)","v":0.44},{"$f":"P29685-(P29685/1.0025)","v":4.8029925187030642E-2},19.260000000000002]
[null,null,null,null,null,800592,"SPR","SPR","PK","LABEL,MULTI-PURPOSE,400PK",null,22.39,26,{"$f":"VLOOKUP(M29700,DFL!A:H,8,0)","v":0.44},{"$f":"P29700-(P29700/1.0025)","v":3.1271820448877108E-2},{"$f":"ROUND(L29700*(1-N29700),2)","v":12.54}]
[null,null,null,null,null,226653,"SPR","SPR","EA","LABEL,1 WHT/BLK",null,29.99,26,{"$f":"VLOOKUP(M29715,DFL!A:H,8,0)","v":0.44},{"$f":"P29715-(P29715/1.0025)","v":4.187032418952441E-2},16.79]
[null,null,null,null,null,226635,"SPR","SPR","EA","LABEL,1 GLD/BLK",null,29.99,26,{"$f":"VLOOKUP(M29727,DFL!A:H,8,0)","v":0.44},{"$f":"P29727-(P29727/1.0025)","v":4.187032418952441E-2},16.79]
[null,null,null,null,null,8778165,"SPR","SPR","PK","Shipping LBL 2.5x4Wht IJ 200",null,19.62,26,{"$f":"VLOOKUP(M29736,DFL!A:H,8,0)","v":0.44},{"$f":"P29736-(P29736/1.0025)","v":2.7406483790523239E-2},10.99]
[null,null,null,null,null,910416,"SPR","SPR","BX","LABELS WP TRUBLK LS WHT,1000",null,602.66999999999996,26,{"$f":"VLOOKUP(M29751,DFL!A:H,8,0)","v":0.44},{"$f":"P29751-(P29751/1.0025)","v":0.84164588528676632},337.5]
[null,null,null,null,null,392438,"SPR","SPR","PK","LABEL,KRAFT,SQR,2X2,AVE,300PK",null,21.35,26,{"$f":"VLOOKUP(M29770,DFL!A:H,8,0)","v":0.44},{"$f":"P29770-(P29770/1.0025)","v":2.9825436408977168E-2},11.96]
[null,null,null,null,null,943928,"SPR","SPR","PK","LABEL,DOT,1/4,SEE-THRU,AST",null,8.74,26,{"$f":"VLOOKUP(M29785,DFL!A:H,8,0)","v":0.44},{"$f":"P29785-(P29785/1.0025)","v":1.2194513715710897E-2},4.8899999999999997]
[null,null,null,null,null,5365253,"SPR","SPR","EA","LAMINATOR,DOCUMENT/PHOTO,9",null,214.55,21,{"$f":"VLOOKUP(M29800,DFL!A:H,8,0)","v":0.28999999999999998},{"$f":"P29800-(P29800/1.0025)","v":0.37987531172069566},152.33000000000001]
[null,null,null,null,null,486811,"SPR","SPR","PK","POUCH,INDEX CARD SIZE,25/PK",null,16.13,45,{"$f":"VLOOKUP(M29806,DFL!A:H,8,0)","v":0.35},{"$f":"P29806-(P29806/1.0025)","v":2.6134663341645492E-2},10.48]
[null,null,null,null,null,9277558,"SPR","SPR","BX","POUCH,LAMINATE,LEGAL,3MIL",null,68.709999999999994,45,{"$f":"VLOOKUP(M29821,DFL!A:H,8,0)","v":0.35},{"$f":"P29821-(P29821/1.0025)","v":0.11137157107231843},44.66]
[null,null,null,null,null,438903,"SPR","SPR","BX","LAMINATE,P/S,MYLAR,9X12,CLEAR",null,32.799999999999997,45,{"$f":"VLOOKUP(M29840,DFL!A:H,8,0)","v":0.35},{"$f":"P29840-(P29840/1.0025)","v":5.3167082294262258E-2},21.32]
[null,null,null,null,null,785736,"SPR","SPR","CT","WRAP,BUBBLE,5/16,12X100",null,129.41,27,{"$f":"VLOOKUP(M29855,DFL!A:H,8,0)","v":0.57999999999999996},{"$f":"P29855-(P29855/1.0025)","v":0.13553615960099563},54.35]
[null,null,null,null,null,870134,"SPR","SPR","BX","Labels,Ind,Thrm,1000,Wht",null,105.47,26,{"$f":"VLOOKUP(M29858,DFL!A:H,8,0)","v":0.44},{"$f":"P29858-(P29858/1.0025)","v":0.14728179551121912},59.06]
[null,null,null,null,null,685212,"SPR","SPR","EA","NOTEBOOK,9.25x7.25,MIRACLE",null,24.97,30,{"$f":"VLOOKUP(M29876,DFL!A:H,8,0)","v":0.57999999999999996},{"$f":"P29876-(P29876/1.0025)","v":2.6159600997505805E-2},10.49]
[null,null,null,null,null,218784,"SPR","SPR","EA","BOOK,NOTE,1-SUBJ,TOP,WIREBND",null,9.41,47,{"$f":"VLOOKUP(M29891,DFL!A:H,8,0)","v":0.5},{"$f":"P29891-(P29891/1.0025)","v":1.1745635910224372E-2},4.71]
[null,null,null,null,null,697441,"SPR","SPR","PD","PAD,QUAD,8.5X11,4SQ/IN,16#,WHT",null,9.4700000000000006,30,{"$f":"VLOOKUP(M29910,DFL!A:H,8,0)","v":0.57999999999999996},{"$f":"P29910-(P29910/1.0025)","v":9.9251870324188474E-3},3.98]
[null,null,null,null,null,347608,"SPR","SPR","PK","PAPER,FILLER,10.5X8,CL150CT",null,4.01,47,{"$f":"VLOOKUP(M29925,DFL!A:H,8,0)","v":0.5},{"$f":"P29925-(P29925/1.0025)","v":5.01246882793005E-3},2.0099999999999998]
[null,null,null,null,null,805218,"SPR","SPR","RM","PAPER,LASERJET,HP,REAM",null,29.35,32,{"$f":"VLOOKUP(M29930,DFL!A:H,8,0)","v":0.65},{"$f":"P29930-(P29930/1.0025)","v":2.5610972568577139E-2},10.27]
[null,null,null,null,null,748851,"SPR","SPR","CT","QUICKPACK,HP 2500 ST, LTR",null,153.87,32,{"$f":"VLOOKUP(M29946,DFL!A:H,8,0)","v":0.65},{"$f":"P29946-(P29946/1.0025)","v":0.13428927680797642},53.85]
[null,null,null,null,null,623915,"SPR","SPR","PK","PAPER,AB PLSMA 65#250S,PK",null,36.17,32,{"$f":"VLOOKUP(M29961,DFL!A:H,8,0)","v":0.65},{"$f":"P29961-(P29961/1.0025)","v":3.1571072319200866E-2},12.66]
[null,null,null,null,null,370241,"SPR","SPR","RM","PPR,XEROGRAPHIC,8.5X11,CY",null,28.94,32,{"$f":"VLOOKUP(M29980,DFL!A:H,8,0)","v":0.65},{"$f":"P29980-(P29980/1.0025)","v":2.5261845386532755E-2},10.130000000000001]
[null,null,null,null,null,318469,"SPR","SPR","RM","PAPER,XERO/HAM,SN,LTR,20#",null,29.7,32,{"$f":"VLOOKUP(M29989,DFL!A:H,8,0)","v":0.65},{"$f":"P29989-(P29989/1.0025)","v":2.5935162094762987E-2},10.4]
[null,null,null,null,null,549508,"SPR","SPR","CT","PPR,CMTR4PT,NCR,WYPG,9.5X11",null,610.85,32,{"$f":"VLOOKUP(M30011,DFL!A:H,8,0)","v":0.65},{"$f":"P30011-(P30011/1.0025)","v":0.53316708229425558},213.8]
[null,null,null,null,null,264439,"SPR","SPR","PK","ROLL,CALC,THER,2.25X85",null,7.79,24,{"$f":"VLOOKUP(M30016,DFL!A:H,8,0)","v":0.55000000000000004},{"$f":"P30016-(P30016/1.0025)","v":8.7531172069823526E-3},3.51]
[null,null,null,null,null,9455911,"SPR","SPR","CT","PAPER,ROLL,2.25X126,100PK",null,187.82,24,{"$f":"VLOOKUP(M30031,DFL!A:H,8,0)","v":0.55000000000000004},{"$f":"P30031-(P30031/1.0025)","v":0.21077306733167234},84.52]
[null,null,null,null,null,110680,"SPR","SPR","ST","HIGHLIGHTER,LIQ,PEN,5-PK",null,12.95,28,{"$f":"VLOOKUP(M30050,DFL!A:H,8,0)","v":0.48},{"$f":"P30050-(P30050/1.0025)","v":1.6783042394014736E-2},6.73]
[null,null,null,null,null,136648,"SPR","SPR","EA","MARKER,PAINT,BLUE",null,6.4,28,{"$f":"VLOOKUP(M30062,DFL!A:H,8,0)","v":0.48},{"$f":"P30062-(P30062/1.0025)","v":8.3042394014962717E-3},3.33]
[null,null,null,null,null,9445787,"SPR","SPR","EA","CRTDG,INK,BK,400 PG",null,31.45,43,{"$f":"VLOOKUP(M30081,DFL!A:H,8,0)","v":0.3},{"$f":"P30081-(P30081/1.0025)","v":5.4912718204487732E-2},22.02]
[null,null,null,null,null,766260,"SPR","SPR","PK","INK,CANON PG-40,2/PK,BLACK",null,69.72,43,{"$f":"VLOOKUP(M30086,DFL!A:H,8,0)","v":0.3},{"$f":"P30086-(P30086/1.0025)","v":0.12169576059849874},48.8]
[null,null,null,null,null,9769380,"SPR","SPR","EA","CRTDG,INK,YW",null,23.68,43,{"$f":"VLOOKUP(M30101,DFL!A:H,8,0)","v":0.3},{"$f":"P30101-(P30101/1.0025)","v":4.1346633416459611E-2},16.579999999999998]
[null,null,null,null,null,462720,"SPR","SPR","EA","INK,CANON,XL,CLI-281,BLACK",null,32.72,43,{"$f":"VLOOKUP(M30116,DFL!A:H,8,0)","v":0.3},{"$f":"P30116-(P30116/1.0025)","v":5.7107231920198842E-2},22.9]
[null,null,null,null,null,386405,"SPR","SPR","EA","CARTRIDGE,TONER,CANON 105 BLK",null,301.39999999999998,43,{"$f":"VLOOKUP(M30135,DFL!A:H,8,0)","v":0.3},{"$f":"P30135-(P30135/1.0025)","v":0.5261346633416224},210.98]
[null,null,null,null,null,437256,"SPR","SPR","EA","MICR TONER,HP LJ 4200",null,383.35,43,{"$f":"VLOOKUP(M30151,DFL!A:H,8,0)","v":0.3},{"$f":"P30151-(P30151/1.0025)","v":0.66920199501242905},268.35000000000002]
[null,null,null,null,null,916500,"SPR","SPR","EA","GLOVE-GRABBER,LIME",null,3.75,22,{"$f":"VLOOKUP(M30170,DFL!A:H,8,0)","v":0.41},{"$f":"P30170-(P30170/1.0025)","v":5.5112219451372013E-3},2.21]
[null,null,null,null,null,838050,"SPR","SPR","PR","GLOVE,SZ10,ORIG,MECHANIX",null,52.58,22,{"$f":"VLOOKUP(M30171,DFL!A:H,8,0)","v":0.41},{"$f":"P30171-(P30171/1.0025)","v":7.7356608478801547E-2},31.02]
[null,null,null,null,null,920244,"SPR","SPR","EA","GLASSES/GOGGLES,SAFETY,CLR",null,29.43,22,{"$f":"VLOOKUP(M30186,DFL!A:H,8,0)","v":0.41},{"$f":"P30186-(P30186/1.0025)","v":4.3291770573564037E-2},17.36]
[null,null,null,null,null,916293,"SPR","SPR","PR","PAD,KNEE,RESISTANT,SLIP, BLACK",null,33.85,22,{"$f":"VLOOKUP(M30208,DFL!A:H,8,0)","v":0.41},{"$f":"P30208-(P30208/1.0025)","v":4.9800498753114653E-2},19.97]
[null,null,null,null,null,273147,"SPR","SPR","EA","RAINSUIT,3PIECE,XXL",null,22.15,22,{"$f":"VLOOKUP(M30221,DFL!A:H,8,0)","v":0.41},{"$f":"P30221-(P30221/1.0025)","v":3.2593516209475482E-2},13.07]
[null,null,null,null,null,113984,"SPR","SPR","RL","TAPE,VINYL,1INX36YD,YW",null,39.549999999999997,39,{"$f":"VLOOKUP(M30236,DFL!A:H,8,0)","v":0.5},{"$f":"P30236-(P30236/1.0025)","v":4.9326683291770479E-2},19.78]
[null,null,null,null,null,767022,"SPR","SPR","BX","BAG,SHREDDER,PERSONAL,CLR",null,69.06,12,{"$f":"VLOOKUP(M30255,DFL!A:H,8,0)","v":0.4},{"$f":"P30255-(P30255/1.0025)","v":0.10334164588528694},41.44]
[null,null,null,null,null,850714,"SPR","SPR","EA","OIL,SHREDDER,1 LITER",null,100.52,48,{"$f":"VLOOKUP(M30256,DFL!A:H,8,0)","v":0.3},{"$f":"P30256-(P30256/1.0025)","v":0.17546134663341206},70.36]
[null,null,null,null,null,600993,"SPR","SPR","EA","STRIP,POWER,6 OUTLET,12",null,34.99,6,{"$f":"VLOOKUP(M30281,DFL!A:H,8,0)","v":0.47},{"$f":"P30281-(P30281/1.0025)","v":4.6234413965084542E-2},18.54]
[null,null,null,null,null,123028,"SPR","SPR","EA","REST,PHONE,MICROBAN,BK",null,19.989999999999998,23,{"$f":"VLOOKUP(M30291,DFL!A:H,8,0)","v":0.3},{"$f":"P30291-(P30291/1.0025)","v":3.4887780548627845E-2},13.99]
[null,null,null,null,null,435015,"SPR","SPR","EA","BIN,4.1X5.4X3,BLUE",null,3.15,3,{"$f":"VLOOKUP(M30306,DFL!A:H,8,0)","v":0.5},{"$f":"P30306-(P30306/1.0025)","v":3.9401496259350299E-3},1.58]
[null,null,null,null,null,762243,"SPR","SPR","CT","BOTTLE,SPRAY BTL,32 OZ",null,1.35,19,{"$f":"VLOOKUP(M30325,DFL!A:H,8,0)","v":0.45},{"$f":"P30325-(P30325/1.0025)","v":1.8453865336658382E-3},0.74]
[null,null,null,null,null,9579129,"SPR","SPR","BX","GLOVE,VNYL,PWDR-FRE,9,M",null,4.38,22,{"$f":"VLOOKUP(M30340,DFL!A:H,8,0)","v":0.41},{"$f":"P30340-(P30340/1.0025)","v":6.4339152119701204E-3},2.58]
[null,null,null,null,null,8922652,"SPR","SPR","RL","BORDER,2.25X50,BRITE BLUE",null,5.3,47,{"$f":"VLOOKUP(M30354,DFL!A:H,8,0)","v":0.5},{"$f":"P30354-(P30354/1.0025)","v":6.6084788029923125E-3},2.65]
[null,null,null,null,null,8255066,"SPR","SPR","PK","PAPER,CONST,TRURAY,9X12,",null,5.59,47,{"$f":"VLOOKUP(M30361,DFL!A:H,8,0)","v":0.5},{"$f":"P30361-(P30361/1.0025)","v":6.9825436408974539E-3},2.8]
[null,null,null,null,null,965707,"SPR","SPR","BX","REPELLENT,RAID,ANTBAIT,4CT",null,6.95,22,{"$f":"VLOOKUP(M30376,DFL!A:H,8,0)","v":0.41},{"$f":"P30376-(P30376/1.0025)","v":1.0224438902742605E-2},4.0999999999999996]
[null,null,null,null,null,7408630,"SPR","SPR","BO","CLEANER,MR.CL,MP,LMN,23Z",null,7.72,19,{"$f":"VLOOKUP(M30395,DFL!A:H,8,0)","v":0.45},{"$f":"P30395-(P30395/1.0025)","v":1.0598503740648191E-2},4.25]
[null,null,null,null,null,9751138,"SPR","SPR","BX","TEA,TAZO,ORGN,GN GNGR,16BG",null,8.17,48,{"$f":"VLOOKUP(M30412,DFL!A:H,8,0)","v":0.3},{"$f":"P30412-(P30412/1.0025)","v":1.4264339152119554E-2},5.72]
[null,null,null,null,null,8241629,"SPR","SPR","BX","TEA,TAZO,WLD SWT ORNGE,20BG",null,8.17,48,{"$f":"VLOOKUP(M30413,DFL!A:H,8,0)","v":0.3},{"$f":"P30413-(P30413/1.0025)","v":1.4264339152119554E-2},5.72]
[null,null,null,null,null,6627947,"SPR","SPR","BX","TEA,TAZO,PASSION,20 BAGS",null,8.17,48,{"$f":"VLOOKUP(M30414,DFL!A:H,8,0)","v":0.3},{"$f":"P30414-(P30414/1.0025)","v":1.4264339152119554E-2},5.72]
[null,null,null,null,null,9566295,"SPR","SPR","EA","STAPLE REMOVER LX815 SLVR",null,8.39,37,{"$f":"VLOOKUP(M30415,DFL!A:H,8,0)","v":0.5},{"$f":"P30415-(P30415/1.0025)","v":1.0473815461346625E-2},4.2]
[null,null,null,null,null,526340,"SPR","SPR","EA","PAPER,CONSTUCTION,240PK",null,8.4,47,{"$f":"VLOOKUP(M30416,DFL!A:H,8,0)","v":0.5},{"$f":"P30416-(P30416/1.0025)","v":1.0473815461346625E-2},4.2]
[null,null,null,null,null,298160,"SPR","SPR","EA","STICKER,PAD,STARS & SMILES",null,8.42,47,{"$f":"VLOOKUP(M30417,DFL!A:H,8,0)","v":0.5},{"$f":"P30417-(P30417/1.0025)","v":1.0498753117206938E-2},4.21]
[null,null,null,null,null,635933,"SPR","SPR","EA","CHALK,SDWK,WSHBL,48CT,AST",null,8.49,20,{"$f":"VLOOKUP(M30418,DFL!A:H,8,0)","v":0.47},{"$f":"P30418-(P30418/1.0025)","v":1.1221945137156908E-2},4.5]
[null,null,null,null,null,9974673,"SPR","SPR","EA","CLEANER,DRAIN,LQD PLMR,17OZ",null,8.66,19,{"$f":"VLOOKUP(M30419,DFL!A:H,8,0)","v":0.45},{"$f":"P30419-(P30419/1.0025)","v":1.1870324189525938E-2},4.76]
[null,null,null,null,null,154068,"SPR","SPR","EA","HOLDER,CHALK,ALUMINUM,SR",null,8.76,20,{"$f":"VLOOKUP(M30420,DFL!A:H,8,0)","v":0.47},{"$f":"P30420-(P30420/1.0025)","v":1.157107231920218E-2},4.6399999999999997]
[null,null,null,null,null,340145,"SPR","SPR","EA","PAINT,WASH,ARTISTA II,32OZ",null,8.89,47,{"$f":"VLOOKUP(M30421,DFL!A:H,8,0)","v":0.5},{"$f":"P30421-(P30421/1.0025)","v":1.1097256857855342E-2},{"$f":"ROUND(L30421*(1-N30421),2)","v":4.45}]
[null,null,null,null,null,284166,"SPR","SPR","EA","FINGERPAINT,WASH,16OZ,WHITE",null,8.9600000000000009,47,{"$f":"VLOOKUP(M30422,DFL!A:H,8,0)","v":0.5},{"$f":"P30422-(P30422/1.0025)","v":1.1172069825436282E-2},4.4800000000000004]
[null,null,null,null,null,6172396,"SPR","SPR","PK","TOPPER,DESK,ZANER,2-3,36CT",null,8.99,48,{"$f":"VLOOKUP(M30423,DFL!A:H,8,0)","v":0.3},{"$f":"P30423-(P30423/1.0025)","v":1.568578553615918E-2},6.29]
[null,null,null,null,null,5205303,"SPR","SPR","PK","TOPPER,DSK,ZANER,PRK-1,36CT",null,8.99,48,{"$f":"VLOOKUP(M30424,DFL!A:H,8,0)","v":0.3},{"$f":"P30424-(P30424/1.0025)","v":1.568578553615918E-2},6.29]
[null,null,null,null,null,291949,"SPR","SPR","PK","WIPE,LEMON,PLEDGE",null,9.0299999999999994,19,{"$f":"VLOOKUP(M30425,DFL!A:H,8,0)","v":0.45},{"$f":"P30425-(P30425/1.0025)","v":1.2394014962593403E-2},4.97]
[null,null,null,null,null,9926688,"SPR","SPR","EA","FLAT MOP PADS, 19.5X5.5",null,9.3000000000000007,19,{"$f":"VLOOKUP(M30426,DFL!A:H,8,0)","v":0.45},{"$f":"P30426-(P30426/1.0025)","v":1.27680798004981E-2},5.12]
[null,null,null,null,null,7344755,"SPR","SPR","PK","BOWL,COMPOSTABLE,12OZ",null,9.5,18,{"$f":"VLOOKUP(M30427,DFL!A:H,8,0)","v":0.44},{"$f":"P30427-(P30427/1.0025)","v":1.3266832917705251E-2},5.32]
[null,null,null,null,null,5353616,"SPR","SPR","BX","INDUST,LITH 2016 TEARSTRIP,5PK",null,9.5,6,{"$f":"VLOOKUP(M30428,DFL!A:H,8,0)","v":0.47},{"$f":"P30428-(P30428/1.0025)","v":1.2568578553615595E-2},5.04]
[null,null,null,null,null,5515179,"SPR","SPR","BX","INDUST,LITH 2025 TEARSTRIP,5PK",null,9.5,6,{"$f":"VLOOKUP(M30429,DFL!A:H,8,0)","v":0.47},{"$f":"P30429-(P30429/1.0025)","v":1.2568578553615595E-2},5.04]
[null,null,null,null,null,5810094,"SPR","SPR","BX","INDUST,LITH 2032 TEARSTRIP,5PK",null,9.5,6,{"$f":"VLOOKUP(M30430,DFL!A:H,8,0)","v":0.47},{"$f":"P30430-(P30430/1.0025)","v":1.2568578553615595E-2},5.04]
[null,null,null,null,null,7741902,"SPR","SPR","EA","ANT,ROACH,KILLER,17.5OZ,LAVNDR",null,9.5,19,{"$f":"VLOOKUP(M30431,DFL!A:H,8,0)","v":0.45},{"$f":"P30431-(P30431/1.0025)","v":1.3042394014962433E-2},5.23]
[null,null,null,null,null,6725395,"SPR","SPR","EA","BIN,STORAGE,4GAL",null,9.5500000000000007,38,{"$f":"VLOOKUP(M30432,DFL!A:H,8,0)","v":0.36},{"$f":"P30432-(P30432/1.0025)","v":1.5236907730672655E-2},6.11]
[null,null,null,null,null,154530,"SPR","SPR","EA","PAD,CHART24X16,1RUL,30SH",null,9.59,10,{"$f":"VLOOKUP(M30433,DFL!A:H,8,0)","v":0.36},{"$f":"P30433-(P30433/1.0025)","v":1.5311720698253595E-2},6.14]
[null,null,null,null,null,6530510,"SPR","SPR","EA","BRUSH,COUNTER,BLK,POLY,8",null,9.6,19,{"$f":"VLOOKUP(M30434,DFL!A:H,8,0)","v":0.45},{"$f":"P30434-(P30434/1.0025)","v":1.3167082294263999E-2},5.28]
[null,null,null,null,null,479051,"SPR","SPR","PK","MAGNETS,30/PK,ASSORTED",null,9.61,48,{"$f":"VLOOKUP(M30435,DFL!A:H,8,0)","v":0.3},{"$f":"P30435-(P30435/1.0025)","v":1.6783042394014736E-2},6.73]
[null,null,null,null,null,113613,"SPR","SPR","BX","STAPLES,CHISEL PT,CLIPPER,5M",null,9.6300000000000008,37,{"$f":"VLOOKUP(M30436,DFL!A:H,8,0)","v":0.5},{"$f":"P30436-(P30436/1.0025)","v":1.2019950124687817E-2},4.82]
[null,null,null,null,null,538606,"SPR","SPR","PK","SHEETS,FELT,9X12,12ASTCOLOR",null,9.7100000000000009,47,{"$f":"VLOOKUP(M30437,DFL!A:H,8,0)","v":0.5},{"$f":"P30437-(P30437/1.0025)","v":1.211970074812907E-2},4.8600000000000003]
[null,null,null,null,null,115098,"SPR","SPR","EA","Verbatim USB Drive USB flash d",null,9.99,46,{"$f":"VLOOKUP(M30438,DFL!A:H,8,0)","v":0.18},{"$f":"P30438-(P30438/1.0025)","v":2.0423940149624897E-2},8.19]
[null,null,null,null,null,276415,"SPR","SPR","PK","STCKERS,STAR SMLES,VLUEPAK",null,9.99,47,{"$f":"VLOOKUP(M30439,DFL!A:H,8,0)","v":0.5},{"$f":"P30439-(P30439/1.0025)","v":1.2468827930174342E-2},5]
[null,null,null,null,null,6570830,"SPR","SPR","PK","STICKER,ANIMALS,VARPK,408",null,9.99,47,{"$f":"VLOOKUP(M30440,DFL!A:H,8,0)","v":0.5},{"$f":"P30440-(P30440/1.0025)","v":1.2468827930174342E-2},5]
[null,null,null,null,null,9871820,"SPR","SPR","EA","REMOVER,LIME CALC,RESTR,32Z",null,10.08,19,{"$f":"VLOOKUP(M30441,DFL!A:H,8,0)","v":0.45},{"$f":"P30441-(P30441/1.0025)","v":1.3815461346633029E-2},5.54]
[null,null,null,null,null,5246223,"SPR","SPR","EA","Post-it? SS Notes Cube Bright",null,10.1,30,{"$f":"VLOOKUP(M30442,DFL!A:H,8,0)","v":0.57999999999999996},{"$f":"P30442-(P30442/1.0025)","v":1.0573566084787878E-2},4.24]
[null,null,null,null,null,7422873,"SPR","SPR","EA","Post-it? SS Notes Cube Pastel",null,10.1,30,{"$f":"VLOOKUP(M30443,DFL!A:H,8,0)","v":0.57999999999999996},{"$f":"P30443-(P30443/1.0025)","v":1.0573566084787878E-2},4.24]
[null,null,null,null,null,4208946,"SPR","SPR","EA","BUMP CAP,8945F(X),SINGLE",null,10.15,22,{"$f":"VLOOKUP(M30444,DFL!A:H,8,0)","v":0.41},{"$f":"P30444-(P30444/1.0025)","v":1.4937655860348897E-2},5.99]
[null,null,null,null,null,6191106,"SPR","SPR","EA","BROOM,FOR LOBBY DUSTPAN,36",null,10.220000000000001,19,{"$f":"VLOOKUP(M30445,DFL!A:H,8,0)","v":0.45},{"$f":"P30445-(P30445/1.0025)","v":1.4014962593515534E-2},5.62]
[null,null,null,null,null,7620422,"SPR","SPR","PK","PAPER,CONST,TRURAY,12X18",null,10.25,47,{"$f":"VLOOKUP(M30446,DFL!A:H,8,0)","v":0.5},{"$f":"P30446-(P30446/1.0025)","v":1.2793017456358413E-2},5.13]
[null,null,null,null,null,7049312,"SPR","SPR","PK","PAPER,CONST,TRURAY,12X18",null,10.25,47,{"$f":"VLOOKUP(M30447,DFL!A:H,8,0)","v":0.5},{"$f":"P30447-(P30447/1.0025)","v":1.2793017456358413E-2},5.13]
[null,null,null,null,null,349975,"SPR","SPR","EA","PAPER,CONSTRTN,12X18,ELEC,ORNG",null,10.29,47,{"$f":"VLOOKUP(M30448,DFL!A:H,8,0)","v":0.5},{"$f":"P30448-(P30448/1.0025)","v":1.2842892768079928E-2},5.15]
[null,null,null,null,null,361317,"SPR","SPR","EA","PAPER,CONSTRTN,12X18,ATOM,BLUE",null,10.29,47,{"$f":"VLOOKUP(M30449,DFL!A:H,8,0)","v":0.5},{"$f":"P30449-(P30449/1.0025)","v":1.2842892768079928E-2},5.15]
[null,null,null,null,null,665720,"SPR","SPR","EA","PAPER,CONSTRTN,12X18,LVLY,LEMN",null,10.29,47,{"$f":"VLOOKUP(M30450,DFL!A:H,8,0)","v":0.5},{"$f":"P30450-(P30450/1.0025)","v":1.2842892768079928E-2},5.15]
[null,null,null,null,null,219246,"SPR","SPR","EA","TEMPERA,CRAYOLA,16OZ,BLUE",null,10.38,47,{"$f":"VLOOKUP(M30451,DFL!A:H,8,0)","v":0.5},{"$f":"P30451-(P30451/1.0025)","v":1.294264339152118E-2},5.19]
[null,null,null,null,null,711437,"SPR","SPR","EA","PAD,STAMP,FELT,LARGE",null,10.42,24,{"$f":"VLOOKUP(M30452,DFL!A:H,8,0)","v":0.55000000000000004},{"$f":"P30452-(P30452/1.0025)","v":1.1695760598503746E-2},4.6900000000000004]
[null,null,null,null,null,541077,"SPR","SPR","ST","PASTEL, OIL ROUND STICK  50/ST",null,10.45,47,{"$f":"VLOOKUP(M30453,DFL!A:H,8,0)","v":0.5},{"$f":"P30453-(P30453/1.0025)","v":1.3042394014962433E-2},5.23]
[null,null,null,null,null,557012,"SPR","SPR","EA","PLEDGE,MULTISURF,ANTIBAC",null,10.48,19,{"$f":"VLOOKUP(M30454,DFL!A:H,8,0)","v":0.45},{"$f":"P30454-(P30454/1.0025)","v":1.4364089775560807E-2},5.76]
[null,null,null,null,null,7182149,"SPR","SPR","PK","PAPER,CONST,TRURAY,9X12,",null,10.59,47,{"$f":"VLOOKUP(M30455,DFL!A:H,8,0)","v":0.5},{"$f":"P30455-(P30455/1.0025)","v":1.3216957605984625E-2},5.3]
[null,null,null,null,null,1928773,"SPR","SPR","PK","TRAY,SIDELOAD,LETR, 2PK,B",null,10.6,31,{"$f":"VLOOKUP(M30456,DFL!A:H,8,0)","v":0.49},{"$f":"P30456-(P30456/1.0025)","v":1.3491271820448958E-2},5.41]
[null,null,null,null,null,9207994,"SPR","SPR","PK","PAPER,CONST,TRURAY,12X18",null,10.62,47,{"$f":"VLOOKUP(M30457,DFL!A:H,8,0)","v":0.5},{"$f":"P30457-(P30457/1.0025)","v":1.3241895261844938E-2},5.31]
[null,null,null,null,null,152391,"SPR","SPR","EA","CLEANER,COMET,LIQUID,32OZ",null,10.65,19,{"$f":"VLOOKUP(M30458,DFL!A:H,8,0)","v":0.45},{"$f":"P30458-(P30458/1.0025)","v":1.4613466334163938E-2},5.86]
[null,null,null,null,null,349557,"SPR","SPR","PK","3X3 YELLOW POP UP NOTES",null,10.66,30,{"$f":"VLOOKUP(M30459,DFL!A:H,8,0)","v":0.57999999999999996},{"$f":"P30459-(P30459/1.0025)","v":1.1172069825436282E-2},4.4800000000000004]
[null,null,null,null,null,950212,"SPR","SPR","BX","CRAYON,CRAYOLA,96/BX,ASTD",null,10.67,47,{"$f":"VLOOKUP(M30460,DFL!A:H,8,0)","v":0.5},{"$f":"P30460-(P30460/1.0025)","v":1.3316708229425878E-2},5.34]
[null,null,null,null,null,5340086,"SPR","SPR","PK","POCKET,LABELING,S/A,25/PK",null,10.68,48,{"$f":"VLOOKUP(M30461,DFL!A:H,8,0)","v":0.3},{"$f":"P30461-(P30461/1.0025)","v":1.8653366583540887E-2},7.48]
[null,null,null,null,null,443007,"SPR","SPR","EA","STORAGE,CONTAINR,INTRLCK",null,10.79,31,{"$f":"VLOOKUP(M30462,DFL!A:H,8,0)","v":0.49},{"$f":"P30462-(P30462/1.0025)","v":1.3715710723191776E-2},5.5]
[null,null,null,null,null,4322118,"SPR","SPR","PK","PAD,FINISHING,20,5PK,WH",null,10.82,19,{"$f":"VLOOKUP(M30463,DFL!A:H,8,0)","v":0.45},{"$f":"P30463-(P30463/1.0025)","v":1.4837905236907645E-2},5.95]
[null,null,null,null,null,325972,"SPR","SPR","PK","FEATHERS,QUILL,24PK",null,10.92,47,{"$f":"VLOOKUP(M30464,DFL!A:H,8,0)","v":0.5},{"$f":"P30464-(P30464/1.0025)","v":1.3615960099750524E-2},5.46]
[null,null,null,null,null,8777498,"SPR","SPR","BO","REFRESHER,FABRIC,FBRZ,23.6Z",null,10.93,19,{"$f":"VLOOKUP(M30465,DFL!A:H,8,0)","v":0.45},{"$f":"P30465-(P30465/1.0025)","v":1.4987531172069524E-2},6.01]
[null,null,null,null,null,645875,"SPR","SPR","RL","MOUNTING TAPE,SCOTCH,EXTREME",null,10.95,39,{"$f":"VLOOKUP(M30466,DFL!A:H,8,0)","v":0.5},{"$f":"P30466-(P30466/1.0025)","v":1.366583541147115E-2},5.48]
[null,null,null,null,null,2397969,"SPR","SPR","PK","Pompons Clsspk 300/Pk Ast",null,11.06,48,{"$f":"VLOOKUP(M30467,DFL!A:H,8,0)","v":0.3},{"$f":"P30467-(P30467/1.0025)","v":1.9301745635909917E-2},7.74]
[null,null,null,null,null,5518922,"SPR","SPR","PK","CERTIFICATE,GREN FOIL,HW,15 PK",null,11.09,4,{"$f":"VLOOKUP(M30468,DFL!A:H,8,0)","v":0.39},{"$f":"P30468-(P30468/1.0025)","v":1.6857855361595675E-2},6.76]
[null,null,null,null,null,293434,"SPR","SPR","PK","PIN,SAFETY,1-1/2,144/PK",null,11.25,7,{"$f":"VLOOKUP(M30469,DFL!A:H,8,0)","v":0.46},{"$f":"P30469-(P30469/1.0025)","v":1.5162094763091716E-2},6.08]
[null,null,null,null,null,372657,"SPR","SPR","EA","BALL,VOLLEYBALL,VK COMPWE",null,11.6,48,{"$f":"VLOOKUP(M30470,DFL!A:H,8,0)","v":0.3},{"$f":"P30470-(P30470/1.0025)","v":2.0249376558602705E-2},{"$f":"ROUND(L30470*(1-N30470),2)","v":8.1199999999999992}]
[null,null,null,null,null,592321,"SPR","SPR","PK","CLIPS,OFCMATE,NON SKID,#1,10PK",null,11.6,7,{"$f":"VLOOKUP(M30471,DFL!A:H,8,0)","v":0.46},{"$f":"P30471-(P30471/1.0025)","v":1.5610972568578241E-2},6.26]
[null,null,null,null,null,5037761,"SPR","SPR","EA","INK,BROTHER,LC401CS,STD,CYN",null,11.9,43,{"$f":"VLOOKUP(M30472,DFL!A:H,8,0)","v":0.3},{"$f":"P30472-(P30472/1.0025)","v":2.0773067331671058E-2},8.33]
[null,null,null,null,null,5094203,"SPR","SPR","EA","INK,BROTHER,LC401MS,STD,MGT",null,11.9,43,{"$f":"VLOOKUP(M30473,DFL!A:H,8,0)","v":0.3},{"$f":"P30473-(P30473/1.0025)","v":2.0773067331671058E-2},8.33]
[null,null,null,null,null,7783013,"SPR","SPR","EA","INK,BROTHER,LC401YS,STD,YLW",null,11.9,43,{"$f":"VLOOKUP(M30474,DFL!A:H,8,0)","v":0.3},{"$f":"P30474-(P30474/1.0025)","v":2.0773067331671058E-2},8.33]
[null,null,null,null,null,453962,"SPR","SPR","EA","INK PAD, for 4750.L/4755 BLACK",null,11.95,24,{"$f":"VLOOKUP(M30475,DFL!A:H,8,0)","v":0.55000000000000004},{"$f":"P30475-(P30475/1.0025)","v":1.341645885286713E-2},5.38]
[null,null,null,null,null,475406,"SPR","SPR","EA","DISPENSER,HAND,CLEANER,BLUE",null,11.97,48,{"$f":"VLOOKUP(M30476,DFL!A:H,8,0)","v":0.3},{"$f":"P30476-(P30476/1.0025)","v":2.0897755610972624E-2},8.3800000000000008]
[null,null,null,null,null,8921023,"SPR","SPR","PK","ERASER,MAGNETIC,WB,2X2",null,11.99,20,{"$f":"VLOOKUP(M30477,DFL!A:H,8,0)","v":0.47},{"$f":"P30477-(P30477/1.0025)","v":1.5835411471321059E-2},6.35]
[null,null,null,null,null,9327558,"SPR","SPR","P4","PEN,PM,FLXGR,ULT,BP,1.0,AST,4P",null,11.99,33,{"$f":"VLOOKUP(M30478,DFL!A:H,8,0)","v":0.55000000000000004},{"$f":"P30478-(P30478/1.0025)","v":1.3466334164588645E-2},5.4]
[null,null,null,null,null,368877,"SPR","SPR","PK","PAPER,CNST,18X24,50PK,BRW",null,12.29,47,{"$f":"VLOOKUP(M30479,DFL!A:H,8,0)","v":0.5},{"$f":"P30479-(P30479/1.0025)","v":1.5336658354114796E-2},6.15]
[null,null,null,null,null,5213954,"SPR","SPR","P3","PEN,PM,INKJY,GEL,BRGHT,WHT.3PK",null,12.4,33,{"$f":"VLOOKUP(M30480,DFL!A:H,8,0)","v":0.55000000000000004},{"$f":"P30480-(P30480/1.0025)","v":1.3915211970074282E-2},5.58]
[null,null,null,null,null,5409965,"SPR","SPR","P3","PEN,GEL,PM,IJBRGHT,.7,ASST,3PK",null,12.4,33,{"$f":"VLOOKUP(M30481,DFL!A:H,8,0)","v":0.55000000000000004},{"$f":"P30481-(P30481/1.0025)","v":1.3915211970074282E-2},5.58]
[null,null,null,null,null,5070891,"SPR","SPR","P3","PEN,GEL,PM,IJMTLLC,.8,ASST,3PK",null,12.4,33,{"$f":"VLOOKUP(M30482,DFL!A:H,8,0)","v":0.55000000000000004},{"$f":"P30482-(P30482/1.0025)","v":1.3915211970074282E-2},5.58]
[null,null,null,null,null,9341819,"SPR","SPR","P4","PEN,SHP,SGEL,WHTBRL,JWL,AST.4P",null,12.43,33,{"$f":"VLOOKUP(M30483,DFL!A:H,8,0)","v":0.55000000000000004},{"$f":"P30483-(P30483/1.0025)","v":1.3940149625934595E-2},5.59]
[null,null,null,null,null,8836298,"SPR","SPR","P4","PEN,SHP,SGEL,WHTBRL,BLD,AST.4P",null,12.43,33,{"$f":"VLOOKUP(M30484,DFL!A:H,8,0)","v":0.55000000000000004},{"$f":"P30484-(P30484/1.0025)","v":1.3940149625934595E-2},5.59]
[null,null,null,null,null,7093152,"SPR","SPR","OP","PEN,SHRP,GEL,M,GNMTLBRL,BLU,2P",null,12.43,33,{"$f":"VLOOKUP(M30485,DFL!A:H,8,0)","v":0.55000000000000004},{"$f":"P30485-(P30485/1.0025)","v":1.3940149625934595E-2},5.59]
[null,null,null,null,null,372622,"SPR","SPR","EA","BALL,SOCCERBALL,SIZE5,AST",null,12.74,48,{"$f":"VLOOKUP(M30486,DFL!A:H,8,0)","v":0.3},{"$f":"P30486-(P30486/1.0025)","v":2.2244389027431311E-2},8.92]
[null,null,null,null,null,4365327,"SPR","SPR","EA","PAD,MCRFBR,8,WASH,#7466423,GN",null,12.91,19,{"$f":"VLOOKUP(M30487,DFL!A:H,8,0)","v":0.45},{"$f":"P30487-(P30487/1.0025)","v":1.7705735660847211E-2},7.1]
[null,null,null,null,null,9978533,"SPR","SPR","PK","PLATE,COMPOSTABLE,9 INCH",null,12.99,18,{"$f":"VLOOKUP(M30488,DFL!A:H,8,0)","v":0.44},{"$f":"P30488-(P30488/1.0025)","v":1.8129675810473422E-2},7.27]
[null,null,null,null,null,6843892,"SPR","SPR","EA","CLEANER,MS,LMNFR,40Z,YLW",null,13.05,19,{"$f":"VLOOKUP(M30489,DFL!A:H,8,0)","v":0.45},{"$f":"P30489-(P30489/1.0025)","v":1.7905236907730604E-2},7.18]
[null,null,null,null,null,5430612,"SPR","SPR","PK","CERTIFICATE KIT,FOIL SEAL,15PK",null,13.31,4,{"$f":"VLOOKUP(M30490,DFL!A:H,8,0)","v":0.39},{"$f":"P30490-(P30490/1.0025)","v":2.0249376558602705E-2},8.1199999999999992]
[null,null,null,null,null,8293713,"SPR","SPR","PK","COIN TRAY,PENNIES,4/SET",null,13.41,48,{"$f":"VLOOKUP(M30491,DFL!A:H,8,0)","v":0.3},{"$f":"P30491-(P30491/1.0025)","v":2.3416458852867805E-2},9.39]
[null,null,null,null,null,8293790,"SPR","SPR","PK","COIN TRAY,NICKELS, 4/SET",null,13.41,48,{"$f":"VLOOKUP(M30492,DFL!A:H,8,0)","v":0.3},{"$f":"P30492-(P30492/1.0025)","v":2.3416458852867805E-2},9.39]
[null,null,null,null,null,8294061,"SPR","SPR","PK","COIN TRAY,DIMES, 4/SET",null,13.41,48,{"$f":"VLOOKUP(M30493,DFL!A:H,8,0)","v":0.3},{"$f":"P30493-(P30493/1.0025)","v":2.3416458852867805E-2},9.39]
[null,null,null,null,null,8294944,"SPR","SPR","PK","COIN TRAY,QUARTERS, 4/SET",null,13.41,48,{"$f":"VLOOKUP(M30494,DFL!A:H,8,0)","v":0.3},{"$f":"P30494-(P30494/1.0025)","v":2.3416458852867805E-2},9.39]
[null,null,null,null,null,6351889,"SPR","SPR","PK","Post-it? SS Recycled Notes 4x6",null,13.45,30,{"$f":"VLOOKUP(M30495,DFL!A:H,8,0)","v":0.57999999999999996},{"$f":"P30495-(P30495/1.0025)","v":1.4089775561097362E-2},5.65]
[null,null,null,null,null,6164790,"SPR","SPR","PK","Post-it? SS Recycled Notes 3x3",null,13.53,30,{"$f":"VLOOKUP(M30496,DFL!A:H,8,0)","v":0.57999999999999996},{"$f":"P30496-(P30496/1.0025)","v":1.4164588528678301E-2},5.68]
[null,null,null,null,null,7890496,"SPR","SPR","PK","Post-it? SS Recycled Notes 3x3",null,13.53,30,{"$f":"VLOOKUP(M30497,DFL!A:H,8,0)","v":0.57999999999999996},{"$f":"P30497-(P30497/1.0025)","v":1.4164588528678301E-2},5.68]
[null,null,null,null,null,898744,"SPR","SPR","RM","PAPER,HNDWRTNG,1ST&2ND GRDE",null,13.72,47,{"$f":"VLOOKUP(M30498,DFL!A:H,8,0)","v":0.5},{"$f":"P30498-(P30498/1.0025)","v":1.7107231920198807E-2},6.86]
[null,null,null,null,null,898752,"SPR","SPR","RM","PAPER,HNDWRTNG,2ND&3RD GRDE",null,13.72,47,{"$f":"VLOOKUP(M30499,DFL!A:H,8,0)","v":0.5},{"$f":"P30499-(P30499/1.0025)","v":1.7107231920198807E-2},6.86]
[null,null,null,null,null,272347,"SPR","SPR","BX","CREAMER,LIQD,PPRMNT MOCHA,50BX",null,13.78,48,{"$f":"VLOOKUP(M30500,DFL!A:H,8,0)","v":0.3},{"$f":"P30500-(P30500/1.0025)","v":2.4064837905235947E-2},9.65]
[null,null,null,null,null,680975,"SPR","SPR","DZ","HIGHLIGHTER,12PK,FLR YELLOW,DZ",null,13.83,28,{"$f":"VLOOKUP(M30501,DFL!A:H,8,0)","v":0.48},{"$f":"P30501-(P30501/1.0025)","v":1.7930174563590917E-2},7.19]
[null,null,null,null,null,9927753,"SPR","SPR","EA","PUZZLE,RHYMING,48PC",null,13.99,48,{"$f":"VLOOKUP(M30502,DFL!A:H,8,0)","v":0.3},{"$f":"P30502-(P30502/1.0025)","v":2.4413965087282108E-2},9.7899999999999991]
[null,null,null,null,null,372629,"SPR","SPR","ST","CONES, 9 GYM,6/ST,AST",null,14.15,48,{"$f":"VLOOKUP(M30503,DFL!A:H,8,0)","v":0.3},{"$f":"P30503-(P30503/1.0025)","v":2.4713216957605866E-2},9.91]
[null,null,null,null,null,211851,"SPR","SPR","EA","BALL,BASKETBALL,SIZE 6,OR",null,14.24,48,{"$f":"VLOOKUP(M30504,DFL!A:H,8,0)","v":0.3},{"$f":"P30504-(P30504/1.0025)","v":2.4862842892767745E-2},9.9700000000000006]
[null,null,null,null,null,898736,"SPR","SPR","RM","PAPER,HNDWRTNG,KNDERGRTN",null,14.4,47,{"$f":"VLOOKUP(M30505,DFL!A:H,8,0)","v":0.5},{"$f":"P30505-(P30505/1.0025)","v":1.795511221945123E-2},7.2]
[null,null,null,null,null,9401660,"SPR","SPR","PK","LETTERS,SELF STICK,BK,154",null,14.49,36,{"$f":"VLOOKUP(M30506,DFL!A:H,8,0)","v":0.36},{"$f":"P30506-(P30506/1.0025)","v":2.3117206982542271E-2},{"$f":"ROUND(L30506*(1-N30506),2)","v":9.27}]
[null,null,null,null,null,732792,"SPR","SPR","BX","CLIPS,SPRING,MAGNETIC,12CT",null,14.85,7,{"$f":"VLOOKUP(M30507,DFL!A:H,8,0)","v":0.46},{"$f":"P30507-(P30507/1.0025)","v":1.9999999999999574E-2},8.02]
[null,null,null,null,null,6338968,"SPR","SPR","EA","SCISSORS, TITANIUM NON-STICK",null,14.85,7,{"$f":"VLOOKUP(M30508,DFL!A:H,8,0)","v":0.46},{"$f":"P30508-(P30508/1.0025)","v":1.9999999999999574E-2},8.02]
[null,null,null,null,null,8471722,"SPR","SPR","EA","MATH,SCRAMBLE",null,14.99,48,{"$f":"VLOOKUP(M30509,DFL!A:H,8,0)","v":0.3},{"$f":"P30509-(P30509/1.0025)","v":2.6159600997505805E-2},10.49]
[null,null,null,null,null,7647281,"SPR","SPR","EA","MOP,SCREW,24 OZ.,COTTON",null,15.07,19,{"$f":"VLOOKUP(M30510,DFL!A:H,8,0)","v":0.45},{"$f":"P30510-(P30510/1.0025)","v":2.0673316708229805E-2},8.2899999999999991]
[null,null,null,null,null,372545,"SPR","SPR","EA","BALL,FOOTBALL,INTRMED,OE",null,15.22,48,{"$f":"VLOOKUP(M30511,DFL!A:H,8,0)","v":0.3},{"$f":"P30511-(P30511/1.0025)","v":2.6558603491270816E-2},10.65]
[null,null,null,null,null,372566,"SPR","SPR","EA","BALL,FOOTBALL,JR SIZE,OE",null,15.33,48,{"$f":"VLOOKUP(M30512,DFL!A:H,8,0)","v":0.3},{"$f":"P30512-(P30512/1.0025)","v":2.6758104738153321E-2},10.73]
[null,null,null,null,null,372489,"SPR","SPR","EA","BALL,BASKETBALL,#7OFCL,OE",null,15.45,48,{"$f":"VLOOKUP(M30513,DFL!A:H,8,0)","v":0.3},{"$f":"P30513-(P30513/1.0025)","v":2.6982543640897916E-2},10.82]
[null,null,null,null,null,4299147,"SPR","SPR","PK","MRKR,SHRP,CREATIVE,BLT,AST,5P",null,15.78,28,{"$f":"VLOOKUP(M30514,DFL!A:H,8,0)","v":0.48},{"$f":"P30514-(P30514/1.0025)","v":2.0473815461345524E-2},8.2100000000000009]
[null,null,null,null,null,8777434,"SPR","SPR","PK","MRKR,SHRP,CREATIVE,BRSH,AST,5P",null,15.78,28,{"$f":"VLOOKUP(M30515,DFL!A:H,8,0)","v":0.48},{"$f":"P30515-(P30515/1.0025)","v":2.0473815461345524E-2},8.2100000000000009]
[null,null,null,null,null,8711736,"SPR","SPR","P5","MRKR,SHRP,CRTV,BLT,ERTH,AST,5P",null,15.78,28,{"$f":"VLOOKUP(M30516,DFL!A:H,8,0)","v":0.48},{"$f":"P30516-(P30516/1.0025)","v":2.0473815461345524E-2},8.2100000000000009]
[null,null,null,null,null,7571992,"SPR","SPR","P5","MRKR,SHRP,CRTV,BLT,ERT2,AST,5P",null,15.78,28,{"$f":"VLOOKUP(M30517,DFL!A:H,8,0)","v":0.48},{"$f":"P30517-(P30517/1.0025)","v":2.0473815461345524E-2},8.2100000000000009]
[null,null,null,null,null,331362,"SPR","SPR","EA","ACCUSTAMP2 1CLR DRAFT, RED",null,15.88,24,{"$f":"VLOOKUP(M30518,DFL!A:H,8,0)","v":0.55000000000000004},{"$f":"P30518-(P30518/1.0025)","v":1.7830423940149664E-2},7.15]
[null,null,null,null,null,677150,"SPR","SPR","RM","PAPER,STORY,PICTURE",null,15.96,47,{"$f":"VLOOKUP(M30519,DFL!A:H,8,0)","v":0.5},{"$f":"P30519-(P30519/1.0025)","v":1.9900249376558321E-2},7.98]
[null,null,null,null,null,366770,"SPR","SPR","RM","PAPER,PICSTORY,500PK,NLWE",null,15.96,47,{"$f":"VLOOKUP(M30520,DFL!A:H,8,0)","v":0.5},{"$f":"P30520-(P30520/1.0025)","v":1.9900249376558321E-2},7.98]
[null,null,null,null,null,678123,"SPR","SPR","PK","STICKERS,SEASONS/HOLIDAY",null,15.99,47,{"$f":"VLOOKUP(M30521,DFL!A:H,8,0)","v":0.5},{"$f":"P30521-(P30521/1.0025)","v":1.9950124688278947E-2},8]
[null,null,null,null,null,606135,"SPR","SPR","PK","STICKERS,MIXED SHPS,456PK",null,15.99,47,{"$f":"VLOOKUP(M30522,DFL!A:H,8,0)","v":0.5},{"$f":"P30522-(P30522/1.0025)","v":1.9950124688278947E-2},8]
[null,null,null,null,null,699548,"SPR","SPR","ST","CUBES,SNAP,100PC",null,15.99,48,{"$f":"VLOOKUP(M30523,DFL!A:H,8,0)","v":0.3},{"$f":"P30523-(P30523/1.0025)","v":2.7905236907729503E-2},11.19]
[null,null,null,null,null,879503,"SPR","SPR","PK","HOOKS,MAGNE,SUPER, 4PC",null,15.99,16,{"$f":"VLOOKUP(M30524,DFL!A:H,8,0)","v":0.36},{"$f":"P30524-(P30524/1.0025)","v":2.5511221945135887E-2},10.23]
[null,null,null,null,null,4199655,"SPR","SPR","PK","STICKER,SCHDY,VPK,SPRKL,648",null,15.99,47,{"$f":"VLOOKUP(M30525,DFL!A:H,8,0)","v":0.5},{"$f":"P30525-(P30525/1.0025)","v":1.9950124688278947E-2},8]
[null,null,null,null,null,8228436,"SPR","SPR","PK","STICKER,PPTLK,VRPK,SNS,288",null,15.99,47,{"$f":"VLOOKUP(M30526,DFL!A:H,8,0)","v":0.5},{"$f":"P30526-(P30526/1.0025)","v":1.9950124688278947E-2},8]
[null,null,null,null,null,9841067,"SPR","SPR","PK","STICKER,KDZN,VARPK,SNS,339",null,15.99,47,{"$f":"VLOOKUP(M30527,DFL!A:H,8,0)","v":0.5},{"$f":"P30527-(P30527/1.0025)","v":1.9950124688278947E-2},8]
[null,null,null,null,null,521191,"SPR","SPR","PK","PACK,STICKERS,STAR,STNKY",null,15.99,47,{"$f":"VLOOKUP(M30528,DFL!A:H,8,0)","v":0.5},{"$f":"P30528-(P30528/1.0025)","v":1.9950124688278947E-2},8]
[null,null,null,null,null,8414711,"SPR","SPR","PK","MARKERS,WASHABLE,RETRACT,BOLD",null,16,28,{"$f":"VLOOKUP(M30529,DFL!A:H,8,0)","v":0.48},{"$f":"P30529-(P30529/1.0025)","v":2.0748129675810745E-2},8.32]
[null,null,null,null,null,9479434,"SPR","SPR","PK","PEN,GEL,SGEL,CPRBRL,BLK,1+RFL",null,16.100000000000001,33,{"$f":"VLOOKUP(M30530,DFL!A:H,8,0)","v":0.55000000000000004},{"$f":"P30530-(P30530/1.0025)","v":1.8079800498752796E-2},7.25]
[null,null,null,null,null,358749,"SPR","SPR","PK","TRAY,ROUND PAINT,10PK,WHT",null,16.32,47,{"$f":"VLOOKUP(M30531,DFL!A:H,8,0)","v":0.5},{"$f":"P30531-(P30531/1.0025)","v":2.0349127182043958E-2},8.16]
[null,null,null,null,null,755227,"SPR","SPR","PK","MARKER,EXPO,UF,STARTER,SET",null,16.34,28,{"$f":"VLOOKUP(M30532,DFL!A:H,8,0)","v":0.48},{"$f":"P30532-(P30532/1.0025)","v":2.1197007481296382E-2},8.5]
[null,null,null,null,null,771404,"SPR","SPR","EA","MIRROR,SINGLE SIDE,8.5X11",null,16.649999999999999,48,{"$f":"VLOOKUP(M30533,DFL!A:H,8,0)","v":0.3},{"$f":"P30533-(P30533/1.0025)","v":2.9077306733165997E-2},11.66]
[null,null,null,null,null,698085,"SPR","SPR","EA","SQUEEGEE,PLASTIC,AUTO",null,16.71,19,{"$f":"VLOOKUP(M30534,DFL!A:H,8,0)","v":0.45},{"$f":"P30534-(P30534/1.0025)","v":2.2917705735659766E-2},9.19]
[null,null,null,null,null,6386182,"SPR","SPR","PK","Ultra Thin Pads Wings 32PK",null,16.75,19,{"$f":"VLOOKUP(M30535,DFL!A:H,8,0)","v":0.45},{"$f":"P30535-(P30535/1.0025)","v":2.2967581047380392E-2},9.2100000000000009]
[null,null,null,null,null,7203669,"SPR","SPR","BX","MOP,MICROFIBER,18X5,GRNSTRP",null,16.87,19,{"$f":"VLOOKUP(M30536,DFL!A:H,8,0)","v":0.45},{"$f":"P30536-(P30536/1.0025)","v":2.3142144638404361E-2},9.2799999999999994]
[null,null,null,null,null,309412,"SPR","SPR","EA","TAPE,DUCT,35YD,WHITE",null,16.91,39,{"$f":"VLOOKUP(M30537,DFL!A:H,8,0)","v":0.5},{"$f":"P30537-(P30537/1.0025)","v":2.1097256857855129E-2},8.4600000000000009]
[null,null,null,null,null,7203098,"SPR","SPR","PK","PLATE,COMPOST,3COMP,10 INCH",null,16.940000000000001,18,{"$f":"VLOOKUP(M30538,DFL!A:H,8,0)","v":0.44},{"$f":"P30538-(P30538/1.0025)","v":2.3665835411470937E-2},9.49]
[null,null,null,null,null,793218,"SPR","SPR","BX","CHALK,SIDEWALK,64CT,AST",null,17.14,20,{"$f":"VLOOKUP(M30539,DFL!A:H,8,0)","v":0.47},{"$f":"P30539-(P30539/1.0025)","v":2.2643391521196321E-2},9.08]
[null,null,null,null,null,4854937,"SPR","SPR","PK","Post-it? SS Recycled Notes 3x3",null,17.23,30,{"$f":"VLOOKUP(M30540,DFL!A:H,8,0)","v":0.57999999999999996},{"$f":"P30540-(P30540/1.0025)","v":1.8054862842892483E-2},7.24]
[null,null,null,null,null,4884479,"SPR","SPR","PK","Post-it? SS Recycled Notes 3x3",null,17.23,30,{"$f":"VLOOKUP(M30541,DFL!A:H,8,0)","v":0.57999999999999996},{"$f":"P30541-(P30541/1.0025)","v":1.8054862842892483E-2},7.24]
[null,null,null,null,null,6730474,"SPR","SPR","EA","Post-it? Notes Summer Joy 3PK",null,17.28,30,{"$f":"VLOOKUP(M30542,DFL!A:H,8,0)","v":0.57999999999999996},{"$f":"P30542-(P30542/1.0025)","v":1.8104738154613109E-2},7.26]
[null,null,null,null,null,7755487,"SPR","SPR","EA","WIPES,DISINFECTING,220CT",null,17.71,19,{"$f":"VLOOKUP(M30543,DFL!A:H,8,0)","v":0.45},{"$f":"P30543-(P30543/1.0025)","v":2.4289276807978766E-2},9.74]
[null,null,null,null,null,678116,"SPR","SPR","PK","STICKERS,ASSORTMENT,AWESOME",null,17.989999999999998,47,{"$f":"VLOOKUP(M30544,DFL!A:H,8,0)","v":0.5},{"$f":"P30544-(P30544/1.0025)","v":2.2443890274313816E-2},9]
[null,null,null,null,null,5758657,"SPR","SPR","EA","WASTEBASKET,41QT,BK",null,18.13,31,{"$f":"VLOOKUP(M30545,DFL!A:H,8,0)","v":0.49},{"$f":"P30545-(P30545/1.0025)","v":2.3067331670821645E-2},9.25]
[null,null,null,null,null,9058396,"SPR","SPR","BX","SWEETNER,SPLENDA,200CT",null,18.13,48,{"$f":"VLOOKUP(M30546,DFL!A:H,8,0)","v":0.3},{"$f":"P30546-(P30546/1.0025)","v":3.1645885286781805E-2},12.69]
[null,null,null,null,null,7068237,"SPR","SPR","EA","COFFEE,MEDRST,12OZ,BLCKGOLD",null,18.22,48,{"$f":"VLOOKUP(M30547,DFL!A:H,8,0)","v":0.3},{"$f":"P30547-(P30547/1.0025)","v":3.1795511221943684E-2},{"$f":"ROUND(L30547*(1-N30547),2)","v":12.75}]
[null,null,null,null,null,6394261,"SPR","SPR","EA","COFFEE,MEDRST,12OZ,EXPDBLND",null,18.22,48,{"$f":"VLOOKUP(M30548,DFL!A:H,8,0)","v":0.3},{"$f":"P30548-(P30548/1.0025)","v":3.1795511221943684E-2},12.75]
[null,null,null,null,null,7024541,"SPR","SPR","PK","SHEETS,WNDRFM,GLTR,8.5X11.5",null,18.399999999999999,47,{"$f":"VLOOKUP(M30549,DFL!A:H,8,0)","v":0.5},{"$f":"P30549-(P30549/1.0025)","v":2.2942643391520079E-2},9.1999999999999993]
[null,null,null,null,null,362493,"SPR","SPR","ST","CUP,PAINT,NO SPILL,CR",null,18.62,47,{"$f":"VLOOKUP(M30550,DFL!A:H,8,0)","v":0.5},{"$f":"P30550-(P30550/1.0025)","v":2.32169576059853E-2},9.31]
[null,null,null,null,null,838694,"SPR","SPR","PK","Clothesline, Classroom",null,18.739999999999998,47,{"$f":"VLOOKUP(M30551,DFL!A:H,8,0)","v":0.5},{"$f":"P30551-(P30551/1.0025)","v":2.3366583541147179E-2},9.3699999999999992]
[null,null,null,null,null,7223004,"SPR","SPR","BX","BLOCK,URINAL",null,18.98,19,{"$f":"VLOOKUP(M30552,DFL!A:H,8,0)","v":0.45},{"$f":"P30552-(P30552/1.0025)","v":2.6034912718204239E-2},10.44]
[null,null,null,null,null,9972556,"SPR","SPR","PK","THE WRITING CLAW,PRE-K,12PK",null,18.989999999999998,48,{"$f":"VLOOKUP(M30553,DFL!A:H,8,0)","v":0.3},{"$f":"P30553-(P30553/1.0025)","v":3.3142144638404147E-2},13.29]
[null,null,null,null,null,375828,"SPR","SPR","ST","CLOCK,GEAR, 4 INCH",null,19,16,{"$f":"VLOOKUP(M30554,DFL!A:H,8,0)","v":0.36},{"$f":"P30554-(P30554/1.0025)","v":3.0324189526183432E-2},12.16]
[null,null,null,null,null,243937,"SPR","SPR","DZ","HIGHLIGHTER,24/7,YW",null,19.3,28,{"$f":"VLOOKUP(M30555,DFL!A:H,8,0)","v":0.48},{"$f":"P30555-(P30555/1.0025)","v":2.5037406483789937E-2},10.039999999999999]
[null,null,null,null,null,785922,"SPR","SPR","PK","PEN,BLPNT,RT,PROFILE,12PK,ASTD",null,19.760000000000002,33,{"$f":"VLOOKUP(M30556,DFL!A:H,8,0)","v":0.55000000000000004},{"$f":"P30556-(P30556/1.0025)","v":2.2169576059850371E-2},8.89]
[null,null,null,null,null,9761670,"SPR","SPR","EA","GAME,WORD,SIGHT,SWAT",null,19.98,48,{"$f":"VLOOKUP(M30557,DFL!A:H,8,0)","v":0.3},{"$f":"P30557-(P30557/1.0025)","v":3.4887780548627845E-2},13.99]
[null,null,null,null,null,9654431,"SPR","SPR","ST","PAPER,CKBRD/BUR,RLD,50,2PK",null,19.989999999999998,30,{"$f":"VLOOKUP(M30558,DFL!A:H,8,0)","v":0.57999999999999996},{"$f":"P30558-(P30558/1.0025)","v":2.094763092269325E-2},8.4]
[null,null,null,null,null,9805850,"SPR","SPR","ST","PAPER,CLRFLCNFT,RLD,50,2PK",null,19.989999999999998,30,{"$f":"VLOOKUP(M30559,DFL!A:H,8,0)","v":0.57999999999999996},{"$f":"P30559-(P30559/1.0025)","v":2.094763092269325E-2},8.4]
[null,null,null,null,null,9002406,"SPR","SPR","EA","INK,LC404,STD YIELD,CYN",null,19.989999999999998,43,{"$f":"VLOOKUP(M30560,DFL!A:H,8,0)","v":0.3},{"$f":"P30560-(P30560/1.0025)","v":3.4887780548627845E-2},13.99]
[null,null,null,null,null,7634978,"SPR","SPR","EA","MATH,FACTS,INTERACTIVE,BRD,ADD",null,19.989999999999998,48,{"$f":"VLOOKUP(M30561,DFL!A:H,8,0)","v":0.3},{"$f":"P30561-(P30561/1.0025)","v":3.4887780548627845E-2},13.99]
[null,null,null,null,null,4820454,"SPR","SPR","EA","MATH,FACTS,INTERACTIVE,BRD,SUB",null,19.989999999999998,48,{"$f":"VLOOKUP(M30562,DFL!A:H,8,0)","v":0.3},{"$f":"P30562-(P30562/1.0025)","v":3.4887780548627845E-2},13.99]
[null,null,null,null,null,8302821,"SPR","SPR","EA","SCISSORS,ORG 8IN,PREM,OR",null,20.14,7,{"$f":"VLOOKUP(M30563,DFL!A:H,8,0)","v":0.46},{"$f":"P30563-(P30563/1.0025)","v":2.7132169576059795E-2},10.88]
[null,null,null,null,null,552908,"SPR","SPR","ST","BRUSHES,START SET,AST,25PC",null,20.190000000000001,47,{"$f":"VLOOKUP(M30564,DFL!A:H,8,0)","v":0.5},{"$f":"P30564-(P30564/1.0025)","v":2.5187032418951816E-2},10.1]
[null,null,null,null,null,9515524,"SPR","SPR","EA","APRON,POUCH,SERVER,BK",null,20.25,19,{"$f":"VLOOKUP(M30565,DFL!A:H,8,0)","v":0.45},{"$f":"P30565-(P30565/1.0025)","v":2.7780548628427937E-2},11.14]
[null,null,null,null,null,538597,"SPR","SPR","PK","SHEETS,FELT,9X12,@30SH,AST",null,20.27,47,{"$f":"VLOOKUP(M30566,DFL!A:H,8,0)","v":0.5},{"$f":"P30566-(P30566/1.0025)","v":2.5286783042393068E-2},10.14]
[null,null,null,null,null,375513,"SPR","SPR","ST","MEASURER,WORMS-72,F/MATH",null,20.32,48,{"$f":"VLOOKUP(M30567,DFL!A:H,8,0)","v":0.3},{"$f":"P30567-(P30567/1.0025)","v":3.5461346633415047E-2},14.22]
[null,null,null,null,null,7832197,"SPR","SPR","EA","INK,LC404,STD YIELD,MGT",null,20.39,43,{"$f":"VLOOKUP(M30568,DFL!A:H,8,0)","v":0.3},{"$f":"P30568-(P30568/1.0025)","v":3.5586034912716613E-2},14.27]
[null,null,null,null,null,5846038,"SPR","SPR","EA","INK,LC404,STD YIELD,YLW",null,20.39,43,{"$f":"VLOOKUP(M30569,DFL!A:H,8,0)","v":0.3},{"$f":"P30569-(P30569/1.0025)","v":3.5586034912716613E-2},14.27]
[null,null,null,null,null,1403118,"SPR","SPR","DZ","MARKER DRYERS XL RD",null,20.5,28,{"$f":"VLOOKUP(M30570,DFL!A:H,8,0)","v":0.48},{"$f":"P30570-(P30570/1.0025)","v":2.6583541147131129E-2},10.66]
[null,null,null,null,null,893792,"SPR","SPR","PK","PULL, BRIDGE",null,21,48,{"$f":"VLOOKUP(M30571,DFL!A:H,8,0)","v":0.3},{"$f":"P30571-(P30571/1.0025)","v":3.6658354114711855E-2},14.7]
[null,null,null,null,null,496943,"SPR","SPR","PK","PULL, CLASSIC",null,21,48,{"$f":"VLOOKUP(M30572,DFL!A:H,8,0)","v":0.3},{"$f":"P30572-(P30572/1.0025)","v":3.6658354114711855E-2},14.7]
[null,null,null,null,null,228837,"SPR","SPR","PK","PULL, CONTEMPORARY",null,21,48,{"$f":"VLOOKUP(M30573,DFL!A:H,8,0)","v":0.3},{"$f":"P30573-(P30573/1.0025)","v":3.6658354114711855E-2},14.7]
[null,null,null,null,null,4401857,"SPR","SPR","EA","Disinfectant Spray, 19oz, CL",null,21.06,19,{"$f":"VLOOKUP(M30574,DFL!A:H,8,0)","v":0.45},{"$f":"P30574-(P30574/1.0025)","v":2.8877805486283492E-2},11.58]
[null,null,null,null,null,1213822,"SPR","SPR","EA","BLACK CARDSTOCK 65LB 100SH",null,21.14,32,{"$f":"VLOOKUP(M30575,DFL!A:H,8,0)","v":0.65},{"$f":"P30575-(P30575/1.0025)","v":1.8453865336658382E-2},7.4]
[null,null,null,null,null,3963101,"SPR","SPR","PK","HOOKS,MAGNETIC,STRONG,2CT",null,21.24,16,{"$f":"VLOOKUP(M30576,DFL!A:H,8,0)","v":0.36},{"$f":"P30576-(P30576/1.0025)","v":3.3890274314213542E-2},13.59]
[null,null,null,null,null,609204,"SPR","SPR","EA","FILEPOCKET,MAGNETPLUS,WHT",null,21.26,31,{"$f":"VLOOKUP(M30577,DFL!A:H,8,0)","v":0.49},{"$f":"P30577-(P30577/1.0025)","v":2.7032418952618542E-2},10.84]
[null,null,null,null,null,8645343,"SPR","SPR","EA","CLEANER,MS,CTSBLSM,175 Z,OE",null,21.3,19,{"$f":"VLOOKUP(M30578,DFL!A:H,8,0)","v":0.45},{"$f":"P30578-(P30578/1.0025)","v":2.9226932668327876E-2},11.72]
[null,null,null,null,null,8610122,"SPR","SPR","PK","MARKER,SHARPIE,FN,SKINTONE,12P",null,21.33,28,{"$f":"VLOOKUP(M30579,DFL!A:H,8,0)","v":0.48},{"$f":"P30579-(P30579/1.0025)","v":2.7655860349126371E-2},11.09]
[null,null,null,null,null,6168524,"SPR","SPR","EA","STAPLER,COMPACT,20SHT",null,21.38,37,{"$f":"VLOOKUP(M30580,DFL!A:H,8,0)","v":0.5},{"$f":"P30580-(P30580/1.0025)","v":2.6658354114712068E-2},10.69]
[null,null,null,null,null,362150,"SPR","SPR","PK","GEMS,ACRYLIC 1LB BAG,AST",null,21.39,47,{"$f":"VLOOKUP(M30581,DFL!A:H,8,0)","v":0.5},{"$f":"P30581-(P30581/1.0025)","v":2.6683291770572382E-2},10.7]
[null,null,null,null,null,783200,"SPR","SPR","BX","STAPLES,CRTGE,F/EH50F",null,21.46,37,{"$f":"VLOOKUP(M30582,DFL!A:H,8,0)","v":0.5},{"$f":"P30582-(P30582/1.0025)","v":2.6758104738153321E-2},10.73]
[null,null,null,null,null,4414019,"SPR","SPR","EA","PINEAPPLE,FEELINGS,BIG,DELUXE",null,21.51,48,{"$f":"VLOOKUP(M30583,DFL!A:H,8,0)","v":0.3},{"$f":"P30583-(P30583/1.0025)","v":3.7556109725684905E-2},15.06]
[null,null,null,null,null,5760130,"SPR","SPR","CT","PACKETS,SALT",null,22.05,48,{"$f":"VLOOKUP(M30584,DFL!A:H,8,0)","v":0.3},{"$f":"P30584-(P30584/1.0025)","v":3.8503740648378582E-2},15.44]
[null,null,null,null,null,208604,"SPR","SPR","PK","TAG BOARD,HVYWT,12X18,WE",null,22.19,10,{"$f":"VLOOKUP(M30585,DFL!A:H,8,0)","v":0.36},{"$f":"P30585-(P30585/1.0025)","v":3.5411471321694421E-2},{"$f":"ROUND(L30585*(1-N30585),2)","v":14.2}]
[null,null,null,null,null,9488488,"SPR","SPR","EA","INK,BROTHER,LC401XLCS,HY,CYN",null,22.47,43,{"$f":"VLOOKUP(M30586,DFL!A:H,8,0)","v":0.3},{"$f":"P30586-(P30586/1.0025)","v":3.9226932668327663E-2},15.73]
[null,null,null,null,null,143792,"SPR","SPR","EA","CHART,STANDARD POCKET",null,22.49,48,{"$f":"VLOOKUP(M30587,DFL!A:H,8,0)","v":0.3},{"$f":"P30587-(P30587/1.0025)","v":3.9251870324187976E-2},15.74]
[null,null,null,null,null,1711432,"SPR","SPR","EA","Paint Medium Basic Asst 5ct",null,22.93,28,{"$f":"VLOOKUP(M30588,DFL!A:H,8,0)","v":0.48},{"$f":"P30588-(P30588/1.0025)","v":2.9725685785535916E-2},11.92]
[null,null,null,null,null,1711414,"SPR","SPR","EA","Paint Medium Fashion Asst 5ct",null,22.93,28,{"$f":"VLOOKUP(M30589,DFL!A:H,8,0)","v":0.48},{"$f":"P30589-(P30589/1.0025)","v":2.9725685785535916E-2},11.92]
[null,null,null,null,null,255493,"SPR","SPR","PK","WIGGLE EYES 500 PC. ASST.",null,23.19,47,{"$f":"VLOOKUP(M30590,DFL!A:H,8,0)","v":0.5},{"$f":"P30590-(P30590/1.0025)","v":2.8927680798004118E-2},11.6]
[null,null,null,null,null,5966890,"SPR","SPR","EA","BASKETS,PICNIC,SORTING",null,23.33,48,{"$f":"VLOOKUP(M30591,DFL!A:H,8,0)","v":0.3},{"$f":"P30591-(P30591/1.0025)","v":4.0723192019950005E-2},16.329999999999998]
[null,null,null,null,null,7747175,"SPR","SPR","EA","Aluminum Flashlight 6-1/4",null,23.52,16,{"$f":"VLOOKUP(M30592,DFL!A:H,8,0)","v":0.36},{"$f":"P30592-(P30592/1.0025)","v":3.7531172069824592E-2},15.05]
[null,null,null,null,null,427622,"SPR","SPR","BX","CLIPS,SPRING,MAGNETIC,24CT",null,23.68,7,{"$f":"VLOOKUP(M30593,DFL!A:H,8,0)","v":0.46},{"$f":"P30593-(P30593/1.0025)","v":3.1895261845386713E-2},12.79]
[null,null,null,null,null,7157552,"SPR","SPR","EA","80FLOZ,PRPL",null,23.68,19,{"$f":"VLOOKUP(M30594,DFL!A:H,8,0)","v":0.45},{"$f":"P30594-(P30594/1.0025)","v":3.2468827930173916E-2},13.02]
[null,null,null,null,null,5848323,"SPR","SPR","PK","ERASER,WB,2X2,24CT",null,23.99,20,{"$f":"VLOOKUP(M30595,DFL!A:H,8,0)","v":0.47},{"$f":"P30595-(P30595/1.0025)","v":3.1695760598502432E-2},12.71]
[null,null,null,null,null,8098907,"SPR","SPR","P6","PEN,PM,INKJY,GEL,BRGHT,AST.6PK",null,24.18,33,{"$f":"VLOOKUP(M30596,DFL!A:H,8,0)","v":0.55000000000000004},{"$f":"P30596-(P30596/1.0025)","v":2.7132169576059795E-2},10.88]
[null,null,null,null,null,5762040,"SPR","SPR","P6","PEN,GEL,PM,IJMTLLC,.8,ASST,6PK",null,24.18,33,{"$f":"VLOOKUP(M30597,DFL!A:H,8,0)","v":0.55000000000000004},{"$f":"P30597-(P30597/1.0025)","v":2.7132169576059795E-2},10.88]
[null,null,null,null,null,767183,"SPR","SPR","EA","SOLUTION,FLUSH,EYE,32OZ",null,24.24,22,{"$f":"VLOOKUP(M30598,DFL!A:H,8,0)","v":0.41},{"$f":"P30598-(P30598/1.0025)","v":3.5660847880299329E-2},14.3]
[null,null,null,null,null,521633,"SPR","SPR","ST","SET,MAG,GIANT ARRAY",null,24.49,48,{"$f":"VLOOKUP(M30599,DFL!A:H,8,0)","v":0.3},{"$f":"P30599-(P30599/1.0025)","v":4.2743142144637147E-2},17.14]
[null,null,null,null,null,4321001,"SPR","SPR","PK","THREAD,CRAFT,EMBROID,100",null,25.27,47,{"$f":"VLOOKUP(M30600,DFL!A:H,8,0)","v":0.5},{"$f":"P30600-(P30600/1.0025)","v":3.1521197007480239E-2},12.64]
[null,null,null,null,null,246106,"SPR","SPR","DZ","HIGHLIGHTER,SPOT,SUPREME,YW",null,25.32,28,{"$f":"VLOOKUP(M30601,DFL!A:H,8,0)","v":0.48},{"$f":"P30601-(P30601/1.0025)","v":3.2842892768078613E-2},13.17]
[null,null,null,null,null,821963,"SPR","SPR","CT","100 DISP LINERS 33 GAL",null,25.75,12,{"$f":"VLOOKUP(M30602,DFL!A:H,8,0)","v":0.4},{"$f":"P30602-(P30602/1.0025)","v":3.8528678304238895E-2},15.45]
[null,null,null,null,null,6651023,"SPR","SPR","EA","GAME,REEL,BIG,CATCH",null,25.94,48,{"$f":"VLOOKUP(M30603,DFL!A:H,8,0)","v":0.3},{"$f":"P30603-(P30603/1.0025)","v":4.5286783042392642E-2},18.16]
[null,null,null,null,null,675493,"SPR","SPR","ST","MARKER,ART,BULLET,48CT",null,26.02,28,{"$f":"VLOOKUP(M30604,DFL!A:H,8,0)","v":0.48},{"$f":"P30604-(P30604/1.0025)","v":3.3740648379051663E-2},13.53]
[null,null,null,null,null,706906,"SPR","SPR","PK","HIGHLDNOTES,RULED,4X6,YELLOW",null,26.06,30,{"$f":"VLOOKUP(M30605,DFL!A:H,8,0)","v":0.57999999999999996},{"$f":"P30605-(P30605/1.0025)","v":2.7306733167081987E-2},10.95]
[null,null,null,null,null,1300285,"SPR","SPR","PK","BIN,PLSTC WVE,MED,2/PK,BK",null,26.14,38,{"$f":"VLOOKUP(M30606,DFL!A:H,8,0)","v":0.36},{"$f":"P30606-(P30606/1.0025)","v":4.1720698254362532E-2},16.73]
[null,null,null,null,null,367897,"SPR","SPR","PK","PAPER,CNST,24X36,50PK,AST",null,26.16,47,{"$f":"VLOOKUP(M30607,DFL!A:H,8,0)","v":0.5},{"$f":"P30607-(P30607/1.0025)","v":3.2618453865335795E-2},13.08]
[null,null,null,null,null,137339,"SPR","SPR","EA","DISPENSER,FMX20,WHT,GRY",null,26.22,48,{"$f":"VLOOKUP(M30608,DFL!A:H,8,0)","v":0.3},{"$f":"P30608-(P30608/1.0025)","v":4.5760598503740368E-2},18.350000000000001]
[null,null,null,null,null,372678,"SPR","SPR","EA","BALL,TETHER,YW",null,26.36,48,{"$f":"VLOOKUP(M30609,DFL!A:H,8,0)","v":0.3},{"$f":"P30609-(P30609/1.0025)","v":4.60099750623435E-2},18.45]
[null,null,null,null,null,6994130,"SPR","SPR","PK","MARKERS,WASHABLE,SUPRTIP,100CT",null,26.47,28,{"$f":"VLOOKUP(M30610,DFL!A:H,8,0)","v":0.48},{"$f":"P30610-(P30610/1.0025)","v":3.4314214463838866E-2},13.76]
[null,null,null,null,null,6727388,"SPR","SPR","PK","HOLDER,SIGN,MAG,PL,SV,2PK",null,27.97,36,{"$f":"VLOOKUP(M30611,DFL!A:H,8,0)","v":0.36},{"$f":"P30611-(P30611/1.0025)","v":4.46384039900245E-2},17.899999999999999]
[null,null,null,null,null,162616,"SPR","SPR","ST","GLITTER,ASSORTED,3/4OZ, 12",null,28.19,47,{"$f":"VLOOKUP(M30612,DFL!A:H,8,0)","v":0.5},{"$f":"P30612-(P30612/1.0025)","v":3.5162094763091289E-2},14.1]
[null,null,null,null,null,481254,"SPR","SPR","ST","PENCILS,CLRGNT,SKNTNE,12CT",null,28.4,33,{"$f":"VLOOKUP(M30613,DFL!A:H,8,0)","v":0.55000000000000004},{"$f":"P30613-(P30613/1.0025)","v":3.1870324189524624E-2},12.78]
[null,null,null,null,null,8607973,"SPR","SPR","CT","SCREEN,URNL,HIFRG,CTR",null,28.52,19,{"$f":"VLOOKUP(M30614,DFL!A:H,8,0)","v":0.45},{"$f":"P30614-(P30614/1.0025)","v":3.912718204488641E-2},15.69]
[null,null,null,null,null,9552768,"SPR","SPR","CT","SCREEN,URNL,HIFRG,CCMBR MLN",null,28.52,19,{"$f":"VLOOKUP(M30615,DFL!A:H,8,0)","v":0.45},{"$f":"P30615-(P30615/1.0025)","v":3.912718204488641E-2},15.69]
[null,null,null,null,null,8785758,"SPR","SPR","CT","SCREEN,URNL,HIFRG,LVNDR FLD",null,28.52,19,{"$f":"VLOOKUP(M30616,DFL!A:H,8,0)","v":0.45},{"$f":"P30616-(P30616/1.0025)","v":3.912718204488641E-2},15.69]
[null,null,null,null,null,8170059,"SPR","SPR","CT","SCREEN,URNL,HIFRG,MANGO",null,28.52,19,{"$f":"VLOOKUP(M30617,DFL!A:H,8,0)","v":0.45},{"$f":"P30617-(P30617/1.0025)","v":3.912718204488641E-2},15.69]
[null,null,null,null,null,8016711,"SPR","SPR","CT","SCREEN,URNL,HIFRG,SPICED APPLE",null,28.52,19,{"$f":"VLOOKUP(M30618,DFL!A:H,8,0)","v":0.45},{"$f":"P30618-(P30618/1.0025)","v":3.912718204488641E-2},15.69]
[null,null,null,null,null,9388208,"SPR","SPR","CT","SCREEN,URNL,HIFRG,COTTON",null,28.52,19,{"$f":"VLOOKUP(M30619,DFL!A:H,8,0)","v":0.45},{"$f":"P30619-(P30619/1.0025)","v":3.912718204488641E-2},15.69]
[null,null,null,null,null,761677,"SPR","SPR","EA","BALL,BASKETBALL,OFFICL,BR",null,28.63,48,{"$f":"VLOOKUP(M30620,DFL!A:H,8,0)","v":0.3},{"$f":"P30620-(P30620/1.0025)","v":4.9975062344138621E-2},20.04]
[null,null,null,null,null,133082,"SPR","SPR","PK","TAPE,VINYL,G-PURP,AST,6PK",null,28.68,47,{"$f":"VLOOKUP(M30621,DFL!A:H,8,0)","v":0.5},{"$f":"P30621-(P30621/1.0025)","v":3.5760598503740582E-2},14.34]
[null,null,null,null,null,9721229,"SPR","SPR","EA","CONE,TRAFFIC,18",null,28.7,22,{"$f":"VLOOKUP(M30622,DFL!A:H,8,0)","v":0.41},{"$f":"P30622-(P30622/1.0025)","v":4.2219451371568795E-2},16.93]
[null,null,null,null,null,713520,"SPR","SPR","EA","TAPE,ELECTRONIC,DYMO",null,28.82,39,{"$f":"VLOOKUP(M30623,DFL!A:H,8,0)","v":0.5},{"$f":"P30623-(P30623/1.0025)","v":3.5935162094762774E-2},{"$f":"ROUND(L30623*(1-N30623),2)","v":14.41}]
[null,null,null,null,null,796271,"SPR","SPR","PK","HOLDER,BADGE,CONVT,4X3",null,28.86,5,{"$f":"VLOOKUP(M30624,DFL!A:H,8,0)","v":0.45},{"$f":"P30624-(P30624/1.0025)","v":3.9576059850373824E-2},15.87]
[null,null,null,null,null,9950170,"SPR","SPR","PK","BAGS,PAPER,6X11,WHITE",null,29.12,30,{"$f":"VLOOKUP(M30625,DFL!A:H,8,0)","v":0.57999999999999996},{"$f":"P30625-(P30625/1.0025)","v":3.0498753117205624E-2},12.23]
[null,null,null,null,null,371362,"SPR","SPR","ST","ROPE, 8 JUMP,6/ST,AST",null,29.48,47,{"$f":"VLOOKUP(M30626,DFL!A:H,8,0)","v":0.5},{"$f":"P30626-(P30626/1.0025)","v":3.6758104738153108E-2},14.74]
[null,null,null,null,null,8371646,"SPR","SPR","CT","PACKETS,PEPPER",null,29.92,48,{"$f":"VLOOKUP(M30627,DFL!A:H,8,0)","v":0.3},{"$f":"P30627-(P30627/1.0025)","v":5.2219451371570358E-2},20.94]
[null,null,null,null,null,678165,"SPR","SPR","PK","CHARTS,INCENTIVE,VRTCL,VRTY",null,29.99,48,{"$f":"VLOOKUP(M30628,DFL!A:H,8,0)","v":0.3},{"$f":"P30628-(P30628/1.0025)","v":5.2344139650870147E-2},20.99]
[null,null,null,null,null,678179,"SPR","SPR","PK","CHARTS,INCENTIVE,HRZTL,VRTY",null,29.99,48,{"$f":"VLOOKUP(M30629,DFL!A:H,8,0)","v":0.3},{"$f":"P30629-(P30629/1.0025)","v":5.2344139650870147E-2},20.99]
[null,null,null,null,null,208454,"SPR","SPR","ST","LETTERS,UPPER & LOWER",null,29.99,48,{"$f":"VLOOKUP(M30630,DFL!A:H,8,0)","v":0.3},{"$f":"P30630-(P30630/1.0025)","v":5.2344139650870147E-2},20.99]
[null,null,null,null,null,976251,"SPR","SPR","EA","GAME,RESPNSE,BUZ,LGHT,SOUND",null,30.16,48,{"$f":"VLOOKUP(M30631,DFL!A:H,8,0)","v":0.3},{"$f":"P30631-(P30631/1.0025)","v":5.2643391521197458E-2},21.11]
[null,null,null,null,null,631387,"SPR","SPR","EA","Brother TZe S941 - laminated a",null,30.25,39,{"$f":"VLOOKUP(M30632,DFL!A:H,8,0)","v":0.5},{"$f":"P30632-(P30632/1.0025)","v":3.7730673316707097E-2},15.13]
[null,null,null,null,null,690511,"SPR","SPR","EA","GAME,CARDS,FLASH,MULTIPLCTN",null,30.85,48,{"$f":"VLOOKUP(M30633,DFL!A:H,8,0)","v":0.3},{"$f":"P30633-(P30633/1.0025)","v":5.3865336658354579E-2},21.6]
[null,null,null,null,null,219527,"SPR","SPR","EA","PAINT,TMP,WSH,GAL,TURQ",null,30.89,47,{"$f":"VLOOKUP(M30634,DFL!A:H,8,0)","v":0.5},{"$f":"P30634-(P30634/1.0025)","v":3.8528678304238895E-2},15.45]
[null,null,null,null,null,7036002,"SPR","SPR","EA","BUCKET,WINDOW,3 GALLON",null,31.69,19,{"$f":"VLOOKUP(M30635,DFL!A:H,8,0)","v":0.45},{"$f":"P30635-(P30635/1.0025)","v":4.3466334164588005E-2},17.43]
[null,null,null,null,null,6324997,"SPR","SPR","PK","TOWELS,SCOTT,DBLRL,12",null,31.8,40,{"$f":"VLOOKUP(M30636,DFL!A:H,8,0)","v":0.44},{"$f":"P30636-(P30636/1.0025)","v":4.4413965087279905E-2},17.809999999999999]
[null,null,null,null,null,4045619,"SPR","SPR","EA","APRON,POUCH,CLEANING,BK",null,32.049999999999997,19,{"$f":"VLOOKUP(M30637,DFL!A:H,8,0)","v":0.45},{"$f":"P30637-(P30637/1.0025)","v":4.3965087281794268E-2},17.63]
[null,null,null,null,null,1300276,"SPR","SPR","PK","BIN,PLSTC WVE,SML,3/PK,BK",null,32.08,38,{"$f":"VLOOKUP(M30638,DFL!A:H,8,0)","v":0.36},{"$f":"P30638-(P30638/1.0025)","v":5.1197007481295742E-2},20.53]
[null,null,null,null,null,367526,"SPR","SPR","RL","PAPER,FADELESS,TL",null,32.299999999999997,30,{"$f":"VLOOKUP(M30639,DFL!A:H,8,0)","v":0.57999999999999996},{"$f":"P30639-(P30639/1.0025)","v":3.3840399002492916E-2},13.57]
[null,null,null,null,null,8068381,"SPR","SPR","CA","Filter,Prem F1,HEPA,Wht",null,32.35,21,{"$f":"VLOOKUP(M30640,DFL!A:H,8,0)","v":0.28999999999999998},{"$f":"P30640-(P30640/1.0025)","v":5.7281795511219258E-2},22.97]
[null,null,null,null,null,965247,"SPR","SPR","EA","WHITE MULTIPURPOSE LABELS 1/2X",null,32.68,26,{"$f":"VLOOKUP(M30641,DFL!A:H,8,0)","v":0.44},{"$f":"P30641-(P30641/1.0025)","v":4.5635910224437026E-2},18.3]
[null,null,null,null,null,7057289,"SPR","SPR","EA","SET,ORGNZR,3PC,RCYCL,GRAY",null,32.840000000000003,31,{"$f":"VLOOKUP(M30642,DFL!A:H,8,0)","v":0.49},{"$f":"P30642-(P30642/1.0025)","v":4.1770573566083158E-2},16.75]
[null,null,null,null,null,203575,"SPR","SPR","EA","PICKER,PAPER",null,33.21,19,{"$f":"VLOOKUP(M30643,DFL!A:H,8,0)","v":0.45},{"$f":"P30643-(P30643/1.0025)","v":4.5561097256857863E-2},18.27]
[null,null,null,null,null,7932390,"SPR","SPR","EA","FILE,MAGAZINE,RCYCL,GRAY",null,33.31,31,{"$f":"VLOOKUP(M30644,DFL!A:H,8,0)","v":0.49},{"$f":"P30644-(P30644/1.0025)","v":4.2369077306730674E-2},16.989999999999998]
[null,null,null,null,null,4633541,"SPR","SPR","PK","MRKR,SHRP,CREATIVE,BLT,AST,12P",null,33.479999999999997,28,{"$f":"VLOOKUP(M30645,DFL!A:H,8,0)","v":0.48},{"$f":"P30645-(P30645/1.0025)","v":4.3416458852867379E-2},17.41]
[null,null,null,null,null,5349703,"SPR","SPR","PK","MRKR,SHRP,CREATIV,BRSH,AST,12P",null,33.479999999999997,28,{"$f":"VLOOKUP(M30646,DFL!A:H,8,0)","v":0.48},{"$f":"P30646-(P30646/1.0025)","v":4.3416458852867379E-2},17.41]
[null,null,null,null,null,6937726,"SPR","SPR","PK","MRKR,SHRP,CRTV,BLT,ERT,AST,12P",null,33.479999999999997,28,{"$f":"VLOOKUP(M30647,DFL!A:H,8,0)","v":0.48},{"$f":"P30647-(P30647/1.0025)","v":4.3416458852867379E-2},17.41]
[null,null,null,null,null,9205368,"SPR","SPR","BX","BLOCK&SCREEN,ENZ",null,33.6,19,{"$f":"VLOOKUP(M30648,DFL!A:H,8,0)","v":0.45},{"$f":"P30648-(P30648/1.0025)","v":4.6084788029922663E-2},18.48]
[null,null,null,null,null,372293,"SPR","SPR","ST","BAG, 4 BEAN,6/ST,AST",null,34.04,48,{"$f":"VLOOKUP(M30649,DFL!A:H,8,0)","v":0.3},{"$f":"P30649-(P30649/1.0025)","v":5.9426433915209742E-2},23.83]
[null,null,null,null,null,6713189,"SPR","SPR","BO","DETERGENT,TD,LQ,W BL  A,84Z",null,34.380000000000003,19,{"$f":"VLOOKUP(M30650,DFL!A:H,8,0)","v":0.45},{"$f":"P30650-(P30650/1.0025)","v":4.7157107231917905E-2},18.91]
[null,null,null,null,null,7163613,"SPR","SPR","PK","PAPER,TOILET,CLEAN,12",null,34.630000000000003,19,{"$f":"VLOOKUP(M30651,DFL!A:H,8,0)","v":0.45},{"$f":"P30651-(P30651/1.0025)","v":4.7506234413965842E-2},19.05]
[null,null,null,null,null,8584855,"SPR","SPR","BX","SCREEN,URINAL,60-DAY",null,34.9,19,{"$f":"VLOOKUP(M30652,DFL!A:H,8,0)","v":0.45},{"$f":"P30652-(P30652/1.0025)","v":4.7880299251868763E-2},19.2]
[null,null,null,null,null,9322295,"SPR","SPR","BX","SCREEN,URINAL,60-DAY",null,34.9,19,{"$f":"VLOOKUP(M30653,DFL!A:H,8,0)","v":0.45},{"$f":"P30653-(P30653/1.0025)","v":4.7880299251868763E-2},19.2]
[null,null,null,null,null,8172029,"SPR","SPR","BX","SCREEN,URINAL,60-DAY",null,34.9,19,{"$f":"VLOOKUP(M30654,DFL!A:H,8,0)","v":0.45},{"$f":"P30654-(P30654/1.0025)","v":4.7880299251868763E-2},19.2]
[null,null,null,null,null,7286893,"SPR","SPR","BX","SCREEN,URINAL,60-DAY",null,34.9,19,{"$f":"VLOOKUP(M30655,DFL!A:H,8,0)","v":0.45},{"$f":"P30655-(P30655/1.0025)","v":4.7880299251868763E-2},19.2]
[null,null,null,null,null,6808395,"SPR","SPR","BX","DEODORANT,AIR,MANGO",null,34.909999999999997,19,{"$f":"VLOOKUP(M30656,DFL!A:H,8,0)","v":0.45},{"$f":"P30656-(P30656/1.0025)","v":4.7880299251868763E-2},19.2]
[null,null,null,null,null,636525,"SPR","SPR","RL","DISPENSER ,CLEAR TAPE,15FT",null,35.92,39,{"$f":"VLOOKUP(M30657,DFL!A:H,8,0)","v":0.5},{"$f":"P30657-(P30657/1.0025)","v":4.4788029925186379E-2},17.96]
[null,null,null,null,null,9824756,"SPR","SPR","BX","ERASER,WB,2X4,24CT CLASSPK",null,35.99,20,{"$f":"VLOOKUP(M30658,DFL!A:H,8,0)","v":0.47},{"$f":"P30658-(P30658/1.0025)","v":4.7556109725686468E-2},19.07]
[null,null,null,null,null,393590,"SPR","SPR","EA","WIPES,CLOROX,TO GO,POUCH",null,36,19,{"$f":"VLOOKUP(M30659,DFL!A:H,8,0)","v":0.45},{"$f":"P30659-(P30659/1.0025)","v":4.9376558603491105E-2},19.8]
[null,null,null,null,null,8458422,"SPR","SPR","BX","COFFEE,KCUP,DS PEP BARK,24CT",null,36.04,48,{"$f":"VLOOKUP(M30660,DFL!A:H,8,0)","v":0.3},{"$f":"P30660-(P30660/1.0025)","v":6.2917705735660689E-2},25.23]
[null,null,null,null,null,8837736,"SPR","SPR","CT","SCOURING,PAD,LD,WHT,YW,20",null,36.700000000000003,19,{"$f":"VLOOKUP(M30661,DFL!A:H,8,0)","v":0.45},{"$f":"P30661-(P30661/1.0025)","v":5.0349127182045095E-2},{"$f":"ROUND(L30661*(1-N30661),2)","v":20.190000000000001}]
[null,null,null,null,null,9141892,"SPR","SPR","EA","FOOD,MILK-BONE,MED,10LB",null,36.93,48,{"$f":"VLOOKUP(M30662,DFL!A:H,8,0)","v":0.3},{"$f":"P30662-(P30662/1.0025)","v":6.4463840399000105E-2},25.85]
[null,null,null,null,null,656879,"SPR","SPR","BX","COFFEE,KCUP,LMAN,COL HUIL,22ct",null,37.07,48,{"$f":"VLOOKUP(M30663,DFL!A:H,8,0)","v":0.3},{"$f":"P30663-(P30663/1.0025)","v":6.4713216957603237E-2},25.95]
[null,null,null,null,null,8863853,"SPR","SPR","EA","WASTE TONER TRAY",null,37.94,48,{"$f":"VLOOKUP(M30664,DFL!A:H,8,0)","v":0.3},{"$f":"P30664-(P30664/1.0025)","v":6.6234413965084116E-2},26.56]
[null,null,null,null,null,1634023,"SPR","SPR","CT","18STRIP WSHR WC18 ORG CMPLT",null,38.67,19,{"$f":"VLOOKUP(M30665,DFL!A:H,8,0)","v":0.45},{"$f":"P30665-(P30665/1.0025)","v":5.3042394014962468E-2},21.27]
[null,null,null,null,null,7005634,"SPR","SPR","BX","SCREEN,URINAL,30-DAY",null,39.229999999999997,19,{"$f":"VLOOKUP(M30666,DFL!A:H,8,0)","v":0.45},{"$f":"P30666-(P30666/1.0025)","v":5.3815461346633953E-2},21.58]
[null,null,null,null,null,6737247,"SPR","SPR","BX","SCREEN,URINAL,30-DAY",null,39.229999999999997,19,{"$f":"VLOOKUP(M30667,DFL!A:H,8,0)","v":0.45},{"$f":"P30667-(P30667/1.0025)","v":5.3815461346633953E-2},21.58]
[null,null,null,null,null,6399417,"SPR","SPR","EA","DETERGENT,PUREX MTN BR,PP",null,39.450000000000003,19,{"$f":"VLOOKUP(M30668,DFL!A:H,8,0)","v":0.45},{"$f":"P30668-(P30668/1.0025)","v":5.4114713216957711E-2},21.7]
[null,null,null,null,null,2352703,"SPR","SPR","EA","TRAYS,LTR,RCYCL,GRAY,2PK",null,40.06,31,{"$f":"VLOOKUP(M30669,DFL!A:H,8,0)","v":0.49},{"$f":"P30669-(P30669/1.0025)","v":5.0947630922692611E-2},20.43]
[null,null,null,null,null,1675817,"SPR","SPR","PK","HOLDER,SIGN,MAG,HFLT,BK,2PK",null,40.98,36,{"$f":"VLOOKUP(M30670,DFL!A:H,8,0)","v":0.36},{"$f":"P30670-(P30670/1.0025)","v":6.5411471321695558E-2},26.23]
[null,null,null,null,null,6357155,"SPR","SPR","EA","FLAT MOP FRAME, 18.25X4",null,41.53,19,{"$f":"VLOOKUP(M30671,DFL!A:H,8,0)","v":0.45},{"$f":"P30671-(P30671/1.0025)","v":5.6957605985036963E-2},22.84]
[null,null,null,null,null,128329,"SPR","SPR","ST","BRUSH,COLOSSAL,30CT,AST",null,41.79,47,{"$f":"VLOOKUP(M30672,DFL!A:H,8,0)","v":0.5},{"$f":"P30672-(P30672/1.0025)","v":5.2119700748129105E-2},20.9]
[null,null,null,null,null,276406,"SPR","SPR","PK","BOOK,BLUE,EXAM,8.5X7,8SH16P",null,41.98,30,{"$f":"VLOOKUP(M30673,DFL!A:H,8,0)","v":0.57999999999999996},{"$f":"P30673-(P30673/1.0025)","v":4.3965087281794268E-2},17.63]
[null,null,null,null,null,1663390,"SPR","SPR","EA","VINYLGLOVE-PDRFREE100BXMED",null,42.08,22,{"$f":"VLOOKUP(M30674,DFL!A:H,8,0)","v":0.41},{"$f":"P30674-(P30674/1.0025)","v":6.192019950124461E-2},24.83]
[null,null,null,null,null,1723915,"SPR","SPR","BX","VINYLGLOVE-PDRFREE100BXLRG",null,42.08,22,{"$f":"VLOOKUP(M30675,DFL!A:H,8,0)","v":0.41},{"$f":"P30675-(P30675/1.0025)","v":6.192019950124461E-2},24.83]
[null,null,null,null,null,276118,"SPR","SPR","PK","DICE,DRUM OF,144PC",null,42.44,47,{"$f":"VLOOKUP(M30676,DFL!A:H,8,0)","v":0.5},{"$f":"P30676-(P30676/1.0025)","v":5.2917705735659126E-2},21.22]
[null,null,null,null,null,534987,"SPR","SPR","BX","BOARD,S/A,DRY ERSE,25",null,42.66,10,{"$f":"VLOOKUP(M30677,DFL!A:H,8,0)","v":0.36},{"$f":"P30677-(P30677/1.0025)","v":6.8079800498750842E-2},27.3]
[null,null,null,null,null,1620091,"SPR","SPR","EA","Duster brush / Star duster",null,43.08,19,{"$f":"VLOOKUP(M30678,DFL!A:H,8,0)","v":0.45},{"$f":"P30678-(P30678/1.0025)","v":5.9077306733165358E-2},23.69]
[null,null,null,null,null,958544,"SPR","SPR","CT","PADS,SANITARY,250CTN",null,43.27,22,{"$f":"VLOOKUP(M30679,DFL!A:H,8,0)","v":0.41},{"$f":"P30679-(P30679/1.0025)","v":6.3665835411470084E-2},25.53]
[null,null,null,null,null,854953,"SPR","SPR","EA","TRAY,CHANGE,6-DENOMNTION CNTR",null,43.39,29,{"$f":"VLOOKUP(M30680,DFL!A:H,8,0)","v":0.3},{"$f":"P30680-(P30680/1.0025)","v":7.5735660847879416E-2},30.37]
[null,null,null,null,null,3755238,"SPR","SPR","CT","PAPER ROLL,BTY ESS,1/12",null,43.88,19,{"$f":"VLOOKUP(M30681,DFL!A:H,8,0)","v":0.45},{"$f":"P30681-(P30681/1.0025)","v":6.0174563591022689E-2},24.13]
[null,null,null,null,null,667734,"SPR","SPR","BX","TRASHBAG,DRWSTRG,30GL,90BX",null,44.96,12,{"$f":"VLOOKUP(M30682,DFL!A:H,8,0)","v":0.4},{"$f":"P30682-(P30682/1.0025)","v":6.7281795511220821E-2},26.98]
[null,null,null,null,null,5832076,"SPR","SPR","EA","GEARS,ROBOT,MOTION",null,44.99,48,{"$f":"VLOOKUP(M30683,DFL!A:H,8,0)","v":0.3},{"$f":"P30683-(P30683/1.0025)","v":7.8528678304238042E-2},31.49]
[null,null,null,null,null,916400,"SPR","SPR","DZ","MARKER,DE,FINE,QRT,DZ,BLK",null,45.24,28,{"$f":"VLOOKUP(M30684,DFL!A:H,8,0)","v":0.48},{"$f":"P30684-(P30684/1.0025)","v":5.8653366583538258E-2},23.52]
[null,null,null,null,null,722780,"SPR","SPR","BX","40 CT. NO DRP PNT BRUSH PEN",null,45.32,47,{"$f":"VLOOKUP(M30685,DFL!A:H,8,0)","v":0.5},{"$f":"P30685-(P30685/1.0025)","v":5.6508728179551326E-2},22.66]
[null,null,null,null,null,7276629,"SPR","SPR","EA","ALARM,SMOKE,BATTERY POWERED",null,46.02,22,{"$f":"VLOOKUP(M30686,DFL!A:H,8,0)","v":0.41},{"$f":"P30686-(P30686/1.0025)","v":6.7705735660847921E-2},27.15]
[null,null,null,null,null,7980109,"SPR","SPR","CA","PORTFOLIOS,3-POCKET,POLY,AST",null,46.56,35,{"$f":"VLOOKUP(M30687,DFL!A:H,8,0)","v":0.6},{"$f":"P30687-(P30687/1.0025)","v":4.64339152119706E-2},18.62]
[null,null,null,null,null,9404125,"SPR","SPR","BX","3-Pkt Poly Port, Blk, 24BX",null,46.56,35,{"$f":"VLOOKUP(M30688,DFL!A:H,8,0)","v":0.6},{"$f":"P30688-(P30688/1.0025)","v":4.64339152119706E-2},18.62]
[null,null,null,null,null,8942080,"SPR","SPR","CT","GLOVES,VIN,DISP,PF,SM",null,48,22,{"$f":"VLOOKUP(M30689,DFL!A:H,8,0)","v":0.41},{"$f":"P30689-(P30689/1.0025)","v":7.0623441396506337E-2},28.32]
[null,null,null,null,null,6653920,"SPR","SPR","CT","GLOVES,VIN,DISP,PF,MD",null,48,22,{"$f":"VLOOKUP(M30690,DFL!A:H,8,0)","v":0.41},{"$f":"P30690-(P30690/1.0025)","v":7.0623441396506337E-2},28.32]
[null,null,null,null,null,9374017,"SPR","SPR","CT","GLOVES,VIN,DISP,PF,LG",null,48,22,{"$f":"VLOOKUP(M30691,DFL!A:H,8,0)","v":0.41},{"$f":"P30691-(P30691/1.0025)","v":7.0623441396506337E-2},28.32]
[null,null,null,null,null,7022959,"SPR","SPR","CT","GLOVES,VIN,DISP,PF,XL",null,48,22,{"$f":"VLOOKUP(M30692,DFL!A:H,8,0)","v":0.41},{"$f":"P30692-(P30692/1.0025)","v":7.0623441396506337E-2},28.32]
[null,null,null,null,null,6627820,"SPR","SPR","BX","SCREEN,URINAL,60-DAY",null,48.43,19,{"$f":"VLOOKUP(M30693,DFL!A:H,8,0)","v":0.45},{"$f":"P30693-(P30693/1.0025)","v":6.6433915211970174E-2},{"$f":"ROUND(L30693*(1-N30693),2)","v":26.64}]
[null,null,null,null,null,7177432,"SPR","SPR","BX","SCREEN,URINAL,60-DAY",null,48.43,19,{"$f":"VLOOKUP(M30694,DFL!A:H,8,0)","v":0.45},{"$f":"P30694-(P30694/1.0025)","v":6.6433915211970174E-2},26.64]
[null,null,null,null,null,8291560,"SPR","SPR","BX","SCREEN,URINAL,60-DAY",null,48.43,19,{"$f":"VLOOKUP(M30695,DFL!A:H,8,0)","v":0.45},{"$f":"P30695-(P30695/1.0025)","v":6.6433915211970174E-2},26.64]
[null,null,null,null,null,153620,"SPR","SPR","ST","BOARD,DRYERASE,10/ST",null,49.62,10,{"$f":"VLOOKUP(M30696,DFL!A:H,8,0)","v":0.36},{"$f":"P30696-(P30696/1.0025)","v":7.9201995012468274E-2},31.76]
[null,null,null,null,null,411000,"SPR","SPR","EA","DISPENSER,DUETT,STD TISSU",null,50.09,48,{"$f":"VLOOKUP(M30697,DFL!A:H,8,0)","v":0.3},{"$f":"P30697-(P30697/1.0025)","v":8.7431421446382274E-2},35.06]
[null,null,null,null,null,151297,"SPR","SPR","CT","BOARD,FOAM,VALUE,10CT,BK",null,50.42,10,{"$f":"VLOOKUP(M30698,DFL!A:H,8,0)","v":0.36},{"$f":"P30698-(P30698/1.0025)","v":8.0473815461346021E-2},32.270000000000003]
[null,null,null,null,null,6820942,"SPR","SPR","CT","MAT,URNL,WCBASIX",null,51.25,19,{"$f":"VLOOKUP(M30699,DFL!A:H,8,0)","v":0.45},{"$f":"P30699-(P30699/1.0025)","v":7.0299251870324042E-2},28.19]
[null,null,null,null,null,621088,"SPR","SPR","RL","WRAPPER,COIN,PENNY,1K,RD",null,52.58,48,{"$f":"VLOOKUP(M30700,DFL!A:H,8,0)","v":0.3},{"$f":"P30700-(P30700/1.0025)","v":9.1795511221945958E-2},36.81]
[null,null,null,null,null,621112,"SPR","SPR","RL","WRAPPER,COIN,DIME,1K,GN",null,52.58,48,{"$f":"VLOOKUP(M30701,DFL!A:H,8,0)","v":0.3},{"$f":"P30701-(P30701/1.0025)","v":9.1795511221945958E-2},36.81]
[null,null,null,null,null,621120,"SPR","SPR","RL","WRAPPER,COIN,QTR,1K,OE",null,52.58,48,{"$f":"VLOOKUP(M30702,DFL!A:H,8,0)","v":0.3},{"$f":"P30702-(P30702/1.0025)","v":9.1795511221945958E-2},36.81]
[null,null,null,null,null,6663864,"SPR","SPR","EA","SOAP,WSH,HD,FM,AB,BASICS,1G",null,53.52,19,{"$f":"VLOOKUP(M30703,DFL!A:H,8,0)","v":0.45},{"$f":"P30703-(P30703/1.0025)","v":7.3416458852864963E-2},29.44]
[null,null,null,null,null,5916931,"SPR","SPR","BO","DETERGENT,TIDEPRO,LQ,170 OZ",null,53.65,19,{"$f":"VLOOKUP(M30704,DFL!A:H,8,0)","v":0.45},{"$f":"P30704-(P30704/1.0025)","v":7.3591022443888932E-2},29.51]
[null,null,null,null,null,7409539,"SPR","SPR","EA","SET,DESK,2PC,RCYCL,GRAY",null,53.71,31,{"$f":"VLOOKUP(M30705,DFL!A:H,8,0)","v":0.49},{"$f":"P30705-(P30705/1.0025)","v":6.8304239401495437E-2},27.39]
[null,null,null,null,null,671521,"SPR","SPR","PK","BINDING,COVER,BLACK BACK,25/PK",null,53.76,35,{"$f":"VLOOKUP(M30706,DFL!A:H,8,0)","v":0.6},{"$f":"P30706-(P30706/1.0025)","v":5.3615960099747895E-2},21.5]
[null,null,null,null,null,673241,"SPR","SPR","PK","BINDING,CVR,25/PK,NAVY BACK",null,53.76,35,{"$f":"VLOOKUP(M30707,DFL!A:H,8,0)","v":0.6},{"$f":"P30707-(P30707/1.0025)","v":5.3615960099747895E-2},21.5]
[null,null,null,null,null,619850,"SPR","SPR","ST","BALL,RHINO,SCOOP BALL,AST",null,54.22,48,{"$f":"VLOOKUP(M30708,DFL!A:H,8,0)","v":0.3},{"$f":"P30708-(P30708/1.0025)","v":9.4638403990025211E-2},37.950000000000003]
[null,null,null,null,null,8157722,"SPR","SPR","CA","CREAMER,LIQUID,HLF&HLF,360CT",null,55.25,48,{"$f":"VLOOKUP(M30709,DFL!A:H,8,0)","v":0.3},{"$f":"P30709-(P30709/1.0025)","v":9.6458852867826295E-2},38.68]
[null,null,null,null,null,154579,"SPR","SPR","EA","PAD,CHART24X32,1.5,70SH",null,55.49,10,{"$f":"VLOOKUP(M30710,DFL!A:H,8,0)","v":0.36},{"$f":"P30710-(P30710/1.0025)","v":8.8553615960094589E-2},35.51]
[null,null,null,null,null,5882260,"SPR","SPR","BX","JAVA,COLD BREW,CARAMEL",null,58.21,48,{"$f":"VLOOKUP(M30711,DFL!A:H,8,0)","v":0.3},{"$f":"P30711-(P30711/1.0025)","v":0.10162094763092},40.75]
[null,null,null,null,null,7463390,"SPR","SPR","CT","REFILL,OIL,TWIN,APPCINN",null,58.44,19,{"$f":"VLOOKUP(M30712,DFL!A:H,8,0)","v":0.45},{"$f":"P30712-(P30712/1.0025)","v":8.0149625935163726E-2},32.14]
[null,null,null,null,null,5591090,"SPR","SPR","BX","TOY,W/TOOLS,DOUGH,CLSSPK",null,58.83,47,{"$f":"VLOOKUP(M30713,DFL!A:H,8,0)","v":0.5},{"$f":"P30713-(P30713/1.0025)","v":7.3366583541144337E-2},29.42]
[null,null,null,null,null,3946373,"SPR","SPR","CT","REFILL,SWFR WET,FRSH,6-12",null,59.28,19,{"$f":"VLOOKUP(M30714,DFL!A:H,8,0)","v":0.45},{"$f":"P30714-(P30714/1.0025)","v":8.1296758104734579E-2},32.6]
[null,null,null,null,null,372419,"SPR","SPR","ST","BALL,PLAYGROUND,6/ST,AST",null,60.06,48,{"$f":"VLOOKUP(M30715,DFL!A:H,8,0)","v":0.3},{"$f":"P30715-(P30715/1.0025)","v":0.10483790523690573},42.04]
[null,null,null,null,null,6345161,"SPR","SPR","EA","BOX,PLSTC,20,LTR",null,60.7,38,{"$f":"VLOOKUP(M30716,DFL!A:H,8,0)","v":0.36},{"$f":"P30716-(P30716/1.0025)","v":9.6882793017456947E-2},38.85]
[null,null,null,null,null,261838,"SPR","SPR","PK","BK, BLUE EXAM  11X8.5",null,62.99,30,{"$f":"VLOOKUP(M30717,DFL!A:H,8,0)","v":0.57999999999999996},{"$f":"P30717-(P30717/1.0025)","v":6.5985037406480984E-2},26.46]
[null,null,null,null,null,7387898,"SPR","SPR","EA","CHAIR MAT, APET PLUS, HF 29X47",null,64.56,15,{"$f":"VLOOKUP(M30718,DFL!A:H,8,0)","v":0.5},{"$f":"P30718-(P30718/1.0025)","v":8.0498753117204558E-2},32.28]
[null,null,null,null,null,478688,"SPR","SPR","PK","POCKET,DRYERASE,CLSSPK,10CT",null,64.87,20,{"$f":"VLOOKUP(M30719,DFL!A:H,8,0)","v":0.47},{"$f":"P30719-(P30719/1.0025)","v":8.5735660847880979E-2},34.380000000000003]
[null,null,null,null,null,7317232,"SPR","SPR","CT","GLOVES,LAT,PF,MD",null,64.900000000000006,22,{"$f":"VLOOKUP(M30720,DFL!A:H,8,0)","v":0.41},{"$f":"P30720-(P30720/1.0025)","v":9.5486284289272305E-2},38.29]
[null,null,null,null,null,6658004,"SPR","SPR","CT","GLOVES,LAT,PF,LG",null,64.900000000000006,22,{"$f":"VLOOKUP(M30721,DFL!A:H,8,0)","v":0.41},{"$f":"P30721-(P30721/1.0025)","v":9.5486284289272305E-2},38.29]
[null,null,null,null,null,7577729,"SPR","SPR","CT","GLOVES,LAT,PF,XL",null,64.900000000000006,22,{"$f":"VLOOKUP(M30722,DFL!A:H,8,0)","v":0.41},{"$f":"P30722-(P30722/1.0025)","v":9.5486284289272305E-2},38.29]
[null,null,null,null,null,676186,"SPR","SPR","CT","SANITIZER,RINSE,LAST,CLEAN",null,67.05,19,{"$f":"VLOOKUP(M30723,DFL!A:H,8,0)","v":0.45},{"$f":"P30723-(P30723/1.0025)","v":9.1970074812962821E-2},36.880000000000003]
[null,null,null,null,null,7034690,"SPR","SPR","PK","TISSUE,KLRFST,PRJCT,BOX",null,67.39,47,{"$f":"VLOOKUP(M30724,DFL!A:H,8,0)","v":0.5},{"$f":"P30724-(P30724/1.0025)","v":8.4039900249372579E-2},33.700000000000003]
[null,null,null,null,null,9275252,"SPR","SPR","CT","COVER,SEAT,GENUINE JOE",null,67.41,40,{"$f":"VLOOKUP(M30725,DFL!A:H,8,0)","v":0.44},{"$f":"P30725-(P30725/1.0025)","v":9.4139650872818947E-2},37.75]
[null,null,null,null,null,5536312,"SPR","SPR","CT","SANITIZER,ES4,KIT,GR",null,68.510000000000005,19,{"$f":"VLOOKUP(M30726,DFL!A:H,8,0)","v":0.45},{"$f":"P30726-(P30726/1.0025)","v":9.3965087281794979E-2},37.68]
[null,null,null,null,null,6104866,"SPR","SPR","BX","FOLDER,CLSSRM,CNTR,2PKT,RD",null,69.12,35,{"$f":"VLOOKUP(M30727,DFL!A:H,8,0)","v":0.6},{"$f":"P30727-(P30727/1.0025)","v":6.8952618453863579E-2},27.65]
[null,null,null,null,null,7794727,"SPR","SPR","PK","MARKER,EXPO,FINE,ASST,36CT",null,69.2,28,{"$f":"VLOOKUP(M30728,DFL!A:H,8,0)","v":0.48},{"$f":"P30728-(P30728/1.0025)","v":8.9725685785531084E-2},35.979999999999997]
[null,null,null,null,null,6402761,"SPR","SPR","CT","DETERGENT,MRCL,LQ,LEM,YL",null,69.48,19,{"$f":"VLOOKUP(M30729,DFL!A:H,8,0)","v":0.45},{"$f":"P30729-(P30729/1.0025)","v":9.52867830423898E-2},38.21]
[null,null,null,null,null,7388403,"SPR","SPR","EA","CHAIR MAT, APET PLUS,LIP 36x48",null,69.95,15,{"$f":"VLOOKUP(M30730,DFL!A:H,8,0)","v":0.5},{"$f":"P30730-(P30730/1.0025)","v":8.7231920199499768E-2},{"$f":"ROUND(L30730*(1-N30730),2)","v":34.979999999999997}]
[null,null,null,null,null,7475878,"SPR","SPR","CT","STOOL,WIGGLE,BE",null,70.45,48,{"$f":"VLOOKUP(M30731,DFL!A:H,8,0)","v":0.3},{"$f":"P30731-(P30731/1.0025)","v":0.12299251870324213},49.32]
[null,null,null,null,null,7582786,"SPR","SPR","CT","CLEANER,WVE 80/3,AQA",null,71.040000000000006,19,{"$f":"VLOOKUP(M30732,DFL!A:H,8,0)","v":0.45},{"$f":"P30732-(P30732/1.0025)","v":9.7431421446380284E-2},39.07]
[null,null,null,null,null,5758639,"SPR","SPR","CT","TOWELS,SCOTT,DBLRL,6",null,71.55,40,{"$f":"VLOOKUP(M30733,DFL!A:H,8,0)","v":0.44},{"$f":"P30733-(P30733/1.0025)","v":9.9925187032418705E-2},40.07]
[null,null,null,null,null,8577707,"SPR","SPR","EA","DETERGENT,TIDE PROF,PWDER",null,72.58,19,{"$f":"VLOOKUP(M30734,DFL!A:H,8,0)","v":0.45},{"$f":"P30734-(P30734/1.0025)","v":9.9551122194512232E-2},39.92]
[null,null,null,null,null,7388017,"SPR","SPR","EA","CHAIR MAT, APET PLUS, HF 36X48",null,72.650000000000006,15,{"$f":"VLOOKUP(M30735,DFL!A:H,8,0)","v":0.5},{"$f":"P30735-(P30735/1.0025)","v":9.0598503740643821E-2},36.33]
[null,null,null,null,null,119181,"SPR","SPR","PK","COVER,BNDG,HVYDTY,FST",null,73.239999999999995,35,{"$f":"VLOOKUP(M30736,DFL!A:H,8,0)","v":0.6},{"$f":"P30736-(P30736/1.0025)","v":7.3067331670820579E-2},29.3]
[null,null,null,null,null,8904712,"SPR","SPR","CT","GLOVES,NIT,DISP,BL,SM",null,74.599999999999994,22,{"$f":"VLOOKUP(M30737,DFL!A:H,8,0)","v":0.41},{"$f":"P30737-(P30737/1.0025)","v":0.10975062344139275},44.01]
[null,null,null,null,null,8379205,"SPR","SPR","CT","GLOVES,NIT,DISP,BL,MD",null,74.599999999999994,22,{"$f":"VLOOKUP(M30738,DFL!A:H,8,0)","v":0.41},{"$f":"P30738-(P30738/1.0025)","v":0.10975062344139275},44.01]
[null,null,null,null,null,6849776,"SPR","SPR","CT","GLOVES,NIT,DISP,BL,LG",null,74.599999999999994,22,{"$f":"VLOOKUP(M30739,DFL!A:H,8,0)","v":0.41},{"$f":"P30739-(P30739/1.0025)","v":0.10975062344139275},44.01]
[null,null,null,null,null,4321017,"SPR","SPR","CT","TISSUE,BTH,CASCDS,JRT,2PLY,WHT",null,75.260000000000005,40,{"$f":"VLOOKUP(M30740,DFL!A:H,8,0)","v":0.44},{"$f":"P30740-(P30740/1.0025)","v":0.10511221945137095},42.15]
[null,null,null,null,null,9677590,"SPR","SPR","PK","TURKSTICK,ORG,1.15OZ,24PK",null,75.349999999999994,48,{"$f":"VLOOKUP(M30741,DFL!A:H,8,0)","v":0.3},{"$f":"P30741-(P30741/1.0025)","v":0.13154613466333842},52.75]
[null,null,null,null,null,822324,"SPR","SPR","ST","BALL,RHINO,PG,8.5,AST",null,75.45,48,{"$f":"VLOOKUP(M30742,DFL!A:H,8,0)","v":0.3},{"$f":"P30742-(P30742/1.0025)","v":0.13172069825436239},52.82]
[null,null,null,null,null,6655115,"SPR","SPR","EA","LAMP,DESK,CAPTURECLPLEDRNG,BLK",null,76.209999999999994,16,{"$f":"VLOOKUP(M30743,DFL!A:H,8,0)","v":0.36},{"$f":"P30743-(P30743/1.0025)","v":0.12162094763092313},48.77]
[null,null,null,null,null,8071591,"SPR","SPR","CT","GLOVES,NIT,XTRA,DISP,BL,SM",null,77.400000000000006,22,{"$f":"VLOOKUP(M30744,DFL!A:H,8,0)","v":0.41},{"$f":"P30744-(P30744/1.0025)","v":0.11389027431421539},45.67]
[null,null,null,null,null,5980577,"SPR","SPR","CT","GLOVES,NIT,XTRA,DISP,BL,MD",null,77.400000000000006,22,{"$f":"VLOOKUP(M30745,DFL!A:H,8,0)","v":0.41},{"$f":"P30745-(P30745/1.0025)","v":0.11389027431421539},45.67]
[null,null,null,null,null,9425365,"SPR","SPR","CT","GLOVES,NIT,XTRA,DISP,BL,LG",null,77.400000000000006,22,{"$f":"VLOOKUP(M30746,DFL!A:H,8,0)","v":0.41},{"$f":"P30746-(P30746/1.0025)","v":0.11389027431421539},45.67]
[null,null,null,null,null,7889597,"SPR","SPR","CT","GLOVES,NIT,XTRA,DISP,BL,XL",null,77.400000000000006,22,{"$f":"VLOOKUP(M30747,DFL!A:H,8,0)","v":0.41},{"$f":"P30747-(P30747/1.0025)","v":0.11389027431421539},45.67]
[null,null,null,null,null,1391887,"SPR","SPR","EA","Hand clnr nat orng pumice gl",null,77.86,19,{"$f":"VLOOKUP(M30748,DFL!A:H,8,0)","v":0.45},{"$f":"P30748-(P30748/1.0025)","v":0.10678304239401371},42.82]
[null,null,null,null,null,300143,"SPR","SPR","CT","CLEANER,IVORY,DSH,10/24",null,78,19,{"$f":"VLOOKUP(M30749,DFL!A:H,8,0)","v":0.45},{"$f":"P30749-(P30749/1.0025)","v":0.10698254364089621},42.9]
[null,null,null,null,null,5940143,"SPR","SPR","CT","GLOVES,NIT,EXAM,DISP,BL,SM",null,79.900000000000006,22,{"$f":"VLOOKUP(M30750,DFL!A:H,8,0)","v":0.41},{"$f":"P30750-(P30750/1.0025)","v":0.1175561097256832},47.14]
[null,null,null,null,null,7635826,"SPR","SPR","CT","GLOVES,NIT,EXAM,DISP,BL,MD",null,79.900000000000006,22,{"$f":"VLOOKUP(M30751,DFL!A:H,8,0)","v":0.41},{"$f":"P30751-(P30751/1.0025)","v":0.1175561097256832},47.14]
[null,null,null,null,null,8463485,"SPR","SPR","CT","GLOVES,NIT,EXAM,DISP,BL,LG",null,79.900000000000006,22,{"$f":"VLOOKUP(M30752,DFL!A:H,8,0)","v":0.41},{"$f":"P30752-(P30752/1.0025)","v":0.1175561097256832},47.14]
[null,null,null,null,null,7219924,"SPR","SPR","CT","GLOVES,NIT,EXAM,DISP,BL,XL",null,79.900000000000006,22,{"$f":"VLOOKUP(M30753,DFL!A:H,8,0)","v":0.41},{"$f":"P30753-(P30753/1.0025)","v":0.1175561097256832},47.14]
[null,null,null,null,null,557116,"SPR","SPR","ST","MARKER SET,ART,PRISMA",null,81.569999999999993,28,{"$f":"VLOOKUP(M30754,DFL!A:H,8,0)","v":0.48},{"$f":"P30754-(P30754/1.0025)","v":0.10578553615960118},42.42]
[null,null,null,null,null,9653476,"SPR","SPR","CT","PRETZEL,SEASONED,STICKS,2.25OZ",null,83.38,48,{"$f":"VLOOKUP(M30755,DFL!A:H,8,0)","v":0.3},{"$f":"P30755-(P30755/1.0025)","v":0.14556109725685218},58.37]
[null,null,null,null,null,9467116,"SPR","SPR","CT","TUNA,LUNCH,KIT,12CT",null,84.65,48,{"$f":"VLOOKUP(M30756,DFL!A:H,8,0)","v":0.3},{"$f":"P30756-(P30756/1.0025)","v":0.14778054862842538},59.26]
[null,null,null,null,null,7301369,"SPR","SPR","CT","CHICKEN,LUNCH,KIT,12CT",null,84.65,48,{"$f":"VLOOKUP(M30757,DFL!A:H,8,0)","v":0.3},{"$f":"P30757-(P30757/1.0025)","v":0.14778054862842538},59.26]
[null,null,null,null,null,3168388,"SPR","SPR","BX","Towels Wypalx80 We 160Bx",null,84.92,19,{"$f":"VLOOKUP(M30758,DFL!A:H,8,0)","v":0.45},{"$f":"P30758-(P30758/1.0025)","v":0.11648379052368796},46.71]
[null,null,null,null,null,7963149,"SPR","SPR","BX","DEODORANT,AIR,SPICED APPLE",null,85.68,19,{"$f":"VLOOKUP(M30759,DFL!A:H,8,0)","v":0.45},{"$f":"P30759-(P30759/1.0025)","v":0.11750623441396613},47.12]
[null,null,null,null,null,9829578,"SPR","SPR","CT","LINER,30GAL,30X36,11MC,C500",null,86.53,19,{"$f":"VLOOKUP(M30760,DFL!A:H,8,0)","v":0.45},{"$f":"P30760-(P30760/1.0025)","v":0.11867830423939552},47.59]
[null,null,null,null,null,365704,"SPR","SPR","CT","CLEANER,BWL,SECURE,10%HCL",null,86.91,19,{"$f":"VLOOKUP(M30761,DFL!A:H,8,0)","v":0.45},{"$f":"P30761-(P30761/1.0025)","v":0.11920199501246742},47.8]
[null,null,null,null,null,6454527,"SPR","SPR","CT","CONDITIONER,VERSA,RF,15Z,6",null,88.98,19,{"$f":"VLOOKUP(M30762,DFL!A:H,8,0)","v":0.45},{"$f":"P30762-(P30762/1.0025)","v":0.12204488778054667},48.94]
[null,null,null,null,null,259937,"SPR","SPR","BX","PEN,PM,INKJOY,GEL 0.7,36CT,BLK",null,89.17,33,{"$f":"VLOOKUP(M30763,DFL!A:H,8,0)","v":0.55000000000000004},{"$f":"P30763-(P30763/1.0025)","v":0.10007481296757703},40.130000000000003]
[null,null,null,null,null,375807,"SPR","SPR","EA","CLOCK,CLASSROOM  KIT",null,91.69,16,{"$f":"VLOOKUP(M30764,DFL!A:H,8,0)","v":0.36},{"$f":"P30764-(P30764/1.0025)","v":0.14633416458852366},58.68]
[null,null,null,null,null,6740791,"SPR","SPR","CT","TOWEL.HAND,WH,12PK,200",null,91.93,40,{"$f":"VLOOKUP(M30765,DFL!A:H,8,0)","v":0.44},{"$f":"P30765-(P30765/1.0025)","v":0.12837905236907687},51.48]
[null,null,null,null,null,240959,"SPR","SPR","CT","CONTAINER,FOAM HINGD TRAY",null,92.01,48,{"$f":"VLOOKUP(M30766,DFL!A:H,8,0)","v":0.3},{"$f":"P30766-(P30766/1.0025)","v":0.16062344139650975},64.41]
[null,null,null,null,null,7574566,"SPR","SPR","EA","EXTINGUISHER,FIRE,2.5 LB",null,92.32,22,{"$f":"VLOOKUP(M30767,DFL!A:H,8,0)","v":0.41},{"$f":"P30767-(P30767/1.0025)","v":0.13583541147131939},54.47]
[null,null,null,null,null,7387854,"SPR","SPR","EA","CHAIR MAT,APET PLUS, LIP 36x48",null,94.16,15,{"$f":"VLOOKUP(M30768,DFL!A:H,8,0)","v":0.5},{"$f":"P30768-(P30768/1.0025)","v":0.11740648379051777},47.08]
[null,null,null,null,null,684894,"SPR","SPR","CT","REFILL, MOPHEAD BLEND#16 OZ",null,95.04,19,{"$f":"VLOOKUP(M30769,DFL!A:H,8,0)","v":0.45},{"$f":"P30769-(P30769/1.0025)","v":0.13034912718204339},52.27]
[null,null,null,null,null,236777,"SPR","SPR","ST","BALL,RHINO,PG,10,AST",null,95.58,48,{"$f":"VLOOKUP(M30770,DFL!A:H,8,0)","v":0.3},{"$f":"P30770-(P30770/1.0025)","v":0.16685785536159869},66.91]
[null,null,null,null,null,7387748,"SPR","SPR","EA","CHAIR MAT, APET PLUS, CP 36x48",null,96.85,15,{"$f":"VLOOKUP(M30771,DFL!A:H,8,0)","v":0.5},{"$f":"P30771-(P30771/1.0025)","v":0.12077306733166893},48.43]
[null,null,null,null,null,1404180,"SPR","SPR","CT","TB Quat Disinfectant Qrt 12/cs",null,96.96,19,{"$f":"VLOOKUP(M30772,DFL!A:H,8,0)","v":0.45},{"$f":"P30772-(P30772/1.0025)","v":0.13299251870324014},53.33]
[null,null,null,null,null,200650,"SPR","SPR","EA","CASE,ATTACHE,EXPANDABLE",null,99.52,14,{"$f":"VLOOKUP(M30773,DFL!A:H,8,0)","v":0.31},{"$f":"P30773-(P30773/1.0025)","v":0.17124688279301381},68.67]
[null,null,null,null,null,330802,"SPR","SPR","PK","STUDY CARREL,12X48,24PK,WE",null,102.39,48,{"$f":"VLOOKUP(M30774,DFL!A:H,8,0)","v":0.3},{"$f":"P30774-(P30774/1.0025)","v":0.17872817955111486},{"$f":"ROUND(L30774*(1-N30774),2)","v":71.67}]
[null,null,null,null,null,1292509,"SPR","SPR","PK","FILTER,REPLACEMENT,3/PK",null,102.96,48,{"$f":"VLOOKUP(M30775,DFL!A:H,8,0)","v":0.3},{"$f":"P30775-(P30775/1.0025)","v":0.17972568578552739},72.069999999999993]
[null,null,null,null,null,7790650,"SPR","SPR","CT","TOWELS,PAPER,RECYCLEDFIBER",null,103.4,40,{"$f":"VLOOKUP(M30776,DFL!A:H,8,0)","v":0.44},{"$f":"P30776-(P30776/1.0025)","v":0.14438902743141568},57.9]
[null,null,null,null,null,306001,"SPR","SPR","ST","PENCIL SET,PRISMACOLOR,48/SET",null,103.53,33,{"$f":"VLOOKUP(M30777,DFL!A:H,8,0)","v":0.55000000000000004},{"$f":"P30777-(P30777/1.0025)","v":0.1161845386533642},46.59]
[null,null,null,null,null,4746814,"SPR","SPR","PK","PEN,GEL,SHARP,SGEL,0.7,BLU,36P",null,103.85,33,{"$f":"VLOOKUP(M30778,DFL!A:H,8,0)","v":0.55000000000000004},{"$f":"P30778-(P30778/1.0025)","v":0.11653366583541214},46.73]
[null,null,null,null,null,7725399,"SPR","SPR","PK","PEN,GEL,SHRPSGEL,RT.0.7,BL,36P",null,103.85,33,{"$f":"VLOOKUP(M30779,DFL!A:H,8,0)","v":0.55000000000000004},{"$f":"P30779-(P30779/1.0025)","v":0.11653366583541214},46.73]
[null,null,null,null,null,937151,"SPR","SPR","BX","POCKET,FILE,VERT,LGL,3.5",null,104.85,35,{"$f":"VLOOKUP(M30780,DFL!A:H,8,0)","v":0.6},{"$f":"P30780-(P30780/1.0025)","v":0.10458852867829904},41.94]
[null,null,null,null,null,5909377,"SPR","SPR","CT","WIPES,DISINFECTING,220CT",null,106.26,19,{"$f":"VLOOKUP(M30781,DFL!A:H,8,0)","v":0.45},{"$f":"P30781-(P30781/1.0025)","v":0.14573566084787615},58.44]
[null,null,null,null,null,4252707,"SPR","SPR","CA","STARBUCKS,BLND,RST,CAFE,72CT",null,108.34,48,{"$f":"VLOOKUP(M30782,DFL!A:H,8,0)","v":0.3},{"$f":"P30782-(P30782/1.0025)","v":0.18912718204488499},75.84]
[null,null,null,null,null,6549396,"SPR","SPR","CT","TOWEL,PREM M-FOLD,WH",null,109.02,40,{"$f":"VLOOKUP(M30783,DFL!A:H,8,0)","v":0.44},{"$f":"P30783-(P30783/1.0025)","v":0.15224438902743032},61.05]
[null,null,null,null,null,6335796,"SPR","SPR","KT","SOAP,ES6,STARTER KIT",null,109.59,19,{"$f":"VLOOKUP(M30784,DFL!A:H,8,0)","v":0.45},{"$f":"P30784-(P30784/1.0025)","v":0.15029925187032234},60.27]
[null,null,null,null,null,8808853,"SPR","SPR","CT","WATER,FRESHPK,INFUSE,CUC",null,111.26,48,{"$f":"VLOOKUP(M30785,DFL!A:H,8,0)","v":0.3},{"$f":"P30785-(P30785/1.0025)","v":0.19421446384039598},77.88]
[null,null,null,null,null,274796,"SPR","SPR","ST","CALCULATORS,8DGT,12PC",null,111.78,21,{"$f":"VLOOKUP(M30786,DFL!A:H,8,0)","v":0.28999999999999998},{"$f":"P30786-(P30786/1.0025)","v":0.19790523690772943},79.36]
[null,null,null,null,null,9985383,"SPR","SPR","CT","NAPKINS,XPRESSNAP FIT,NT",null,111.95,40,{"$f":"VLOOKUP(M30787,DFL!A:H,8,0)","v":0.44},{"$f":"P30787-(P30787/1.0025)","v":0.15633416458852878},62.69]
[null,null,null,null,null,765557,"SPR","SPR","CT","BRUSH,TOOTH,144CT",null,112.28,19,{"$f":"VLOOKUP(M30788,DFL!A:H,8,0)","v":0.45},{"$f":"P30788-(P30788/1.0025)","v":0.15399002493765579},61.75]
[null,null,null,null,null,750242,"SPR","SPR","CA","SKIN,WHANTIBAC,4-1GAL",null,112.48,19,{"$f":"VLOOKUP(M30789,DFL!A:H,8,0)","v":0.45},{"$f":"P30789-(P30789/1.0025)","v":0.15426433915211391},61.86]
[null,null,null,null,null,6716419,"SPR","SPR","EA","ALARM,SMOKE,CO,COMBO,2 AA",null,113,22,{"$f":"VLOOKUP(M30790,DFL!A:H,8,0)","v":0.41},{"$f":"P30790-(P30790/1.0025)","v":0.16625935162095118},66.67]
[null,null,null,null,null,8007592,"SPR","SPR","EA","EXTINGUISHER,FIRE,5 LB",null,113.98,22,{"$f":"VLOOKUP(M30791,DFL!A:H,8,0)","v":0.41},{"$f":"P30791-(P30791/1.0025)","v":0.16770573566084579},67.25]
[null,null,null,null,null,313833,"SPR","SPR","PK","PADDLE,DRY ERASE,8X10,24PK",null,114.82,10,{"$f":"VLOOKUP(M30792,DFL!A:H,8,0)","v":0.36},{"$f":"P30792-(P30792/1.0025)","v":0.18324189526184398},73.48]
[null,null,null,null,null,170555,"SPR","SPR","PK","BOARD,D-ERASE,9.5X12,24PK",null,115.5,10,{"$f":"VLOOKUP(M30793,DFL!A:H,8,0)","v":0.36},{"$f":"P30793-(P30793/1.0025)","v":0.18433915211969065},73.92]
[null,null,null,null,null,9332628,"SPR","SPR","EA","OEM Color Laser Parts",null,117.14,48,{"$f":"VLOOKUP(M30794,DFL!A:H,8,0)","v":0.3},{"$f":"P30794-(P30794/1.0025)","v":0.20448877805485211},82]
[null,null,null,null,null,383106,"SPR","SPR","CA","REFILL,AIR,FRSHNR,PRP,LAV,12CA",null,117.52,19,{"$f":"VLOOKUP(M30795,DFL!A:H,8,0)","v":0.45},{"$f":"P30795-(P30795/1.0025)","v":0.16119700748129162},64.64]
[null,null,null,null,null,967278,"SPR","SPR","CA","REFILL,AIR,FRSHNR,YLW,CTR,12CA",null,117.52,19,{"$f":"VLOOKUP(M30796,DFL!A:H,8,0)","v":0.45},{"$f":"P30796-(P30796/1.0025)","v":0.16119700748129162},64.64]
[null,null,null,null,null,6336129,"SPR","SPR","CT","DETERGENT,TIDE,LQ,F&G,42Z",null,118.08,19,{"$f":"VLOOKUP(M30797,DFL!A:H,8,0)","v":0.45},{"$f":"P30797-(P30797/1.0025)","v":0.16194513715710457},64.94]
[null,null,null,null,null,5968696,"SPR","SPR","EA","SCRAPER,ERGOTEC?,4/10CM,BLACK",null,119.48,25,{"$f":"VLOOKUP(M30798,DFL!A:H,8,0)","v":0.49},{"$f":"P30798-(P30798/1.0025)","v":0.15194513715710656},60.93]
[null,null,null,null,null,479262,"SPR","SPR","CT","SOAP,PCMX,PROVON,1200,LTX",null,119.53,19,{"$f":"VLOOKUP(M30799,DFL!A:H,8,0)","v":0.45},{"$f":"P30799-(P30799/1.0025)","v":0.16394014962592962},65.739999999999995]
[null,null,null,null,null,8588391,"SPR","SPR","EA","Honeywel QuietSet Towr Fan",null,120.68,21,{"$f":"VLOOKUP(M30800,DFL!A:H,8,0)","v":0.28999999999999998},{"$f":"P30800-(P30800/1.0025)","v":0.21366583541146156},85.68]
[null,null,null,null,null,6523574,"SPR","SPR","BX","BOARD,LAP,24PK",null,122.69,10,{"$f":"VLOOKUP(M30801,DFL!A:H,8,0)","v":0.36},{"$f":"P30801-(P30801/1.0025)","v":0.19581047381545602},78.52]
[null,null,null,null,null,592073,"SPR","SPR","CA","CLEANSER,FOAM, 1.5L,LT FLRL",null,124.55,19,{"$f":"VLOOKUP(M30802,DFL!A:H,8,0)","v":0.45},{"$f":"P30802-(P30802/1.0025)","v":0.17082294264338316},68.5]
[null,null,null,null,null,7103271,"SPR","SPR","CT","DISINFECTANT,CP64, 4GL",null,125.88,19,{"$f":"VLOOKUP(M30803,DFL!A:H,8,0)","v":0.45},{"$f":"P30803-(P30803/1.0025)","v":0.17264339152119135},69.23]
[null,null,null,null,null,372580,"SPR","SPR","ST","BALL,DODGEBALL,6/ST,AST",null,126.33,48,{"$f":"VLOOKUP(M30804,DFL!A:H,8,0)","v":0.3},{"$f":"P30804-(P30804/1.0025)","v":0.22052369077306366},88.43]
[null,null,null,null,null,1588393,"SPR","SPR","CT","Gold & Klean Antimicro Ltn Sp",null,130.19999999999999,19,{"$f":"VLOOKUP(M30805,DFL!A:H,8,0)","v":0.45},{"$f":"P30805-(P30805/1.0025)","v":0.17857855361594943},71.61]
[null,null,null,null,null,346348,"SPR","SPR","BX","FOLDER,PSBD,6SEC,LTR,10BX,SBE",null,132.03,35,{"$f":"VLOOKUP(M30806,DFL!A:H,8,0)","v":0.6},{"$f":"P30806-(P30806/1.0025)","v":0.13169576059850385},52.81]
[null,null,null,null,null,346744,"SPR","SPR","BX","FOLDER,PSBD,6SEC,LTR,10BX,ERR",null,132.03,35,{"$f":"VLOOKUP(M30807,DFL!A:H,8,0)","v":0.6},{"$f":"P30807-(P30807/1.0025)","v":0.13169576059850385},52.81]
[null,null,null,null,null,9037182,"SPR","SPR","CA","BODYWASH,REFILL,FMX12,1250ML",null,132.63,19,{"$f":"VLOOKUP(M30808,DFL!A:H,8,0)","v":0.45},{"$f":"P30808-(P30808/1.0025)","v":0.18192019950124916},72.95]
[null,null,null,null,null,6304536,"SPR","SPR","CT","WIPER,PAPER,1/4 FLD,WH",null,135.99,19,{"$f":"VLOOKUP(M30809,DFL!A:H,8,0)","v":0.45},{"$f":"P30809-(P30809/1.0025)","v":0.18650872817954678},74.790000000000006]
[null,null,null,null,null,7974974,"SPR","SPR","CT","TOOTHPASTE,CR CAV REG",null,138,19,{"$f":"VLOOKUP(M30810,DFL!A:H,8,0)","v":0.45},{"$f":"P30810-(P30810/1.0025)","v":0.18927680798005042},75.900000000000006]
[null,null,null,null,null,240666,"SPR","SPR","BX","MARKER,STIX CLASS,MRSKET",null,141.22,28,{"$f":"VLOOKUP(M30811,DFL!A:H,8,0)","v":0.48},{"$f":"P30811-(P30811/1.0025)","v":0.18311720698254419},73.430000000000007]
[null,null,null,null,null,7879815,"SPR","SPR","EA","LABELER,DYMO,ELEC,LM 640 QWY",null,143.72999999999999,26,{"$f":"VLOOKUP(M30812,DFL!A:H,8,0)","v":0.44},{"$f":"P30812-(P30812/1.0025)","v":0.20072319201995015},80.489999999999995]
[null,null,null,null,null,133018,"SPR","SPR","CT","COFFEE,KCUP,CRML VANILLA",null,144.16,48,{"$f":"VLOOKUP(M30813,DFL!A:H,8,0)","v":0.3},{"$f":"P30813-(P30813/1.0025)","v":0.25164588528677712},100.91]
[null,null,null,null,null,8943808,"SPR","SPR","CT","GLOVE,NITRILE,EXAM,3M,XL",null,145.66999999999999,22,{"$f":"VLOOKUP(M30814,DFL!A:H,8,0)","v":0.41},{"$f":"P30814-(P30814/1.0025)","v":0.21433915211969179},85.95]
[null,null,null,null,null,4427592,"SPR","SPR","CT","SOAP,EXTRA MILD,FOAM,6/CT",null,151.85,19,{"$f":"VLOOKUP(M30815,DFL!A:H,8,0)","v":0.45},{"$f":"P30815-(P30815/1.0025)","v":0.20827930174563392},83.52]
[null,null,null,null,null,7736627,"SPR","SPR","CT","DISINFECTANT,80/6,AMB",null,154.97999999999999,19,{"$f":"VLOOKUP(M30816,DFL!A:H,8,0)","v":0.45},{"$f":"P30816-(P30816/1.0025)","v":0.21256857855361488},85.24]
[null,null,null,null,null,6363750,"SPR","SPR","EA","EXTINGUISHER,FIRE,10 LB",null,156.94999999999999,22,{"$f":"VLOOKUP(M30817,DFL!A:H,8,0)","v":0.41},{"$f":"P30817-(P30817/1.0025)","v":0.23092269326683379},92.6]
[null,null,null,null,null,225578,"SPR","SPR","EA","VACUUM,MITE,MIGHTY,EUREKA",null,157.29,48,{"$f":"VLOOKUP(M30818,DFL!A:H,8,0)","v":0.3},{"$f":"P30818-(P30818/1.0025)","v":0.27456359102244221},{"$f":"ROUND(L30818*(1-N30818),2)","v":110.1}]
[null,null,null,null,null,6509461,"SPR","SPR","EA","BELT UNIT",null,162.79,43,{"$f":"VLOOKUP(M30819,DFL!A:H,8,0)","v":0.3},{"$f":"P30819-(P30819/1.0025)","v":0.28416458852866811},113.95]
[null,null,null,null,null,8715281,"SPR","SPR","CT","SOAP,AFM,AB,E2,1100ML",null,165.52,19,{"$f":"VLOOKUP(M30820,DFL!A:H,8,0)","v":0.45},{"$f":"P30820-(P30820/1.0025)","v":0.22703241895261783},91.04]
[null,null,null,null,null,1639819,"SPR","SPR","CT","Brawny scrim reinf wiper",null,169.1,19,{"$f":"VLOOKUP(M30821,DFL!A:H,8,0)","v":0.45},{"$f":"P30821-(P30821/1.0025)","v":0.23194513715709775},93.01]
[null,null,null,null,null,1365184,"SPR","SPR","CT","ANGSFT PS ULT FT WH 96SH 36/CS",null,169.1,40,{"$f":"VLOOKUP(M30822,DFL!A:H,8,0)","v":0.44},{"$f":"P30822-(P30822/1.0025)","v":0.236159600997496},94.7]
[null,null,null,null,null,372650,"SPR","SPR","ST","KIT, PHYS ED, AST",null,171.26,48,{"$f":"VLOOKUP(M30823,DFL!A:H,8,0)","v":0.3},{"$f":"P30823-(P30823/1.0025)","v":0.29895261845385335},119.88]
[null,null,null,null,null,347843,"SPR","SPR","EA","STAND,METAL-SILVER",null,171.74,48,{"$f":"VLOOKUP(M30824,DFL!A:H,8,0)","v":0.3},{"$f":"P30824-(P30824/1.0025)","v":0.29980049875311465},120.22]
[null,null,null,null,null,3363449,"SPR","SPR","CA","HAND CLEANER, LIQUID, CHERRY",null,172.08,19,{"$f":"VLOOKUP(M30825,DFL!A:H,8,0)","v":0.45},{"$f":"P30825-(P30825/1.0025)","v":0.23600997506234478},94.64]
[null,null,null,null,null,372643,"SPR","SPR","ST","BALL,PLAYGROUND,14/ST,AST",null,184.63,48,{"$f":"VLOOKUP(M30826,DFL!A:H,8,0)","v":0.3},{"$f":"P30826-(P30826/1.0025)","v":0.32229426433914909},129.24]
[null,null,null,null,null,372398,"SPR","SPR","ST","SCOOTER,12X12,6/ST,AST",null,185.28,48,{"$f":"VLOOKUP(M30827,DFL!A:H,8,0)","v":0.3},{"$f":"P30827-(P30827/1.0025)","v":0.32344139650871284},129.69999999999999]
[null,null,null,null,null,370669,"SPR","SPR","KT","PAPER,CONSTR,50SH/PK,AST",null,188.59,47,{"$f":"VLOOKUP(M30828,DFL!A:H,8,0)","v":0.5},{"$f":"P30828-(P30828/1.0025)","v":0.23516209476308347},94.3]
[null,null,null,null,null,734066,"SPR","SPR","CT","DISPENSERS, FMX, 1250ML",null,189.6,48,{"$f":"VLOOKUP(M30829,DFL!A:H,8,0)","v":0.3},{"$f":"P30829-(P30829/1.0025)","v":0.33097256857854518},132.72]
[null,null,null,null,null,7423463,"SPR","SPR","CT","BOWL,COMPOSTABLE,12OZ",null,190,18,{"$f":"VLOOKUP(M30830,DFL!A:H,8,0)","v":0.44},{"$f":"P30830-(P30830/1.0025)","v":0.26533665835411568},106.4]
[null,null,null,null,null,801931,"SPR","SPR","EA","TRIMMER,H/D,WD 15",null,190.49,7,{"$f":"VLOOKUP(M30831,DFL!A:H,8,0)","v":0.46},{"$f":"P30831-(P30831/1.0025)","v":0.25650872817953996},102.86]
[null,null,null,null,null,280913,"SPR","SPR","BX","PAINT,WATERCLR,CLASSPK,36CT",null,194.69,47,{"$f":"VLOOKUP(M30832,DFL!A:H,8,0)","v":0.5},{"$f":"P30832-(P30832/1.0025)","v":0.24276807980049853},97.35]
[null,null,null,null,null,9885125,"SPR","SPR","EA","FILE,18IN,4DR,ORG,WHITE",null,194.93,38,{"$f":"VLOOKUP(M30833,DFL!A:H,8,0)","v":0.36},{"$f":"P30833-(P30833/1.0025)","v":0.31112219451371459},124.76]
[null,null,null,null,null,9682985,"SPR","SPR","EA","LOWER PAPER TRAY",null,197.99,48,{"$f":"VLOOKUP(M30834,DFL!A:H,8,0)","v":0.3},{"$f":"P30834-(P30834/1.0025)","v":0.3456109725685792},138.59]
[null,null,null,null,null,524947,"SPR","SPR","EA","CHAIRMAT,GLASS,CLEAR,36X48",null,201.62,15,{"$f":"VLOOKUP(M30835,DFL!A:H,8,0)","v":0.5},{"$f":"P30835-(P30835/1.0025)","v":0.25139650872817754},100.81]
[null,null,null,null,null,372230,"SPR","SPR","EA","PUMP,DLX,ELECT,INFLATOR",null,206.06,48,{"$f":"VLOOKUP(M30836,DFL!A:H,8,0)","v":0.3},{"$f":"P30836-(P30836/1.0025)","v":0.35970074812965436},144.24]
[null,null,null,null,null,6628051,"SPR","SPR","CT","DISPENSER,LOTION,12PK",null,211.08,48,{"$f":"VLOOKUP(M30837,DFL!A:H,8,0)","v":0.3},{"$f":"P30837-(P30837/1.0025)","v":0.36847880299251301},147.76]
[null,null,null,null,null,9710888,"SPR","SPR","PK","SCISSORS,5 BLNT 30PK",null,218.56,7,{"$f":"VLOOKUP(M30838,DFL!A:H,8,0)","v":0.46},{"$f":"P30838-(P30838/1.0025)","v":0.29431421446383865},118.02]
[null,null,null,null,null,173484,"SPR","SPR","RL","PAPER,ART,CNRY,36X1000",null,225.69,47,{"$f":"VLOOKUP(M30839,DFL!A:H,8,0)","v":0.5},{"$f":"P30839-(P30839/1.0025)","v":0.28142144638403011},112.85]
[null,null,null,null,null,173492,"SPR","SPR","RL","PAPER,ART,BRN,36X1000",null,237.59,47,{"$f":"VLOOKUP(M30840,DFL!A:H,8,0)","v":0.5},{"$f":"P30840-(P30840/1.0025)","v":0.29625935162094663},118.8]
[null,null,null,null,null,173427,"SPR","SPR","RL","PAPER,ART,BLUE,36X1000",null,246.59,47,{"$f":"VLOOKUP(M30841,DFL!A:H,8,0)","v":0.5},{"$f":"P30841-(P30841/1.0025)","v":0.30748129675809821},123.3]
[null,null,null,null,null,801941,"SPR","SPR","EA","TRIMMER,H/D,WD 18",null,252.84,7,{"$f":"VLOOKUP(M30842,DFL!A:H,8,0)","v":0.46},{"$f":"P30842-(P30842/1.0025)","v":0.34047381546133693},136.53]
[null,null,null,null,null,6291020,"SPR","SPR","CT","COINLOK BAG,DBL HND,100/CT",null,259.92,12,{"$f":"VLOOKUP(M30843,DFL!A:H,8,0)","v":0.4},{"$f":"P30843-(P30843/1.0025)","v":0.38890274314212547},155.94999999999999]
[null,null,null,null,null,120539,"SPR","SPR","EA","BOARD,TE,4X3,ALUMINUM",null,265.55,10,{"$f":"VLOOKUP(M30844,DFL!A:H,8,0)","v":0.36},{"$f":"P30844-(P30844/1.0025)","v":0.42381546134663495},169.95]
[null,null,null,null,null,805660,"SPR","SPR","EA","EASEL,DRYERS,ADJ LEGS,46X30",null,284.02999999999997,10,{"$f":"VLOOKUP(M30845,DFL!A:H,8,0)","v":0.36},{"$f":"P30845-(P30845/1.0025)","v":0.4533167082294085},181.78]
[null,null,null,null,null,6795234,"SPR","SPR","EA","MONITOR,FHD,1080P,23.8",null,297.82,48,{"$f":"VLOOKUP(M30846,DFL!A:H,8,0)","v":0.3},{"$f":"P30846-(P30846/1.0025)","v":0.51987531172068202},208.47]
[null,null,null,null,null,1763416,"SPR","SPR","CT","ShIeld,Face,Foam Top,ElastIc",null,299.60000000000002,22,{"$f":"VLOOKUP(M30847,DFL!A:H,8,0)","v":0.41},{"$f":"P30847-(P30847/1.0025)","v":0.44079800498752775},176.76]
[null,null,null,null,null,6898750,"SPR","SPR","EA","QuietClean Tower Air Purifier",null,321,21,{"$f":"VLOOKUP(M30848,DFL!A:H,8,0)","v":0.28999999999999998},{"$f":"P30848-(P30848/1.0025)","v":0.56835411471320185},227.91]
[null,null,null,null,null,5228656,"SPR","SPR","CT","PIN,PICKER,PAPER",null,332.1,19,{"$f":"VLOOKUP(M30849,DFL!A:H,8,0)","v":0.45},{"$f":"P30849-(P30849/1.0025)","v":0.45551122194513027},182.66]
[null,null,null,null,null,857779,"SPR","SPR","EA","CHAIR, TASK, TILT/TENSION",null,337,48,{"$f":"VLOOKUP(M30850,DFL!A:H,8,0)","v":0.3},{"$f":"P30850-(P30850/1.0025)","v":0.58827930174561516},235.9]
[null,null,null,null,null,4785439,"SPR","SPR","EA","Mono Laser Singlefunction",null,337.91,48,{"$f":"VLOOKUP(M30851,DFL!A:H,8,0)","v":0.3},{"$f":"P30851-(P30851/1.0025)","v":0.5898753117206752},236.54]
[null,null,null,null,null,9932090,"SPR","SPR","EA","PANEL,DESKTOP,WELNESS,CLEAR",null,341,48,{"$f":"VLOOKUP(M30852,DFL!A:H,8,0)","v":0.3},{"$f":"P30852-(P30852/1.0025)","v":0.59526184538651705},238.7]
[null,null,null,null,null,5384612,"SPR","SPR","EA","Top Loading Bill Counter",null,349.99,48,{"$f":"VLOOKUP(M30853,DFL!A:H,8,0)","v":0.3},{"$f":"P30853-(P30853/1.0025)","v":0.61094763092268067},244.99]
[null,null,null,null,null,4907564,"SPR","SPR","EA","Cassida Coin Sorter",null,454.39,48,{"$f":"VLOOKUP(M30854,DFL!A:H,8,0)","v":0.3},{"$f":"P30854-(P30854/1.0025)","v":0.7931920199500837},318.07]
[null,null,null,null,null,372265,"SPR","SPR","EA","LOCKER,BALL,24 CAP,SR",null,521.49,48,{"$f":"VLOOKUP(M30855,DFL!A:H,8,0)","v":0.3},{"$f":"P30855-(P30855/1.0025)","v":0.91032418952619309},365.04]
[null,null,null,null,null,4995481,"SPR","SPR","EA","PRINTER,HP,LASERJET,4001DN",null,522.61,48,{"$f":"VLOOKUP(M30856,DFL!A:H,8,0)","v":0.3},{"$f":"P30856-(P30856/1.0025)","v":0.91229426433915251},{"$f":"ROUND(L30856*(1-N30856),2)","v":365.83}]
[null,null,null,null,null,1630621,"SPR","SPR","EA","C-MICROFIBER FINISH SYSTEMSTAR",null,523.66,19,{"$f":"VLOOKUP(M30857,DFL!A:H,8,0)","v":0.45},{"$f":"P30857-(P30857/1.0025)","v":0.71822942643387933},288.01]
[null,null,null,null,null,416747,"SPR","SPR","EA","TRUCK,HAND,CONVERTIBLE,3 IN 1",null,570.30999999999995,13,{"$f":"VLOOKUP(M30858,DFL!A:H,8,0)","v":0.32},{"$f":"P30858-(P30858/1.0025)","v":0.96710723192018122},387.81]
[null,null,null,null,null,628890,"SPR","SPR","EA","COAT RACK, GARMENT",null,697.68,48,{"$f":"VLOOKUP(M30859,DFL!A:H,8,0)","v":0.3},{"$f":"P30859-(P30859/1.0025)","v":1.2179052369077112},488.38]
[null,null,null,null,null,9670684,"SPR","SPR","EA","Cassida Mixed Bill Counter",null,706,48,{"$f":"VLOOKUP(M30860,DFL!A:H,8,0)","v":0.3},{"$f":"P30860-(P30860/1.0025)","v":1.2324189526184455},494.2]
[null,null,null,null,null,7412253,"SPR","SPR","EA","GBC AutoFeed Shredder, 230X",null,1054.3599999999999,21,{"$f":"VLOOKUP(M30861,DFL!A:H,8,0)","v":0.28999999999999998},{"$f":"P30861-(P30861/1.0025)","v":1.8668329177056648},748.6]
[null,null,null,null,null,2392642,"SPR","SPR","EA","Foam Tilt Truck, Utility Duty",null,1099.8599999999999,13,{"$f":"VLOOKUP(M30862,DFL!A:H,8,0)","v":0.32},{"$f":"P30862-(P30862/1.0025)","v":1.8650872817954678},747.9]
[null,null,null,null,null,910124,"SPR","SPR","EA","LATERAL,3 DRW,36,BLK",null,1968,31,{"$f":"VLOOKUP(M30863,DFL!A:H,8,0)","v":0.49},{"$f":"P30863-(P30863/1.0025)","v":2.5029426433915205},1003.68]
[null,null,null,null,null,786687,"SPR","SPR","EA","Lorell Rollout Shelf File 4 BK",null,1978,38,{"$f":"VLOOKUP(M30864,DFL!A:H,8,0)","v":0.36},{"$f":"P30864-(P30864/1.0025)","v":3.1569077306733107},1265.92]
[null,null,null,null,null,425772,"SPR","SPR","EA","FILE,3 DRWR LATRL,42W,BK",null,2280,31,{"$f":"VLOOKUP(M30865,DFL!A:H,8,0)","v":0.49},{"$f":"P30865-(P30865/1.0025)","v":2.8997506234413777},1162.8]
[null,null,null,null,null,538941,"SPR","SPR","EA","FILE,LAT,2DWR,3SHELF,BK",null,2511,48,{"$f":"VLOOKUP(M30866,DFL!A:H,8,0)","v":0.3},{"$f":"P30866-(P30866/1.0025)","v":4.3832917705735781},1757.7]
[null,null,null,null,null,910145,"SPR","SPR","EA","LATERAL,4DRW,42,BLK",null,2782,31,{"$f":"VLOOKUP(M30867,DFL!A:H,8,0)","v":0.49},{"$f":"P30867-(P30867/1.0025)","v":3.5382044887780921},1418.82]
[null,null,null,null,null,538981,"SPR","SPR","EA","FILE,LAT,2DWR,3SHELF,BK",null,2870,48,{"$f":"VLOOKUP(M30868,DFL!A:H,8,0)","v":0.3},{"$f":"P30868-(P30868/1.0025)","v":5.0099750623439832},2009]
[null,null,null,null,null,120351,"SPR","SPR","EA","FILE,LAT,36, 5 DRAWER, BK",null,3195,31,{"$f":"VLOOKUP(M30869,DFL!A:H,8,0)","v":0.49},{"$f":"P30869-(P30869/1.0025)","v":4.0634663341645592},1629.45]
[null,null,null,null,null,425817,"SPR","SPR","EA","FILE,5 DRWR LATRL,42W,BK",null,3689,31,{"$f":"VLOOKUP(M30870,DFL!A:H,8,0)","v":0.49},{"$f":"P30870-(P30870/1.0025)","v":4.6917456359101379},1881.39]
[null,null,null,null,null,393477,"SPR","SPR","EA","LOCKER,BOX,TAN",null,575,48,{"$f":"VLOOKUP(M30871,DFL!A:H,8,0)","v":0.3},{"$f":"P30871-(P30871/1.0025)","v":1.0037406483790505},402.5]
[null,null,null,null,null,722950,"SPR","SPR","EA","ERASER,WHITEBOARD,12-N-1",null,3.69,20,{"$f":"VLOOKUP(M30872,DFL!A:H,8,0)","v":0.47},{"$f":"P30872-(P30872/1.0025)","v":4.8877805486282622E-3},1.96]
[null,null,null,null,null,915152,"SPR","SPR","EA","BINGO GAME-SIGHT WORDS",null,13.99,47,{"$f":"VLOOKUP(M30873,DFL!A:H,8,0)","v":0.5},{"$f":"P30873-(P30873/1.0025)","v":1.7456359102244079E-2},7]
[null,null,null,null,null,352700,"SPR","SPR","ST","WIGGLE EYES JARS, 400CT",null,19.02,48,{"$f":"VLOOKUP(M30874,DFL!A:H,8,0)","v":0.3},{"$f":"P30874-(P30874/1.0025)","v":3.3192019950124774E-2},13.31]
[null,null,null,null,null,556634,"SPR","SPR","PK","GEMS,FUN,LB 1/2",null,24.69,48,{"$f":"VLOOKUP(M30875,DFL!A:H,8,0)","v":0.3},{"$f":"P30875-(P30875/1.0025)","v":4.3092269326681532E-2},17.28]
[null,null,null,null,null,507539,"SPR","SPR","PD","PAPER,WRITNG,SENSORY,100SH",null,22.7,47,{"$f":"VLOOKUP(M30876,DFL!A:H,8,0)","v":0.5},{"$f":"P30876-(P30876/1.0025)","v":2.8304239401496289E-2},11.35]
[null,null,null,null,null,367162,"SPR","SPR","RM","PAPER,18X24,60#,500PK,MLA",null,79.69,47,{"$f":"VLOOKUP(M30877,DFL!A:H,8,0)","v":0.5},{"$f":"P30877-(P30877/1.0025)","v":9.9376558603488263E-2},39.85]
[null,null,null,null,null,6319075,"SPR","SPR","CT","DISINFECTANT,QUAT PLUS TB,12QT",null,112.44,19,{"$f":"VLOOKUP(M30878,DFL!A:H,8,0)","v":0.45},{"$f":"P30878-(P30878/1.0025)","v":0.15421446384039683},61.84]
[null,null,null,null,null,362570,"SPR","SPR","PK","CONFETTI,SEQUINS,1LB,AST",null,34.79,47,{"$f":"VLOOKUP(M30879,DFL!A:H,8,0)","v":0.5},{"$f":"P30879-(P30879/1.0025)","v":4.3391521197005289E-2},17.399999999999999]
[null,null,null,null,null,273833,"SPR","SPR","PK","BUZZERS,ANSWER,RECORD,BATT",null,29.69,48,{"$f":"VLOOKUP(M30880,DFL!A:H,8,0)","v":0.3},{"$f":"P30880-(P30880/1.0025)","v":5.1820448877805347E-2},20.78]
[null,null,null,null,null,530202,"SPR","SPR","EA","FINGERPAINT WASH PRMRY 3CT",null,11.82,47,{"$f":"VLOOKUP(M30881,DFL!A:H,8,0)","v":0.5},{"$f":"P30881-(P30881/1.0025)","v":1.4738154613466392E-2},5.91]
[null,null,null,null,null,8549729,"SPR","SPR","CT","PLATE,9IN,12/10,SV",null,395.16,18,{"$f":"VLOOKUP(M30882,DFL!A:H,8,0)","v":0.44},{"$f":"P30882-(P30882/1.0025)","v":0.55184538653364257},221.29]
[null,null,null,null,null,999876,"SPR","SPR","EA","CRTDG,LSR,TN413,C452,BK,45K",null,78.989999999999995,43,{"$f":"VLOOKUP(M30883,DFL!A:H,8,0)","v":0.3},{"$f":"P30883-(P30883/1.0025)","v":0.13788029925186862},55.29]
[null,null,null,null,null,957950,"SPR","SPR","ST","MARKER,12,POLY,XL SET",null,45.06,28,{"$f":"VLOOKUP(M30884,DFL!A:H,8,0)","v":0.48},{"$f":"P30884-(P30884/1.0025)","v":5.8428927680797216E-2},23.43]
[null,null,null,null,null,886544,"SPR","SPR","PK","PADDLE,D-ERAS,7X12,24PK",null,114.82,10,{"$f":"VLOOKUP(M30885,DFL!A:H,8,0)","v":0.36},{"$f":"P30885-(P30885/1.0025)","v":0.18324189526184398},73.48]
[null,null,null,null,null,820569,"SPR","SPR","EA","BOARD,DRY ERASE,9X12",null,3.73,10,{"$f":"VLOOKUP(M30886,DFL!A:H,8,0)","v":0.36},{"$f":"P30886-(P30886/1.0025)","v":5.9600997506232822E-3},2.39]
[null,null,null,null,null,556432,"SPR","SPR","EA","BOARD,MAG,D-ERAS,DUAL SIDE",null,11.63,10,{"$f":"VLOOKUP(M30887,DFL!A:H,8,0)","v":0.36},{"$f":"P30887-(P30887/1.0025)","v":1.8553615960099634E-2},7.44]
[null,null,null,null,null,614883,"SPR","SPR","EA","RACKET,BADMINTON,STEEL,RD",null,28.95,47,{"$f":"VLOOKUP(M30888,DFL!A:H,8,0)","v":0.5},{"$f":"P30888-(P30888/1.0025)","v":3.6109725685784966E-2},14.48]
[null,null,null,null,null,6607173,"SPR","SPR","EA","RISER,DESK,ELEC,SITSTD,2ARM",null,1248,48,{"$f":"VLOOKUP(M30889,DFL!A:H,8,0)","v":0.3},{"$f":"P30889-(P30889/1.0025)","v":2.1785536159600269},873.6]
[null,null,null,null,null,773663,"SPR","SPR","BX","STEMS,BUMP,CLSSPK,480PC,AST",null,50.49,47,{"$f":"VLOOKUP(M30890,DFL!A:H,8,0)","v":0.5},{"$f":"P30890-(P30890/1.0025)","v":6.2967581047381316E-2},25.25]
[null,null,null,null,null,163745,"SPR","SPR","ST","MARKER,BRUSH,FINE,ASST",null,81.59,28,{"$f":"VLOOKUP(M30891,DFL!A:H,8,0)","v":0.48},{"$f":"P30891-(P30891/1.0025)","v":0.10581047381545972},42.43]
[null,null,null,null,null,9762638,"SPR","SPR","PK","CRAYON,WAX,JUMBO,TRING,12CT",null,3.49,47,{"$f":"VLOOKUP(M30892,DFL!A:H,8,0)","v":0.5},{"$f":"P30892-(P30892/1.0025)","v":4.3640897755610197E-3},1.75]
[null,null,null,null,null,4099760,"SPR","SPR","ST","PAINT,ACCESS,FOAM,14/ST",null,31.39,47,{"$f":"VLOOKUP(M30893,DFL!A:H,8,0)","v":0.5},{"$f":"P30893-(P30893/1.0025)","v":3.9152119700746724E-2},15.7]
[null,null,null,null,null,8514031,"SPR","SPR","ST","SET,MRKR,FLR,SPTS,24/ST",null,25.98,48,{"$f":"VLOOKUP(M30894,DFL!A:H,8,0)","v":0.3},{"$f":"P30894-(P30894/1.0025)","v":4.5361596009975358E-2},{"$f":"ROUND(L30894*(1-N30894),2)","v":18.190000000000001}]
[null,null,null,null,null,4088826,"SPR","SPR","PK","PENCIL,COLOR,PRESHRPN,24CL",null,9.5,47,{"$f":"VLOOKUP(M30895,DFL!A:H,8,0)","v":0.5},{"$f":"P30895-(P30895/1.0025)","v":1.1845386533665625E-2},4.75]
[null,null,null,null,null,537533,"SPR","SPR","CA","SANITIZER,NO RINS,SANIBET,RTU",null,81.36,19,{"$f":"VLOOKUP(M30896,DFL!A:H,8,0)","v":0.45},{"$f":"P30896-(P30896/1.0025)","v":0.11159600997505947},44.75]
[null,null,null,null,null,521061,"SPR","SPR","PK","STICKER,PRAISEWRD,JMB,STNKY",null,15.99,47,{"$f":"VLOOKUP(M30897,DFL!A:H,8,0)","v":0.5},{"$f":"P30897-(P30897/1.0025)","v":1.9950124688278947E-2},8]
[null,null,null,null,null,8971160,"SPR","SPR","CT","Bathroom Cleaner, 12/CT",null,110.66,19,{"$f":"VLOOKUP(M30898,DFL!A:H,8,0)","v":0.45},{"$f":"P30898-(P30898/1.0025)","v":0.15177057356608259},60.86]
[null,null,null,null,null,402198,"SPR","SPR","PK","PAPER,RESUME,100%,24#,100,WHT",null,23.86,32,{"$f":"VLOOKUP(M30899,DFL!A:H,8,0)","v":0.65},{"$f":"P30899-(P30899/1.0025)","v":2.0822942643391684E-2},8.35]
[null,null,null,null,null,340505,"SPR","SPR","DZ","WTRCLR,RFL,1/2PN,BRN",null,8.0500000000000007,47,{"$f":"VLOOKUP(M30900,DFL!A:H,8,0)","v":0.5},{"$f":"P30900-(P30900/1.0025)","v":1.0049875311720413E-2},4.03]
[null,null,null,null,null,5103701,"SPR","SPR","PK","PAD W/WINGS,ULTRA-THIN",null,14.72,22,{"$f":"VLOOKUP(M30901,DFL!A:H,8,0)","v":0.41},{"$f":"P30901-(P30901/1.0025)","v":2.1645885286782018E-2},8.68]
[null,null,null,null,null,7384061,"SPR","SPR","PK","HOLDER,SIGN,MAG,HFLT,BK,2PK",null,15.46,36,{"$f":"VLOOKUP(M30902,DFL!A:H,8,0)","v":0.36},{"$f":"P30902-(P30902/1.0025)","v":2.4663341645885239E-2},9.89]
[null,null,null,null,null,868944,"SPR","SPR","PK","REPL.HEADS,BRUSH,BOWL,ERGO",null,12.16,19,{"$f":"VLOOKUP(M30903,DFL!A:H,8,0)","v":0.45},{"$f":"P30903-(P30903/1.0025)","v":1.6683291770573483E-2},6.69]
[null,null,null,null,null,200007,"SPR","SPR","PK","BLADE,8RPLMT,SCRPR,10,SR",null,44.01,25,{"$f":"VLOOKUP(M30904,DFL!A:H,8,0)","v":0.49},{"$f":"P30904-(P30904/1.0025)","v":5.5985037406482974E-2},22.45]
[null,null,null,null,null,705423,"SPR","SPR","EA","BATTERY, PHOTO 6V LITHIUM 1 EA",null,16.91,6,{"$f":"VLOOKUP(M30905,DFL!A:H,8,0)","v":0.47},{"$f":"P30905-(P30905/1.0025)","v":2.2344139650872563E-2},8.9600000000000009]
[null,null,null,null,null,8429215,"SPR","SPR","EA","TOTE,MINI,W/HANDLE,RED",null,3.46,31,{"$f":"VLOOKUP(M30906,DFL!A:H,8,0)","v":0.49},{"$f":"P30906-(P30906/1.0025)","v":4.3890274314213329E-3},1.76]
[null,null,null,null,null,3949853,"SPR","SPR","CT","TOWEL,LOCOR,HWRT,TAD,WH",null,105.3,40,{"$f":"VLOOKUP(M30907,DFL!A:H,8,0)","v":0.44},{"$f":"P30907-(P30907/1.0025)","v":0.14705735660847807},58.97]
[null,null,null,null,null,2174465,"SPR","SPR","EA","SPRAY,ANT&ROACH,LEMON,RAID",null,9.5,19,{"$f":"VLOOKUP(M30908,DFL!A:H,8,0)","v":0.45},{"$f":"P30908-(P30908/1.0025)","v":1.3042394014962433E-2},5.23]
[null,null,null,null,null,5866272,"SPR","SPR","EA","TOP,TABLE,CONF,48X144,MAH",null,1555,48,{"$f":"VLOOKUP(M30909,DFL!A:H,8,0)","v":0.3},{"$f":"P30909-(P30909/1.0025)","v":2.7144638403990484},1088.5]
[null,null,null,null,null,7110911,"SPR","SPR","EA","FILE,VRT,BF,18,SN",null,132.25,38,{"$f":"VLOOKUP(M30910,DFL!A:H,8,0)","v":0.36},{"$f":"P30910-(P30910/1.0025)","v":0.21107231920198899},84.64]
[null,null,null,null,null,9795072,"SPR","SPR","BD","LBLR,DYMO,LT,200B,BLU,+2 TAPES",null,49.99,26,{"$f":"VLOOKUP(M30911,DFL!A:H,8,0)","v":0.44},{"$f":"P30911-(P30911/1.0025)","v":6.9800498753114226E-2},27.99]
[null,null,null,null,null,777376,"SPR","SPR","EA","BINDER,EASYOPN,LCK,SLNT-D",null,76.48,8,{"$f":"VLOOKUP(M30912,DFL!A:H,8,0)","v":0.55000000000000004},{"$f":"P30912-(P30912/1.0025)","v":8.5835411471322232E-2},{"$f":"ROUND(L30912*(1-N30912),2)","v":34.42}]

{"sheet":"DFL","index":1,"n_rows":49,"n_cols":8,"rows_kept":49,"cut":false,"hidden":false,"merged":[]}
["CATEGORY NUMBER","Description",null,"OMX KEY","OMX DFL %",null,"SP RICHARDS KEY","SP Richards DFL %"]
[1,"Adhesives, Glues, Gluesticks, Adhesive Removers",null,"1M",0.63,null,"1s",0.48]
[2,"Dictionaries, Thesaurus, Diaries, Tickets, Reference Sets, Etc.",null,"2M",0.48,null,"2s",0.33]
[3,"Archive Boxes, Cardboard Boxes, Storage Containers",null,"3M",0.61,null,"3s",0.5]
[4,"Award Frames, Displays, Plaques, Certificates",null,"4M",0.53,null,"4s",0.39]
[5,"Badges, Badge Holders, Lanyards",null,"5M",0.6,null,"5s",0.45]
[6,"Batteries, Chargers, UPS Power Supplies, Surge Protectors, Extension Cords ",null,"6M",0.56999999999999995,null,"6s",0.47]
[7,"Binder Clips, Paper Clips, Panel Clips, Pushpins, Thumbtacks, Safety Pins, Rubber Bands, Scissors, Shears, Cutters, Trimmers, Hole Punches",null,"7M",0.72,null,"7s",0.46]
[8,"Binders, Combs, Rings, Spines",null,"8M",0.65,null,"8s",0.55000000000000004]
[9,"Book Cases, Book Ends, Book Shelves",null,"9M",0.51,null,"9s",0.37]
[10,"White Boards, Bulletin Boards, Cork Boards, Easels, Poster Boards, Display Rails",null,"10M",0.55000000000000004,null,"10s",0.36]
[11,"Appointment Books, Phone Message Books, Statement Books, Fax Message Books, While You Were Out Books, Forms, Calendars, Deskpads, Refills, Planners",null,"11M",0.57999999999999996,null,"11s",0.46]
[12,"Garbage Can Liners, Shredder Bags  ",null,"12M",0.47,null,"12s",0.4]
[13,"Carts, Handtrucks",null,"13M",0.47,null,"13s",0.32]
[14,"CDs, DVDs, Cassette Tapes, Tape Cartridges, CD and DVD Cases, CD and DVD Storage, VHS Tapes, Computer Disks and Diskettes, CD Mailers, Ribbons, Computer Bags and Cases, Camera Film, Photo Paper, Camera Bags, Camera Cases",null,"14M",0.46,null,"14s",0.31]
[15,"Chair Mats, Door Mats, Floor Mats, Anti-fatigue Mats",null,"15M",0.7,null,"15s",0.5]
[16,"Clocks, Hooks, Lamps (Including Desk Lamps and Light Bulbs)",null,"16M",0.5,null,"16s",0.36]
[17,"Correction Fluid, Correction Tape, Correction Pens",null,"17M",0.61,null,"17s",0.48]
[18,"Food Service Ware: Cups, Spoons, Forks, Plates, Bowls, Etc.",null,"18M",0.55000000000000004,null,"18s",0.44]
[19,"Breakroom Cleaners: Dusters, Computer Air Dusters, Wipes, All Purpose Cleaners, Bathroom Cleaners, Disinfectants, Sanitizers, Hand Soaps, Glass Cleaners, Air Fresheners, Dust Pans, Stainless Steel Cleaners, Microfiber Cloths, Kitchen Cleaners, Furniture C",null,"19M",0.5,null,"19s",0.45]
[20,"Chalk Erasers, Dry Erase Erasers, Chalk",null,"20M",0.57999999999999996,null,"20s",0.47]
[21,"Calculators, Digital Voice Recorders, Typewriters, Cameras, Fans, Heaters, Laminators, Shredders, Pencil Sharpeners, Air Cleaners ",null,"21M",0.42,null,"21s",0.28999999999999998]
[22,"First Aid, Hand Lotions, Hand Sanitizers, Pain Relief, Gloves, Safety Supplies",null,"22M",0.52,null,"22s",0.41]
[23,"Headsets, Headset Accessories, Headphones",null,"23M",0.37,null,"23s",0.3]
[24,"Ink Pads, Refills, Calculator Ink, Stamps, Calculator Spools, Adding Machine Tape, Cash Register Tape, Wide Format Paper Rolls",null,"24M",0.63,null,"24s",0.55000000000000004]
[25,"Knives, Cutters, Blades, Scrapers",null,"25M",0.61,null,"25s",0.49]
[26,"Labels, Label Makers, Label Holders",null,"26M",0.56000000000000005,null,"26s",0.44]
[27,"Mailing Tubes, Mailing Tubs, Packaging, Envelopes, Fingertips, Letter Openers, Moisteners, Butcher Paper",null,"27M",0.67,null,"27s",0.57999999999999996]
[28,"Markers, Highlighters, Felt Pens",null,"28M",0.63,null,"28s",0.48]
[29,"Mice, Keyboards, Wristrests, Keyboard Pads, Mousepads, Keyboard Trays, Speakers",null,"29M",0.43,null,"29s",0.3]
[30,"Paper: Notebooks, Notepads, Pads of Paper, Sticky Notes, Easel Pads, Stationery Paper",null,"30M",0.73,null,"30s",0.57999999999999996]
[31,"Office Organizers, Inboxes, Copyholders, Pen and Pencil Holders, Wastebaskets, Drawers, Desktop Shelves",null,"31M",0.64,null,"31s",0.49]
[32,"Paper (Including Copy Paper except for paper in Category 49, Writing Paper, Colored Paper, etc.)",null,"32M",0.75,null,"32s",0.65]
[33,"Pencils, Pencil Erasers, Mechanical Pencils, Lead Refills, Pens, Pen Refills",null,"33M",0.65,null,"33s",0.55000000000000004]
[34,"Protractors, Rulers, Yardsticks, Compasses, Engineer Triangles, Measuring Tapes ",null,"34M",0.7,null,"34s",0.55000000000000004]
[35,"Report Covers, Files, File Folders, Pocket Files, Portfolios, Jackets, Inserts, Folder Frames, Dividers, Wallet Files, File Guides, Index Cards, Business Cards, Card Holders, File Indexes, Tabs, Ledgers, Tab Reinforcement, Tags, Sheet Protectors, Letters,",null,"35M",0.7,null,"35s",0.6]
[36,"Signs, Sign Holder, Flyer Holders, Racks, Literature Displays, Name Plates",null,"36M",0.6,null,"36s",0.36]
[37,"Staplers, Staples, Staple Removers",null,"37M",0.65,null,"37s",0.5]
[38,"Storage Cabinets, Filing Cabinets, File Storage Systems, Rails",null,"38M",0.51,null,"38s",0.36]
[39,"Tape, Tape Dispensers, Embossing Tape, Velcro Products",null,"39M",0.6,null,"39s",0.5]
[40,"Breakroom Paper Products: Tissue, Paper Towels, Napkins",null,"40M",0.52,null,"40s",0.44]
[41,"Toner Cartridges, LaserJet HP Brand Only [HIGH YIELD ONLY] \n\n\n\n\n",null,"41M",0.45,null,"41s",0.37]
[42,"Toner and Ink Cartridges, Fusers, Kits and Drums; All Other HP Brand Models [HIGH YIELD ONLY]\n\n\n",null,"42M",0.42,null,"42s",0.31]
[43,"Toner and Ink Cartridges, Fusers, Kits and Drums; All Other OEM Brands, Excluding Biobased Products [HIGH YIELD ONLY]",null,"43M",0.35,null,"43s",0.3]
[44,"Toner and Ink Cartridges [REMAUNUFACTURED and/or USDA CERTIFIED BIOBASED ONLY]",null,"44M",0.52,null,"44s",0.5]
[45,"Transparency Film, Transparency Paper, Laminating Supplies, Laminating Pouches",null,"45M",0.63,null,"45s",0.35]
[46,"USB Drives, Flash Memory, Zip Disks",null,"46M",0.35,null,"46s",0.18]
[47,"\"School Supplies\": Art Paper, Art Supplies, Construction Paper, Crepe Paper, Paint, Crayons, Games/Learning Tools ",null,"47M",0.56999999999999995,null,"47s",0.5]
[48,"Un-Categorized Spend",null,"48M",0.42,null,"48s",0.3]

{"sheet":"June 2025 RISI","index":2,"n_rows":24,"n_cols":13,"rows_kept":24,"cut":false,"hidden":false,"merged":[[0,0,0,12],[13,0,13,7],[13,8,13,12]]}
["NASPO/State of Oregon Paper Price Update: 6/1/2025 ODP Business Solutions"]
["OD Part #","Boise Product Number","UOM","Current Brand","Description","Color","Size (inches)","Recyl Content (%)","NASPO Current Price","State of OR Current Price ","NASPO 6/1/2025 RISI UPDATED ","OR 6/1/2025 RISI UPDATED ","Percent Change"]
[196517,"P1OX9001CTN","CT","Boise","PAPER,XERO,WE,8.5X11,20#","White","8.5 x 11",0,40,40.799999999999997,{"$f":"ROUND(I3*(1+$L$22),2)","v":40.270000000000003},{"$f":"ROUND(J3*(1+$L$22),2)","v":41.08},{"$f":"(K3-I3)/I3","v":6.750000000000078E-3}]
[196643,"P1OX9004CTN","CT","Boise","PAPER,XERO,WE,8.5X14,20#","White","8.5 x 14",0,57.55,58.7,{"$f":"ROUND(I4*(1+$L$22),2)","v":57.94},{"$f":"ROUND(J4*(1+$L$22),2)","v":59.1},{"$f":"(K4-I4)/I4","v":6.7767158992180811E-3}]
[196652,"P1OX9007CTN","CT","Boise","PAPER,XERO,WE,11X17,20#","White","11 x 17",0,45.27,46.18,45.58,46.49,6.8478020764301999E-3]
[116946,"P1054901CTN","CT","Boise","PAPER,XERO,RCY,WE,8.5X11 - 30%","White","8.5 x 11",30,39.99,40.79,40.26,41.07,6.7516879219803949E-3]
[942426,"P1054907CTN","CT","Boise","PAPER,XERO,RCY,WE,11X17","White","11 x 17",30,50.54,51.55,50.88,51.9,6.7273446774832489E-3]
[125420,"P1054922CTN","CT","Boise","PAPER,ASPEN,8.5X11,20# - 100% ","White","8.5 x 11",100,58.79,59.97,59.19,60.38,6.8038782105800067E-3]
[332063,"P1OX9001","RM","Boise","PAPER,XERO,WE,8.5X11,20#","White","8.5 x 11",0,4.0199999999999996,4.0999999999999996,4.05,4.13,7.4626865671642414E-3]
[593395,"P1OX9004","RM","Boise","PAPER,XERO,WE,8.5X14,20#","White","8.5 x 14",0,5.75,5.87,5.79,5.91,6.9565217391304411E-3]
[593467,"P1OX9007","RM","Boise","PAPER,XERO,WE,11X17,20#","White","11 x 17",0,9.2899999999999991,9.48,9.35,9.5399999999999991,6.4585575888052209E-3]
[697884,"P1054901","RM","Boise","PAPER,XERO,RCY,WE,8.5X11 - 30%","White","8.5 x 11",30,4.57,4.66,4.5999999999999996,4.6900000000000004,6.5645514223193341E-3]
[1381204,"P1054922","RM","Boise","PAPER,ASPEN,8.5X11,20# - 100% ","White","8.5 x 11",100,5.89,6.01,5.93,6.05,6.7911714770798022E-3]
[]
["Boise Product Number","Boise Product Number",null,"Current Brand","Description","Color","Size (inches)","Recyl Content (%)","NASPO Current Price","State of OR Current Price ","NASPO 6/1/2025 RISI UPDATED ","OR 6/1/2025 RISI UPDATED ","Percent Change"]
[895391,"P1OX9001SKD","PL","Boise","PAPER,XERO,WE,8.5X11,20#","White","8.5 x 11",0,1547.19,1578.13,{"$f":"ROUND(I16*(1+$L$22),2)","v":1557.68},{"$f":"ROUND(J16*(1+$L$22),2)","v":1588.83},{"$f":"(K16-I16)/I16","v":6.7800334800509369E-3}]
[673644,"P1054901SKD","PL","Boise","PAPER,XERO,RCY,WE,8.5X11","White","8.5 x 11",30,1759.69,1794.88,{"$f":"ROUND(I17*(1+$L$22),2)","v":1771.62},{"$f":"ROUND(J17*(1+$L$22),2)","v":1807.05},{"$f":"(K17-I17)/I17","v":6.7796032255680464E-3}]
[9658816,"P1054907SKD","PL","Boise","PAPER,XERO,RCY,WE,11X17","White","11 x 17",30,1959.78,1998.98,1973.07,2012.53,6.7813734194654314E-3]
[705279,"P1054922SKD","PL","Boise","PAPER,ASPEN,8.5X11,20#","White","8.5 x 11",100,2280.5700000000002,2326.1799999999998,2296.0300000000002,2341.9499999999998,6.7790070026353217E-3]
[]
[null,null,null,null,null,null,null,null,null,"2025-03-01","2025-05-01"]
[null,null,null,null,"RISI Index",null," ",null,null,1475,1485,{"$f":"(K22-J22)/J22","v":6.7796610169491523E-3}]
[]
[null,null,null,null,"NOTE:  Oregon Price is NASPO Price +2% VCAF ADMIN FEE ADJUSTMENT"]